Workbook

Sheet Итого по видам(с учет нераспр.)
A1: Сведения о предоставлении из бюджета Саратовской области межбюджетных трансфертов местным бюджетам
A2: за 1 квартал 2026 года
I3: тыс. рублей
A4: № п/п | B4: Наименование | C4: Код бюджетной классификации | D4: первоначальные бюджетные назначения 1 | E4: уточненные бюджетжетные назначения | H4: Исполнение | I4: % исполнения
E5: Сводная бюджетная роспись | F5: на основании
F6: закона о бюджете 2 | G6: иных нормативных правовых актов
A7: 1 | B7: 2 | C7: 3 | D7: 4 | E7: 5 | F7: 6 | G7: 7 | H7: 8 | I7: 9=8/5
A8: 1. | B8: Дотация - всего | D8: =SUM(D9:D11) -> 5561029 | E8: =SUM(E9:E11) -> 5575397.3 | F8: =SUM(F9:F11) -> 5575397.3 | G8: =SUM(G9:G11) -> 0 | H8: =SUM(H9:H11) -> 1557187.2 | I8: =H8/E8*100 -> 27.929619
A9: 1.1. | B9: Дотация бюджетам городских округов области, связанные с особым режимом безопасного функционирования закрытых административно-территориальных образований | C9: 000 1402 6630150100 512 | D9: =Дотации!H101 -> 35009 | E9: =Дотации!I101 -> 35009 | F9: =Дотации!I101 -> 35009 | H9: =Дотации!J101 -> 8751 | I9: =H9/E9*100 -> 24.996429
A10: 1.2. | B10: Дотация на выравнивание бюджетной обеспеченности муниципальных районов (муниципальных округов, городских округов) области | C10: 000 1401 6630170200 511 | D10: =Дотации!L101 -> 4945752.8 | E10: =Дотации!M101 -> 4945752.8 | F10: =Дотации!M101 -> 4945752.8 | H10: =Дотации!N101 -> 1392569.5 | I10: =H10/E10*100 -> 28.156876
A11: 1.3. | B11: Дотация бюджетам муниципальных районов области на поддержку мер по обеспечению сбалансированности местных бюджетов | C11: 000 1402 6630170300 512 | D11: =Дотации!P101 -> 580267.2 | E11: =Дотации!Q101 -> 594635.5 | F11: =Дотации!Q101 -> 594635.5 | H11: =Дотации!R101 -> 155866.7 | I11: =H11/E11*100 -> 26.212142
A12: 2. | B12: Субсидии - всего | D12: =SUM(D13:D72) -> 14196018 | E12: =SUM(E13:E72)+0.1 -> 16019178 | F12: =SUM(F13:F72)+0.1 -> 16019178 | G12: =SUM(G13:G72) -> 0 | H12: =SUM(H13:H72) -> 3015708.2 | I12: =H12/E12*100 -> 18.825612
A13: 2.1. | B13: Субсидия бюджетам муниципальных районов области на обеспечение развития и укрепления материально-технической базы домов культуры в населенных пунктах с числом жителей до 50 тысяч человек | C13: 000 0801 55104R4670 523 | D13: =Субсидии!H398 -> 38251.798 | E13: =Субсидии!I398 -> 38251.798 | F13: =Субсидии!I398 -> 38251.798 | H13: =Субсидии!J398 -> 13489.262 | I13: =H13/E13*100 -> 35.264386
A14: 2.2. | B14: Субсидия бюджетам муниципальных районов и городских округов области на обеспечение жильем молодых семей | C14: 000 1004 53303R4970 521 | D14: =Субсидии!L398 -> 80920.1 | E14: =Субсидии!M398 -> 80920.1 | F14: =Субсидии!M398 -> 80920.1 | H14: =Субсидии!N398 -> 79620.642 | I14: =H14/E14*100 -> 98.394147
A15: 2.3. | B15: Субсидия бюджетам муниципальных районов области на поддержку творческой деятельности и укрепление материально-технической базы муниципальных театров в населенных пунктах с численностью населения до 300 тысяч человек | C15: 000 0801 55101R4660 521 | D15: =Субсидии!P398 -> 5200 | E15: =Субсидии!Q398 -> 0 | F15: =Субсидии!Q398 -> 0 | H15: =Субсидии!R398 -> 0
A16: 2.4. | B16: Субсидия бюджетам муниципальных районов области на обеспечение развития и укрепления материально-технической базы домов культуры в населенных пунктах с числом жителей до 50 тысяч человек (средства для достижения показателей результативности) | C16: 000 0801 55104А4670 523 | D16: =Субсидии!T398 -> 10000 | E16: =Субсидии!U398 -> 10000 | F16: =Субсидии!U398 -> 10000 | H16: =Субсидии!V398 -> 0 | I16: =H16/E16*100 -> 0
A17: 2.5. | B17: Субсидия бюджетам муниципальных районов и городских округов области на поддержку отрасли культуры (государственная поддержка лучших сельских учреждений культуры) | C17: 000 0801 55106R5192 523 | D17: =Субсидии!X398 -> 2359.5506 | E17: =Субсидии!Y398 -> 2359.5506 | F17: =Субсидии!Y398 -> 2359.5506 | H17: =Субсидии!Z398 -> 2021.1124 | I17: =H17/E17*100 -> 85.656667
A18: 2.6. | B18: Субсидия бюджетам муниципальных районов и городских округов области на поддержку отрасли культуры (государственная поддержка лучших работников сельских учреждений культуры) | C18: 000 0801 55106R5194 523 | D18: =Субсидии!AB398 -> 842.69663 | E18: =Субсидии!AC398 -> 842.69663 | F18: =Субсидии!AC398 -> 842.69663 | H18: =Субсидии!AD398 -> 842.69663 | I18: =H18/E18*100 -> 100
A19: 2.7. | B19: Субсидия бюджетам муниципальных районов, городских округов и поселений области на государственную поддержку отрасли культуры (комплектование книжных фондов муниципальных общедоступных библиотек) | C19: 000 0801 55102R5191 523 | D19: =Субсидии!AF398 -> 9251.7592 | E19: =Субсидии!AG398 -> 9251.7592 | F19: =Субсидии!AG398 -> 9251.7592 | H19: =Субсидии!AH398 -> 9124.3065 | I19: =H19/E19*100 -> 98.622394
A20: 2.8. | B20: Субсидия бюджетам муниципальных районов области на обеспечение деятельности муниципальных бизнес-инкубаторов | C20: 000 0412 5830571100 521 | D20: =Субсидии!AJ398 -> 6200 | E20: =Субсидии!AK398 -> 6200 | F20: =Субсидии!AK398 -> 6200 | H20: =Субсидии!AL398 -> 0 | I20: =H20/E20*100 -> 0
A21: 2.9. | B21: Субсидия бюджетам муниципальных округов, городских округов, городских и сельских поселений области на реализацию инициативных проектов | C21: 000 0113 6610172100 523 | D21: =Субсидии!AN398 -> 170000 | E21: =Субсидии!AO398 -> 170000 | F21: =Субсидии!AO398 -> 170000 | H21: =Субсидии!AP398 -> 0 | I21: =H21/E21*100 -> 0
A22: 2.10. | B22: Субсидия бюджетам муниципальных округов, городских округов и поселений области на поддержку муниципальных программ формирования современной городской среды | C22: 000 0503 691И455550 523 | D22: =Субсидии!AR398 -> 645373.78 | E22: =Субсидии!AS398 -> 645373.78 | F22: =Субсидии!AS398 -> 645373.78 | H22: =Субсидии!AT398 -> 39776.467 | I22: =H22/E22*100 -> 6.1633225
A23: 2.11. | B23: Субсидия бюджетам муниципальных районов, муниципальных округов и городских округов области на обеспечение сохранения достигнутых показателей повышения оплаты труда отдельных категорий работников бюджетной сферы | C23: 000 1403 6630172500 521 | D23: =Субсидии!AV398 -> 2744254.7 | E23: =Субсидии!AW398 -> 2744254.7 | F23: =Субсидии!AW398 -> 2744254.7 | H23: =Субсидии!AX398 -> 435506.6 | I23: =H23/E23*100 -> 15.869759
A24: 2.12. | B24: Субсидия бюджетам муниципальных районов и городских округов области на модернизацию муниципальных учреждений культуры (модернизация учреждений культурно-досугового типа в населенных пунктах с численностью населения до 500 тыс. человек) | C24: 000 0801 551Я555131 523 | D24: =Субсидии!AZ398 -> 52586.122 | E24: =Субсидии!BA398 -> 52586.122 | F24: =Субсидии!BA398 -> 52586.122 | H24: =Субсидии!BB398 -> 11179.388 | I24: =H24/E24*100 -> 21.259198
A25: 2.13. | B25: Субсидия бюджетам городских округов и поселений области на осуществление дорожной деятельности в отношении автомобильных дорог общего пользования местного значения Саратовской агломерации | C25: 000 0409 601И89Д097 523 | D25: =Субсидии!BD398 -> 200000 | E25: =Субсидии!BE398 -> 200000 | F25: =Субсидии!BE398 -> 200000 | H25: =Субсидии!BF398 -> 0 | I25: =H25/E25*100 -> 0
A26: 2.14. | B26: Субсидия бюджетам поселений области на осуществление дорожной деятельности в отношении автомобильных дорог общего пользования местного значения в границах населенных пунктов сельских поселений | C26: 000 0409 603029Д017 521 | D26: =Субсидии!BH398 -> 1343757 | E26: =Субсидии!BI398 -> 1343757 | F26: =Субсидии!BI398 -> 1343757 | H26: =Субсидии!BJ398 -> 1705.0275 | I26: =H26/E26*100 -> 0.12688511
A27: 2.15. | B27: Субсидия бюджетам поселений области на выполнение мероприятий по ремонту автомобильных дорог общего пользования местного значения в границах городских поселений области | C27: 000 0409 601029Д067 521 | E27: =Субсидии!BM398 -> 100000 | F27: =Субсидии!BM398 -> 100000 | H27: =Субсидии!BN398 -> 0 | I27: =H27/E27*100 -> 0
A28: 2.16. | B28: Субсидия бюджетам поселений области на обустройство объектами инженерной инфраструктуры и благоустройство площадок, расположенных на сельских территориях, под компактную жилищную застройку | C28: 000 0505 70101R5762 522 | D28: =Субсидии!BP398 -> 78596.735 | E28: =Субсидии!BQ398 -> 78596.735 | F28: =Субсидии!BQ398 -> 78596.735 | H28: =Субсидии!BR398 -> 7859.3834 | I28: =H28/E28*100 -> 9.9996309
A29: 2.17. | B29: Субсидия бюджетам поселений области на реализацию мероприятий по благоустройству сельских территорий3 | C29: 000 0503 70103R5766 521 | D29: =Субсидии!BT398 -> 0 | E29: =Субсидии!BU398 -> 98884.082 | F29: =Субсидии!BU398 -> 98884.082 | H29: =Субсидии!BV398 -> 1500.2257 | I29: =H29/E29*100 -> 1.5171559
A30: 2.18. | B30: Субсидия бюджетам муниципальных районов, муниципальных округов и городских округов области на организацию бесплатного горячего питания обучающихся, получающих начальное общее образование в муниципальных образовательных организациях | C30: 000 0702 51303R3042 521 | D30: =Субсидии!BX398 -> 1192480.3 | E30: =Субсидии!BY398 -> 1174135.3 | F30: =Субсидии!BY398 -> 1174135.3 | H30: =Субсидии!BZ398 -> 280513.5 | I30: =H30/E30*100 -> 23.89107
A31: 2.19. | B31: Субсидия бюджетам муниципальных районов, муниципальных округов и городских округов области на проведение капитального и текущего ремонта муниципальных дошкольных образовательных организациях | C31: 000 0701 5110172110 521 | D31: =Субсидии!CB398 -> 39000 | E31: =Субсидии!CC398 -> 29000 | F31: =Субсидии!CC398 -> 29000 | H31: =Субсидии!CD398 -> 288.5 | I31: =H31/E31*100 -> 0.99482759
A32: 2.20. | B32: Субсидия бюджетам муниципальных районов, муниципальных округов и городских округов области на проведение капитального и текущего ремонта муниципальных общеобразовательных организациях | C32: 000 0702 5110172110 521 | D32: =Субсидии!CF398 -> 46000 | E32: =Субсидии!CG398 -> 53000 | F32: =Субсидии!CG398 -> 53000 | H32: =Субсидии!CH398 -> 1479.3 | I32: =H32/E32*100 -> 2.791132
A33: 2.21. | B33: Субсидия бюджетам муниципальных районов, муниципальных округов и городских округов области на проведение капитального и текущего ремонта в муниципальных учреждениях дополнительного образования детей | C33: 000 0703 5110172110 521 | D33: =Субсидии!CJ398 -> 20000 | E33: =Субсидии!CK398 -> 20500 | F33: =Субсидии!CK398 -> 20500 | H33: =Субсидии!CL398 -> 1062.1 | I33: =H33/E33*100 -> 5.1809756
A34: 2.22. | B34: Субсидия бюджетам муниципальных районов, городских округов и поселений области на поддержку творческой деятельности и техническое оснащение детских и кукольных театров, расположенных на территории Саратовской области | C34: 000 0801 55101R5170 521 | D34: =Субсидии!CN398 -> 10029.1 | E34: =Субсидии!CO398 -> 0 | F34: =Субсидии!CO398 -> 0 | H34: =Субсидии!CP398 -> 0
A35: 2.23. | B35: Субсидия бюджетам муниципальных районов, городских округов и поселений области на поддержку творческой деятельности и (или) укрепление материально-технической базы детских и кукольных театров, а также театров, расположенных в населенных пунктах с численностью населения до 300 тысяч человек | C35: 000 0801 55101R5170 521 | D35: =Субсидии!CR398 -> 0 | E35: =Субсидии!CS398 -> 15229.101 | F35: =Субсидии!CS398 -> 15229.101 | H35: =Субсидии!CT398 -> 15229.101 | I35: =H35/E35*100 -> 100
A36: 2.24. | B36: Субсидия бюджетам муниципальных районов области на проведение комплексных кадастровых работ местного значения | C36: 000 0412 5810179880 521 | D36: =Субсидии!CV398 -> 0 | E36: =Субсидии!CW398 -> 3545.9068 | F36: =Субсидии!CW398 -> 3545.9068 | H36: =Субсидии!CX398 -> 1063.772 | I36: =H36/E36*100 -> 30
A37: 2.25. | B37: Субсидия бюджетам муниципальных районов и городских округов области на модернизацию школьных систем образования (объекты, планируемые к реализации в рамках одного финансового года) | C37: 000 0702 511Ю457502 521 | D37: =Субсидии!CZ398 -> 1424339.3 | E37: =Субсидии!DA398 -> 1497922.6 | F37: =Субсидии!DA398 -> 1497922.6 | H37: =Субсидии!DB398 -> 0 | I37: =H37/E37*100 -> 0
A38: 2.26. | B38: Субсидия бюджетам муниципальных районов и городских округов области на модернизацию школьных систем образования (объекты, планируемые к реализации в рамках двух финансовых лет) | C38: 000 0702 511Ю457501 521 | D38: =Субсидии!DD398 -> 26525.9 | E38: =Субсидии!DE398 -> 29473.295 | F38: =Субсидии!DE398 -> 29473.295 | H38: =Субсидии!DF398 -> 0 | I38: =H38/E38*100 -> 0
A39: 2.27. | B39: Субсидия бюджетам муниципальных районов и городских округов области на обеспечение условий для реализации мероприятий по модернизации школьных систем образования (объекты, планируемые к реализации в рамках одного финансового года) (в рамках достижения соответствующих задач федерального проекта) | C39: 000 0702 5511Ю4А7502 521 | D39: =Субсидии!DH398 -> 378624.21 | E39: =Субсидии!DI398 -> 378624.21 | F39: =Субсидии!DI398 -> 378624.21 | H39: =Субсидии!DJ398 -> 1055.9 | I39: =H39/E39*100 -> 0.2788781
A40: 2.28. | B40: Субсидия бюджетам муниципальных районов и городских округов области на обеспечение условий для реализации мероприятий по модернизации школьных систем образования (объекты, планируемые к реализации в рамках двух финансовых лет) (в рамках достижения соответствующих задач федерального проекта) | C40: 000 0702 511Ю4А7501 521 | D40: =Субсидии!DL398 -> 8929 | E40: =Субсидии!DM398 -> 8929 | F40: =Субсидии!DM398 -> 8929 | H40: =Субсидии!DN398 -> 84 | I40: =H40/E40*100 -> 0.94075484
...

Sheet Всего (с выдел. нераспред)
A1: Сведения о предоставленных из бюджета Саратовской области межбюджетных трансфертах бюджетам муниципальных образований за 1 квартал 2026 года
H2: =H9+H401+H403+H407-H408 -> 0 | I2: =I9+I401+I403+I407-I408 -> 0 | J2: =J9+J401+J403+J407-J408 -> 0 | K2: =K9+K401+K403+K407-K408 -> 0 | L2: =L9+L401+L403+L407-L408 -> 0 | AD2: тыс. рублей
A3: Наименование муниципальных образований | B3: Всего | H3: в том числе
H4: Дотации | N4: Субсидии | T4: Субвенции | Z4: Иные межбюджетные трансферты
B6: первоначальные бюджетные назначения 1 | C6: уточненные бюджетные назначения | F6: исполнено | G6: % исполнения | H6: первоначальные бюджетные назначения 1 | I6: уточненные бюджетные назначения | L6: исполнено | M6: % исполнения | N6: первоначальные бюджетные назначения 1 | O6: уточненные бюджетные назначения | R6: исполнено | S6: % исполнения | T6: первоначальные бюджетные назначения 1 | U6: уточненные бюджетные назначения | X6: исполнено | Y6: % исполнения | Z6: первоначальные бюджетные назначения 1 | AA6: уточненные бюджетные назначения | AD6: исполнено | AE6: % исполнения
C7: Сводная бюджетная роспись | D7: на основании | I7: Сводная бюджетная роспись | J7: на основании | O7: Сводная бюджетная роспись | P7: на основании | U7: Сводная бюджетная роспись | V7: на основании | AA7: Сводная бюджетная роспись | AB7: на основании
D8: закона о бюджете 2 | E8: иных нормативных правовых актов | J8: закона о бюджете 2 | K8: иных нормативных правовых актов | P8: закона о бюджете 2 | Q8: иных нормативных правовых актов | V8: закона о бюджете 2 | W8: иных нормативных правовых актов | AB8: закона о бюджете 2 | AC8: иных нормативных правовых актов
A9: Муниципальные районы области (консолидированный) | B9: =H9+N9+T9+Z9 -> 37471850 | C9: =I9+O9+U9+AA9 -> 40599275 | D9: =J9+P9+V9+AB9 -> 40584670 | E9: =K9+Q9+W9+AC9 -> 14605.807 | F9: =L9+R9+X9+AD9 -> 8160155.4 | G9: =F9/C9*100 -> 20.099264 | H9: =H12+H16+H25+H39+H54+H59+H77+H83+H100+H105+H117+H126+H140+H153+H164+H177+H190+H204+H208+H220+H229+H236+H249+H262+H276+H284+H294+H305+H315+H324+H333+H343+H354+H363+H372+H385+H394 -> 5238546 | I9: =I12+I16+I25+I39+I54+I59+I77+I83+I100+I105+I117+I126+I140+I153+I164+I177+I190+I204+I208+I220+I229+I236+I249+I262+I276+I284+I294+I305+I315+I324+I333+I343+I354+I363+I372+I385+I394 -> 5252914.3 | J9: =J12+J16+J25+J39+J54+J59+J77+J83+J100+J105+J117+J126+J140+J153+J164+J177+J190+J204+J208+J220+J229+J236+J249+J262+J276+J284+J294+J305+J315+J324+J333+J343+J354+J363+J372+J385+J394 -> 5252914.3 | K9: =K12+K16+K25+K39+K54+K59+K77+K83+K100+K105+K117+K126+K140+K153+K164+K177+K190+K204+K208+K220+K229+K236+K249+K262+K276+K284+K294+K305+K315+K324+K333+K343+K354+K363+K372+K385+K394 -> 0 | L9: =L12+L16+L25+L39+L54+L59+L77+L83+L100+L105+L117+L126+L140+L153+L164+L177+L190+L204+L208+L220+L229+L236+L249+L262+L276+L284+L294+L305+L315+L324+L333+L343+L354+L363+L372+L385+L394 -> 1476567.6 | M9: =L9/I9*100 -> 28.109493 | N9: =N12+N16+N25+N39+N54+N59+N77+N83+N100+N105+N117+N126+N140+N153+N164+N177+N190+N204+N208+N220+N229+N236+N249+N262+N276+N284+N294+N305+N315+N324+N333+N343+N354+N363+N372+N385+N394 -> 7929772.4 | O9: =O12+O16+O25+O39+O54+O59+O77+O83+O100+O105+O117+O126+O140+O153+O164+O177+O190+O204+O208+O220+O229+O236+O249+O262+O276+O284+O294+O305+O315+O324+O333+O343+O354+O363+O372+O385+O394 -> 8547713.3 | P9: =P12+P16+P25+P39+P54+P59+P77+P83+P100+P105+P117+P126+P140+P153+P164+P177+P190+P204+P208+P220+P229+P236+P249+P262+P276+P284+P294+P305+P315+P324+P333+P343+P354+P363+P372+P385+P394 -> 8547713.3 | Q9: =Q12+Q16+Q25+Q39+Q54+Q59+Q77+Q83+Q100+Q105+Q117+Q126+Q140+Q153+Q164+Q177+Q190+Q204+Q208+Q220+Q229+Q236+Q249+Q262+Q276+Q284+Q294+Q305+Q315+Q324+Q333+Q343+Q354+Q363+Q372+Q385+Q394 -> 0 | R9: =R12+R16+R25+R39+R54+R59+R77+R83+R100+R105+R117+R126+R140+R153+R164+R177+R190+R204+R208+R220+R229+R236+R249+R262+R276+R284+R294+R305+R315+R324+R333+R343+R354+R363+R372+R385+R394 -> 1867611.3 | S9: =R9/O9*100 -> 21.849251 | T9: =T12+T16+T25+T39+T54+T59+T77+T83+T100+T105+T117+T126+T140+T153+T164+T177+T190+T204+T208+T220+T229+T236+T249+T262+T276+T284+T294+T305+T315+T324+T333+T343+T354+T363+T372+T385+T394 -> 21823564 | U9: =U12+U16+U25+U39+U54+U59+U77+U83+U100+U105+U117+U126+U140+U153+U164+U177+U190+U204+U208+U220+U229+U236+U249+U262+U276+U284+U294+U305+U315+U324+U333+U343+U354+U363+U372+U385+U394 -> 22857790 | V9: =V12+V16+V25+V39+V54+V59+V77+V83+V100+V105+V117+V126+V140+V153+V164+V177+V190+V204+V208+V220+V229+V236+V249+V262+V276+V284+V294+V305+V315+V324+V333+V343+V354+V363+V372+V385+V394 -> 22857790 | W9: =W12+W16+W25+W39+W54+W59+W77+W83+W100+W105+W117+W126+W140+W153+W164+W177+W190+W204+W208+W220+W229+W236+W249+W262+W276+W284+W294+W305+W315+W324+W333+W343+W354+W363+W372+W385+W394 -> 0 | X9: =X12+X16+X25+X39+X54+X59+X77+X83+X100+X105+X117+X126+X140+X153+X164+X177+X190+X204+X208+X220+X229+X236+X249+X262+X276+X284+X294+X305+X315+X324+X333+X343+X354+X363+X372+X385+X394 -> 4301445.8 | Y9: =X9/U9*100 -> 18.818292 | Z9: =Z12+Z16+Z25+Z39+Z54+Z59+Z77+Z83+Z100+Z105+Z117+Z126+Z140+Z153+Z164+Z177+Z190+Z204+Z208+Z220+Z229+Z236+Z249+Z262+Z276+Z284+Z294+Z305+Z315+Z324+Z333+Z343+Z354+Z363+Z372+Z385+Z394 -> 2479967.8 | AA9: =AA12+AA16+AA25+AA39+AA54+AA59+AA77+AA83+AA100+AA105+AA117+AA126+AA140+AA153+AA164+AA177+AA190+AA204+AA208+AA220+AA229+AA236+AA249+AA262+AA276+AA284+AA294+AA305+AA315+AA324+AA333+AA343+AA354+AA363+AA372+AA385+AA394 -> 3940857.4 | AB9: =AB12+AB16+AB25+AB39+AB54+AB59+AB77+AB83+AB100+AB105+AB117+AB126+AB140+AB153+AB164+AB177+AB190+AB204+AB208+AB220+AB229+AB236+AB249+AB262+AB276+AB284+AB294+AB305+AB315+AB324+AB333+AB343+AB354+AB363+AB372+AB385+AB394 -> 3926251.6 | AC9: =AC12+AC16+AC25+AC39+AC54+AC59+AC77+AC83+AC100+AC105+AC117+AC126+AC140+AC153+AC164+AC177+AC190+AC204+AC208+AC220+AC229+AC236+AC249+AC262+AC276+AC284+AC294+AC305+AC315+AC324+AC333+AC343+AC354+AC363+AC372+AC385+AC394 -> 14605.807 | AD9: =AD12+AD16+AD25+AD39+AD54+AD59+AD77+AD83+AD100+AD105+AD117+AD126+AD140+AD153+AD164+AD177+AD190+AD204+AD208+AD220+AD229+AD236+AD249+AD262+AD276+AD284+AD294+AD305+AD315+AD324+AD333+AD343+AD354+AD363+AD372+AD385+AD394 -> 514530.66 | AE9: =AD9/AA9*100 -> 13.056312
A10: Муниципальные районы области (собственный): | B10: =H10+N10+T10+Z10 -> 33731070 | C10: =I10+O10+U10+AA10 -> 36425628 | D10: =J10+P10+V10+AB10 -> 36411130 | E10: =K10+Q10+W10+AC10 -> 14498.083 | F10: =L10+R10+X10+AD10 -> 7083759.7 | G10: =F10/C10*100 -> 19.447186 | H10: =H13+H17+H26+H40+H55+H60+H78+H84+H101+H106+H118+H127+H141+H154+H165+H178+H191+H205+H209+H221+H230+H237+H250+H263+H277+H285+H295+H306+H316+H325+H334+H344+H355+H364+H373+H386+H395 -> 5238546 | I10: =I13+I17+I26+I40+I55+I60+I78+I84+I101+I106+I118+I127+I141+I154+I165+I178+I191+I205+I209+I221+I230+I237+I250+I263+I277+I285+I295+I306+I316+I325+I334+I344+I355+I364+I373+I386+I395 -> 5252914.3 | J10: =J13+J17+J26+J40+J55+J60+J78+J84+J101+J106+J118+J127+J141+J154+J165+J178+J191+J205+J209+J221+J230+J237+J250+J263+J277+J285+J295+J306+J316+J325+J334+J344+J355+J364+J373+J386+J395 -> 5252914.3 | K10: =K13+K17+K26+K40+K55+K60+K78+K84+K101+K106+K118+K127+K141+K154+K165+K178+K191+K205+K209+K221+K230+K237+K250+K263+K277+K285+K295+K306+K316+K325+K334+K344+K355+K364+K373+K386+K395 -> 0 | L10: =L13+L17+L26+L40+L55+L60+L78+L84+L101+L106+L118+L127+L141+L154+L165+L178+L191+L205+L209+L221+L230+L237+L250+L263+L277+L285+L295+L306+L316+L325+L334+L344+L355+L364+L373+L386+L395 -> 1476567.6 | M10: =L10/I10*100 -> 28.109493 | N10: =N13+N17+N26+N40+N55+N60+N78+N84+N101+N106+N118+N127+N141+N154+N165+N178+N191+N205+N209+N221+N230+N237+N250+N263+N277+N285+N295+N306+N316+N325+N334+N344+N355+N364+N373+N386+N395 -> 4993250.4 | O10: =O13+O17+O26+O40+O55+O60+O78+O84+O101+O106+O118+O127+O141+O154+O165+O178+O191+O205+O209+O221+O230+O237+O250+O263+O277+O285+O295+O306+O316+O325+O334+O344+O355+O364+O373+O386+O395 -> 5291013.5 | P10: =P13+P17+P26+P40+P55+P60+P78+P84+P101+P106+P118+P127+P141+P154+P165+P178+P191+P205+P209+P221+P230+P237+P250+P263+P277+P285+P295+P306+P316+P325+P334+P344+P355+P364+P373+P386+P395 -> 5291013.5 | Q10: =Q13+Q17+Q26+Q40+Q55+Q60+Q78+Q84+Q101+Q106+Q118+Q127+Q141+Q154+Q165+Q178+Q191+Q205+Q209+Q221+Q230+Q237+Q250+Q263+Q277+Q285+Q295+Q306+Q316+Q325+Q334+Q344+Q355+Q364+Q373+Q386+Q395 -> 0 | R10: =R13+R17+R26+R40+R55+R60+R78+R84+R101+R106+R118+R127+R141+R154+R165+R178+R191+R205+R209+R221+R230+R237+R250+R263+R277+R285+R295+R306+R316+R325+R334+R344+R355+R364+R373+R386+R395 -> 905148.31 | S10: =R10/O10*100 -> 17.107276 | T10: =T13+T17+T26+T40+T55+T60+T78+T84+T101+T106+T118+T127+T141+T154+T165+T178+T191+T205+T209+T221+T230+T237+T250+T263+T277+T285+T295+T306+T316+T325+T334+T344+T355+T364+T373+T386+T395 -> 21715454 | U10: =U13+U17+U26+U40+U55+U60+U78+U84+U101+U106+U118+U127+U141+U154+U165+U178+U191+U205+U209+U221+U230+U237+U250+U263+U277+U285+U295+U306+U316+U325+U334+U344+U355+U364+U373+U386+U395 -> 22749680 | V10: =V13+V17+V26+V40+V55+V60+V78+V84+V101+V106+V118+V127+V141+V154+V165+V178+V191+V205+V209+V221+V230+V237+V250+V263+V277+V285+V295+V306+V316+V325+V334+V344+V355+V364+V373+V386+V395 -> 22749680 | W10: =W13+W17+W26+W40+W55+W60+W78+W84+W101+W106+W118+W127+W141+W154+W165+W178+W191+W205+W209+W221+W230+W237+W250+W263+W277+W285+W295+W306+W316+W325+W334+W344+W355+W364+W373+W386+W395 -> 0 | X10: =X13+X17+X26+X40+X55+X60+X78+X84+X101+X106+X118+X127+X141+X154+X165+X178+X191+X205+X209+X221+X230+X237+X250+X263+X277+X285+X295+X306+X316+X325+X334+X344+X355+X364+X373+X386+X395 -> 4285093.5 | Y10: =X10/U10*100 -> 18.835841 | Z10: =Z13+Z17+Z26+Z40+Z55+Z60+Z78+Z84+Z101+Z106+Z118+Z127+Z141+Z154+Z165+Z178+Z191+Z205+Z209+Z221+Z230+Z237+Z250+Z263+Z277+Z285+Z295+Z306+Z316+Z325+Z334+Z344+Z355+Z364+Z373+Z386+Z395 -> 1783820 | AA10: =AA13+AA17+AA26+AA40+AA55+AA60+AA78+AA84+AA101+AA106+AA118+AA127+AA141+AA154+AA165+AA178+AA191+AA205+AA209+AA221+AA230+AA237+AA250+AA263+AA277+AA285+AA295+AA306+AA316+AA325+AA334+AA344+AA355+AA364+AA373+AA386+AA395 -> 3132020 | AB10: =AB13+AB17+AB26+AB40+AB55+AB60+AB78+AB84+AB101+AB106+AB118+AB127+AB141+AB154+AB165+AB178+AB191+AB205+AB209+AB221+AB230+AB237+AB250+AB263+AB277+AB285+AB295+AB306+AB316+AB325+AB334+AB344+AB355+AB364+AB373+AB386+AB395 -> 3117521.9 | AC10: =AC13+AC17+AC26+AC40+AC55+AC60+AC78+AC84+AC101+AC106+AC118+AC127+AC141+AC154+AC165+AC178+AC191+AC205+AC209+AC221+AC230+AC237+AC250+AC263+AC277+AC285+AC295+AC306+AC316+AC325+AC334+AC344+AC355+AC364+AC373+AC386+AC395 -> 14498.083 | AD10: =AD13+AD17+AD26+AD40+AD55+AD60+AD78+AD84+AD101+AD106+AD118+AD127+AD141+AD154+AD165+AD178+AD191+AD205+AD209+AD221+AD230+AD237+AD250+AD263+AD277+AD285+AD295+AD306+AD316+AD325+AD334+AD344+AD355+AD364+AD373+AD386+AD395 -> 416950.29 | AE10: =AD10/AA10*100 -> 13.312504
A11: Поселения: | B11: =H11+N11+T11+Z11 -> 3740780.1 | C11: =I11+O11+U11+AA11 -> 4173647.5 | D11: =J11+P11+V11+AB11 -> 4173539.8 | E11: =K11+Q11+W11+AC11 -> 107.72365 | F11: =L11+R11+X11+AD11 -> 1076395.7 | G11: =F11/C11*100 -> 25.790287 | I11: =SUM(I14:I15)+SUM(I18:I24)+SUM(I27:I38)+SUM(I41:I53)+SUM(I56:I58)+SUM(I61:I76)+SUM(I79:I82)+SUM(I85:I99)+SUM(I102:I104)+SUM(I107:I116)+SUM(I119:I125)+SUM(I128:I139)+SUM(I142:I152)+SUM(I155:I163)+SUM(I166:I176)+SUM(I179:I189)+SUM(I192:I203)+SUM(I206:I207)+SUM(I210:I219)+SUM(I222:I228)+SUM(I231:I235)+SUM(I238:I248)+SUM(I251:I261)+SUM(I264:I275)+SUM(I278:I283)+SUM(I286:I293)+SUM(I296:I304)+SUM(I307:I314)+SUM(I317:I323)+SUM(I326:I332)+SUM(I335:I342)+SUM(I345:I353)+SUM(I356:I362)+SUM(I365:I371)+SUM(I374:I384)+SUM(I387:I393)+SUM(I396:I400) -> 0 | J11: =SUM(J14:J15)+SUM(J18:J24)+SUM(J27:J38)+SUM(J41:J53)+SUM(J56:J58)+SUM(J61:J76)+SUM(J79:J82)+SUM(J85:J99)+SUM(J102:J104)+SUM(J107:J116)+SUM(J119:J125)+SUM(J128:J139)+SUM(J142:J152)+SUM(J155:J163)+SUM(J166:J176)+SUM(J179:J189)+SUM(J192:J203)+SUM(J206:J207)+SUM(J210:J219)+SUM(J222:J228)+SUM(J231:J235)+SUM(J238:J248)+SUM(J251:J261)+SUM(J264:J275)+SUM(J278:J283)+SUM(J286:J293)+SUM(J296:J304)+SUM(J307:J314)+SUM(J317:J323)+SUM(J326:J332)+SUM(J335:J342)+SUM(J345:J353)+SUM(J356:J362)+SUM(J365:J371)+SUM(J374:J384)+SUM(J387:J393)+SUM(J396:J400) -> 0 | K11: =SUM(K14:K15)+SUM(K18:K24)+SUM(K27:K38)+SUM(K41:K53)+SUM(K56:K58)+SUM(K61:K76)+SUM(K79:K82)+SUM(K85:K99)+SUM(K102:K104)+SUM(K107:K116)+SUM(K119:K125)+SUM(K128:K139)+SUM(K142:K152)+SUM(K155:K163)+SUM(K166:K176)+SUM(K179:K189)+SUM(K192:K203)+SUM(K206:K207)+SUM(K210:K219)+SUM(K222:K228)+SUM(K231:K235)+SUM(K238:K248)+SUM(K251:K261)+SUM(K264:K275)+SUM(K278:K283)+SUM(K286:K293)+SUM(K296:K304)+SUM(K307:K314)+SUM(K317:K323)+SUM(K326:K332)+SUM(K335:K342)+SUM(K345:K353)+SUM(K356:K362)+SUM(K365:K371)+SUM(K374:K384)+SUM(K387:K393)+SUM(K396:K400) -> 0 | L11: =SUM(L14:L15)+SUM(L18:L24)+SUM(L27:L38)+SUM(L41:L53)+SUM(L56:L58)+SUM(L61:L76)+SUM(L79:L82)+SUM(L85:L99)+SUM(L102:L104)+SUM(L107:L116)+SUM(L119:L125)+SUM(L128:L139)+SUM(L142:L152)+SUM(L155:L163)+SUM(L166:L176)+SUM(L179:L189)+SUM(L192:L203)+SUM(L206:L207)+SUM(L210:L219)+SUM(L222:L228)+SUM(L231:L235)+SUM(L238:L248)+SUM(L251:L261)+SUM(L264:L275)+SUM(L278:L283)+SUM(L286:L293)+SUM(L296:L304)+SUM(L307:L314)+SUM(L317:L323)+SUM(L326:L332)+SUM(L335:L342)+SUM(L345:L353)+SUM(L356:L362)+SUM(L365:L371)+SUM(L374:L384)+SUM(L387:L393)+SUM(L396:L400) -> 0 | N11: =SUM(N14:N15)+SUM(N18:N24)+SUM(N27:N38)+SUM(N41:N53)+SUM(N56:N58)+SUM(N61:N76)+SUM(N79:N82)+SUM(N85:N99)+SUM(N102:N104)+SUM(N107:N116)+SUM(N119:N125)+SUM(N128:N139)+SUM(N142:N152)+SUM(N155:N163)+SUM(N166:N176)+SUM(N179:N189)+SUM(N192:N203)+SUM(N206:N207)+SUM(N210:N219)+SUM(N222:N228)+SUM(N231:N235)+SUM(N238:N248)+SUM(N251:N261)+SUM(N264:N275)+SUM(N278:N283)+SUM(N286:N293)+SUM(N296:N304)+SUM(N307:N314)+SUM(N317:N323)+SUM(N326:N332)+SUM(N335:N342)+SUM(N345:N353)+SUM(N356:N362)+SUM(N365:N371)+SUM(N374:N384)+SUM(N387:N393)+SUM(N396:N400) -> 2936522 | O11: =SUM(O14:O15)+SUM(O18:O24)+SUM(O27:O38)+SUM(O41:O53)+SUM(O56:O58)+SUM(O61:O76)+SUM(O79:O82)+SUM(O85:O99)+SUM(O102:O104)+SUM(O107:O116)+SUM(O119:O125)+SUM(O128:O139)+SUM(O142:O152)+SUM(O155:O163)+SUM(O166:O176)+SUM(O179:O189)+SUM(O192:O203)+SUM(O206:O207)+SUM(O210:O219)+SUM(O222:O228)+SUM(O231:O235)+SUM(O238:O248)+SUM(O251:O261)+SUM(O264:O275)+SUM(O278:O283)+SUM(O286:O293)+SUM(O296:O304)+SUM(O307:O314)+SUM(O317:O323)+SUM(O326:O332)+SUM(O335:O342)+SUM(O345:O353)+SUM(O356:O362)+SUM(O365:O371)+SUM(O374:O384)+SUM(O387:O393)+SUM(O396:O400) -> 3256699.8 | P11: =SUM(P14:P15)+SUM(P18:P24)+SUM(P27:P38)+SUM(P41:P53)+SUM(P56:P58)+SUM(P61:P76)+SUM(P79:P82)+SUM(P85:P99)+SUM(P102:P104)+SUM(P107:P116)+SUM(P119:P125)+SUM(P128:P139)+SUM(P142:P152)+SUM(P155:P163)+SUM(P166:P176)+SUM(P179:P189)+SUM(P192:P203)+SUM(P206:P207)+SUM(P210:P219)+SUM(P222:P228)+SUM(P231:P235)+SUM(P238:P248)+SUM(P251:P261)+SUM(P264:P275)+SUM(P278:P283)+SUM(P286:P293)+SUM(P296:P304)+SUM(P307:P314)+SUM(P317:P323)+SUM(P326:P332)+SUM(P335:P342)+SUM(P345:P353)+SUM(P356:P362)+SUM(P365:P371)+SUM(P374:P384)+SUM(P387:P393)+SUM(P396:P400) -> 3256699.8 | Q11: =SUM(Q14:Q15)+SUM(Q18:Q24)+SUM(Q27:Q38)+SUM(Q41:Q53)+SUM(Q56:Q58)+SUM(Q61:Q76)+SUM(Q79:Q82)+SUM(Q85:Q99)+SUM(Q102:Q104)+SUM(Q107:Q116)+SUM(Q119:Q125)+SUM(Q128:Q139)+SUM(Q142:Q152)+SUM(Q155:Q163)+SUM(Q166:Q176)+SUM(Q179:Q189)+SUM(Q192:Q203)+SUM(Q206:Q207)+SUM(Q210:Q219)+SUM(Q222:Q228)+SUM(Q231:Q235)+SUM(Q238:Q248)+SUM(Q251:Q261)+SUM(Q264:Q275)+SUM(Q278:Q283)+SUM(Q286:Q293)+SUM(Q296:Q304)+SUM(Q307:Q314)+SUM(Q317:Q323)+SUM(Q326:Q332)+SUM(Q335:Q342)+SUM(Q345:Q353)+SUM(Q356:Q362)+SUM(Q365:Q371)+SUM(Q374:Q384)+SUM(Q387:Q393)+SUM(Q396:Q400) -> 0 | R11: =SUM(R14:R15)+SUM(R18:R24)+SUM(R27:R38)+SUM(R41:R53)+SUM(R56:R58)+SUM(R61:R76)+SUM(R79:R82)+SUM(R85:R99)+SUM(R102:R104)+SUM(R107:R116)+SUM(R119:R125)+SUM(R128:R139)+SUM(R142:R152)+SUM(R155:R163)+SUM(R166:R176)+SUM(R179:R189)+SUM(R192:R203)+SUM(R206:R207)+SUM(R210:R219)+SUM(R222:R228)+SUM(R231:R235)+SUM(R238:R248)+SUM(R251:R261)+SUM(R264:R275)+SUM(R278:R283)+SUM(R286:R293)+SUM(R296:R304)+SUM(R307:R314)+SUM(R317:R323)+SUM(R326:R332)+SUM(R335:R342)+SUM(R345:R353)+SUM(R356:R362)+SUM(R365:R371)+SUM(R374:R384)+SUM(R387:R393)+SUM(R396:R400) -> 962463 | S11: =R11/O11*100 -> 29.553323 | T11: =SUM(T14:T15)+SUM(T18:T24)+SUM(T27:T38)+SUM(T41:T53)+SUM(T56:T58)+SUM(T61:T76)+SUM(T79:T82)+SUM(T85:T99)+SUM(T102:T104)+SUM(T107:T116)+SUM(T119:T125)+SUM(T128:T139)+SUM(T142:T152)+SUM(T155:T163)+SUM(T166:T176)+SUM(T179:T189)+SUM(T192:T203)+SUM(T206:T207)+SUM(T210:T219)+SUM(T222:T228)+SUM(T231:T235)+SUM(T238:T248)+SUM(T251:T261)+SUM(T264:T275)+SUM(T278:T283)+SUM(T286:T293)+SUM(T296:T304)+SUM(T307:T314)+SUM(T317:T323)+SUM(T326:T332)+SUM(T335:T342)+SUM(T345:T353)+SUM(T356:T362)+SUM(T365:T371)+SUM(T374:T384)+SUM(T387:T393)+SUM(T396:T400) -> 108110.3 | U11: =SUM(U14:U15)+SUM(U18:U24)+SUM(U27:U38)+SUM(U41:U53)+SUM(U56:U58)+SUM(U61:U76)+SUM(U79:U82)+SUM(U85:U99)+SUM(U102:U104)+SUM(U107:U116)+SUM(U119:U125)+SUM(U128:U139)+SUM(U142:U152)+SUM(U155:U163)+SUM(U166:U176)+SUM(U179:U189)+SUM(U192:U203)+SUM(U206:U207)+SUM(U210:U219)+SUM(U222:U228)+SUM(U231:U235)+SUM(U238:U248)+SUM(U251:U261)+SUM(U264:U275)+SUM(U278:U283)+SUM(U286:U293)+SUM(U296:U304)+SUM(U307:U314)+SUM(U317:U323)+SUM(U326:U332)+SUM(U335:U342)+SUM(U345:U353)+SUM(U356:U362)+SUM(U365:U371)+SUM(U374:U384)+SUM(U387:U393)+SUM(U396:U400) -> 108110.3 | V11: =SUM(V14:V15)+SUM(V18:V24)+SUM(V27:V38)+SUM(V41:V53)+SUM(V56:V58)+SUM(V61:V76)+SUM(V79:V82)+SUM(V85:V99)+SUM(V102:V104)+SUM(V107:V116)+SUM(V119:V125)+SUM(V128:V139)+SUM(V142:V152)+SUM(V155:V163)+SUM(V166:V176)+SUM(V179:V189)+SUM(V192:V203)+SUM(V206:V207)+SUM(V210:V219)+SUM(V222:V228)+SUM(V231:V235)+SUM(V238:V248)+SUM(V251:V261)+SUM(V264:V275)+SUM(V278:V283)+SUM(V286:V293)+SUM(V296:V304)+SUM(V307:V314)+SUM(V317:V323)+SUM(V326:V332)+SUM(V335:V342)+SUM(V345:V353)+SUM(V356:V362)+SUM(V365:V371)+SUM(V374:V384)+SUM(V387:V393)+SUM(V396:V400) -> 108110.3 | W11: =SUM(W14:W15)+SUM(W18:W24)+SUM(W27:W38)+SUM(W41:W53)+SUM(W56:W58)+SUM(W61:W76)+SUM(W79:W82)+SUM(W85:W99)+SUM(W102:W104)+SUM(W107:W116)+SUM(W119:W125)+SUM(W128:W139)+SUM(W142:W152)+SUM(W155:W163)+SUM(W166:W176)+SUM(W179:W189)+SUM(W192:W203)+SUM(W206:W207)+SUM(W210:W219)+SUM(W222:W228)+SUM(W231:W235)+SUM(W238:W248)+SUM(W251:W261)+SUM(W264:W275)+SUM(W278:W283)+SUM(W286:W293)+SUM(W296:W304)+SUM(W307:W314)+SUM(W317:W323)+SUM(W326:W332)+SUM(W335:W342)+SUM(W345:W353)+SUM(W356:W362)+SUM(W365:W371)+SUM(W374:W384)+SUM(W387:W393)+SUM(W396:W400) -> 0 | X11: =SUM(X14:X15)+SUM(X18:X24)+SUM(X27:X38)+SUM(X41:X53)+SUM(X56:X58)+SUM(X61:X76)+SUM(X79:X82)+SUM(X85:X99)+SUM(X102:X104)+SUM(X107:X116)+SUM(X119:X125)+SUM(X128:X139)+SUM(X142:X152)+SUM(X155:X163)+SUM(X166:X176)+SUM(X179:X189)+SUM(X192:X203)+SUM(X206:X207)+SUM(X210:X219)+SUM(X222:X228)+SUM(X231:X235)+SUM(X238:X248)+SUM(X251:X261)+SUM(X264:X275)+SUM(X278:X283)+SUM(X286:X293)+SUM(X296:X304)+SUM(X307:X314)+SUM(X317:X323)+SUM(X326:X332)+SUM(X335:X342)+SUM(X345:X353)+SUM(X356:X362)+SUM(X365:X371)+SUM(X374:X384)+SUM(X387:X393)+SUM(X396:X400) -> 16352.311 | Y11: =X11/U11*100 -> 15.125581 | Z11: =SUM(Z14:Z15)+SUM(Z18:Z24)+SUM(Z27:Z38)+SUM(Z41:Z53)+SUM(Z56:Z58)+SUM(Z61:Z76)+SUM(Z79:Z82)+SUM(Z85:Z99)+SUM(Z102:Z104)+SUM(Z107:Z116)+SUM(Z119:Z125)+SUM(Z128:Z139)+SUM(Z142:Z152)+SUM(Z155:Z163)+SUM(Z166:Z176)+SUM(Z179:Z189)+SUM(Z192:Z203)+SUM(Z206:Z207)+SUM(Z210:Z219)+SUM(Z222:Z228)+SUM(Z231:Z235)+SUM(Z238:Z248)+SUM(Z251:Z261)+SUM(Z264:Z275)+SUM(Z278:Z283)+SUM(Z286:Z293)+SUM(Z296:Z304)+SUM(Z307:Z314)+SUM(Z317:Z323)+SUM(Z326:Z332)+SUM(Z335:Z342)+SUM(Z345:Z353)+SUM(Z356:Z362)+SUM(Z365:Z371)+SUM(Z374:Z384)+SUM(Z387:Z393)+SUM(Z396:Z400) -> 696147.78 | AA11: =SUM(AA14:AA15)+SUM(AA18:AA24)+SUM(AA27:AA38)+SUM(AA41:AA53)+SUM(AA56:AA58)+SUM(AA61:AA76)+SUM(AA79:AA82)+SUM(AA85:AA99)+SUM(AA102:AA104)+SUM(AA107:AA116)+SUM(AA119:AA125)+SUM(AA128:AA139)+SUM(AA142:AA152)+SUM(AA155:AA163)+SUM(AA166:AA176)+SUM(AA179:AA189)+SUM(AA192:AA203)+SUM(AA206:AA207)+SUM(AA210:AA219)+SUM(AA222:AA228)+SUM(AA231:AA235)+SUM(AA238:AA248)+SUM(AA251:AA261)+SUM(AA264:AA275)+SUM(AA278:AA283)+SUM(AA286:AA293)+SUM(AA296:AA304)+SUM(AA307:AA314)+SUM(AA317:AA323)+SUM(AA326:AA332)+SUM(AA335:AA342)+SUM(AA345:AA353)+SUM(AA356:AA362)+SUM(AA365:AA371)+SUM(AA374:AA384)+SUM(AA387:AA393)+SUM(AA396:AA400) -> 808837.41 | AB11: =SUM(AB14:AB15)+SUM(AB18:AB24)+SUM(AB27:AB38)+SUM(AB41:AB53)+SUM(AB56:AB58)+SUM(AB61:AB76)+SUM(AB79:AB82)+SUM(AB85:AB99)+SUM(AB102:AB104)+SUM(AB107:AB116)+SUM(AB119:AB125)+SUM(AB128:AB139)+SUM(AB142:AB152)+SUM(AB155:AB163)+SUM(AB166:AB176)+SUM(AB179:AB189)+SUM(AB192:AB203)+SUM(AB206:AB207)+SUM(AB210:AB219)+SUM(AB222:AB228)+SUM(AB231:AB235)+SUM(AB238:AB248)+SUM(AB251:AB261)+SUM(AB264:AB275)+SUM(AB278:AB283)+SUM(AB286:AB293)+SUM(AB296:AB304)+SUM(AB307:AB314)+SUM(AB317:AB323)+SUM(AB326:AB332)+SUM(AB335:AB342)+SUM(AB345:AB353)+SUM(AB356:AB362)+SUM(AB365:AB371)+SUM(AB374:AB384)+SUM(AB387:AB393)+SUM(AB396:AB400) -> 808729.68 | AC11: =SUM(AC14:AC15)+SUM(AC18:AC24)+SUM(AC27:AC38)+SUM(AC41:AC53)+SUM(AC56:AC58)+SUM(AC61:AC76)+SUM(AC79:AC82)+SUM(AC85:AC99)+SUM(AC102:AC104)+SUM(AC107:AC116)+SUM(AC119:AC125)+SUM(AC128:AC139)+SUM(AC142:AC152)+SUM(AC155:AC163)+SUM(AC166:AC176)+SUM(AC179:AC189)+SUM(AC192:AC203)+SUM(AC206:AC207)+SUM(AC210:AC219)+SUM(AC222:AC228)+SUM(AC231:AC235)+SUM(AC238:AC248)+SUM(AC251:AC261)+SUM(AC264:AC275)+SUM(AC278:AC283)+SUM(AC286:AC293)+SUM(AC296:AC304)+SUM(AC307:AC314)+SUM(AC317:AC323)+SUM(AC326:AC332)+SUM(AC335:AC342)+SUM(AC345:AC353)+SUM(AC356:AC362)+SUM(AC365:AC371)+SUM(AC374:AC384)+SUM(AC387:AC393)+SUM(AC396:AC400) -> 107.72365 | AD11: =SUM(AD14:AD15)+SUM(AD18:AD24)+SUM(AD27:AD38)+SUM(AD41:AD53)+SUM(AD56:AD58)+SUM(AD61:AD76)+SUM(AD79:AD82)+SUM(AD85:AD99)+SUM(AD102:AD104)+SUM(AD107:AD116)+SUM(AD119:AD125)+SUM(AD128:AD139)+SUM(AD142:AD152)+SUM(AD155:AD163)+SUM(AD166:AD176)+SUM(AD179:AD189)+SUM(AD192:AD203)+SUM(AD206:AD207)+SUM(AD210:AD219)+SUM(AD222:AD228)+SUM(AD231:AD235)+SUM(AD238:AD248)+SUM(AD251:AD261)+SUM(AD264:AD275)+SUM(AD278:AD283)+SUM(AD286:AD293)+SUM(AD296:AD304)+SUM(AD307:AD314)+SUM(AD317:AD323)+SUM(AD326:AD332)+SUM(AD335:AD342)+SUM(AD345:AD353)+SUM(AD356:AD362)+SUM(AD365:AD371)+SUM(AD374:AD384)+SUM(AD387:AD393)+SUM(AD396:AD400) -> 97580.368 | AE11: =AD11/AA11*100 -> 12.064275
A12: Александрово-Гайский район (консолидированный) | B12: =H12+N12+T12+Z12 -> 585126.66 | C12: =I12+O12+U12+AA12 -> 649508.24 | D12: =J12+P12+V12+AB12 -> 641000.75 | E12: =K12+Q12+W12+AC12 -> 8507.4962 | F12: =L12+R12+X12+AD12 -> 123558.97 | G12: =F12/C12*100 -> 19.023465 | H12: =H13+H14+H15 -> 144896.6 | I12: =I13+I14+I15 -> 144896.6 | J12: =J13+J14+J15 -> 144896.6 | K12: =K13+K14+K15 -> 0 | L12: =L13+L14+L15 -> 44405.9 | M12: =L12/I12*100 -> 30.646613 | N12: =N13+N14+N15 -> 90383.463 | O12: =O13+O14+O15 -> 92049.847 | P12: =P13+P14+P15 -> 92049.847 | Q12: =Q13+Q14+Q15 -> 0 | R12: =R13+R14+R15 -> 6561.1742 | S12: =R12/O12*100 -> 7.1278491 | T12: =T13+T14+T15 -> 302949.2 | U12: =U13+U14+U15 -> 319928.7 | V12: =V13+V14+V15 -> 319928.7 | W12: =W13+W14+W15 -> 0 | X12: =X13+X14+X15 -> 58181.189 | Y12: =X12/U12*100 -> 18.185674 | Z12: =Z13+Z14+Z15 -> 46897.4 | AA12: =AA13+AA14+AA15 -> 92633.096 | AB12: =AB13+AB14+AB15 -> 84125.6 | AC12: =AC13+AC14+AC15 -> 8507.4962 | AD12: =AD13+AD14+AD15 -> 14410.708 | AE12: =AD12/AA12*100 -> 15.55676
A13: Александрово-Гайский район (собственный) | B13: =H13+N13+T13+Z13 -> 520173.66 | C13: =I13+O13+U13+AA13 -> 581239.44 | D13: =J13+P13+V13+AB13 -> 572731.95 | E13: =K13+Q13+W13+AC13 -> 8507.4962 | F13: =L13+R13+X13+AD13 -> 123055.32 | G13: =F13/C13*100 -> 21.171193 | H13: =Дотации!B14 -> 144896.6 | I13: =Дотации!C14 -> 144896.6 | J13: =Дотации!D14 -> 144896.6 | K13: =Дотации!E13 -> 0 | L13: =Дотации!F14 -> 44405.9 | M13: =L13/I13*100 -> 30.646613 | N13: =Субсидии!B14 -> 40707.463 | O13: =Субсидии!C14 -> 39373.847 | P13: =Субсидии!D14 -> 39373.847 | Q13: =Субсидии!E14 -> 0 | R13: =Субсидии!F14 -> 6561.1742 | S13: =R13/O13*100 -> 16.663788 | T13: ='Субвенции '!B16 -> 300765.9 | U13: ='Субвенции '!C16 -> 317745.4 | V13: ='Субвенции '!D16 -> 317745.4 | W13: ='Субвенции '!E16 -> 0 | X13: ='Субвенции '!F16 -> 57756.492 | Y13: =X13/U13*100 -> 18.176972 | Z13: =Иные!B14 -> 33803.7 | AA13: =Иные!C14 -> 79223.596 | AB13: =Иные!D14 -> 70716.1 | AC13: =Иные!E14 -> 8507.4962 | AD13: =Иные!F14 -> 14331.758 | AE13: =AD13/AA13*100 -> 18.090265
A14: Александрово-Гайское МО | B14: =H14+N14+T14+Z14 -> 60107.6 | C14: =I14+O14+U14+AA14 -> 63107.6 | D14: =J14+P14+V14+AB14 -> 63107.6 | E14: =K14+Q14+W14+AC14 -> 0 | F14: =L14+R14+X14+AD14 -> 376.01817 | G14: =F14/C14*100 -> 0.59583659 | H14: =Дотации!B15 -> 0 | I14: =Дотации!C15 -> 0 | J14: =Дотации!D15 -> 0 | K14: =Дотации!E15 -> 0 | L14: =Дотации!F15 -> 0 | N14: =Субсидии!B15 -> 45824 | O14: =Субсидии!C15 -> 48824 | P14: =Субсидии!D15 -> 48824 | Q14: =Субсидии!E15 -> 0 | R14: =Субсидии!F15 -> 0 | S14: =R14/O14*100 -> 0 | T14: ='Субвенции '!B17 -> 1926.3 | U14: ='Субвенции '!C17 -> 1926.3 | V14: ='Субвенции '!D17 -> 1926.3 | W14: ='Субвенции '!E17 -> 0 | X14: ='Субвенции '!F17 -> 376.01817 | Y14: =X14/U14*100 -> 19.520229 | Z14: =Иные!B15 -> 12357.3 | AA14: =Иные!C15 -> 12357.3 | AB14: =Иные!D15 -> 12357.3 | AC14: =Иные!E15 -> 0 | AD14: =Иные!F15 -> 0 | AE14: =AD14/AA14*100 -> 0
A15: Новоалександровское МО | B15: =H15+N15+T15+Z15 -> 4845.4 | C15: =I15+O15+U15+AA15 -> 5161.2 | D15: =J15+P15+V15+AB15 -> 5161.2 | E15: =K15+Q15+W15+AC15 -> 0 | F15: =L15+R15+X15+AD15 -> 127.62962 | G15: =F15/C15*100 -> 2.4728672 | N15: =Субсидии!B16 -> 3852 | O15: =Субсидии!C16 -> 3852 | P15: =Субсидии!D16 -> 3852 | Q15: =Субсидии!E16 -> 0 | R15: =Субсидии!F16 -> 0 | S15: =R15/O15*100 -> 0 | T15: ='Субвенции '!B18 -> 257 | U15: ='Субвенции '!C18 -> 257 | V15: ='Субвенции '!D18 -> 257 | W15: ='Субвенции '!E18 -> 0 | X15: ='Субвенции '!F18 -> 48.67962 | Y15: =X15/U15*100 -> 18.941486 | Z15: =Иные!B16 -> 736.4 | AA15: =Иные!C16 -> 1052.2 | AB15: =Иные!D16 -> 1052.2 | AC15: =Иные!E16 -> 0 | AD15: =Иные!F16 -> 78.95 | AE15: =AD15/AA15*100 -> 7.5033264
A16: Аркадакский район (консолидированный) | B16: =H16+N16+T16+Z16 -> 585777.19 | C16: =I16+O16+U16+AA16 -> 618476.95 | D16: =J16+P16+V16+AB16 -> 618476.95 | E16: =K16+Q16+W16+AC16 -> 0 | F16: =L16+R16+X16+AD16 -> 105511.53 | G16: =F16/C16*100 -> 17.059898 | H16: =SUM(H17:H24) -> 72956.1 | I16: =SUM(I17:I24) -> 72956.1 | J16: =SUM(J17:J24) -> 72956.1 | K16: =SUM(K17:K24) -> 0 | L16: =SUM(L17:L24) -> 18239.1 | M16: =L16/I16*100 -> 25.000103 | N16: =SUM(N17:N24) -> 76234.668 | O16: =SUM(O17:O24) -> 75030.126 | P16: =SUM(P17:P24) -> 75030.126 | Q16: =SUM(Q17:Q24) -> 0 | R16: =SUM(R17:R24) -> 8850.435 | S16: =R16/O16*100 -> 11.795842 | T16: =SUM(T17:T24) -> 407685.1 | U16: =SUM(U17:U24) -> 423611.7 | V16: =SUM(V17:V24) -> 423611.7 | W16: =SUM(W17:W24) -> 0 | X16: =SUM(X17:X24) -> 70045.256 | Y16: =X16/U16*100 -> 16.53525 | Z16: =SUM(Z17:Z24) -> 28901.319 | AA16: =SUM(AA17:AA24) -> 46879.019 | AB16: =SUM(AB17:AB24) -> 46879.019 | AC16: =SUM(AC17:AC24) -> 0 | AD16: =SUM(AD17:AD24) -> 8376.7437 | AE16: =AD16/AA16*100 -> 17.868854
A17: Аркадакский район (собственный) | B17: =H17+N17+T17+Z17 -> 548283.27 | C17: =I17+O17+U17+AA17 -> 577271.42 | D17: =J17+P17+V17+AB17 -> 577271.42 | E17: =K17+Q17+W17+AC17 -> 0 | F17: =L17+R17+X17+AD17 -> 104980.18 | G17: =F17/C17*100 -> 18.185584 | H17: =Дотации!B16 -> 72956.1 | I17: =Дотации!C16 -> 72956.1 | J17: =Дотации!D16 -> 72956.1 | K17: =Дотации!E16 -> 0 | L17: =Дотации!F16 -> 18239.1 | M17: =L17/I17*100 -> 25.000103 | N17: =Субсидии!B18 -> 46294.668 | O17: =Субсидии!C18 -> 42501.118 | P17: =Субсидии!D18 -> 42501.118 | Q17: =Субсидии!E18 -> 0 | R17: =Субсидии!F18 -> 8850.435 | S17: =R17/O17*100 -> 20.824005 | T17: ='Субвенции '!B20 -> 405187.6 | U17: ='Субвенции '!C20 -> 421114.2 | V17: ='Субвенции '!D20 -> 421114.2 | W17: ='Субвенции '!E20 -> 0 | X17: ='Субвенции '!F20 -> 69674.281 | Y17: =X17/U17*100 -> 16.545222 | Z17: =Иные!B18 -> 23844.9 | AA17: =Иные!C18 -> 40700 | AB17: =Иные!D18 -> 40700 | AC17: =Иные!E18 -> 0 | AD17: =Иные!F18 -> 8216.3633 | AE17: =AD17/AA17*100 -> 20.187625
A18: город Аркадак | B18: =H18+N18+T18+Z18 -> 12191.319 | C18: =I18+O18+U18+AA18 -> 12191.319 | D18: =J18+P18+V18+AB18 -> 12191.319 | E18: =K18+Q18+W18+AC18 -> 0 | F18: =L18+R18+X18+AD18 -> 164.32294 | G18: =F18/C18*100 -> 1.3478684 | N18: =Субсидии!B19 -> 6000 | O18: =Субсидии!C19 -> 6000 | P18: =Субсидии!D19 -> 6000 | Q18: =Субсидии!E19 -> 0 | R18: =Субсидии!F19 -> 0 | S18: =R18/O18*100 -> 0 | T18: ='Субвенции '!B21 -> 1134.9 | U18: ='Субвенции '!C21 -> 1134.9 | V18: ='Субвенции '!D21 -> 1134.9 | W18: ='Субвенции '!E21 -> 0 | X18: ='Субвенции '!F21 -> 164.32294 | Y18: =X18/U18*100 -> 14.479068 | Z18: =Иные!B19 -> 5056.4195 | AA18: =Иные!C19 -> 5056.4195 | AB18: =Иные!D19 -> 5056.4195 | AC18: =Иные!E19 -> 0 | AD18: =Иные!F19 -> 0 | AE18: =AD18/AA18*100 -> 0
A19: Большежуравское МО | B19: =H19+N19+T19+Z19 -> 3386.1 | C19: =I19+O19+U19+AA19 -> 4760.8187 | D19: =J19+P19+V19+AB19 -> 4760.8187 | E19: =K19+Q19+W19+AC19 -> 0 | F19: =L19+R19+X19+AD19 -> 82.11904 | G19: =F19/C19*100 -> 1.7248932 | N19: =Субсидии!B20 -> 3159 | O19: =Субсидии!C20 -> 4188.9187 | P19: =Субсидии!D20 -> 4188.9187 | Q19: =Субсидии!E20 -> 0 | R19: =Субсидии!F20 -> 0 | S19: =R19/O19*100 -> 0 | T19: ='Субвенции '!B22 -> 227.1 | U19: ='Субвенции '!C22 -> 227.1 | V19: ='Субвенции '!D22 -> 227.1 | W19: ='Субвенции '!E22 -> 0 | X19: ='Субвенции '!F22 -> 32.86438 | Y19: =X19/U19*100 -> 14.471325 | Z19: =Иные!B20 -> 0 | AA19: =Иные!C20 -> 344.8 | AB19: =Иные!D20 -> 344.8 | AC19: =Иные!E20 -> 0 | AD19: =Иные!F20 -> 49.25466 | AE19: =AD19/AA19*100 -> 14.284994
A20: Краснознаменское МО | B20: =H20+N20+T20+Z20 -> 4472.1 | C20: =I20+O20+U20+AA20 -> 4741.4 | D20: =J20+P20+V20+AB20 -> 4741.4 | E20: =K20+Q20+W20+AC20 -> 0 | F20: =L20+R20+X20+AD20 -> 71.33508 | G20: =F20/C20*100 -> 1.5045151 | N20: =Субсидии!B21 -> 4245 | O20: =Субсидии!C21 -> 4245 | P20: =Субсидии!D21 -> 4245 | Q20: =Субсидии!E21 -> 0 | R20: =Субсидии!F21 -> 0 | S20: =R20/O20*100 -> 0 | T20: ='Субвенции '!B23 -> 227.1 | U20: ='Субвенции '!C23 -> 227.1 | V20: ='Субвенции '!D23 -> 227.1 | W20: ='Субвенции '!E23 -> 0 | X20: ='Субвенции '!F23 -> 32.86358 | Y20: =X20/U20*100 -> 14.470973 | Z20: =Иные!B21 -> 0 | AA20: =Иные!C21 -> 269.3 | AB20: =Иные!D21 -> 269.3 | AC20: =Иные!E21 -> 0 | AD20: =Иные!F21 -> 38.4715 | AE20: =AD20/AA20*100 -> 14.285741
A21: Львовское МО | B21: =H21+N21+T21+Z21 -> 3191.1 | C21: =I21+O21+U21+AA21 -> 3226.9 | D21: =J21+P21+V21+AB21 -> 3226.9 | E21: =K21+Q21+W21+AC21 -> 0 | F21: =L21+R21+X21+AD21 -> 47.44695 | G21: =F21/C21*100 -> 1.470357 | N21: =Субсидии!B22 -> 2964 | O21: =Субсидии!C22 -> 2964 | P21: =Субсидии!D22 -> 2964 | Q21: =Субсидии!E22 -> 0 | R21: =Субсидии!F22 -> 0 | S21: =R21/O21*100 -> 0 | T21: ='Субвенции '!B24 -> 227.1 | U21: ='Субвенции '!C24 -> 227.1 | V21: ='Субвенции '!D24 -> 227.1 | W21: ='Субвенции '!E24 -> 0 | X21: ='Субвенции '!F24 -> 42.33009 | Y21: =X21/U21*100 -> 18.639406 | Z21: =Иные!B22 -> 0 | AA21: =Иные!C22 -> 35.8 | AB21: =Иные!D22 -> 35.8 | AC21: =Иные!E22 -> 0 | AD21: =Иные!F22 -> 5.11686 | AE21: =AD21/AA21*100 -> 14.292905
A22: Малиновское МО | B22: =H22+N22+T22+Z22 -> 4745.1 | C22: =I22+O22+U22+AA22 -> 4948.5 | D22: =J22+P22+V22+AB22 -> 4948.5 | E22: =K22+Q22+W22+AC22 -> 0 | F22: =L22+R22+X22+AD22 -> 61.93042 | G22: =F22/C22*100 -> 1.2514988 | N22: =Субсидии!B23 -> 4518 | O22: =Субсидии!C23 -> 4518 | P22: =Субсидии!D23 -> 4518 | Q22: =Субсидии!E23 -> 0 | R22: =Субсидии!F23 -> 0 | S22: =R22/O22*100 -> 0 | T22: ='Субвенции '!B25 -> 227.1 | U22: ='Субвенции '!C25 -> 227.1 | V22: ='Субвенции '!D25 -> 227.1 | W22: ='Субвенции '!E25 -> 0 | X22: ='Субвенции '!F25 -> 32.86458 | Y22: =X22/U22*100 -> 14.471413 | Z22: =Иные!B23 -> 0 | AA22: =Иные!C23 -> 203.4 | AB22: =Иные!D23 -> 203.4 | AC22: =Иные!E23 -> 0 | AD22: =Иные!F23 -> 29.06584 | AE22: =AD22/AA22*100 -> 14.28999
A23: Росташовское МО | B23: =H23+N23+T23+Z23 -> 5099.1 | C23: =I23+O23+U23+AA23 -> 5869.1 | D23: =J23+P23+V23+AB23 -> 5869.1 | E23: =K23+Q23+W23+AC23 -> 0 | F23: =L23+R23+X23+AD23 -> 32.86458 | G23: =F23/C23*100 -> 0.55995945 | N23: =Субсидии!B24 -> 4872 | O23: =Субсидии!C24 -> 5642 | P23: =Субсидии!D24 -> 5642 | Q23: =Субсидии!E24 -> 0 | R23: =Субсидии!F24 -> 0 | S23: =R23/O23*100 -> 0 | T23: ='Субвенции '!B26 -> 227.1 | U23: ='Субвенции '!C26 -> 227.1 | V23: ='Субвенции '!D26 -> 227.1 | W23: ='Субвенции '!E26 -> 0 | X23: ='Субвенции '!F26 -> 32.86458 | Y23: =X23/U23*100 -> 14.471413
A24: Семеновское МО | B24: =H24+N24+T24+Z24 -> 4409.1 | C24: =I24+O24+U24+AA24 -> 5467.4896 | D24: =J24+P24+V24+AB24 -> 5467.4896 | E24: =K24+Q24+W24+AC24 -> 0 | F24: =L24+R24+X24+AD24 -> 71.33607 | G24: =F24/C24*100 -> 1.3047317 | N24: =Субсидии!B25 -> 4182 | O24: =Субсидии!C25 -> 4971.0896 | P24: =Субсидии!D25 -> 4971.0896 | Q24: =Субсидии!E25 -> 0 | R24: =Субсидии!F25 -> 0 | S24: =R24/O24*100 -> 0 | T24: ='Субвенции '!B27 -> 227.1 | U24: ='Субвенции '!C27 -> 227.1 | V24: ='Субвенции '!D27 -> 227.1 | W24: ='Субвенции '!E27 -> 0 | X24: ='Субвенции '!F27 -> 32.86457 | Y24: =X24/U24*100 -> 14.471409 | Z24: =Иные!B24 -> 0 | AA24: =Иные!C24 -> 269.3 | AB24: =Иные!D24 -> 269.3 | AC24: =Иные!E24 -> 0 | AD24: =Иные!F24 -> 38.4715 | AE24: =AD24/AA24*100 -> 14.285741
A25: Аткарский район (консолидированный) | B25: =H25+N25+T25+Z25 -> 1747542.8 | C25: =I25+O25+U25+AA25 -> 1939292.3 | D25: =J25+P25+V25+AB25 -> 1939292.3 | E25: =K25+Q25+W25+AC25 -> 0 | F25: =L25+R25+X25+AD25 -> 794213.46 | G25: =F25/C25*100 -> 40.953777 | H25: =SUM(H26:H38) -> 163251.2 | I25: =SUM(I26:I38) -> 163251.2 | J25: =SUM(J26:J38) -> 163251.2 | K25: =SUM(K26:K38) -> 0 | L25: =SUM(L26:L38) -> 40812.9 | M25: =L25/I25*100 -> 25.000061 | N25: =SUM(N26:N38) -> 901707.22 | O25: =SUM(O26:O38) -> 909480.83 | P25: =SUM(P26:P38) -> 909480.83 | Q25: =SUM(Q26:Q38) -> 0 | R25: =SUM(R26:R38) -> 594749.92 | S25: =R25/O25*100 -> 65.394442 | T25: =SUM(T26:T38) -> 623173.1 | U25: =SUM(U26:U38) -> 666224.6 | V25: =SUM(V26:V38) -> 666224.6 | W25: =SUM(W26:W38) -> 0 | X25: =SUM(X26:X38) -> 139149.23 | Y25: =X25/U25*100 -> 20.886234 | Z25: =SUM(Z26:Z38) -> 59411.3 | AA25: =SUM(AA26:AA38) -> 200335.7 | AB25: =SUM(AB26:AB38) -> 200335.7 | AC25: =SUM(AC26:AC38) -> 0 | AD25: =SUM(AD26:AD38) -> 19501.416 | AE25: =AD25/AA25*100 -> 9.7343687
A26: Аткарский район (собственный) | B26: =H26+N26+T26+Z26 -> 1202724.3 | C26: =I26+O26+U26+AA26 -> 1393059.3 | D26: =J26+P26+V26+AB26 -> 1393059.3 | E26: =K26+Q26+W26+AC26 -> 0 | F26: =L26+R26+X26+AD26 -> 305773.66 | G26: =F26/C26*100 -> 21.949794 | H26: =Дотации!B18 -> 163251.2 | I26: =Дотации!C19 -> 163251.2 | J26: =Дотации!D19 -> 163251.2 | K26: =Дотации!E18 -> 0 | L26: =Дотации!F19 -> 40812.9 | M26: =L26/I26*100 -> 25.000061 | N26: =Субсидии!B27 -> 365861.69 | O26: =Субсидии!C27 -> 372220.84 | P26: =Субсидии!D27 -> 372220.84 | Q26: =Субсидии!E27 -> 0 | R26: =Субсидии!F27 -> 106735.09 | S26: =R26/O26*100 -> 28.675204 | T26: ='Субвенции '!B29 -> 619200.1 | U26: ='Субвенции '!C29 -> 662251.6 | V26: ='Субвенции '!D29 -> 662251.6 | W26: ='Субвенции '!E29 -> 0 | X26: ='Субвенции '!F29 -> 138724.26 | Y26: =X26/U26*100 -> 20.947365 | Z26: =Иные!B26 -> 54411.3 | AA26: =Иные!C26 -> 195335.7 | AB26: =Иные!D26 -> 195335.7 | AC26: =Иные!E26 -> 0 | AD26: =Иные!F26 -> 19501.416 | AE26: =AD26/AA26*100 -> 9.9835389
A27: город Аткарск | B27: =H27+N27+T27+Z27 -> 507284.63 | C27: =I27+O27+U27+AA27 -> 507284.63 | D27: =J27+P27+V27+AB27 -> 507284.63 | E27: =K27+Q27+W27+AC27 -> 0 | F27: =L27+R27+X27+AD27 -> 488222.31 | G27: =F27/C27*100 -> 96.242284 | H27: =Дотации!B20 -> 0 | I27: =Дотации!C20 -> 0 | J27: =Дотации!D20 -> 0 | L27: =Дотации!F20 -> 0 | N27: =Субсидии!B28 -> 500014.83 | O27: =Субсидии!C28 -> 500014.83 | P27: =Субсидии!D28 -> 500014.83 | Q27: =Субсидии!E28 -> 0 | R27: =Субсидии!F28 -> 488014.83 | S27: =R27/O27*100 -> 97.600071 | T27: ='Субвенции '!B30 -> 2269.8 | U27: ='Субвенции '!C30 -> 2269.8 | V27: ='Субвенции '!D30 -> 2269.8 | W27: ='Субвенции '!E30 -> 0 | X27: ='Субвенции '!F30 -> 207.48483 | Y27: =X27/U27*100 -> 9.1411063 | Z27: =Иные!B27 -> 5000 | AA27: =Иные!C27 -> 5000 | AB27: =Иные!D27 -> 5000 | AC27: =Иные!E27 -> 0 | AD27: =Иные!F27 -> 0 | AE27: =AD27/AA27*100 -> 0
A28: Барановское МО | B28: =H28+N28+T28+Z28 -> 5003.1 | C28: =I28+O28+U28+AA28 -> 5003.1 | D28: =J28+P28+V28+AB28 -> 5003.1 | E28: =K28+Q28+W28+AC28 -> 0 | F28: =L28+R28+X28+AD28 -> 31.22559 | G28: =F28/C28*100 -> 0.62412484 | N28: =Субсидии!B29 -> 4776 | O28: =Субсидии!C29 -> 4776 | P28: =Субсидии!D29 -> 4776 | Q28: =Субсидии!E29 -> 0 | R28: =Субсидии!F29 -> 0 | S28: =R28/O28*100 -> 0 | T28: ='Субвенции '!B31 -> 227.1 | U28: ='Субвенции '!C31 -> 227.1 | V28: ='Субвенции '!D31 -> 227.1 | W28: ='Субвенции '!E31 -> 0 | X28: ='Субвенции '!F31 -> 31.22559 | Y28: =X28/U28*100 -> 13.749709 | Z28: =Иные!B28 -> 0 | AA28: =Иные!C28 -> 0 | AB28: =Иные!D28 -> 0 | AC28: =Иные!E28 -> 0 | AD28: =Иные!F28 -> 0
A29: Большеекатериновское МО | B29: =H29+N29+T29+Z29 -> 0 | C29: =I29+O29+U29+AA29 -> 0 | D29: =J29+P29+V29+AB29 -> 0 | E29: =K29+Q29+W29+AC29 -> 0 | F29: =L29+R29+X29+AD29 -> 0 | N29: =Субсидии!B30 -> 0 | O29: =Субсидии!C30 -> 0 | P29: =Субсидии!D30 -> 0 | Q29: =Субсидии!E30 -> 0 | R29: =Субсидии!F30 -> 0 | T29: ='Субвенции '!B32 -> 0 | U29: ='Субвенции '!C32 -> 0 | V29: ='Субвенции '!D32 -> 0 | W29: ='Субвенции '!E32 -> 0 | X29: ='Субвенции '!F32 -> 0
A30: Даниловское МО | B30: =H30+N30+T30+Z30 -> 8112.7 | C30: =I30+O30+U30+AA30 -> 8112.7 | D30: =J30+P30+V30+AB30 -> 8112.7 | E30: =K30+Q30+W30+AC30 -> 0 | F30: =L30+R30+X30+AD30 -> 75.55625 | G30: =F30/C30*100 -> 0.93133297 | N30: =Субсидии!B31 -> 7545 | O30: =Субсидии!C31 -> 7545 | P30: =Субсидии!D31 -> 7545 | Q30: =Субсидии!E31 -> 0 | R30: =Субсидии!F31 -> 0 | S30: =R30/O30*100 -> 0 | T30: ='Субвенции '!B33 -> 567.7 | U30: ='Субвенции '!C33 -> 567.7 | V30: ='Субвенции '!D33 -> 567.7 | W30: ='Субвенции '!E33 -> 0 | X30: ='Субвенции '!F33 -> 75.55625 | Y30: =X30/U30*100 -> 13.309186 | Z30: =Иные!B29 -> 0 | AA30: =Иные!C29 -> 0 | AB30: =Иные!D29 -> 0 | AC30: =Иные!E29 -> 0 | AD30: =Иные!F29 -> 0
A31: Ершовское МО | B31: =H31+N31+T31+Z31 -> 6291.8 | C31: =I31+O31+U31+AA31 -> 6291.82 | D31: =J31+P31+V31+AB31 -> 6291.82 | E31: =K31+Q31+W31+AC31 -> 0 | F31: =L31+R31+X31+AD31 -> 30.7886 | G31: =F31/C31*100 -> 0.48934331 | N31: =Субсидии!B32 -> 6064.7 | O31: =Субсидии!C32 -> 6064.72 | P31: =Субсидии!D32 -> 6064.72 | Q31: =Субсидии!E32 -> 0 | R31: =Субсидии!F32 -> 0 | S31: =R31/O31*100 -> 0 | T31: ='Субвенции '!B34 -> 227.1 | U31: ='Субвенции '!C34 -> 227.1 | V31: ='Субвенции '!D34 -> 227.1 | W31: ='Субвенции '!E34 -> 0 | X31: ='Субвенции '!F34 -> 30.7886 | Y31: =X31/U31*100 -> 13.557288
A32: Кочетовское МО | B32: =H32+N32+T32+Z32 -> 5684.1 | C32: =I32+O32+U32+AA32 -> 5684.1 | D32: =J32+P32+V32+AB32 -> 5684.1 | E32: =K32+Q32+W32+AC32 -> 0 | F32: =L32+R32+X32+AD32 -> 32.53115 | G32: =F32/C32*100 -> 0.5723184 | N32: =Субсидии!B33 -> 5457 | O32: =Субсидии!C33 -> 5457 | P32: =Субсидии!D33 -> 5457 | Q32: =Субсидии!E33 -> 0 | R32: =Субсидии!F33 -> 0 | S32: =R32/O32*100 -> 0 | T32: ='Субвенции '!B35 -> 227.1 | U32: ='Субвенции '!C35 -> 227.1 | V32: ='Субвенции '!D35 -> 227.1 | W32: ='Субвенции '!E35 -> 0 | X32: ='Субвенции '!F35 -> 32.53115 | Y32: =X32/U32*100 -> 14.324593
A33: Лопуховское МО | B33: =H33+N33+T33+Z33 -> 6074.1 | C33: =I33+O33+U33+AA33 -> 7488.534 | D33: =J33+P33+V33+AB33 -> 7488.534 | E33: =K33+Q33+W33+AC33 -> 0 | F33: =L33+R33+X33+AD33 -> 31.27355 | G33: =F33/C33*100 -> 0.41761912 | N33: =Субсидии!B34 -> 5847 | O33: =Субсидии!C34 -> 7261.434 | P33: =Субсидии!D34 -> 7261.434 | Q33: =Субсидии!E34 -> 0 | R33: =Субсидии!F34 -> 0 | S33: =R33/O33*100 -> 0 | T33: ='Субвенции '!B36 -> 227.1 | U33: ='Субвенции '!C36 -> 227.1 | V33: ='Субвенции '!D36 -> 227.1 | W33: ='Субвенции '!E36 -> 0 | X33: ='Субвенции '!F36 -> 31.27355 | Y33: =X33/U33*100 -> 13.770828
A34: Озерное МО | B34: =H34+N34+T34+Z34 -> 6368.1 | C34: =I34+O34+U34+AA34 -> 6368.1 | D34: =J34+P34+V34+AB34 -> 6368.1 | E34: =K34+Q34+W34+AC34 -> 0 | F34: =L34+R34+X34+AD34 -> 16.11016 | G34: =F34/C34*100 -> 0.25298221 | N34: =Субсидии!B35 -> 6141 | O34: =Субсидии!C35 -> 6141 | P34: =Субсидии!D35 -> 6141 | Q34: =Субсидии!E35 -> 0 | R34: =Субсидии!F35 -> 0 | S34: =R34/O34*100 -> 0 | T34: ='Субвенции '!B37 -> 227.1 | U34: ='Субвенции '!C37 -> 227.1 | V34: ='Субвенции '!D37 -> 227.1 | W34: ='Субвенции '!E37 -> 0 | X34: ='Субвенции '!F37 -> 16.11016 | Y34: =X34/U34*100 -> 7.0938617
A35: Песчанское МО | B35: =H35+N35+T35+Z35 -> 0 | C35: =I35+O35+U35+AA35 -> 0 | D35: =J35+P35+V35+AB35 -> 0 | E35: =K35+Q35+W35+AC35 -> 0 | F35: =L35+R35+X35+AD35 -> 0 | N35: =Субсидии!B36 -> 0 | O35: =Субсидии!C36 -> 0 | P35: =Субсидии!D36 -> 0 | Q35: =Субсидии!E36 -> 0 | R35: =Субсидии!F36 -> 0 | T35: ='Субвенции '!B38 -> 0 | U35: ='Субвенции '!C38 -> 0 | V35: ='Субвенции '!D38 -> 0 | W35: ='Субвенции '!E38 -> 0 | X35: ='Субвенции '!F38 -> 0
A36: Петровское МО | B36: =H36+N36+T36+Z36 -> 0 | C36: =I36+O36+U36+AA36 -> 0 | D36: =J36+P36+V36+AB36 -> 0 | E36: =K36+Q36+W36+AC36 -> 0 | F36: =L36+R36+X36+AD36 -> 0 | N36: =Субсидии!B37 -> 0 | O36: =Субсидии!C37 -> 0 | P36: =Субсидии!D37 -> 0 | Q36: =Субсидии!E37 -> 0 | R36: =Субсидии!F37 -> 0 | T36: ='Субвенции '!B39 -> 0 | U36: ='Субвенции '!C39 -> 0 | V36: ='Субвенции '!D39 -> 0 | W36: ='Субвенции '!E39 -> 0 | X36: ='Субвенции '!F39 -> 0
A37: Тургеневское МО | B37: =H37+N37+T37+Z37 -> 0 | C37: =I37+O37+U37+AA37 -> 0 | D37: =J37+P37+V37+AB37 -> 0 | E37: =K37+Q37+W37+AC37 -> 0 | F37: =L37+R37+X37+AD37 -> 0 | N37: =Субсидии!B38 -> 0 | O37: =Субсидии!C38 -> 0 | P37: =Субсидии!D38 -> 0 | Q37: =Субсидии!E38 -> 0 | R37: =Субсидии!F38 -> 0 | T37: ='Субвенции '!B40 -> 0 | U37: ='Субвенции '!C40 -> 0 | V37: ='Субвенции '!D40 -> 0 | W37: ='Субвенции '!E40 -> 0 | X37: ='Субвенции '!F40 -> 0
A38: Языковское МО | B38: =H38+N38+T38+Z38 -> 0 | C38: =I38+O38+U38+AA38 -> 0 | D38: =J38+P38+V38+AB38 -> 0 | E38: =K38+Q38+W38+AC38 -> 0 | F38: =L38+R38+X38+AD38 -> 0 | N38: =Субсидии!B39 -> 0 | O38: =Субсидии!C39 -> 0 | P38: =Субсидии!D39 -> 0 | Q38: =Субсидии!E39 -> 0 | R38: =Субсидии!F39 -> 0 | T38: ='Субвенции '!B41 -> 0 | U38: ='Субвенции '!C41 -> 0 | V38: ='Субвенции '!D41 -> 0 | W38: ='Субвенции '!E41 -> 0 | X38: ='Субвенции '!F41 -> 0
A39: Базарно-Карабулакский район (консолидированный) | B39: =H39+N39+T39+Z39 -> 780521.57 | C39: =I39+O39+U39+AA39 -> 854358.92 | D39: =J39+P39+V39+AB39 -> 854358.92 | E39: =K39+Q39+W39+AC39 -> 0 | F39: =L39+R39+X39+AD39 -> 188811.37 | G39: =F39/C39*100 -> 22.099771 | H39: =SUM(H40:H53) -> 170861 | I39: =SUM(I40:I53) -> 170861 | J39: =SUM(J40:J53) -> 170861 | K39: =SUM(K40:K53) -> 0 | L39: =SUM(L40:L53) -> 55397 | M39: =L39/I39*100 -> 32.422261 | N39: =SUM(N40:N53) -> 132535.17 | O39: =SUM(O40:O53) -> 153847.32 | P39: =SUM(P40:P53) -> 153847.32 | Q39: =SUM(Q40:Q53) -> 0 | R39: =SUM(R40:R53) -> 28919.245 | S39: =R39/O39*100 -> 18.797366 | T39: =SUM(T40:T53) -> 430592.9 | U39: =SUM(U40:U53) -> 458061.8 | V39: =SUM(V40:V53) -> 458061.8 | W39: =SUM(W40:W53) -> 0 | X39: =SUM(X40:X53) -> 93407.482 | Y39: =X39/U39*100 -> 20.391895 | Z39: =SUM(Z40:Z53) -> 46532.5 | AA39: =SUM(AA40:AA53) -> 71588.8 | AB39: =SUM(AB40:AB53) -> 71588.8 | AC39: =SUM(AC40:AC53) -> 0 | AD39: =SUM(AD40:AD53) -> 11087.639 | AE39: =AD39/AA39*100 -> 15.487953
A40: Базарно-Карабулакский район (собственный) | B40: =H40+N40+T40+Z40 -> 729581.47 | C40: =I40+O40+U40+AA40 -> 800718.82 | D40: =J40+P40+V40+AB40 -> 800718.82 | E40: =K40+Q40+W40+AC40 -> 0 | F40: =L40+R40+X40+AD40 -> 187250.33 | G40: =F40/C40*100 -> 23.385279 | H40: =Дотации!B21 -> 170861 | I40: =Дотации!C21 -> 170861 | J40: =Дотации!D21 -> 170861 | K40: =Дотации!E21 -> 0 | L40: =Дотации!F21 -> 55397 | M40: =L40/I40*100 -> 32.422261 | N40: =Субсидии!B41 -> 91801.172 | O40: =Субсидии!C41 -> 113113.32 | P40: =Субсидии!D41 -> 113113.32 | Q40: =Субсидии!E41 -> 0 | R40: =Субсидии!F41 -> 28919.245 | S40: =R40/O40*100 -> 25.566612 | T40: ='Субвенции '!B43 -> 427527.2 | U40: ='Субвенции '!C43 -> 454996.1 | V40: ='Субвенции '!D43 -> 454996.1 | W40: ='Субвенции '!E43 -> 0 | X40: ='Субвенции '!F43 -> 92810.641 | Y40: =X40/U40*100 -> 20.398118 | Z40: =Иные!B31 -> 39392.1 | AA40: =Иные!C31 -> 61748.4 | AB40: =Иные!D31 -> 61748.4 | AC40: =Иные!E31 -> 0 | AD40: =Иные!F31 -> 10123.445 | AE40: =AD40/AA40*100 -> 16.394668
A41: Алексеевское МО | B41: =H41+N41+T41+Z41 -> 9044.1 | C41: =I41+O41+U41+AA41 -> 9362 | D41: =J41+P41+V41+AB41 -> 9362 | E41: =K41+Q41+W41+AC41 -> 0 | F41: =L41+R41+X41+AD41 -> 159.41486 | G41: =F41/C41*100 -> 1.7027864 | N41: =Субсидии!B42 -> 7116 | O41: =Субсидии!C42 -> 7116 | P41: =Субсидии!D42 -> 7116 | Q41: =Субсидии!E42 -> 0 | R41: =Субсидии!F42 -> 0 | S41: =R41/O41*100 -> 0 | T41: ='Субвенции '!B44 -> 567.7 | U41: ='Субвенции '!C44 -> 567.7 | V41: ='Субвенции '!D44 -> 567.7 | W41: ='Субвенции '!E44 -> 0 | X41: ='Субвенции '!F44 -> 107.52336 | Y41: =X41/U41*100 -> 18.940173 | Z41: =Иные!B32 -> 1360.4 | AA41: =Иные!C32 -> 1678.3 | AB41: =Иные!D32 -> 1678.3 | AC41: =Иные!E32 -> 0 | AD41: =Иные!F32 -> 51.8915
...

Sheet Дотации
A2: Сведения о предоставлении из бюджета Саратовской области межбюджетных трансфертов местным бюджетам за 1 квартал 2026 года
S4: тыс.рублей
A5: Наименование муниципальных образований | B5: Дотации, всего | H5: в том числе
H6: бюджетам городских округов области, связанные с особым режимом безопасного функционирования закрытых административно-территориальных образований | L6: на выравнивание бюджетной обеспеченности муниципальных районов (муниципальных округов, городских округов) области | P6: бюджетам муниципальных районов области на поддержку мер по обеспечению сбалансированности местных бюджетов
B7: первоначальные бюджетные назначения 1 | C7: уточненные бюджетные назначения | F7: исполнено | G7: % исполнения | H7: первоначальные бюджетные назначения 1 | I7: уточненные бюджетжетные назначения 2 | J7: исполнено | K7: % исполнения | L7: первоначальные бюджетные назначения 1 | M7: уточненные бюджетжетные назначения 2 | N7: исполнено | O7: % исполнения | P7: первоначальные бюджетные назначения 1 | Q7: уточненные бюджетжетные назначения 2 | R7: исполнено | S7: % исполнения
C8: сводная бюджетная роспись | D8: на основании
D9: закона о бюджете 2 | E9: иных нормативных правовых актов
