Workbook
Name А1: #REF!
Name А1: #REF!
Name А1: #REF!
Name А1: #REF!
Name А1: #REF!
Name А1: #REF!
Name А1: #REF!
Name А1: #REF!
Name А1: #REF!
Name А1: #REF!
Name А1: #REF!
Name А1: #REF!
Name А1: #REF!
Name А1: #REF!
Name А1: #REF!
Name А1: #REF!
Name А1: #REF!
Name А1: #REF!
Name А1: #REF!
Name А1: #REF!
Name А1: #REF!
Name А1: #REF!
Name А1: #REF!
Name А1: #REF!
Name А1: #REF!
Name А1: #REF!
Name А1: #REF!
Name А1: #REF!
Name А1: #REF!
Name А1: #REF!
Name А1: #REF!
Name А1: #REF!
Name А1: #REF!
Name А1: #REF!
Name А1: #REF!
Name А1: #REF!
Name А1: #REF!
Name А1: #REF!
Name А1: #REF!
Name А1: #REF!
Name А1: #REF!
Name А1: #REF!
Name Выбор_1.1: '[1]1.1'!$C$5:$C$8
Name Выбор_1.1: '[1]1.1'!$C$5:$C$8
Name Выбор_1.1: '[1]1.1'!$C$5:$C$8
Name Выбор_1.1: '[1]1.1'!$C$5:$C$8
Name Выбор_1.1: '[1]1.1'!$C$5:$C$8
Name Выбор_1.1: '[1]1.1'!$C$5:$C$8
Name Выбор_1.1: '[1]1.1'!$C$5:$C$8
Name Выбор_1.1: '[1]1.1'!$C$5:$C$8
Name Выбор_1.1: '[1]1.1'!$C$5:$C$8
Name Выбор_1.1: '[1]1.1'!$C$5:$C$8
Name Выбор_1.1: '[1]1.1'!$C$5:$C$8
Name Выбор_1.1: '[1]1.1'!$C$5:$C$8
Name Выбор_1.1: '[1]1.1'!$C$5:$C$8
Name Выбор_1.1: '[1]1.1'!$C$5:$C$8
Name Выбор_1.1: '[1]1.1'!$C$5:$C$8
Name Выбор_1.1: '[1]1.1'!$C$5:$C$8
Name Выбор_1.1: '[1]1.1'!$C$5:$C$8
Name Выбор_1.1: '[1]1.1'!$C$5:$C$8

Sheet Оценка (Этап I)
A1: Оценка муниципальных образований по I этапу «Характеристика первоначально утвержденного бюджета муниципального образования Саратовской области»
A2: Календарный период | B2: 2024 год
A3: Наименование муниципального образования Саратовской обалсти | B3: Итого по I этапу | C3: ='Показатель 1.1'!A1 -> 1.1. Опубликование первоначально принятого решения о бюджете муниципального образования на текущий финансовый год (текущий финансовый год и плановый период), на портале (сайте) | D3: ='Показатель 1.2'!A1 -> 1.2. Опубликование бюджета для граждан, разработанного на основе первоначально принятого решения о бюджете муниципального образования на текущий финансовый год (текущий финансовый год и плановый период), на портале (сайте) | E3: ='Раздел 2'!A1 -> 2.1 Итоговое значение рейтинга открытости и прозрачности муниципальных учреждений муниципального образования, рассчитанного на основе данных раздела «Независимая система оценки качества» официального сайта Российской Федерации для размещения информации о государственных (муниципальных) учреждениях (www.bus.gov.ru)
A4: Единица измерения | B4: баллов | C4: баллов | D4: баллов | E4: баллов
A5: Максимальный балл | B5: =SUM(C5:E5) -> 10 | C5: ='Методика I этап'!C9 -> 4 | D5: ='Методика I этап'!C14 -> 3 | E5: ='Методика I этап'!C21 -> 3
A6: Городские округа
A7: г. Саратов | B7: =SUM(C7:E7) -> 10 | C7: ='Показатель 1.1'!J9 -> 4 | D7: ='Показатель 1.2'!H10 -> 3 | E7: ='Раздел 2'!D10 -> 3
A8: п. Михайловский | B8: =SUM(C8:E8) -> 10 | C8: ='Показатель 1.1'!J10 -> 4 | D8: ='Показатель 1.2'!H11 -> 3 | E8: ='Раздел 2'!D11 -> 3
A9: ЗАТО Светлый | B9: =SUM(C9:E9) -> 9 | C9: ='Показатель 1.1'!J11 -> 4 | D9: ='Показатель 1.2'!H12 -> 2 | E9: ='Раздел 2'!D12 -> 3
A10: г. Шиханы | B10: =SUM(C10:E10) -> 8 | C10: ='Показатель 1.1'!J12 -> 4 | D10: ='Показатель 1.2'!H13 -> 1 | E10: ='Раздел 2'!D13 -> 3
A11: Муниципальные районы
A12: Александрово-Гайский | B12: =SUM(C12:E12) -> 5 | C12: ='Показатель 1.1'!J14 -> 1 | D12: ='Показатель 1.2'!H15 -> 1 | E12: ='Раздел 2'!D15 -> 3
A13: Аркадакский | B13: =SUM(C13:E13) -> 7 | C13: ='Показатель 1.1'!J15 -> 1 | D13: ='Показатель 1.2'!H16 -> 3 | E13: ='Раздел 2'!D16 -> 3
A14: Аткарский | B14: =SUM(C14:E14) -> 10 | C14: ='Показатель 1.1'!J16 -> 4 | D14: ='Показатель 1.2'!H17 -> 3 | E14: ='Раздел 2'!D17 -> 3
A15: Базарно-Карабулакский | B15: =SUM(C15:E15) -> 10 | C15: ='Показатель 1.1'!J17 -> 4 | D15: ='Показатель 1.2'!H18 -> 3 | E15: ='Раздел 2'!D18 -> 3
A16: Балаковский | B16: =SUM(C16:E16) -> 10 | C16: ='Показатель 1.1'!J18 -> 4 | D16: ='Показатель 1.2'!H19 -> 3 | E16: ='Раздел 2'!D19 -> 3
A17: Балашовский | B17: =SUM(C17:E17) -> 10 | C17: ='Показатель 1.1'!J19 -> 4 | D17: ='Показатель 1.2'!H20 -> 3 | E17: ='Раздел 2'!D20 -> 3
A18: Балтайский | B18: =SUM(C18:E18) -> 9 | C18: ='Показатель 1.1'!J20 -> 4 | D18: ='Показатель 1.2'!H21 -> 2 | E18: ='Раздел 2'!D21 -> 3
A19: Вольский | B19: =SUM(C19:E19) -> 2 | C19: ='Показатель 1.1'!J21 -> 2 | D19: ='Показатель 1.2'!H22 -> 0 | E19: ='Раздел 2'!D22 -> 0
A20: Воскресенский | B20: =SUM(C20:E20) -> 2 | C20: ='Показатель 1.1'!J22 -> 2 | D20: ='Показатель 1.2'!H23 -> 0 | E20: ='Раздел 2'!D23 -> 0
A21: Дергачевский | B21: =SUM(C21:E21) -> 9 | C21: ='Показатель 1.1'!J23 -> 4 | D21: ='Показатель 1.2'!H24 -> 2 | E21: ='Раздел 2'!D24 -> 3
A22: Духовницкий | B22: =SUM(C22:E22) -> 8.5 | C22: ='Показатель 1.1'!J24 -> 4 | D22: ='Показатель 1.2'!H25 -> 1.5 | E22: ='Раздел 2'!D25 -> 3
A23: Екатериновский | B23: =SUM(C23:E23) -> 3 | C23: ='Показатель 1.1'!J25 -> 2 | D23: ='Показатель 1.2'!H26 -> 0 | E23: ='Раздел 2'!D26 -> 1
... A48: Энгельсский | B48: =SUM(C48:E48) -> 10 | C48: ='Показатель 1.1'!J50 -> 4 | D48: ='Показатель 1.2'!H51 -> 3 | E48: ='Раздел 2'!D51 -> 3

Sheet Методика I этап
A1: I этап. Характеристика первоначально утвержденного бюджета муниципального образования
A4: № п/п | B4: Вопросы и варианты ответов | C4: Баллы
A6: 1. | B6: Первоначально утвержденный бюджет муниципального образования | C6: =C9+C14 -> 7
A7: 1.1 | B7: Опубликование первоначально принятого решения о бюджете муниципального образования на текущий финансовый год (текущий финансовый год и плановый период) на портале (сайте)
B8: В целях оценки показателя учитывается публикация принятого решения о бюджете в полном объеме, включая текстовую часть и все приложения к нему. Публикация отдельных составляющих в целях оценки показателя не учитывается. Решение о бюджете должно быть опубликовано в течение 15 рабочих дней после принятия и сохраняться не менее трех лет. При нарушении указанного срока применяется понижающий коэффициент за несоблюдение сроков обеспечения доступа к бюджетным данным. В случае, если в установленный для представления информации в министерство финансов области срок (далее - установленный срок) документ не размещен, оценка показателя принимает значение 0 баллов.
B9: Опубликовано в структурированном виде с указанием полных или кратких наименований всех составляющих | C9: 4
B10: Опубликовано, но не в структурированном виде и (или) без указания полных или кратких наименований всех составляющих | C10: 2
B11: Не опубликовано | C11: 0
A12: 1.2 | B12: Опубликование бюджета для граждан, разработанного на основе первоначально принятого решения о бюджете муниципального образования на текущий финансовый год (текущий финансовый год и плановый период), на портале (сайте)
B13: В целях оценки показателя учитывается публикация информации в виде брошюр (презентаций) либо в виде отдельных сведений, опубликованных на портале (сайте). В том числе, должна быть представлена следующая информация: 1) показатели прогноза социально-экономического развития, на основе которых сформирован бюджет (включая показатели, характеризующие объемы производства, численность и состав населения, заработную плату и т.д.); 2) сведения о доходах бюджета муниципального образования в разрезе видов доходов; 3) сведения о расходах бюджета муниципального образования по разделам и подразделам классификации расходов бюджета; 4) сведения о расходах бюджета муниципального образования на реализацию муниципальных программ, а также о целевых показателях (индикаторах), планируемых к достижению в результате их реализации; 5) сведения о социально-значимых проектах, предусмотренных к финансированию за счет бюджета муниципального образования, или об отсутствии таких проектов; 6) сведения об объеме (об отсутствии) муниципального долга; 7) контактная информация для обратной связи с гражданами . По пунктам 1-6 информация должна быть представлена в динамике: фактические значения за год, предшествующий отчетному году, оценку за отчетный год и прогноз на текущий год и плановый период. Бюджет для граждан, разработанный на основе решения о бюджете, должен быть опубликован в течение 10 рабочих дней после принятия решения о бюджете муниципального образования и сохраняться не менее трех лет. При нарушении указанного срока применяется понижающий коэффициент за несоблюдение сроков обеспечения доступа к бюджетным данным. В случае, если в установленный срок документ не размещен, оценка показателя принимает значение 0 баллов.
B14: Опубликован и содержит информацию по всем ключевым элементам | C14: 3
B15: Опубликован и содержит информацию по пяти и более ключевым элементам | C15: 2
B16: Опубликован и содержит информацию по трем и более ключевым элементам | C16: 1
B17: Не опубликован или содержит информацию менее чем по трем ключевым элементам | C17: 0
A18: 2. | B18: Публичные сведения о плановых показателях деятельности муниципальных учреждений Саратовской области | C18: =C21 -> 3
A19: 2.1 | B19: Итоговое значение рейтинга открытости и прозрачности муниципальных учреждений муниципального образования, рассчитанного на основе данных раздела «Независимая система оценки качества» официального сайта Российской Федерации для размещения информации о государственных (муниципальных) учреждениях (www.bus.gov.ru)
B20: Источники информации для проведения оценки: официальный сайт Российской Федерации для размещения информации о государственных (муниципальных) учреждениях (www.bus.gov.ru), раздел «Независимая система оценки качества»; перечень муниципальных учреждений муниципального образования, представляемый финансовыми органами муниципальных образований в министерство финансов в срок, предусмотренный для направления информации по I этапу. Правила предоставления и размещения информации о государственных (муниципальных) учреждениях на указанном сайте установлены приказом Минфина России от 21 июля 2011 года № 86н «Об утверждении порядка предоставления информации государственным (муниципальным) учреждением, ее размещения на официальном сайте в сети Интернет и ведения указанного сайта». Итоговое значение рейтинга открытости и прозрачности муниципальных учреждений муниципального образования рассчитывается по следующей формуле: ∑mi=1Ri Rмо= -------------, m где Rмо – итоговое значение рейтинга открытости и прозрачности муниципальных учреждений муниципального образования; Ri – итоговый показатель рейтинга открытости и прозрачности i-го муниципального учреждения муниципального образования; m – общее количество муниципальных учреждений муниципального образования. Итоговый показатель рейтинга открытости и прозрачности по учреждению рассчитывается по следующей формуле: Ri=Roii*0,2+ Rmzi*0,4+ Rbsi*0,4, где Roii – показатель публикации на указанном сайте общей информации об i-ом муниципальном учреждении; Rmzi – показатель публикации на указанном сайте информации о муниципальном задании i-му муниципальному учреждению, Rbsi – показатель публикации на указанном сайте информации о бюджетной смете i-го муниципального учреждения. 0,2 и 0,4 – весовые коэффициенты значимости показателей. Показатели Roii, Rmzi Rbsi при наличии опубликованной информации на указанном сайте принимают значения 1, в иных случаях – 0. Если муниципальному учреждению муниципальное задание не доводится (муниципальное учреждение является казенным), то показатель Rmzi принимает значение 1, в иных случаях – 0. Для автономных и бюджетных муниципальных учреждений показатель Rbsi принимает значение 1. В целях расчета показателей обособленные структурные подразделения (филиалы, представительства) не учитываются.
B21: 0,95 и более | C21: 3
B22: 0,9 и более | C22: 2
B23: 0,8 и более | C23: 1
B24: менее 0,8 | C24: 0
B25: Итого баллов на I этапе | C25: =C6+C18 -> 10

Sheet Показатель 1.1
A1: 1.1. Опубликование первоначально принятого решения о бюджете муниципального образования на текущий финансовый год (текущий финансовый год и плановый период), на портале (сайте)
A2: Комментарий:
A3: ='Методика I этап'!B8 -> В целях оценки показателя учитывается публикация принятого решения о бюджете в полном объеме, включая текстовую часть и все приложения к нему. Публикация отдельных составляющих в целях оценки показателя не учитывается. Решение о бюджете должно быть опубликовано в течение 15 рабочих дней после принятия и сохраняться не менее трех лет. При нарушении указанного срока применяется понижающий коэффициент за несоблюдение сроков обеспечения доступа к бюджетным данным. В случае, если в установленный для представления информации в министерство финансов области срок (далее - установленный срок) документ не размещен, оценка показателя принимает значение 0 баллов.
A4: № п/п | B4: Вопрос | C4: ='Методика I этап'!B7 -> Опубликование первоначально принятого решения о бюджете муниципального образования на текущий финансовый год (текущий финансовый год и плановый период) на портале (сайте) | D4: Формат | E4: Доступность (указать, если возникли трудности с поиском документа, если переход осуществляется более, чем за 5 «кликов» с основной страницы портала (сайта), если название раздела не соответствует содержанию) | F4: Оценка показателя 1.1 | K4: Ссылка на источник данных | L4: Комментарии
B5: Варианты ответов | C5: ='Методика I этап'!B9 -> Опубликовано в структурированном виде с указанием полных или кратких наименований всех составляющих | D5: Word, Excel, PDF | F5: баллы | G5: понижающие коэффициенты | J5: Итого
C6: ='Методика I этап'!B10 -> Опубликовано, но не в структурированном виде и (или) без указания полных или кратких наименований всех составляющих | G6: графический формат | H6: затруднен-ный поиск | I6: несоблюде-ние сроков
C7: ='Методика I этап'!B11 -> Не опубликовано
B8: Городские округа
A9: 1 | B9: г. Саратов | C9: Опубликовано в структурированном виде с указанием полных или кратких наименований всех составляющих | D9: Word | F9: =IF(C9=C5,4,IF(C9=C6,2,0)) -> 4 | J9: =F9*(1-G9)*(1-H9)*(1-I9) -> 4 | K9: http://www.saratovmer.ru/budget/rubrics/1/1333.html
A10: 2 | B10: п. Михайловский | C10: Опубликовано в структурированном виде с указанием полных или кратких наименований всех составляющих | D10: Word, Excel | F10: =IF(C10=C5,4,IF(C10=C6,2,0)) -> 4 | J10: =F10*(1-G10)*(1-H10)*(1-I10) -> 4 | K10: http://mihailovski.ru/byudzhet-mo-na-2024-2026-gody/resheniya-o-byudzhete-/-reshenie-sobraniya-deputatov-munitsipalnogo-obraz/
A11: 3 | B11: ЗАТО Светлый | C11: Опубликовано в структурированном виде с указанием полных или кратких наименований всех составляющих | D11: Web, Word | F11: =IF(C11=C5,4,IF(C11=C6,2,0)) -> 4 | J11: =F11*(1-G11)*(1-H11)*(1-I11) -> 4 | K11: https://zatosvetly.gosuslugi.ru/upr-finansov/biudzhet/resheniyaobudzhete/2024-god/novosti_770.html
A12: 4 | B12: г. Шиханы | C12: Опубликовано в структурированном виде с указанием полных или кратких наименований всех составляющих | D12: Word | F12: =IF(C12=C5,4,IF(C12=C6,2,0)) -> 4 | J12: =F12*(1-G12)*(1-H12)*(1-I12) -> 4 | K12: http://zatoshihany.ru/budget/reshenie-o-byudzhete/2024/ | L12: Обратите внимание, отсутствует возможность скачать документ полностью.
B13: Муниципальные районы
A14: 5 | B14: Александрово-Гайский | C14: Опубликовано, но не в структурированном виде и (или) без указания полных или кратких наименований всех составляющих | D14: Word | F14: =IF(C14=C5,4,IF(C14=C6,2,0)) -> 2 | I14: 0.5 | J14: =F14*(1-G14)*(1-H14)*(1-I14) -> 1 | K14: http://algay.sarmo.ru/byudzhet-ekonomika-finansy/resheniya-mun-sobraniya.php | L14: Решение о бюджете должно быть опубликовано в течение 15 рабочих дней после принятия и сохраняться не менее трех лет (дата решения - 25.12.2023, дата последнего внесения изменения в файл - 22.03.2024 )
A15: 6 | B15: Аркадакский | C15: Опубликовано, но не в структурированном виде и (или) без указания полных или кратких наименований всех составляющих | D15: Word | E15: переход осуществляется более, чем за 5 «кликов» с основной страницы | F15: =IF(C15=C5,4,IF(C15=C6,2,0)) -> 2 | H15: 0.5 | J15: =F15*(1-G15)*(1-H15)*(1-I15) -> 1 | K15: https://arkadak.gosuslugi.ru/ofitsialno/statistika/byudzhet-dlya-grazhdan/reshenie-o-byudzhete/byudzhet-2024-2026/
A16: 7 | B16: Аткарский | C16: Опубликовано в структурированном виде с указанием полных или кратких наименований всех составляющих | D16: Word, Excel | F16: =IF(C16=C5,4,IF(C16=C6,2,0)) -> 4 | J16: =F16*(1-G16)*(1-H16)*(1-I16) -> 4 | K16: https://atkarsk.moyaokruga.ru/CityArticles.aspx?articleid=20792
A17: 8 | B17: Базарно-Карабулакский | C17: Опубликовано в структурированном виде с указанием полных или кратких наименований всех составляющих | D17: Web, Word, Excel | E17: лишняя папка в архиве | F17: =IF(C17=C5,4,IF(C17=C6,2,0)) -> 4 | J17: =F17*(1-G17)*(1-H17)*(1-I17) -> 4 | K17: https://admbk.ru/administration/finansovoe-upravlenie/byudzhet/2024-god/reshenie-25-dekabrya-2023-g-15-o-byudzhete-bazarno-karabulakskogo-munitsipalnogo-rayona-na-2024-god-/
A18: 9 | B18: Балаковский | C18: Опубликовано в структурированном виде с указанием полных или кратких наименований всех составляющих | D18: Word, Excel | F18: =IF(C18=C5,4,IF(C18=C6,2,0)) -> 4 | J18: =F18*(1-G18)*(1-H18)*(1-I18) -> 4 | K18: http://balkomfin.ru/
A19: 10 | B19: Балашовский | C19: Опубликовано в структурированном виде с указанием полных или кратких наименований всех составляющих | D19: Word | E19: лишняя папка в архиве | F19: =IF(C19=C5,4,IF(C19=C6,2,0)) -> 4 | J19: =F19*(1-G19)*(1-H19)*(1-I19) -> 4 | K19: http://baladmin.ru/byudzhet-na-2024-god-i-planovyy-period-2025-i-2026-godov.php
A20: 11 | B20: Балтайский | C20: Опубликовано в структурированном виде с указанием полных или кратких наименований всех составляющих | D20: Word | F20: =IF(C20=C5,4,IF(C20=C6,2,0)) -> 4 | J20: =F20*(1-G20)*(1-H20)*(1-I20) -> 4 | K20: http://adm-baltay.ru/finansovoe-upravlenie/resheniya-o-mestnom-byudzhete-na-2024-god-i-planovyj-period-2025-2026-gg/ | L20: Обратите внимание, отсутствует возможность скачать документ полностью.
A21: 12 | B21: Вольский | C21: Опубликовано, но не в структурированном виде и (или) без указания полных или кратких наименований всех составляющих | D21: Word | F21: =IF(C21=C5,4,IF(C21=C6,2,0)) -> 2 | J21: =F21*(1-G21)*(1-H21)*(1-I21) -> 2 | K21: http://volsk-ms.ru/resheniya-vms/resheniya/
A22: 13 | B22: Воскресенский | C22: Опубликовано, но не в структурированном виде и (или) без указания полных или кратких наименований всех составляющих | D22: Word | F22: =IF(C22=C5,4,IF(C22=C6,2,0)) -> 2 | J22: =F22*(1-G22)*(1-H22)*(1-I22) -> 2 | K22: http://voskresensk64.ru/meeting/mun-sobranie/documents/index.php
A23: 14 | B23: Дергачевский | C23: Опубликовано в структурированном виде с указанием полных или кратких наименований всех составляющих | D23: Word, Excel, PDF | F23: =IF(C23=C5,4,IF(C23=C6,2,0)) -> 4 | J23: =F23*(1-G23)*(1-H23)*(1-I23) -> 4 | K23: http://dergachi.sarmo.ru/sobranie-dergachevskogo-munitsipalnogo-rayona/resheniya-sobraniya-dergachevskogo-munitsipalnogo-rayona/
A24: 15 | B24: Духовницкий | C24: Опубликовано в структурированном виде с указанием полных или кратких наименований всех составляющих | D24: Web, Word, Excel | E24: лишняя папка в архиве | F24: =IF(C24=C5,4,IF(C24=C6,2,0)) -> 4 | J24: =F24*(1-G24)*(1-H24)*(1-I24) -> 4 | K24: http://duhovnitskoe.sarmo.ru/ispolnenie-byudzheta/byudzhet-2024-goda/byudzhet-1-ot-22-12-2023.php
A25: 16 | B25: Екатериновский | C25: Опубликовано, но не в структурированном виде и (или) без указания полных или кратких наименований всех составляющих | D25: Word | F25: =IF(C25=C5,4,IF(C25=C6,2,0)) -> 2 | J25: =F25*(1-G25)*(1-H25)*(1-I25) -> 2 | K25: http://ekaterinovka.sarmo.ru/byudzhet-dlya-grazhdan/ | L25: Отсутствуют полные или краткие наименования всех составляющих
A26: 17 | B26: Ершовский | C26: Опубликовано в структурированном виде с указанием полных или кратких наименований всех составляющих | D26: Word | E26: лишняя папка в архиве | F26: =IF(C26=C5,4,IF(C26=C6,2,0)) -> 4 | J26: =F26*(1-G26)*(1-H26)*(1-I26) -> 4 | K26: https://adminemr.ru/byudzhet-i-finansy/byudzhet/UTVERJDENNIIbudjet/
A27: 18 | B27: Ивантеевский | C27: Опубликовано в структурированном виде с указанием полных или кратких наименований всех составляющих | D27: Word | F27: =IF(C27=C5,4,IF(C27=C6,2,0)) -> 4 | J27: =F27*(1-G27)*(1-H27)*(1-I27) -> 4 | K27: http://ivanteevka.sarmo.ru/byudzhet-dlya-grazhdan/npa/2024.php
A28: 19 | B28: Калининский | C28: Опубликовано в структурированном виде с указанием полных или кратких наименований всех составляющих | D28: Word | F28: =IF(C28=C5,4,IF(C28=C6,2,0)) -> 4 | J28: =F28*(1-G28)*(1-H28)*(1-I28) -> 4 | K28: http://kalininsk.sarmo.ru/otkrytyybyudzhet/resheniya-o-byudzhete/resheniya-o-byudzhete-2024-god.php
A29: 20 | B29: Красноармейский | C29: Опубликовано, но не в структурированном виде и (или) без указания полных или кратких наименований всех составляющих | D29: Word | F29: =IF(C29=C5,4,IF(C29=C6,2,0)) -> 2 | J29: =F29*(1-G29)*(1-H29)*(1-I29) -> 2 | K29: https://krasnoarmeysk64.ru/predstavitelnyy-organ/resheniya-sobraniya-deputatov/
A30: 21 | B30: Краснокутский | C30: Опубликовано в структурированном виде с указанием полных или кратких наименований всех составляющих | D30: Word | F30: =IF(C30=C5,4,IF(C30=C6,2,0)) -> 4 | J30: =F30*(1-G30)*(1-H30)*(1-I30) -> 4 | K30: https://krasny-kut.ru/finansy/byudzhet-rayona/
A31: 22 | B31: Краснопартизанский | C31: Опубликовано в структурированном виде с указанием полных или кратких наименований всех составляющих | D31: Word, Excel | F31: =IF(C31=C5,4,IF(C31=C6,2,0)) -> 4 | J31: =F31*(1-G31)*(1-H31)*(1-I31) -> 4 | K31: https://adminkmr.ru/byudzhet/byudzhet-munitsipalnogo-rayona/byudzhet-rayona-2024.php
A32: 23 | B32: Лысогорский | C32: Опубликовано в структурированном виде с указанием полных или кратких наименований всех составляющих | D32: Word | F32: =IF(C32=C5,4,IF(C32=C6,2,0)) -> 4 | J32: =F32*(1-G32)*(1-H32)*(1-I32) -> 4 | K32: https://adm.lysyegory.ru/base/14324-reshenie-ot-15-12-2023-goda-430-o-byudzhete-lysogorskogo-municipalnogo-raiona-na-2024-god-i-na.html | L32: Обратите внимание, отсутствует возможность скачать документ полностью.
A33: 24 | B33: Марксовский | C33: Опубликовано в структурированном виде с указанием полных или кратких наименований всех составляющих | D33: Word, Excel | F33: =IF(C33=C5,4,IF(C33=C6,2,0)) -> 4 | J33: =F33*(1-G33)*(1-H33)*(1-I33) -> 4 | K33: http://marksadm.ru/r-o-b.html
A34: 25 | B34: Новобурасский | C34: Опубликовано в структурированном виде с указанием полных или кратких наименований всех составляющих | D34: Web, Word, Excel | F34: =IF(C34=C5,4,IF(C34=C6,2,0)) -> 4 | J34: =F34*(1-G34)*(1-H34)*(1-I34) -> 4 | K34: http://www.nbfin.ru/resheniya_o_byudzhetah/novoburasskogo_municipal_nogo_rajona/resheniya_o_vnesenii_izmenenij_v_byudzhet/na_2024_god/
A35: 26 | B35: Новоузенский | C35: Опубликовано, но не в структурированном виде и (или) без указания полных или кратких наименований всех составляющих | D35: Word | F35: =IF(C35=C5,4,IF(C35=C6,2,0)) -> 2 | J35: =F35*(1-G35)*(1-H35)*(1-I35) -> 2 | K35: https://novouzensk.gosuslugi.ru/ofitsialno/dokumenty/dokumenty-all_210.html
A36: 27 | B36: Озинский | C36: Опубликовано в структурированном виде с указанием полных или кратких наименований всех составляющих | D36: Word, Excel | F36: =IF(C36=C5,4,IF(C36=C6,2,0)) -> 4 | J36: =F36*(1-G36)*(1-H36)*(1-I36) -> 4 | K36: http://ozinki.sarmo.ru/byudzhet/byudzhet-munitsipalnogo-rayona.php?ELEMENT_ID=9406
A37: 28 | B37: Перелюбский | C37: Опубликовано в структурированном виде с указанием полных или кратких наименований всех составляющих | D37: Word, Excel | E37: лишняя папка в архиве | F37: =IF(C37=C5,4,IF(C37=C6,2,0)) -> 4 | J37: =F37*(1-G37)*(1-H37)*(1-I37) -> 4 | K37: https://www.перелюбский.рф/dokumenty/byudzhet-rayona/
A38: 29 | B38: Петровский | C38: Опубликовано в структурированном виде с указанием полных или кратких наименований всех составляющих | D38: Word | F38: =IF(C38=C5,4,IF(C38=C6,2,0)) -> 4 | J38: =F38*(1-G38)*(1-H38)*(1-I38) -> 4 | K38: https://petrovsk64.gosuslugi.ru/ofitsialno/struktura/munitsipalnye-podvedomstvennye-organizatsii/fin-upr/byudzhet-munitsipalnogo-rayona/dokumenty_16351.html
A39: 30 | B39: Питерский | C39: Опубликовано в структурированном виде с указанием полных или кратких наименований всех составляющих | D39: Word | F39: =IF(C39=C5,4,IF(C39=C6,2,0)) -> 4 | J39: =F39*(1-G39)*(1-H39)*(1-I39) -> 4 | K39: https://питерка.рф/ekonomika-i-byudzhet/byudzhet-piterskogo-mr/resheniya-o-byudzhete/reshenie-o-byudzhete-na-2024-god-i-planovyy-period-2025-i-2026-godov/
A40: 31 | B40: Пугачевский | C40: Опубликовано в структурированном виде с указанием полных или кратких наименований всех составляющих | D40: Word | F40: =IF(C40=C5,4,IF(C40=C6,2,0)) -> 4 | J40: =F40*(1-G40)*(1-H40)*(1-I40) -> 4 | K40: https://pugachev-adm.gosuslugi.ru/ofitsialno/byudzhet-rayona/resheniya-o-byudzhete/2024-god/
...

Sheet Показатель 1.2
A1: 1.2. Опубликование бюджета для граждан, разработанного на основе первоначально принятого решения о бюджете муниципального образования на текущий финансовый год (текущий финансовый год и плановый период), на портале (сайте)
A2: Комментарий:
A3: ='Методика I этап'!B13 -> В целях оценки показателя учитывается публикация информации в виде брошюр (презентаций) либо в виде отдельных сведений, опубликованных на портале (сайте). В том числе, должна быть представлена следующая информация: 1) показатели прогноза социально-экономического развития, на основе которых сформирован бюджет (включая показатели, характеризующие объемы производства, численность и состав населения, заработную плату и т.д.); 2) сведения о доходах бюджета муниципального образования в разрезе видов доходов; 3) сведения о расходах бюджета муниципального образования по разделам и подразделам классификации расходов бюджета; 4) сведения о расходах бюджета муниципального образования на реализацию муниципальных программ, а также о целевых показателях (индикаторах), планируемых к достижению в результате их реализации; 5) сведения о социально-значимых проектах, предусмотренных к финансированию за счет бюджета муниципального образования, или об отсутствии таких проектов; 6) сведения об объеме (об отсутствии) муниципального долга; 7) контактная информация для обратной связи с гражданами . По пунктам 1-6 информация должна быть представлена в динамике: фактические значения за год, предшествующий отчетному году, оценку за отчетный год и прогноз на текущий год и плановый период. Бюджет для граждан, разработанный на основе решения о бюджете, должен быть опубликован в течение 10 рабочих дней после принятия решения о бюджете муниципального образования и сохраняться не менее трех лет. При нарушении указанного срока применяется понижающий коэффициент за несоблюдение сроков обеспечения доступа к бюджетным данным. В случае, если в установленный срок документ не размещен, оценка показателя принимает значение 0 баллов.
A4: № п/п | B4: Наименование муниципального образования Саратовской обалсти | C4: ='Методика I этап'!B12 -> Опубликование бюджета для граждан, разработанного на основе первоначально принятого решения о бюджете муниципального образования на текущий финансовый год (текущий финансовый год и плановый период), на портале (сайте) | D4: Доступность (указать, если возникли трудности с поиском документа, если переход осуществляется более, чем за 5 «кликов» с основной страницы портала (сайта), если название раздела не соответствует содержанию) | E4: Оценка показателя 1.2 | I4: Ссылка на источник данных | J4: Комментарии
B5: Варианты ответов | C5: ='Методика I этап'!B14 -> Опубликован и содержит информацию по всем ключевым элементам | E5: баллы | F5: понижающие коэффициенты | H5: Итого
C6: ='Методика I этап'!B15 -> Опубликован и содержит информацию по пяти и более ключевым элементам | F6: затруднен-ный поиск | G6: несоблюде-ние сроков
C7: ='Методика I этап'!B16 -> Опубликован и содержит информацию по трем и более ключевым элементам
C8: ='Методика I этап'!B17 -> Не опубликован или содержит информацию менее чем по трем ключевым элементам
B9: Городские округа
A10: 1 | B10: г. Саратов | C10: Опубликован и содержит информацию по всем ключевым элементам | E10: =IF(C10=C5,3,IF(C10=C6,2,IF(C10=C7,1,0))) -> 3 | H10: =E10*(1-F10)*(1-G10) -> 3 | I10: http://www.saratovmer.ru/budget/rubrics/6/1313.html
A11: 2 | B11: п. Михайловский | C11: Опубликован и содержит информацию по всем ключевым элементам | E11: =IF(C11=C5,3,IF(C11=C6,2,IF(C11=C7,1,0))) -> 3 | H11: =E11*(1-F11)*(1-G11) -> 3 | I11: http://mihailovski.ru/byudzhet-dlya-grazhdan/byudzhet-dlya-grazhdan-razrabotannyy-na-osnove-per6650/
A12: 3 | B12: ЗАТО Светлый | C12: Опубликован и содержит информацию по пяти и более ключевым элементам | E12: =IF(C12=C5,3,IF(C12=C6,2,IF(C12=C7,1,0))) -> 2 | H12: =E12*(1-F12)*(1-G12) -> 2 | I12: https://zatosvetly.gosuslugi.ru/upr-finansov/biudzhet/budzhetdlyadgr/dokumenty_1911.html | J12: Пункт 4 не соответствует (целевые показатели представлены не в динамике 2022-2026 годов)
A13: 4 | B13: г. Шиханы | C13: Опубликован и содержит информацию по пяти и более ключевым элементам | E13: =IF(C13=C5,3,IF(C13=C6,2,IF(C13=C7,1,0))) -> 2 | G13: 0.5 | H13: =E13*(1-F13)*(1-G13) -> 1 | I13: http://zatoshihany.ru/budget/byudzhet-dlya-grazhdan/ | J13: Бюджет для граждан, разработанный на основе решения о бюджете, должен быть опубликован в течение 10 рабочих дней после принятия решения о бюджете муниципального образования и сохраняться не менее трех лет (решением от 24.12.2023 г № 6-65-1 утвержден бюджет на 2024 год и на плановый период 2025 и 2026 годов , а дата последнего изменения в брошюре - 20.03.2024). Отсутствует п.5, рисунок на листах 18 и 19 не читается
B14: Муниципальные районы
A15: 5 | B15: Александрово-Гайский | C15: Опубликован и содержит информацию по пяти и более ключевым элементам | E15: =IF(C15=C5,3,IF(C15=C6,2,IF(C15=C7,1,0))) -> 2 | G15: 0.5 | H15: =E15*(1-F15)*(1-G15) -> 1 | I15: http://algay.sarmo.ru/byudzhet-ekonomika-finansy/byudzhet-dlya-grazhdan.php | J15: Бюджет для граждан, разработанный на основе решения о бюджете, должен быть опубликован в течение 10 рабочих дней после принятия решения о бюджете муниципального образования и сохраняться не менее трех лет (решением от 25.12.2023 г № 159 утвержден бюджет на 2024 год и на плановый период 2025 и 2026 годов , а дата последнего изменения в брошюре - 22.03.2024). Отсутствует п.5, пункт 1 не соответствует (отсутствуют показатели, характеризующие состав населения), пункт 4 не соответствует (сведения о целевых показателях по муниципальным программам представлены не в динамике 2022-2026 гг ).
A16: 6 | B16: Аркадакский | C16: Опубликован и содержит информацию по всем ключевым элементам | E16: =IF(C16=C5,3,IF(C16=C6,2,IF(C16=C7,1,0))) -> 3 | H16: =E16*(1-F16)*(1-G16) -> 3 | I16: https://arkadak.gosuslugi.ru/ofitsialno/statistika/byudzhet-dlya-grazhdan/reshenie-o-byudzhete/byudzhet-2024-2026/
A17: 7 | B17: Аткарский | C17: Опубликован и содержит информацию по всем ключевым элементам | E17: =IF(C17=C5,3,IF(C17=C6,2,IF(C17=C7,1,0))) -> 3 | H17: =E17*(1-F17)*(1-G17) -> 3 | I17: https://atkarsk.moyaokruga.ru/CityArticles.aspx?articleid=20756
A18: 8 | B18: Базарно-Карабулакский | C18: Опубликован и содержит информацию по всем ключевым элементам | E18: =IF(C18=C5,3,IF(C18=C6,2,IF(C18=C7,1,0))) -> 3 | H18: =E18*(1-F18)*(1-G18) -> 3 | I18: https://admbk.ru/administration/finansovoe-upravlenie/byudzhet/byudzhet-dlya-grazhdan-rayona/Бюджет%20для%20граждан%20по%20решению%20о%20бюджете%20БКМР%20на%202024-2026%20гг.pdf
A19: 9 | B19: Балаковский | C19: Опубликован и содержит информацию по всем ключевым элементам | E19: =IF(C19=C5,3,IF(C19=C6,2,IF(C19=C7,1,0))) -> 3 | H19: =E19*(1-F19)*(1-G19) -> 3 | I19: http://balkomfin.ru/
A20: 10 | B20: Балашовский | C20: Опубликован и содержит информацию по всем ключевым элементам | E20: =IF(C20=C5,3,IF(C20=C6,2,IF(C20=C7,1,0))) -> 3 | H20: =E20*(1-F20)*(1-G20) -> 3 | I20: http://baladmin.ru/administration/divisions-structure/finance/otkritiy-byudzhet.php
A21: 11 | B21: Балтайский | C21: Опубликован и содержит информацию по пяти и более ключевым элементам | E21: =IF(C21=C5,3,IF(C21=C6,2,IF(C21=C7,1,0))) -> 2 | H21: =E21*(1-F21)*(1-G21) -> 2 | I21: http://adm-baltay.ru/finansovoe-upravlenie/byudzhet-dlya-grazhdan/ | J21: Пункт 4 не соответствует (целевые показатели представлены не в динамике 2022-2026 годов)
A22: 12 | B22: Вольский | C22: Не опубликован или содержит информацию менее чем по трем ключевым элементам | E22: =IF(C22=C5,3,IF(C22=C6,2,IF(C22=C7,1,0))) -> 0 | H22: =E22*(1-F22)*(1-G22) -> 0 | J22: Ссылка не предоставлена. На сайте бюджет для граждан, разработанный на основе первоначально принятого решения о бюджете на 2024-2026 гг, не найден.
A23: 13 | B23: Воскресенский | C23: Не опубликован или содержит информацию менее чем по трем ключевым элементам | E23: =IF(C23=C5,3,IF(C23=C6,2,IF(C23=C7,1,0))) -> 0 | H23: =E23*(1-F23)*(1-G23) -> 0 | I23: http://voskresensk64.ru/administration/statistics/Budget%20for%20citizens/ | J23: Отсутствует пункты 1,5,6, пункт 3 не соответствует (сведения о расходах бюджета муниципального образования представлены по разделам без деления на подразделы классификации расходов бюджета), пункт 4 не соответствует (целевые показатели представлены не в динамике 2022-2026 гг).
A24: 14 | B24: Дергачевский | C24: Опубликован и содержит информацию по пяти и более ключевым элементам | E24: =IF(C24=C5,3,IF(C24=C6,2,IF(C24=C7,1,0))) -> 2 | H24: =E24*(1-F24)*(1-G24) -> 2 | I24: http://dergachi.sarmo.ru/byudzhet-dlya-grazhdan/ | J24: Пункт 3 не соответствует (сведения о расходах бюджета муниципального образования представлены по разделам без деления на подразделы классификации расходов бюджета)
A25: 15 | B25: Духовницкий | C25: Опубликован и содержит информацию по всем ключевым элементам | E25: =IF(C25=C5,3,IF(C25=C6,2,IF(C25=C7,1,0))) -> 3 | G25: 0.5 | H25: =E25*(1-F25)*(1-G25) -> 1.5 | I25: http://duhovnitskoe.sarmo.ru/byudzhet-dlya-grazhdan/byudzhet-dlya-grazhdan/ | J25: Бюджет для граждан, разработанный на основе решения о бюджете, должен быть опубликован в течение 10 рабочих дней после принятия решения о бюджете муниципального образования и сохраняться не менее трех лет (решением от 22.12.2023 г № 5/31 утвержден бюджет на 2024 год и на плановый период 2025 и 2026 годов , а дата последнего изменения в брошюре - 13.02.2024).
A26: 16 | B26: Екатериновский | C26: Не опубликован или содержит информацию менее чем по трем ключевым элементам | E26: =IF(C26=C5,3,IF(C26=C6,2,IF(C26=C7,1,0))) -> 0 | H26: =E26*(1-F26)*(1-G26) -> 0 | I26: http://ekaterinovka.sarmo.ru/byudzhet-dlya-grazhdan/ | J26: По предоставленной ссылке размещен бюджет для граждан по проекту решения на 2024-2026 гг. Бюджет для граждан, разработанный на основе первоначально принятого решения о бюджете на 2024-2026 гг, на сайте не найден.
A27: 17 | B27: Ершовский | C27: Опубликован и содержит информацию по трем и более ключевым элементам | E27: =IF(C27=C5,3,IF(C27=C6,2,IF(C27=C7,1,0))) -> 1 | H27: =E27*(1-F27)*(1-G27) -> 1 | I27: https://adminemr.ru/byudzhet-i-finansy/byudzhet-dlya-grazhdan/ | J27: Пункт 4 не соответствует (информация не представлена в динамике 2022-2026 гг по тем МП, которые не до 2025 года), пункт 5 не соответствует (не указан период и суммы по проектам)., пункт 6 не соответствует (информация не представлена в динамике 2022-2026 гг).
A28: 18 | B28: Ивантеевский | C28: Опубликован и содержит информацию по всем ключевым элементам | E28: =IF(C28=C5,3,IF(C28=C6,2,IF(C28=C7,1,0))) -> 3 | H28: =E28*(1-F28)*(1-G28) -> 3 | I28: http://ivanteevka.sarmo.ru/byudzhet-dlya-grazhdan/byudzhet-dlya-grazhdan/2024/
A29: 19 | B29: Калининский | C29: Опубликован и содержит информацию по всем ключевым элементам | E29: =IF(C29=C5,3,IF(C29=C6,2,IF(C29=C7,1,0))) -> 3 | H29: =E29*(1-F29)*(1-G29) -> 3 | I29: http://kalininsk.sarmo.ru/otkrytyybyudzhet/byudzhet-dlya-grazhdan/byudzhet-dlya-grazhdan-2024.php
A30: 20 | B30: Красноармейский | C30: Не опубликован или содержит информацию менее чем по трем ключевым элементам | E30: =IF(C30=C5,3,IF(C30=C6,2,IF(C30=C7,1,0))) -> 0 | H30: =E30*(1-F30)*(1-G30) -> 0 | I30: https://krasnoarmeysk64.ru/krasnoarmeyskiy-rayon/byudzhet/byudzhet-dlya-grazhdan/ | J30: Бюджет для граждан, разработанный на основе решения о бюджете, должен быть опубликован в течение 10 рабочих дней после принятия решения о бюджете муниципального образования и сохраняться не менее трех лет (решением от 22.12.2023 г № 119 утвержден бюджет на 2024 год и на плановый период 2025 и 2026 годов , а дата последнего изменения в брошюре - 11.03.2024). Отсутствует п.5, пункты 2,3,4 и 6 не соответствуют (информация не представлена в динамике 2022-2026 гг).
A31: 21 | B31: Краснокутский | C31: Опубликован и содержит информацию по пяти и более ключевым элементам | E31: =IF(C31=C5,3,IF(C31=C6,2,IF(C31=C7,1,0))) -> 2 | H31: =E31*(1-F31)*(1-G31) -> 2 | I31: https://krasny-kut.ru/finansy/novosti/ | J31: Пункт 4 не соотвествует (финансирование и целевые показатели не представлены по каждой МП и в динамике 2022-2026 гг), пункт 6 не соответствует (данные не представлены в динамике 2022-2026 годов).
A32: 22 | B32: Краснопартизанский | C32: Опубликован и содержит информацию по пяти и более ключевым элементам | E32: =IF(C32=C5,3,IF(C32=C6,2,IF(C32=C7,1,0))) -> 2 | H32: =E32*(1-F32)*(1-G32) -> 2 | I32: https://adminkmr.ru/byudzhet/byudzhet-dlya-grazhdan/ | J32: Отсутствует п.5
A33: 23 | B33: Лысогорский | C33: Опубликован и содержит информацию по пяти и более ключевым элементам | E33: =IF(C33=C5,3,IF(C33=C6,2,IF(C33=C7,1,0))) -> 2 | H33: =E33*(1-F33)*(1-G33) -> 2 | I33: https://adm.lysyegory.ru/base/14768-byudzhet-dlja-grazhdan-lysogorskogo-mr-k-resheniyu-sobranija-lysogorskogo-mr-ot-15-12-2023-g-4.html | J33: Пункт 4 не соотвествует (целевые показатели не представлены в динамике 2022-2026 гг), пункт 6 не соответствует (данные не представлены в динамике 2022-2026 годов).
A34: 24 | B34: Марксовский | C34: Опубликован и содержит информацию по всем ключевым элементам | E34: =IF(C34=C5,3,IF(C34=C6,2,IF(C34=C7,1,0))) -> 3 | H34: =E34*(1-F34)*(1-G34) -> 3 | I34: http://marksadm.ru/bdg-kf.html
A35: 25 | B35: Новобурасский | C35: Опубликован и содержит информацию по всем ключевым элементам | E35: =IF(C35=C5,3,IF(C35=C6,2,IF(C35=C7,1,0))) -> 3 | H35: =E35*(1-F35)*(1-G35) -> 3 | I35: http://www.nbfin.ru/byudzhet_dlya_grazhdan1/novoburasskij_municipal_nyj_rajon/2024_god/
A36: 26 | B36: Новоузенский | C36: Опубликован и содержит информацию по всем ключевым элементам | E36: =IF(C36=C5,3,IF(C36=C6,2,IF(C36=C7,1,0))) -> 3 | H36: =E36*(1-F36)*(1-G36) -> 3 | I36: https://novouzensk.gosuslugi.ru/ofitsialno/dokumenty/dokumenty-all_222.html
A37: 27 | B37: Озинский | C37: Опубликован и содержит информацию по всем ключевым элементам | E37: =IF(C37=C5,3,IF(C37=C6,2,IF(C37=C7,1,0))) -> 3 | H37: =E37*(1-F37)*(1-G37) -> 3 | I37: http://ozinki.sarmo.ru/byudzhet/byudzhet-dlya-grazhdan.php?ELEMENT_ID=9569
A38: 28 | B38: Перелюбский | C38: Опубликован и содержит информацию по всем ключевым элементам | E38: =IF(C38=C5,3,IF(C38=C6,2,IF(C38=C7,1,0))) -> 3 | H38: =E38*(1-F38)*(1-G38) -> 3 | I38: https://www.перелюбский.рф/dokumenty/byudzhet-dlya-grazhdan/
A39: 29 | B39: Петровский | C39: Опубликован и содержит информацию по всем ключевым элементам | E39: =IF(C39=C5,3,IF(C39=C6,2,IF(C39=C7,1,0))) -> 3 | H39: =E39*(1-F39)*(1-G39) -> 3 | I39: https://petrovsk64.gosuslugi.ru/ofitsialno/struktura/munitsipalnye-podvedomstvennye-organizatsii/fin-upr/byudzhet-munitsipalnogo-rayona/dokumenty_16352.html
A40: 30 | B40: Питерский | C40: Опубликован и содержит информацию по пяти и более ключевым элементам | E40: =IF(C40=C5,3,IF(C40=C6,2,IF(C40=C7,1,0))) -> 2 | H40: =E40*(1-F40)*(1-G40) -> 2 | I40: https://питерка.рф/ekonomika-i-byudzhet/byudzhet-piterskogo-mr/byudzhet-dlya-grazhdan/byudzhet-dlya-grazhdan-2024-god-i-planovyy-period-2025-2026-godov/ | J40: Пункт 4 не соответствует (целевые показатели не предсталены в динамике 2022-2026 гг), пункт 5 не соответствует (информация представлена не в динамике 2022-2026 гг),
...

Sheet Раздел 2
A1: 2.1 Итоговое значение рейтинга открытости и прозрачности муниципальных учреждений муниципального образования, рассчитанного на основе данных раздела «Независимая система оценки качества» официального сайта Российской Федерации для размещения информации о государственных (муниципальных) учреждениях (www.bus.gov.ru)
A2: Источник информации | C2: Официальный сайт Российской Федерации для размещения информации о государственных (муниципальных) учреждениях (www.bus.gov.ru), раздел «Независимая система оценки качества»; перечень муниципальных учреждений муниципального образования, представляемый финансовыми органами муниципальных образований в министерство финансов в срок, предусмотренный для направления информации по I этапу.
A3: Дата проведения оценки | C3: 15-30.04.2024
A4: № п/п | B4: Наименование муниципального образования Саратовской обалсти | C4: ='Методика I этап'!B19 -> Итоговое значение рейтинга открытости и прозрачности муниципальных учреждений муниципального образования, рассчитанного на основе данных раздела «Независимая система оценки качества» официального сайта Российской Федерации для размещения информации о государственных (муниципальных) учреждениях (www.bus.gov.ru) | D4: Оценка показателя 2.1
C5: 0,95 и более | D5: баллы
C6: 0,9 и более
C7: 0,8 и более
C8: менее 0,8
B9: Городские округа
A10: 1 | B10: г. Саратов | C10: ='Раздел 2. г. Саратов'!I431 -> 0.99905437 | D10: =IF(C10>=0.95,3,IF(C10>=0.9,2,IF(C10>=0.8,1,0))) -> 3
A11: 2 | B11: п. Михайловское | C11: ='Раздел 2. п. Михайловский'!I15 -> 1 | D11: =IF(C11>=0.95,3,IF(C11>=0.9,2,IF(C11>=0.8,1,0))) -> 3
A12: 3 | B12: ЗАТО Светлый | C12: ='Раздел 2. ЗАТО Светлый'!I20 -> 1 | D12: =IF(C12>=0.95,3,IF(C12>=0.9,2,IF(C12>=0.8,1,0))) -> 3
A13: 4 | B13: г. Шиханы | C13: ='Раздел 2. г. Шиханы'!I18 -> 1 | D13: =IF(C13>=0.95,3,IF(C13>=0.9,2,IF(C13>=0.8,1,0))) -> 3
B14: Муниципальные районы
A15: 5 | B15: Александрово-Гайский | C15: ='Раздел 2.Александрово-Гайский '!I30 -> 0.98181818 | D15: =IF(C15>=0.95,3,IF(C15>=0.9,2,IF(C15>=0.8,1,0))) -> 3
A16: 6 | B16: Аркадакский | C16: ='Раздел 2. Аркадский '!I36 -> 1 | D16: =IF(C16>=0.95,3,IF(C16>=0.9,2,IF(C16>=0.8,1,0))) -> 3
A17: 7 | B17: Аткарский | C17: ='Раздел 2. Аткарский'!I26 -> 0.95555556 | D17: =IF(C17>=0.95,3,IF(C17>=0.9,2,IF(C17>=0.8,1,0))) -> 3
A18: 8 | B18: Базарно-Карабулакский | C18: ='Раздел 2. Базарно-Карабулакский'!I56 -> 1 | D18: =IF(C18>=0.95,3,IF(C18>=0.9,2,IF(C18>=0.8,1,0))) -> 3
A19: 9 | B19: Балаковский | C19: ='Раздел 2. Балаковский'!I119 -> 1 | D19: =IF(C19>=0.95,3,IF(C19>=0.9,2,IF(C19>=0.8,1,0))) -> 3
A20: 10 | B20: Балашовский | C20: ='Раздел 2. Балашовский'!I72 -> 0.99375 | D20: =IF(C20>=0.95,3,IF(C20>=0.9,2,IF(C20>=0.8,1,0))) -> 3
A21: 11 | B21: Балтайский | C21: ='Раздел 2. Балтайский'!I28 -> 1 | D21: =IF(C21>=0.95,3,IF(C21>=0.9,2,IF(C21>=0.8,1,0))) -> 3
A22: 12 | B22: Вольский | C22: ='Раздел 2. Вольский '!I55 -> 0.77021277 | D22: =IF(C22>=0.95,3,IF(C22>=0.9,2,IF(C22>=0.8,1,0))) -> 0
A23: 13 | B23: Воскресенский | C23: ='Раздел 2. Воскресенский'!I30 -> 0.74545455 | D23: =IF(C23>=0.95,3,IF(C23>=0.9,2,IF(C23>=0.8,1,0))) -> 0
A24: 14 | B24: Дергачевский | C24: ='Раздел 2. Дергачевский'!I32 -> 1 | D24: =IF(C24>=0.95,3,IF(C24>=0.9,2,IF(C24>=0.8,1,0))) -> 3
A25: 15 | B25: Духовницкий | C25: ='Раздел 2. Духовницкий'!I27 -> 1 | D25: =IF(C25>=0.95,3,IF(C25>=0.9,2,IF(C25>=0.8,1,0))) -> 3
A26: 16 | B26: Екатериновский | C26: ='Раздел 2. Екатериновский'!I45 -> 0.81081081 | D26: =IF(C26>=0.95,3,IF(C26>=0.9,2,IF(C26>=0.8,1,0))) -> 1
A27: 17 | B27: Ершовский | C27: ='Раздел 2. Ершовский'!I39 -> 1 | D27: =IF(C27>=0.95,3,IF(C27>=0.9,2,IF(C27>=0.8,1,0))) -> 3
A28: 18 | B28: Ивантеевский | C28: ='Раздел 2. Ивантеевский'!I30 -> 1 | D28: =IF(C28>=0.95,3,IF(C28>=0.9,2,IF(C28>=0.8,1,0))) -> 3
A29: 19 | B29: Калининский | C29: ='Раздел 2. Калининский'!I44 -> 1 | D29: =IF(C29>=0.95,3,IF(C29>=0.9,2,IF(C29>=0.8,1,0))) -> 3
A30: 20 | B30: Красноармейский | C30: ='Раздел 2. Красноармейский'!I54 -> 0.97826087 | D30: =IF(C30>=0.95,3,IF(C30>=0.9,2,IF(C30>=0.8,1,0))) -> 3
A31: 21 | B31: Краснокутский | C31: ='Раздел 2. Краснокутский'!I50 -> 0.93333333 | D31: =IF(C31>=0.95,3,IF(C31>=0.9,2,IF(C31>=0.8,1,0))) -> 2
A32: 22 | B32: Краснопартизанский | C32: ='Раздел 2. Краснопартизанский'!I28 -> 1 | D32: =IF(C32>=0.95,3,IF(C32>=0.9,2,IF(C32>=0.8,1,0))) -> 3
A33: 23 | B33: Лысогорский | C33: ='Раздел 2. Лысогорский'!I26 -> 1 | D33: =IF(C33>=0.95,3,IF(C33>=0.9,2,IF(C33>=0.8,1,0))) -> 3
A34: 24 | B34: Марксовский | C34: ='Раздел 2. Марксовский'!I64 -> 0.94642857 | D34: =IF(C34>=0.95,3,IF(C34>=0.9,2,IF(C34>=0.8,1,0))) -> 2
A35: 25 | B35: Новобурасский | C35: ='Раздел 2. Новобурасский'!I38 -> 1 | D35: =IF(C35>=0.95,3,IF(C35>=0.9,2,IF(C35>=0.8,1,0))) -> 3
A36: 26 | B36: Новоузенский | C36: ='Раздел 2. Новоузенский'!I62 -> 0.89259259 | D36: =IF(C36>=0.95,3,IF(C36>=0.9,2,IF(C36>=0.8,1,0))) -> 1
A37: 27 | B37: Озинский | C37: ='Раздел 2. Озинский'!I41 -> 0.92727273 | D37: =IF(C37>=0.95,3,IF(C37>=0.9,2,IF(C37>=0.8,1,0))) -> 2
A38: 28 | B38: Перелюбский | C38: ='Раздел 2. Перелюбский'!I34 -> 0.96923077 | D38: =IF(C38>=0.95,3,IF(C38>=0.9,2,IF(C38>=0.8,1,0))) -> 3
A39: 29 | B39: Петровский | C39: ='Раздел 2. Петровский'!I45 -> 1 | D39: =IF(C39>=0.95,3,IF(C39>=0.9,2,IF(C39>=0.8,1,0))) -> 3
A40: 30 | B40: Питерский | C40: ='Раздел 2. Питерский'!I33 -> 1 | D40: =IF(C40>=0.95,3,IF(C40>=0.9,2,IF(C40>=0.8,1,0))) -> 3
...

Sheet Раздел 2. г. Саратов
A1: 2.1 Итоговое значение рейтинга открытости и прозрачности муниципальных учреждений муниципального образования, рассчитанного на основе данных раздела «Независимая система оценки качества» официального сайта Российской Федерации для размещения информации о государственных (муниципальных) учреждениях (www.bus.gov.ru)
A2: Наименование муниципального образования | C2: г. Саратов
A3: Дата проведения оценки | C3: 45412
A4: Комментарий:
A5: Показатели Roii, Rmzi Rbsi при наличии опубликованной информации на указанном сайте принимают значения 1, в иных случаях – 0. Если муниципальному учреждению муниципальное задание не доводится (муниципальное учреждение является казенным), то показатель Rmzi принимает значение 1, в иных случаях – 0. Для автономных и бюджетных муниципальных учреждений показатель Rbsi принимает значение 1.
A6: № п/п | B6: Полное наименование учреждения | C6: Сокращенное наименование учреждения | D6: Тип учреждения | E6: Отметка об отсутствии муниципального задания | F6: Общая информация (Roii) | G6: на 2024 год | I6: Рейтинг открытости и прозрачности по учреждению (Ri=Roii*0,2+ Rmzi*0,4+ Rbsi*0,4) | J6: Комментарии
G7: Информация о муниципальном задании (Rmzi) | H7: Информация о показателях бюджетной сметы (Rbsi)
A8: 1 | B8: муниципальное бюджетное учреждение дополнительного образования "Центральная детская музыкальная школа" | C8: МБУДО "ЦДМШ" | D8: бюджетное | F8: 1 | G8: 1 | H8: 1 | I8: =F8*0.2+G8*0.4+H8*0.4 -> 1
A9: 2 | B9: муниципальное бюджетное учреждение дополнительного образования "Детская школа искусств №1" | C9: МБУДО "ДШИ № 1" | D9: бюджетное | F9: 1 | G9: 1 | H9: 1 | I9: =F9*0.2+G9*0.4+H9*0.4 -> 1 | J9: Наименование на сайте МУНИЦИПАЛЬНОЕ БЮДЖЕТНОЕ УЧРЕЖДЕНИЕ ДОПОЛНИТЕЛЬНОГО ОБРАЗОВАНИЯ "ДЕТСКАЯ ШКОЛА ИСКУССТВ № 1 ИМ. Н.В. ГРИБКОВА"
A10: 3 | B10: муниципальное бюджетное учреждение дополнительного образования "Детская школа искусств № 2" | C10: МБУДО "ДШИ № 2" | D10: бюджетное | F10: 1 | G10: 1 | H10: 1 | I10: =F10*0.2+G10*0.4+H10*0.4 -> 1
A11: 4 | B11: муниципальное бюджетное учреждение дополнительного образования "Детская музыкальная школа № 3" | C11: МБУДО "ДМШ № 3" | D11: бюджетное | F11: 1 | G11: 1 | H11: 1 | I11: =F11*0.2+G11*0.4+H11*0.4 -> 1
A12: 5 | B12: муниципальное бюджетное учреждение дополнительного образования "Детская музыкальная школа № 4" | C12: МБУДО "ДМШ № 4" | D12: бюджетное | F12: 1 | G12: 1 | H12: 1 | I12: =F12*0.2+G12*0.4+H12*0.4 -> 1
A13: 6 | B13: муниципальное бюджетное учреждение дополнительного образования "Детская музыкальная школа № 5" | C13: МБУДО "ДМШ № 5" | D13: бюджетное | F13: 1 | G13: 1 | H13: 1 | I13: =F13*0.2+G13*0.4+H13*0.4 -> 1
A14: 7 | B14: муниципальное бюджетное учреждение дополнительного образования "Детская музыкальная школа № 6" | C14: МБУДО "ДМШ № 6" | D14: бюджетное | F14: 1 | G14: 1 | H14: 1 | I14: =F14*0.2+G14*0.4+H14*0.4 -> 1
A15: 8 | B15: муниципальное бюджетное учреждение дополнительного образования "Детская музыкальная школа № 7" | C15: МБУДО "ДМШ № 7" | D15: бюджетное | F15: 1 | G15: 1 | H15: 1 | I15: =F15*0.2+G15*0.4+H15*0.4 -> 1 | J15: Наименование на сайте МУНИЦИПАЛЬНОЕ БЮДЖЕТНОЕ УЧРЕЖДЕНИЕ ДОПОЛНИТЕЛЬНОГО ОБРАЗОВАНИЯ "ДЕТСКАЯ ШКОЛА ИСКУССТВ № 7"
A16: 9 | B16: муниципальное бюджетное учреждение дополнительного образования "Детская школа искусств № 8" | C16: МБУДО "ДШИ № 8" | D16: бюджетное | F16: 1 | G16: 1 | H16: 1 | I16: =F16*0.2+G16*0.4+H16*0.4 -> 1
A17: 10 | B17: муниципальное бюджетное учреждение дополнительного образования "Детская школа искусств № 9" | C17: МБУДО "ДШИ № 9" | D17: бюджетное | F17: 1 | G17: 1 | H17: 1 | I17: =F17*0.2+G17*0.4+H17*0.4 -> 1
A18: 11 | B18: муниципальное бюджетное учреждение дополнительного образования "Детская школа искусств № 10" | C18: МБУДО "ДШИ № 10" | D18: бюджетное | F18: 1 | G18: 1 | H18: 1 | I18: =F18*0.2+G18*0.4+H18*0.4 -> 1
A19: 12 | B19: муниципальное бюджетное учреждение дополнительного образования "Детская школа искусств № 11" | C19: МБУДО "ДШИ № 11" | D19: бюджетное | F19: 1 | G19: 1 | H19: 1 | I19: =F19*0.2+G19*0.4+H19*0.4 -> 1
A20: 13 | B20: муниципальное бюджетное учреждение дополнительного образования "Детская музыкальная школа № 12" | C20: МБУДО "ДМШ № 12" | D20: бюджетное | F20: 1 | G20: 1 | H20: 1 | I20: =F20*0.2+G20*0.4+H20*0.4 -> 1
A21: 14 | B21: муниципальное бюджетное учреждение дополнительного образования "Детская школа искусств №13" | C21: МБУДО "ДШИ №13" | D21: бюджетное | F21: 1 | G21: 1 | H21: 1 | I21: =F21*0.2+G21*0.4+H21*0.4 -> 1
A22: 15 | B22: муниципальное бюджетное учреждение дополнительного образования "Детская музыкальная школа № 14" | C22: МБУДО "ДМШ № 14" | D22: бюджетное | F22: 1 | G22: 1 | H22: 1 | I22: =F22*0.2+G22*0.4+H22*0.4 -> 1
A23: 16 | B23: муниципальное бюджетное учреждение дополнительного образования "Детская школа искусств № 15 имени Л.Л. Христиансена" | C23: МБУДО "ДШИ № 15 им. Л.Л. Христиансена" | D23: бюджетное | F23: 1 | G23: 1 | H23: 1 | I23: =F23*0.2+G23*0.4+H23*0.4 -> 1
A24: 17 | B24: муниципальное бюджетное учреждение дополнительного образования "Детская школа искусств № 16" | C24: МБУДО "ДШИ № 16" | D24: бюджетное | F24: 1 | G24: 1 | H24: 1 | I24: =F24*0.2+G24*0.4+H24*0.4 -> 1
A25: 18 | B25: муниципальное бюджетное учреждение дополнительного образования "Детская школа искусств № 17 имени М.Н. Симанского" | C25: МБУДО "ДШИ № 17 им. М.Н. Симанского" | D25: бюджетное | F25: 1 | G25: 1 | H25: 1 | I25: =F25*0.2+G25*0.4+H25*0.4 -> 1 | J25: В общей информации указан некорректный номер телефона.
A26: 19 | B26: муниципальное бюджетное учреждение дополнительного образования "Детская школа искусств № 18" | C26: МБУДО "ДШИ № 18" | D26: бюджетное | F26: 1 | G26: 1 | H26: 1 | I26: =F26*0.2+G26*0.4+H26*0.4 -> 1
A27: 20 | B27: муниципальное бюджетное учреждение дополнительного образования "Детская музыкальная школа № 19" | C27: МБУДО "ДМШ № 19" | D27: бюджетное | F27: 1 | G27: 1 | H27: 1 | I27: =F27*0.2+G27*0.4+H27*0.4 -> 1
A28: 21 | B28: муниципальное бюджетное учреждение дополнительного образования "Детская школа искусств № 20" | C28: МБУДО "ДШИ № 20" | D28: бюджетное | F28: 1 | G28: 1 | H28: 1 | I28: =F28*0.2+G28*0.4+H28*0.4 -> 1
A29: 22 | B29: муниципальное бюджетное учреждение дополнительного образования "Детская школа искусств №21" | C29: МБУДО "ДШИ №21" | D29: бюджетное | F29: 1 | G29: 1 | H29: 1 | I29: =F29*0.2+G29*0.4+H29*0.4 -> 1
A30: 23 | B30: муниципальное бюджетное учреждение дополнительного образования "Детская школа искусств № 22" | C30: МБУДО "ДШИ № 22" | D30: бюджетное | F30: 1 | G30: 1 | H30: 1 | I30: =F30*0.2+G30*0.4+H30*0.4 -> 1
A31: 24 | B31: Муниципальное автономное учреждение дополнительного образования "Детская школа искусств имени В.В. Ковалева" муниципального образования "Город Саратов" | C31: МАУ ДО "ДШИ им. В.В. Ковалева" МО "Город Саратов" | D31: автономное | F31: 1 | G31: 1 | H31: 1 | I31: =F31*0.2+G31*0.4+H31*0.4 -> 1
A32: 25 | B32: муниципальное бюджетное учреждение дополнительного образования "Детская музыкальная школа имени М.В.Тельтевской" | C32: МБУДО "ДМШ им.М.В.Тельтевской" | D32: бюджетное | F32: 1 | G32: 1 | H32: 1 | I32: =F32*0.2+G32*0.4+H32*0.4 -> 1
A33: 26 | B33: муниципальное бюджетное учреждение дополнительного образования "Детская музыкальная школа духовых и ударных инструментов им. А.Д. Селянина" | C33: МБУДО "ДМШ ДУИ им. А.Д. Селянина" | D33: бюджетное | F33: 1 | G33: 1 | H33: 1 | I33: =F33*0.2+G33*0.4+H33*0.4 -> 1
A34: 27 | B34: муниципальное бюджетное учреждение дополнительного образования "Детская художественная школа" | C34: МБУДО "ДХШ" | D34: бюджетное | F34: 1 | G34: 1 | H34: 1 | I34: =F34*0.2+G34*0.4+H34*0.4 -> 1
A35: 28 | B35: муниципальное учреждение культуры "Дом культуры химиков" | C35: МУК "ДК химиков" | D35: бюджетное | F35: 1 | G35: 1 | H35: 1 | I35: =F35*0.2+G35*0.4+H35*0.4 -> 1
A36: 29 | B36: муниципальное бюджетное учреждение "Городской центр им. П.А. Столыпина" | C36: МБУ "ГЦ им. П.А. Столыпина" | D36: бюджетное | F36: 1 | G36: 1 | H36: 1 | I36: =F36*0.2+G36*0.4+H36*0.4 -> 1
A37: 30 | B37: муниципальное учреждение культуры "Клуб "Заводской" | C37: МУК "Клуб "Заводской" | D37: бюджетное | F37: 1 | G37: 1 | H37: 1 | I37: =F37*0.2+G37*0.4+H37*0.4 -> 1
... A55: 48 | B55: муниципальное бюджетное учреждение дополнительного образования "Детская межпоселенческая школа искусств № 1" | C55: МБУДО "ДМШИ № 1 | D55: бюджетное | F55: 1 | G55: 1 | H55: 1 | I55: =F55*0.2+G55*0.4+H55*0.4 -> 1
A56: 49 | B56: муниципальное автономное учреждение культуры "Централизованная клубная система" муниципального образования «Город Саратов» | C56: МАУК "ЦКС" | D56: автономное | F56: 1 | G56: 1 | H56: 1 | I56: =F56*0.2+G56*0.4+H56*0.4 -> 1 | J56: В общей информации отсутствует ссылка на официальный сайт учреждения.
A57: 50 | B57: муниципальное учреждение культуры "Дом культуры п. Тепличный" муниципального образования "Город Саратов" | C57: МУК "ДК п. Тепличный" | D57: бюджетное | F57: 1 | G57: 1 | H57: 1 | I57: =F57*0.2+G57*0.4+H57*0.4 -> 1 | J57: В общей информации отсутствует ссылка на официальный сайт учреждения.
...

Sheet Раздел 2. п. Михайловский
A1: 2.1 Итоговое значение рейтинга открытости и прозрачности муниципальных учреждений муниципального образования, рассчитанного на основе данных раздела «Независимая система оценки качества» официального сайта Российской Федерации для размещения информации о государственных (муниципальных) учреждениях (www.bus.gov.ru)
A2: Наименование муниципального образования | C2: п. Михайловский
A3: Дата проведения оценки | C3: 45397
A4: Комментарий:
A5: Показатели Roii, Rmzi Rbsi при наличии опубликованной информации на указанном сайте принимают значения 1, в иных случаях – 0. Если муниципальному учреждению муниципальное задание не доводится (муниципальное учреждение является казенным), то показатель Rmzi принимает значение 1, в иных случаях – 0. Для автономных и бюджетных муниципальных учреждений показатель Rbsi принимает значение 1.
A6: № п/п | B6: Полное наименование учреждения | C6: Сокращенное наименование учреждения | D6: Тип учреждения | E6: Отметка об отсутствии муниципального задания | F6: Общая информация (Roii) | G6: на 2024 год | I6: Рейтинг открытости и прозрачности по учреждению (Ri=Roii*0,2+ Rmzi*0,4+ Rbsi*0,4) | J6: Комментарии
G7: Информация о муниципальном задании (Rmzi) | H7: Информация о показателях бюджетной сметы (Rbsi)
A8: 1 | B8: МУНИЦИПАЛЬНОЕ ДОШКОЛЬНОЕ ОБРАЗОВАТЕЛЬНОЕ УЧРЕЖДЕНИЕ ДЕТСКИЙ САД №1 "СКАЗКА" МУНИЦИПАЛЬНОГО ОБРАЗОВАНИЯ ПОСЕЛКА МИХАЙЛОВСКИЙ САРАТОВСКОЙ ОБЛАСТИ | C8: МДОУ Д/С №1 "СКАЗКА" МО П. МИХАЙЛОВСКИЙ | D8: Бюджетное учреждение | F8: 1 | G8: 1 | H8: 1 | I8: =F8*0.2+G8*0.4+H8*0.4 -> 1
A9: 2 | B9: МУНИЦИПАЛЬНОЕ ОБЩЕОБРАЗОВАТЕЛЬНОЕ УЧРЕЖДЕНИЕ "СРЕДНЯЯ ОБЩЕОБРАЗОВАТЕЛЬНАЯ ШКОЛА МУНИЦИПАЛЬНОГО ОБРАЗОВАНИЯ ПОСЕЛОК МИХАЙЛОВСКИЙ САРАТОВСКОЙ ОБЛАСТИ" | C9: МОУ "СОШ МО ПОС. МИХАЙЛОВСКИЙ" | D9: Бюджетное учреждение | F9: 1 | G9: 1 | H9: 1 | I9: =F9*0.2+G9*0.4+H9*0.4 -> 1
A10: 3 | B10: МУНИЦИПАЛЬНОЕ УЧРЕЖДЕНИЕ "РЕДАКЦИЯ ГАЗЕТЫ "МИХАЙЛОВСКИЕ НОВОСТИ" МУНИЦИПАЛЬНОГО ОБРАЗОВАНИЯ ПОСЕЛОК МИХАЙЛОВСКИЙ САРАТОВСКОЙ ОБЛАСТИ | C10: МУ "РЕДАКЦИЯ ГАЗЕТЫ "МИХАЙЛОВСКИЕ НОВОСТИ" | D10: Бюджетное учреждение | F10: 1 | G10: 1 | H10: 1 | I10: =F10*0.2+G10*0.4+H10*0.4 -> 1
A11: 4 | B11: МУНИЦИПАЛЬНОЕ УЧРЕЖДЕНИЕ "ЕДИНАЯ ДЕЖУРНО-ДИСПЕТЧЕРСКАЯ СЛУЖБА - 112 МУНИЦИПАЛЬНОГО ОБРАЗОВАНИЯ ПОСЕЛОК МИХАЙЛОВСКИЙ САРАТОВСКОЙ ОБЛАСТИ" | C11: МУ "ЕДДС - 112 МО П. МИХАЙЛОВСКИЙ САРАТОВСКОЙ ОБЛАСТИ" | D11: Казенное учреждение | F11: 1 | G11: 1 | H11: 1 | I11: =F11*0.2+G11*0.4+H11*0.4 -> 1
A12: 5 | B12: МУНИЦИПАЛЬНОЕ УЧРЕЖДЕНИЕ "ЦЕНТРАЛИЗОВАННАЯ БУХГАЛТЕРИЯ И СЛУЖБА МАТЕРИАЛЬНО-ТЕХНИЧЕСКОГО ОБЕСПЕЧЕНИЯ И ТРАНСПОРТНОГО ОБСЛУЖИВАНИЯ ОРГАНОВ МЕСТНОГО САМОУПРАВЛЕНИЯ МУНИЦИПАЛЬНОГО ОБРАЗОВАНИЯ ПОСЕЛОК МИХАЙЛОВСКИЙ САРАТОВСКОЙ ОБЛАСТИ" | C12: МУ "ЦБ И СЛУЖБА МТО И ТО ОМС МУНИЦИПАЛЬНОГО ОБРАЗОВАНИЯ П.МИХАЙЛОВСКИЙ" | D12: Казенное учреждение | F12: 1 | G12: 1 | H12: 1 | I12: =F12*0.2+G12*0.4+H12*0.4 -> 1
A13: 6 | B13: МУНИЦИПАЛЬНОЕ КАЗЕННОЕ УЧРЕЖДЕНИЕ КУЛЬТУРЫ "ДОМ КУЛЬТУРЫ" МУНИЦИПАЛЬНОГО ОБРАЗОВАНИЯ ПОСЕЛОК МИХАЙЛОВСКИЙ САРАТОВСКОЙ ОБЛАСТИ | C13: МКУК "ДК" МО П. МИХАЙЛОВСКИЙ САРАТОВСКОЙ ОБЛ. | D13: Казенное учреждение | F13: 1 | G13: 1 | H13: 1 | I13: =F13*0.2+G13*0.4+H13*0.4 -> 1
A14: 7 | B14: МУНИЦИПАЛЬНОЕ УЧРЕЖДЕНИЕ ДОПОЛНИТЕЛЬНОГО ОБРАЗОВАНИЯ "СПОРТИВНАЯ ШКОЛА МУНИЦИПАЛЬНОГО ОБРАЗОВАНИЯ П. МИХАЙЛОВСКИЙ САРАТОВСКОЙ ОБЛАСТИ" | C14: МУ ДО "СШ МО П. МИХАЙЛОВСКИЙ" | D14: Казенное учреждение | F14: 1 | G14: 1 | H14: 1 | I14: =F14*0.2+G14*0.4+H14*0.4 -> 1
A15: ИТОГО (Rмо=(∑mi=1Ri)/m) | I15: =SUM(I8:I14)/COUNT(I8:I14) -> 1

Sheet Раздел 2. ЗАТО Светлый
A1: 2.1 Итоговое значение рейтинга открытости и прозрачности муниципальных учреждений муниципального образования, рассчитанного на основе данных раздела «Независимая система оценки качества» официального сайта Российской Федерации для размещения информации о государственных (муниципальных) учреждениях (www.bus.gov.ru)
A2: Наименование муниципального образования | C2: ЗАТО Светлый
A3: Дата проведения оценки | C3: 45398
A4: Комментарий:
A5: Показатели Roii, Rmzi Rbsi при наличии опубликованной информации на указанном сайте принимают значения 1, в иных случаях – 0. Если муниципальному учреждению муниципальное задание не доводится (муниципальное учреждение является казенным), то показатель Rmzi принимает значение 1, в иных случаях – 0. Для автономных и бюджетных муниципальных учреждений показатель Rbsi принимает значение 1.
A6: № п/п | B6: Полное наименование учреждения | C6: Сокращенное наименование учреждения | D6: Тип учреждения | E6: Отметка об отсутствии муниципального задания | F6: Общая информация (Roii) | G6: на 2024 год | I6: Рейтинг открытости и прозрачности по учреждению (Ri=Roii*0,2+ Rmzi*0,4+ Rbsi*0,4) | J6: Комментарии
G7: Информация о муниципальном задании (Rmzi) | H7: Информация о показателях бюджетной сметы (Rbsi)
A8: 1 | B8: Муниципальное учреждение «Централизованная бухгалтерия городского округа ЗАТО Светлый» | C8: МУ «ЦБ городского округа ЗАТО Светлый» | D8: Казенное | F8: 1 | G8: 1 | H8: 1 | I8: =F8*0.2+G8*0.4+H8*0.4 -> 1
A9: 2 | B9: Муниципальное дошкольное образовательное учреждение «Детский сад «Светлячок» городского округа ЗАТО Светлый Саратовской области» | C9: МДОУ «Детский сад «Светлячок» городского округа ЗАТО Светлый Саратовской области» | D9: Казенное | F9: 1 | G9: 1 | H9: 1 | I9: =F9*0.2+G9*0.4+H9*0.4 -> 1
A10: 3 | B10: Муниципальное учреждение «Управление муниципальным хозяйством» городского округа ЗАТО Светлый | C10: МУ «Управление муниципальным хозяйством» | D10: Казенное | F10: 1 | G10: 1 | H10: 1 | I10: =F10*0.2+G10*0.4+H10*0.4 -> 1
