Workbook

Sheet Итого по видам(с учет нераспр.)
A1: Сведения о предоставлении из бюджета Саратовской области межбюджетных трансфертов местным бюджетам
A2: за 9 месяцев 2023 года
F3: тыс. рублей
A4: № п/п | B4: Наименование | C4: Код бюджетной классификации | D4: Утвержденные бюджетные назначения* | E4: Исполнение | F4: % исполнения
A5: 1 | B5: 2 | C5: 3 | D5: 4 | E5: 5 | F5: 6
A6: 1. | B6: Дотация - всего | D6: =SUM(D7:D9) -> 4499603 | E6: =SUM(E7:E9) -> 3519673.9 | F6: =E6/D6*100 -> 78.221876
A7: 1.1. | B7: Дотация бюджетам городских округов области, связанные с особым режимом безопасного функционирования закрытых административно-территориальных образований | C7: 000 1402 6640150100 512 | D7: =Дотации!E93 -> 34002 | E7: =Дотации!F93 -> 26274 | F7: =E7/D7*100 -> 77.271925
A8: 1.2. | B8: Дотация на выравнивание бюджетной обеспеченности муниципальных районов (городских округов) области | C8: 000 1401 6640170200 511 | D8: =Дотации!H93 -> 4238648.3 | E8: =Дотации!I93 -> 3323184.5 | F8: =E8/D8*100 -> 78.401988
A9: 1.3. | B9: Дотация бюджетам муниципальных районов области на поддержку мер по обеспечению сбалансированности местных бюджетов | C9: 000 1402 6640170300 512 | D9: =Дотации!K93 -> 226952.7 | E9: =Дотации!L93 -> 170215.32 | F9: =E9/D9*100 -> 75.00035
A10: 2. | B10: Субсидии - всего | D10: =SUM(D11:D85) -> 29310298 | E10: =SUM(E11:E85) -> 16567661 | F10: =E10/D10*100 -> 56.525052
A11: 2.1. | B11: Субсидия бюджетам муниципальных районов и городских округов области на обновление материально-технической базы для организации учебно-исследовательской, научно-практической, творческой деятельности, занятий физической культурой и спортом в общеобразовательных организациях | C11: 000 0702 5A2E250980 521 | D11: =Субсидии!E395 -> 16091 | E11: =Субсидии!F395 -> 16081.2 | F11: =E11/D11*100 -> 99.939099
A12: 2.2. | B12: Субсидия бюджетам муниципальных районов области на достижение показателей результативности по обеспечению развития и укрепления материально-технической базы домов культуры в населенных пунктах с числом жителей до 50 тысяч человек | C12: 000 0801 55A12W4670 521 | D12: =Субсидии!H395 -> 8960 | E12: =Субсидии!I395 -> 7975.0612 | F12: =E12/D12*100 -> 89.00738
A13: 2.3. | B13: Субсидии бюджетам городских округов области на создание новых мест в общеобразовательных организациях | C13: 000 0702 5A2E155200 523 | D13: =Субсидии!K395 -> 355618.1 | E13: =Субсидии!L395 -> 80010.739 | F13: =E13/D13*100 -> 22.499063
A14: 2.4. | B14: Субсидия бюджетам муниципальных районов области на создание новых мест в общеобразовательных организациях, расположенных в сельской местности и поселках городского типа | C14: 000 0702 5A2E152300 523 | D14: =Субсидии!N395 -> 70080.7 | E14: =Субсидии!O395 -> 70080.7 | F14: =E14/D14*100 -> 100
A15: 2.5. | B15: Субсидия бюджетам городских округов области на создание новых мест в общеобразовательных организациях в связи с ростом числа обучающихся, вызванным демографическим фактором | C15: 000 0702 5A2E153050 523 000 0702 5A2E1U3050 523 | D15: =Субсидии!Q395 -> 1016665.2 | E15: =Субсидии!R395 -> 820266.58 | F15: =E15/D15*100 -> 80.682076
A16: 2.6. | B16: Субсидия бюджетам муниципальных районов области на реализацию мероприятий по созданию «умной» спортивной площадки | C16: 000 1102 56417W2531 521 | D16: =Субсидии!T395 -> 56998.336 | E16: =Субсидии!U395 -> 0 | F16: =E16/D16*100 -> 0
A17: 2.7. | B17: Субсидия бюджетам муниципальных районов и городских округов области на обеспечение жильем молодых семей | C17: 000 1004 5E301R4970 521 | D17: =Субсидии!W395 -> 61327.5 | E17: =Субсидии!X395 -> 59928.46 | F17: =E17/D17*100 -> 97.71874
A18: 2.8. | B18: Субсидия бюджетам городских округов и поселений области на реализацию регионального проекта (программы) в целях выполнения задач федерального проекта «Жилье» (Стимулирование программ развития жилищного строительства) 3* | C18: 000 1403 5E1F150210 523 | D18: =Субсидии!Z395 -> 449463.03 | E18: =Субсидии!AA395 -> 280593.41 | F18: =E18/D18*100 -> 62.428585
A19: 2.9. | B19: Субсидия бюджетам муниципальных районов и поселений области на поддержку творческой деятельности и укрепление материально-технической базы муниципальных театров в населенных пунктах с численностью населения до 300 тысяч человек | C19: 000 0801 55206R4660 521 | D19: =Субсидии!AC395 -> 7278.6517 | E19: =Субсидии!AD395 -> 7278.6517 | F19: =E19/D19*100 -> 100
A20: 2.10. | B20: Субсидия бюджетам муниципальных районов и поселений области на обеспечение развития и укрепления материально-технической базы домов культуры в населенных пунктах с числом жителей до 50 тысяч человек | C20: 000 0801 55A12R4670 521 | D20: =Субсидии!AF395 -> 36796.742 | E20: =Субсидии!AG395 -> 34192.912 | F20: =E20/D20*100 -> 92.923749
A21: 2.11. | B21: Субсидия бюджетам муниципальных районов и городских округов области на поддержку отрасли культуры (государственная поддержка лучших сельских учреждений культуры) | C21: 000 0801 55БA255192 523 | D21: =Субсидии!AI395 -> 2142.8571 | E21: =Субсидии!AJ395 -> 2142.8571 | F21: =E21/D21*100 -> 100
A22: 2.12. | B22: Субсидия бюджетам муниципальных районов и городских округов области на поддержку отрасли культуры (государственная поддержка лучших работников сельских учреждений культуры) | C22: 000 0801 55БA255194 523 | D22: =Субсидии!AL395 -> 867.34694 | E22: =Субсидии!AM395 -> 867.34694 | F22: =E22/D22*100 -> 100
A23: 2.13. | B23: Субсидиябюджетам муниципальных районов, поселений и городских округов области на государственную поддержку отрасли культуры (комплектование книжных фондов муниципальных общедоступных библиотек) | C23: 000 0801 55402R5191 523 | D23: =Субсидии!AO395 -> 10074.93 | E23: =Субсидии!AP395 -> 10074.93 | F23: =E23/D23*100 -> 100
A24: 2.14. | B24: Субсидия бюджетам городских округов области на поддержку отрасли культуры (модернизация региональных и муниципальных детских школ искусств по видам искусств) | C24: 000 0703 55AA155195 523 | D24: =Субсидии!AR395 -> 37300 | E24: =Субсидии!AS395 -> 37300 | F24: =E24/D24*100 -> 100
A25: 2.15. | B25: Субсидия бюджетам муниципальных районов области на обеспечение деятельности муниципальных бизнес-инкубаторов | C25: 000 0412 5830171100 521 | D25: =Субсидии!AU395 -> 5775 | E25: =Субсидии!AV395 -> 4331.25 | F25: =E25/D25*100 -> 75
A26: 2.16. | B26: Субсидия бюджетам городских округов, городских и сельских поселений области на реализацию инициативных проектов 6* | C26: 000 0113 6640572100 523 | D26: =Субсидии!AX395 -> 140000 | E26: =Субсидии!AY395 -> 76303.909 | F26: =E26/D26*100 -> 54.502792
A27: 2.17. | B27: Субсидия бюджетам городских округов и поселений области на поддержку муниципальных программ формирования современной городской среды | C27: 000 0503 691F255550 523 | D27: =Субсидии!BA395 -> 673809.39 | E27: =Субсидии!BB395 -> 666513.41 | F27: =E27/D27*100 -> 98.917204
A28: 2.18. | B28: Субсидия бюджетам муниципальных районов и городских округов области на обеспечение сохранения достигнутых показателей повышения оплаты труда отдельных категорий работников бюджетной сферы | C28: 000 1403 6640172500 521 | D28: =Субсидии!BD395 -> 1942209.6 | E28: =Субсидии!BE395 -> 1133963.7 | F28: =E28/D28*100 -> 58.385239
A29: 2.19. | B29: Субсидия бюджетам муниципальных районов области на развитие сети учреждений культурно-досугового типа (создание и модернизация учреждений культурно-досугового типа, строительство дома культуры) | C29: 000 0801 55AA155131 523 | D29: =Субсидии!BG395 -> 182559.44 | E29: =Субсидии!BH395 -> 128598.16 | F29: =E29/D29*100 -> 70.4418
A30: 2.20. | B30: Субсидия бюджетам муниципальных районов и поселений области на развитие сети учреждений культурно-досугового типа (создание центров культурного развития в городах с числом жителей до 300 тысяч человек) | C30: 000 0801 55AA155132 522 | D30: =Субсидии!BJ395 -> 92123.596 | E30: =Субсидии!BK395 -> 27582.439 | F30: =E30/D30*100 -> 29.940689
A31: 2.21. | B31: Субсидия бюджетам муниципальных районов и городских округов области на обеспечение условий для создания центров образования цифрового и гуманитарного профилей (в рамках достижения соответствующих результатов федерального проекта) в части расходов на оплату труда с начислениями | C31: 000 0702 5A2E1U1137 521 | D31: =Субсидии!BM395 -> 187033.8 | E31: =Субсидии!BN395 -> 111030.91 | F31: =E31/D31*100 -> 59.364088
A32: 2.22. | B32: Субсидия бюджетам муниципальных районов и городских округов области на обеспечение условий для создания центров образования цифрового и гуманитарного профилей (в рамках достижения соответствующих результатов федерального проекта) за исключением расходов на оплату труда с начислениями | C32: 000 0702 5A2E1U1131 521 | D32: =Субсидии!BP395 -> 29960 | E32: =Субсидии!BQ395 -> 6523.1402 | F32: =E32/D32*100 -> 21.772831
A33: 2.23. | B33: Субсидия бюджетам городских округов и поселений области на реализацию мероприятий по строительству и реконструкции (модернизации) объектов питьевого водоснабжения 5* | C33: 000 0502 5E8F552430 522 | D33: =Субсидии!BS395 -> 947017.4 | E33: =Субсидии!BT395 -> 431355.55 | F33: =E33/D33*100 -> 45.548852
A34: 2.24. | B34: Субсидия бюджетам муниципальных районов, городских округов и поселений области на обустройство и восстановление воинских захоронений, находящихся в государственной (муниципальной) собственности | C34: 000 0503 66105R2990 521 | D34: =Субсидии!BV395 -> 4185.5056 | E34: =Субсидии!BW395 -> 4185.5056 | F34: =E34/D34*100 -> 100
A35: 2.25. | B35: Субсидия бюджетам городских округов области на осуществление дорожной деятельности в отношении автомобильных дорог общего пользования местного значения Саратовской агломерации в границах городских округов области за счет средств областного дорожного фонда (в рамках достижения соответствующих задач федерального проекта) | C35: 000 0409 5Ж2R1U7190 523 | D35: =Субсидии!BY395 -> 746000 | E35: =Субсидии!BZ395 -> 738976.11 | F35: =E35/D35*100 -> 99.058459
A36: 2.26. | B36: Субсидия бюджетам поселений области на осуществление дорожной деятельности в отношении автомобильных дорог общего пользования местного значения Саратовской агломерации в границах городских поселений области за счет средств областного дорожного фонда (в рамках достижения соответствующих задач федерального проекта) 2* | C36: 000 0409 5Ж2R1U7210 521 | D36: =Субсидии!CB395 -> 300000 | E36: =Субсидии!CC395 -> 286090.18 | F36: =E36/D36*100 -> 95.363392
A37: 2.27. | B37: Субсидия бюджетам муниципальных районов и поселений области на развитие транспортной инфраструктуры на сельских территориях | C37: 000 0409 70303R3720 523 | D37: =Субсидии!CE395 -> 148707.38 | E37: =Субсидии!CF395 -> 148707.38 | F37: =E37/D37*100 -> 100
A38: 2.28. | B38: Субсидия бюджетам поселений области на обустройство объектами инженерной инфраструктуры и благоустройство площадок, расположенных на сельских территориях, под компактную жилищную застройку | C38: 000 0505 70101R5762 522 | D38: =Субсидии!CH395 -> 72447.041 | E38: =Субсидии!CI395 -> 35502.611 | F38: =E38/D38*100 -> 49.004916
A39: 2.29. | B39: Субсидия бюджетам муниципальных районов области на реализацию мероприятий по благоустройству сельских территорий | C39: 000 0503 70302R5766 521 | D39: =Субсидии!CK395 -> 13621.939 | E39: =Субсидии!CL395 -> 10764.926 | F39: =E39/D39*100 -> 79.026384
A40: 2.30. | B40: Субсидия бюджетам муниципальных районов и городских округов области на обеспечение условий для внедрения цифровой образовательной среды в общеобразовательных организациях | C40: 000 0702 5A8E4U1330 521 | D40: =Субсидии!CN395 -> 12623.5 | E40: =Субсидии!CO395 -> 4961.71 | F40: =E40/D40*100 -> 39.305343
...

Sheet Всего (с выдел. нераспред)
A1: Сведения о предоставленных из бюджета Саратовской области межбюджетных трансфертах бюджетам муниципальных образований за 9 месяцев 2023 года
O2: тыс.рублей
A3: Наименование муниципальных образований | B3: Всего | E3: в том числе
E4: Дотации | H4: Субсидии | K4: Субвенции | N4: Иные межбюджетные трансферты
B6: утвержденные бюджетные назначения 2* | C6: исполнено | D6: % исполнения | E6: утвержденные бюджетные назначения * | F6: исполнено | G6: % исполнения | H6: утвержденные бюджетные назначения 2* | I6: исполнено | J6: % исполнения | K6: утвержденные бюджетные назначения 2* | L6: исполнено | M6: % исполнения | N6: утвержденные бюджетные назначения 2* | O6: исполнено | P6: % исполнения
A7: Муниципальные районы области (консолидированный) | B7: =E7+H7+K7+N7 -> 40539561 | C7: =F7+I7+L7+O7 -> 27372718 | D7: =C7/B7*100 -> 67.521002 | E7: =E10+E14+E23+E37+E52+E57+E75+E81+E98+E103+E115+E124+E138+E151+E162+E175+E188+E202+E206+E218+E227+E234+E247+E260+E274+E282+E292+E303+E313+E322+E331+E341+E352+E361+E370+E383+E392 -> 4269213 | F7: =F10+F14+F23+F37+F52+F57+F75+F81+F98+F103+F115+F124+F138+F151+F162+F175+F188+F202+F206+F218+F227+F234+F247+F260+F274+F282+F292+F303+F313+F322+F331+F341+F352+F361+F370+F383+F392 -> 3340707 | G7: =F7/E7*100 -> 78.25112 | H7: =H10+H14+H23+H37+H52+H57+H75+H81+H98+H103+H115+H124+H138+H151+H162+H175+H188+H202+H206+H218+H227+H234+H247+H260+H274+H282+H292+H303+H313+H322+H331+H341+H352+H361+H370+H383+H392 -> 16566539 | I7: =I10+I14+I23+I37+I52+I57+I75+I81+I98+I103+I115+I124+I138+I151+I162+I175+I188+I202+I206+I218+I227+I234+I247+I260+I274+I282+I292+I303+I313+I322+I331+I341+I352+I361+I370+I383+I392 -> 10188608 | J7: =I7/H7*100 -> 61.501129 | K7: =K10+K14+K23+K37+K52+K57+K75+K81+K98+K103+K115+K124+K138+K151+K162+K175+K188+K202+K206+K218+K227+K234+K247+K260+K274+K282+K292+K303+K313+K322+K331+K341+K352+K361+K370+K383+K392 -> 17375407 | L7: =L10+L14+L23+L37+L52+L57+L75+L81+L98+L103+L115+L124+L138+L151+L162+L175+L188+L202+L206+L218+L227+L234+L247+L260+L274+L282+L292+L303+L313+L322+L331+L341+L352+L361+L370+L383+L392 -> 12300182 | M7: =L7/K7*100 -> 70.790754 | N7: =N10+N14+N23+N37+N52+N57+N75+N81+N98+N103+N115+N124+N138+N151+N162+N175+N188+N202+N206+N218+N227+N234+N247+N260+N274+N282+N292+N303+N313+N322+N331+N341+N352+N361+N370+N383+N392 -> 2328401.9 | O7: =O10+O14+O23+O37+O52+O57+O75+O81+O98+O103+O115+O124+O138+O151+O162+O175+O188+O202+O206+O218+O227+O234+O247+O260+O274+O282+O292+O303+O313+O322+O331+O341+O352+O361+O370+O383+O392 -> 1543220.6 | P7: =O7/N7*100 -> 66.278105
A8: Муниципальные районы области (собственный): | B8: =E8+H8+K8+N8 -> 32902645 | C8: =F8+I8+L8+O8 -> 21588368 | D8: =C8/B8*100 -> 65.612866 | E8: =E11+E15+E24+E38+E53+E58+E76+E82+E99+E104+E116+E125+E139+E152+E163+E176+E189+E203+E207+E219+E228+E235+E248+E261+E275+E283+E293+E304+E314+E323+E332+E342+E353+E362+E371+E384+E393 -> 4269213 | F8: =F11+F15+F24+F38+F53+F58+F76+F82+F99+F104+F116+F125+F139+F152+F163+F176+F189+F203+F207+F219+F228+F235+F248+F261+F275+F283+F293+F304+F314+F323+F332+F342+F353+F362+F371+F384+F393 -> 3340707 | G8: =F8/E8*100 -> 78.25112 | H8: =H11+H15+H24+H38+H53+H58+H76+H82+H99+H104+H116+H125+H139+H152+H163+H176+H189+H203+H207+H219+H228+H235+H248+H261+H275+H283+H293+H304+H314+H323+H332+H342+H353+H362+H371+H384+H393 -> 10012164 | I8: =I11+I15+I24+I38+I53+I58+I76+I82+I99+I104+I116+I125+I139+I152+I163+I176+I189+I203+I207+I219+I228+I235+I248+I261+I275+I283+I293+I304+I314+I323+I332+I342+I353+I362+I371+I384+I393 -> 5134695.9 | J8: =I8/H8*100 -> 51.284575 | K8: =K11+K15+K24+K38+K53+K58+K76+K82+K99+K104+K116+K125+K139+K152+K163+K176+K189+K203+K207+K219+K228+K235+K248+K261+K275+K283+K293+K304+K314+K323+K332+K342+K353+K362+K371+K384+K393 -> 17317830 | L8: =L11+L15+L24+L38+L53+L58+L76+L82+L99+L104+L116+L125+L139+L152+L163+L176+L189+L203+L207+L219+L228+L235+L248+L261+L275+L283+L293+L304+L314+L323+L332+L342+L353+L362+L371+L384+L393 -> 12263437 | M8: =L8/K8*100 -> 70.813936 | N8: =N11+N15+N24+N38+N53+N58+N76+N82+N99+N104+N116+N125+N139+N152+N163+N176+N189+N203+N207+N219+N228+N235+N248+N261+N275+N283+N293+N304+N314+N323+N332+N342+N353+N362+N371+N384+N393 -> 1303437.6 | O8: =O11+O15+O24+O38+O53+O58+O76+O82+O99+O104+O116+O125+O139+O152+O163+O176+O189+O203+O207+O219+O228+O235+O248+O261+O275+O283+O293+O304+O314+O323+O332+O342+O353+O362+O371+O384+O393 -> 849528.25 | P8: =O8/N8*100 -> 65.175982
A9: Поселения: | B9: =E9+H9+K9+N9 -> 7636916.1 | C9: =F9+I9+L9+O9 -> 5784349.5 | D9: =C9/B9*100 -> 75.741954 | E9: =SUM(E12:E13)+SUM(E16:E22)+SUM(E25:E36)+SUM(E39:E51)+SUM(E54:E56)+SUM(E59:E74)+SUM(E77:E80)+SUM(E83:E97)+SUM(E100:E102)+SUM(E105:E114)+SUM(E117:E123)+SUM(E126:E137)+SUM(E140:E150)+SUM(E153:E161)+SUM(E164:E174)+SUM(E177:E187)+SUM(E190:E201)+SUM(E204:E205)+SUM(E208:E217)+SUM(E220:E226)+SUM(E229:E233)+SUM(E236:E246)+SUM(E249:E259)+SUM(E262:E273)+SUM(E276:E281)+SUM(E284:E291)+SUM(E294:E302)+SUM(E305:E312)+SUM(E315:E321)+SUM(E324:E330)+SUM(E333:E340)+SUM(E343:E351)+SUM(E354:E360)+SUM(E363:E369)+SUM(E372:E382)+SUM(E385:E391)+SUM(E394:E398) -> 0 | F9: =SUM(F12:F13)+SUM(F16:F22)+SUM(F25:F36)+SUM(F39:F51)+SUM(F54:F56)+SUM(F59:F74)+SUM(F77:F80)+SUM(F83:F97)+SUM(F100:F102)+SUM(F105:F114)+SUM(F117:F123)+SUM(F126:F137)+SUM(F140:F150)+SUM(F153:F161)+SUM(F164:F174)+SUM(F177:F187)+SUM(F190:F201)+SUM(F204:F205)+SUM(F208:F217)+SUM(F220:F226)+SUM(F229:F233)+SUM(F236:F246)+SUM(F249:F259)+SUM(F262:F273)+SUM(F276:F281)+SUM(F284:F291)+SUM(F294:F302)+SUM(F305:F312)+SUM(F315:F321)+SUM(F324:F330)+SUM(F333:F340)+SUM(F343:F351)+SUM(F354:F360)+SUM(F363:F369)+SUM(F372:F382)+SUM(F385:F391)+SUM(F394:F398) -> 0 | H9: =SUM(H12:H13)+SUM(H16:H22)+SUM(H25:H36)+SUM(H39:H51)+SUM(H54:H56)+SUM(H59:H74)+SUM(H77:H80)+SUM(H83:H97)+SUM(H100:H102)+SUM(H105:H114)+SUM(H117:H123)+SUM(H126:H137)+SUM(H140:H150)+SUM(H153:H161)+SUM(H164:H174)+SUM(H177:H187)+SUM(H190:H201)+SUM(H204:H205)+SUM(H208:H217)+SUM(H220:H226)+SUM(H229:H233)+SUM(H236:H246)+SUM(H249:H259)+SUM(H262:H273)+SUM(H276:H281)+SUM(H284:H291)+SUM(H294:H302)+SUM(H305:H312)+SUM(H315:H321)+SUM(H324:H330)+SUM(H333:H340)+SUM(H343:H351)+SUM(H354:H360)+SUM(H363:H369)+SUM(H372:H382)+SUM(H385:H391)+SUM(H394:H398) -> 6554374.8 | I9: =SUM(I12:I13)+SUM(I16:I22)+SUM(I25:I36)+SUM(I39:I51)+SUM(I54:I56)+SUM(I59:I74)+SUM(I77:I80)+SUM(I83:I97)+SUM(I100:I102)+SUM(I105:I114)+SUM(I117:I123)+SUM(I126:I137)+SUM(I140:I150)+SUM(I153:I161)+SUM(I164:I174)+SUM(I177:I187)+SUM(I190:I201)+SUM(I204:I205)+SUM(I208:I217)+SUM(I220:I226)+SUM(I229:I233)+SUM(I236:I246)+SUM(I249:I259)+SUM(I262:I273)+SUM(I276:I281)+SUM(I284:I291)+SUM(I294:I302)+SUM(I305:I312)+SUM(I315:I321)+SUM(I324:I330)+SUM(I333:I340)+SUM(I343:I351)+SUM(I354:I360)+SUM(I363:I369)+SUM(I372:I382)+SUM(I385:I391)+SUM(I394:I398) -> 5053912.6 | J9: =I9/H9*100 -> 77.10747 | K9: =SUM(K12:K13)+SUM(K16:K22)+SUM(K25:K36)+SUM(K39:K51)+SUM(K54:K56)+SUM(K59:K74)+SUM(K77:K80)+SUM(K83:K97)+SUM(K100:K102)+SUM(K105:K114)+SUM(K117:K123)+SUM(K126:K137)+SUM(K140:K150)+SUM(K153:K161)+SUM(K164:K174)+SUM(K177:K187)+SUM(K190:K201)+SUM(K204:K205)+SUM(K208:K217)+SUM(K220:K226)+SUM(K229:K233)+SUM(K236:K246)+SUM(K249:K259)+SUM(K262:K273)+SUM(K276:K281)+SUM(K284:K291)+SUM(K294:K302)+SUM(K305:K312)+SUM(K315:K321)+SUM(K324:K330)+SUM(K333:K340)+SUM(K343:K351)+SUM(K354:K360)+SUM(K363:K369)+SUM(K372:K382)+SUM(K385:K391)+SUM(K394:K398) -> 57577 | L9: =SUM(L12:L13)+SUM(L16:L22)+SUM(L25:L36)+SUM(L39:L51)+SUM(L54:L56)+SUM(L59:L74)+SUM(L77:L80)+SUM(L83:L97)+SUM(L100:L102)+SUM(L105:L114)+SUM(L117:L123)+SUM(L126:L137)+SUM(L140:L150)+SUM(L153:L161)+SUM(L164:L174)+SUM(L177:L187)+SUM(L190:L201)+SUM(L204:L205)+SUM(L208:L217)+SUM(L220:L226)+SUM(L229:L233)+SUM(L236:L246)+SUM(L249:L259)+SUM(L262:L273)+SUM(L276:L281)+SUM(L284:L291)+SUM(L294:L302)+SUM(L305:L312)+SUM(L315:L321)+SUM(L324:L330)+SUM(L333:L340)+SUM(L343:L351)+SUM(L354:L360)+SUM(L363:L369)+SUM(L372:L382)+SUM(L385:L391)+SUM(L394:L398) -> 36744.503 | M9: =L9/K9*100 -> 63.818023 | N9: =SUM(N12:N13)+SUM(N16:N22)+SUM(N25:N36)+SUM(N39:N51)+SUM(N54:N56)+SUM(N59:N74)+SUM(N77:N80)+SUM(N83:N97)+SUM(N100:N102)+SUM(N105:N114)+SUM(N117:N123)+SUM(N126:N137)+SUM(N140:N150)+SUM(N153:N161)+SUM(N164:N174)+SUM(N177:N187)+SUM(N190:N201)+SUM(N204:N205)+SUM(N208:N217)+SUM(N220:N226)+SUM(N229:N233)+SUM(N236:N246)+SUM(N249:N259)+SUM(N262:N273)+SUM(N276:N281)+SUM(N284:N291)+SUM(N294:N302)+SUM(N305:N312)+SUM(N315:N321)+SUM(N324:N330)+SUM(N333:N340)+SUM(N343:N351)+SUM(N354:N360)+SUM(N363:N369)+SUM(N372:N382)+SUM(N385:N391)+SUM(N394:N398) -> 1024964.3 | O9: =SUM(O12:O13)+SUM(O16:O22)+SUM(O25:O36)+SUM(O39:O51)+SUM(O54:O56)+SUM(O59:O74)+SUM(O77:O80)+SUM(O83:O97)+SUM(O100:O102)+SUM(O105:O114)+SUM(O117:O123)+SUM(O126:O137)+SUM(O140:O150)+SUM(O153:O161)+SUM(O164:O174)+SUM(O177:O187)+SUM(O190:O201)+SUM(O204:O205)+SUM(O208:O217)+SUM(O220:O226)+SUM(O229:O233)+SUM(O236:O246)+SUM(O249:O259)+SUM(O262:O273)+SUM(O276:O281)+SUM(O284:O291)+SUM(O294:O302)+SUM(O305:O312)+SUM(O315:O321)+SUM(O324:O330)+SUM(O333:O340)+SUM(O343:O351)+SUM(O354:O360)+SUM(O363:O369)+SUM(O372:O382)+SUM(O385:O391)+SUM(O394:O398) -> 693692.37 | P9: =O9/N9*100 -> 67.679664
A10: Александрово-Гайский район (консолидированный) | B10: =E10+H10+K10+N10 -> 562560.78 | C10: =F10+I10+L10+O10 -> 387102.13 | D10: =C10/B10*100 -> 68.810721 | E10: =E11+E12+E13 -> 105285.5 | F10: =F11+F12+F13 -> 81191.6 | G10: =F10/E10*100 -> 77.115652 | H10: =H11+H12+H13 -> 164449.86 | I10: =I11+I12+I13 -> 105993.12 | J10: =I10/H10*100 -> 64.453152 | K10: =K11+K12+K13 -> 257310.09 | L10: =L11+L12+L13 -> 173183.58 | M10: =L10/K10*100 -> 67.305401 | N10: =N11+N12+N13 -> 35515.336 | O10: =O11+O12+O13 -> 26733.828 | P10: =O10/N10*100 -> 75.27404
A11: Александрово-Гайский район (собственный) | B11: =E11+H11+K11+N11 -> 453365.19 | C11: =F11+I11+L11+O11 -> 313173.57 | D11: =C11/B11*100 -> 69.077551 | E11: =Дотации!B11 -> 105285.5 | F11: =Дотации!C11 -> 81191.6 | G11: =F11/E11*100 -> 77.115652 | H11: =Субсидии!B12 -> 61363.664 | I11: =Субсидии!C12 -> 32747.947 | J11: =I11/H11*100 -> 53.367 | K11: ='Субвенции '!B14 -> 256200.69 | L11: ='Субвенции '!C14 -> 172500.19 | M11: =L11/K11*100 -> 67.330105 | N11: =Иные!B12 -> 30515.336 | O11: =Иные!C12 -> 26733.828 | P11: =O11/N11*100 -> 87.607844
A12: Александрово-Гайское МО | B12: =E12+H12+K12+N12 -> 101588.99 | C12: =F12+I12+L12+O12 -> 67057.917 | D12: =C12/B12*100 -> 66.00904 | H12: =Субсидии!B13 -> 95610.091 | I12: =Субсидии!C13 -> 66449.631 | J12: =I12/H12*100 -> 69.500646 | K12: ='Субвенции '!B15 -> 978.9 | L12: ='Субвенции '!C15 -> 608.2864 | M12: =L12/K12*100 -> 62.13979 | N12: =Иные!B13 -> 5000 | O12: =Иные!C13 -> 0
A13: Новоалександровское МО | B13: =E13+H13+K13+N13 -> 7606.6 | C13: =F13+I13+L13+O13 -> 6870.644 | D13: =C13/B13*100 -> 90.324771 | H13: =Субсидии!B14 -> 7476.1 | I13: =Субсидии!C14 -> 6795.5376 | J13: =I13/H13*100 -> 90.896825 | K13: ='Субвенции '!B16 -> 130.5 | L13: ='Субвенции '!C16 -> 75.10645 | M13: =L13/K13*100 -> 57.552835
A14: Аркадакский район (консолидированный) | B14: =E14+H14+K14+N14 -> 543691.31 | C14: =F14+I14+L14+O14 -> 422408.3 | D14: =C14/B14*100 -> 77.69267 | E14: =SUM(E15:E22) -> 73095.2 | F14: =SUM(F15:F22) -> 56648.78 | G14: =F14/E14*100 -> 77.5 | H14: =SUM(H15:H22) -> 102594.04 | I14: =SUM(I15:I22) -> 65349.974 | J14: =I14/H14*100 -> 63.697635 | K14: =SUM(K15:K22) -> 279498.65 | L14: =SUM(L15:L22) -> 218350.38 | M14: =L14/K14*100 -> 78.122159 | N14: =SUM(N15:N22) -> 88503.424 | O14: =SUM(O15:O22) -> 82059.162 | P14: =O14/N14*100 -> 92.71863
A15: Аркадакский район (собственный) | B15: =E15+H15+K15+N15 -> 432502.22 | C15: =F15+I15+L15+O15 -> 326128.19 | D15: =C15/B15*100 -> 75.404974 | E15: =Дотации!B13 -> 73095.2 | F15: =Дотации!C13 -> 56648.78 | G15: =F15/E15*100 -> 77.5 | H15: =Субсидии!B16 -> 68097.745 | I15: =Субсидии!C16 -> 40373.415 | J15: =I15/H15*100 -> 59.287448 | K15: ='Субвенции '!B18 -> 278230.85 | L15: ='Субвенции '!C18 -> 217471.83 | M15: =L15/K15*100 -> 78.16237 | N15: =Иные!B15 -> 13078.424 | O15: =Иные!C15 -> 11634.163 | P15: =O15/N15*100 -> 88.956916
A16: город Аркадак | B16: =E16+H16+K16+N16 -> 82001.6 | C16: =F16+I16+L16+O16 -> 75847.568 | D16: =C16/B16*100 -> 92.495229 | H16: =Субсидии!B17 -> 6000 | I16: =Субсидии!C17 -> 5000 | J16: =I16/H16*100 -> 83.333333 | K16: ='Субвенции '!B19 -> 576.6 | L16: ='Субвенции '!C19 -> 422.56818 | M16: =L16/K16*100 -> 73.286191 | N16: =Иные!B16 -> 75425 | O16: =Иные!C16 -> 70424.999 | P16: =O16/N16*100 -> 93.370897
A17: Большежуравское МО | B17: =E17+H17+K17+N17 -> 3081.9314 | C17: =F17+I17+L17+O17 -> 2773.4927 | D17: =C17/B17*100 -> 89.992034 | H17: =Субсидии!B18 -> 2966.7314 | I17: =Субсидии!C18 -> 2697 | J17: =I17/H17*100 -> 90.908129 | K17: ='Субвенции '!B20 -> 115.2 | L17: ='Субвенции '!C20 -> 76.49274 | M17: =L17/K17*100 -> 66.399948
A18: Краснознаменское МО | B18: =E18+H18+K18+N18 -> 5413.2 | C18: =F18+I18+L18+O18 -> 5374.5388 | D18: =C18/B18*100 -> 99.285799 | H18: =Субсидии!B19 -> 5298 | I18: =Субсидии!C19 -> 5298 | J18: =I18/H18*100 -> 100 | K18: ='Субвенции '!B21 -> 115.2 | L18: ='Субвенции '!C21 -> 76.53885 | M18: =L18/K18*100 -> 66.439974
A19: Львовское МО | B19: =E19+H19+K19+N19 -> 3779.7 | C19: =F19+I19+L19+O19 -> 474.36945 | D19: =C19/B19*100 -> 12.550452 | H19: =Субсидии!B20 -> 3664.5 | I19: =Субсидии!C20 -> 388.5 | J19: =I19/H19*100 -> 10.601719 | K19: ='Субвенции '!B22 -> 115.2 | L19: ='Субвенции '!C22 -> 85.86945 | M19: =L19/K19*100 -> 74.539453
A20: Малиновское МО | B20: =E20+H20+K20+N20 -> 5771.259 | C20: =F20+I20+L20+O20 -> 757.03499 | D20: =C20/B20*100 -> 13.117328 | H20: =Субсидии!B21 -> 5656.059 | I20: =Субсидии!C21 -> 682.059 | J20: =I20/H20*100 -> 12.058909 | K20: ='Субвенции '!B23 -> 115.2 | L20: ='Субвенции '!C23 -> 74.97599 | M20: =L20/K20*100 -> 65.083325
A21: Росташовское МО | B21: =E21+H21+K21+N21 -> 5923.2 | C21: =F21+I21+L21+O21 -> 5884.1295 | D21: =C21/B21*100 -> 99.340381 | H21: =Субсидии!B22 -> 5808 | I21: =Субсидии!C22 -> 5808 | J21: =I21/H21*100 -> 100 | K21: ='Субвенции '!B24 -> 115.2 | L21: ='Субвенции '!C24 -> 76.12947 | M21: =L21/K21*100 -> 66.084609
A22: Семеновское МО | B22: =E22+H22+K22+N22 -> 5218.2 | C22: =F22+I22+L22+O22 -> 5168.9789 | D22: =C22/B22*100 -> 99.056741 | H22: =Субсидии!B23 -> 5103 | I22: =Субсидии!C23 -> 5103 | J22: =I22/H22*100 -> 100 | K22: ='Субвенции '!B25 -> 115.2 | L22: ='Субвенции '!C25 -> 65.97887 | M22: =L22/K22*100 -> 57.273325
A23: Аткарский район (консолидированный) | B23: =E23+H23+K23+N23 -> 821650.71 | C23: =F23+I23+L23+O23 -> 592593.17 | D23: =C23/B23*100 -> 72.122273 | E23: =SUM(E24:E36) -> 158532.1 | F23: =SUM(F24:F36) -> 122862.45 | G23: =F23/E23*100 -> 77.500046 | H23: =SUM(H24:H36) -> 158974.99 | I23: =SUM(I24:I36) -> 109408.44 | J23: =I23/H23*100 -> 68.82116 | K23: =SUM(K24:K36) -> 473473.4 | L23: =SUM(L24:L36) -> 339413.85 | M23: =L23/K23*100 -> 71.685938 | N23: =SUM(N24:N36) -> 30670.216 | O23: =SUM(O24:O36) -> 20908.434 | P23: =O23/N23*100 -> 68.171787
A24: Аткарский район (собственный) | B24: =E24+H24+K24+N24 -> 746230.19 | C24: =F24+I24+L24+O24 -> 535401.23 | D24: =C24/B24*100 -> 71.747464 | E24: =Дотации!B15 -> 158532.1 | F24: =Дотации!C15 -> 122862.45 | G24: =F24/E24*100 -> 77.500046 | H24: =Субсидии!B25 -> 90944.473 | I24: =Субсидии!C25 -> 53777.974 | J24: =I24/H24*100 -> 59.132756 | K24: ='Субвенции '!B27 -> 471283.4 | L24: ='Субвенции '!C27 -> 338052.37 | M24: =L24/K24*100 -> 71.730168 | N24: =Иные!B18 -> 25470.216 | O24: =Иные!C18 -> 20708.435 | P24: =O24/N24*100 -> 81.304513
A25: город Аткарск | B25: =E25+H25+K25+N25 -> 29186.8 | C25: =F25+I25+L25+O25 -> 12152.813 | D25: =C25/B25*100 -> 41.638045 | H25: =Субсидии!B26 -> 22833.8 | I25: =Субсидии!C26 -> 11255.345 | J25: =I25/H25*100 -> 49.292477 | K25: ='Субвенции '!B28 -> 1153 | L25: ='Субвенции '!C28 -> 697.4679 | M25: =L25/K25*100 -> 60.491578 | N25: =Иные!B19 -> 5200 | O25: =Иные!C19 -> 199.99943 | P25: =O25/N25*100 -> 3.8461429
A26: Барановское МО | B26: =E26+H26+K26+N26 -> 7630.2 | C26: =F26+I26+L26+O26 -> 7592.81 | D26: =C26/B26*100 -> 99.509974 | H26: =Субсидии!B27 -> 7515 | I26: =Субсидии!C27 -> 7515 | J26: =I26/H26*100 -> 100 | K26: ='Субвенции '!B29 -> 115.2 | L26: ='Субвенции '!C29 -> 77.81003 | M26: =L26/K26*100 -> 67.543429 | N26: =Иные!B20 -> 0 | O26: =Иные!C20 -> 0
A27: Большеекатериновское МО | B27: =E27+H27+K27+N27 -> 0 | C27: =F27+I27+L27+O27 -> 0 | H27: =Субсидии!B28 -> 0 | I27: =Субсидии!C28 -> 0 | K27: ='Субвенции '!B30 -> 0 | L27: ='Субвенции '!C30 -> 0
A28: Даниловское МО | B28: =E28+H28+K28+N28 -> 9006.1 | C28: =F28+I28+L28+O28 -> 8919.507 | D28: =C28/B28*100 -> 99.038507 | H28: =Субсидии!B29 -> 8718 | I28: =Субсидии!C29 -> 8718 | J28: =I28/H28*100 -> 100 | K28: ='Субвенции '!B31 -> 288.1 | L28: ='Субвенции '!C31 -> 201.50696 | M28: =L28/K28*100 -> 69.943409 | N28: =Иные!B21 -> 0 | O28: =Иные!C21 -> 0
A29: Ершовское МО | B29: =E29+H29+K29+N29 -> 6403.2 | C29: =F29+I29+L29+O29 -> 6351.0676 | D29: =C29/B29*100 -> 99.185838 | H29: =Субсидии!B30 -> 6288 | I29: =Субсидии!C30 -> 6288 | J29: =I29/H29*100 -> 100 | K29: ='Субвенции '!B32 -> 115.2 | L29: ='Субвенции '!C32 -> 63.06757 | M29: =L29/K29*100 -> 54.746155
A30: Кочетовское МО | B30: =E30+H30+K30+N30 -> 9256.8204 | C30: =F30+I30+L30+O30 -> 8339.8804 | D30: =C30/B30*100 -> 90.094439 | H30: =Субсидии!B31 -> 8968.7204 | I30: =Субсидии!C31 -> 8147.1161 | J30: =I30/H30*100 -> 90.839225 | K30: ='Субвенции '!B33 -> 288.1 | L30: ='Субвенции '!C33 -> 192.7643 | M30: =L30/K30*100 -> 66.908816
A31: Лопуховское МО | B31: =E31+H31+K31+N31 -> 7834.2 | C31: =F31+I31+L31+O31 -> 7799.4009 | D31: =C31/B31*100 -> 99.555806 | H31: =Субсидии!B32 -> 7719 | I31: =Субсидии!C32 -> 7719 | J31: =I31/H31*100 -> 100 | K31: ='Субвенции '!B34 -> 115.2 | L31: ='Субвенции '!C34 -> 80.40093 | M31: =L31/K31*100 -> 69.792474
A32: Озерное МО | B32: =E32+H32+K32+N32 -> 6103.2 | C32: =F32+I32+L32+O32 -> 6036.4544 | D32: =C32/B32*100 -> 98.906383 | H32: =Субсидии!B33 -> 5988 | I32: =Субсидии!C33 -> 5988 | J32: =I32/H32*100 -> 100 | K32: ='Субвенции '!B35 -> 115.2 | L32: ='Субвенции '!C35 -> 48.45439 | M32: =L32/K32*100 -> 42.061102
A33: Песчанское МО | B33: =E33+H33+K33+N33 -> 0 | C33: =F33+I33+L33+O33 -> 0 | H33: =Субсидии!B34 -> 0 | I33: =Субсидии!C34 -> 0 | K33: ='Субвенции '!B36 -> 0 | L33: ='Субвенции '!C36 -> 0
A34: Петровское МО | B34: =E34+H34+K34+N34 -> 0 | C34: =F34+I34+L34+O34 -> 0 | H34: =Субсидии!B35 -> 0 | I34: =Субсидии!C35 -> 0 | K34: ='Субвенции '!B37 -> 0 | L34: ='Субвенции '!C37 -> 0
A35: Тургеневское МО | B35: =E35+H35+K35+N35 -> 0 | C35: =F35+I35+L35+O35 -> 0 | H35: =Субсидии!B36 -> 0 | I35: =Субсидии!C36 -> 0 | K35: ='Субвенции '!B38 -> 0 | L35: ='Субвенции '!C38 -> 0
A36: Языковское МО | B36: =E36+H36+K36+N36 -> 0 | C36: =F36+I36+L36+O36 -> 0 | H36: =Субсидии!B37 -> 0 | I36: =Субсидии!C37 -> 0 | K36: ='Субвенции '!B39 -> 0 | L36: ='Субвенции '!C39 -> 0
A37: Базарно-Карабулакский район (консолидированный) | B37: =E37+H37+K37+N37 -> 626018.16 | C37: =F37+I37+L37+O37 -> 466222.95 | D37: =C37/B37*100 -> 74.47435 | E37: =SUM(E38:E51) -> 134265.2 | F37: =SUM(F38:F51) -> 105188.78 | G37: =F37/E37*100 -> 78.344039 | H37: =SUM(H38:H51) -> 120368.05 | I37: =SUM(I38:I51) -> 91947.797 | J37: =I37/H37*100 -> 76.388875 | K37: =SUM(K38:K51) -> 355559.15 | L37: =SUM(L38:L51) -> 255802.21 | M37: =L37/K37*100 -> 71.943645 | N37: =SUM(N38:N51) -> 15825.765 | O37: =SUM(O38:O51) -> 13284.168 | P37: =O37/N37*100 -> 83.94013
A38: Базарно-Карабулакский район (собственный) | B38: =E38+H38+K38+N38 -> 571676.84 | C38: =F38+I38+L38+O38 -> 414378.33 | D38: =C38/B38*100 -> 72.484716 | E38: =Дотации!B17 -> 134265.2 | F38: =Дотации!C17 -> 105188.78 | G38: =F38/E38*100 -> 78.344039 | H38: =Субсидии!B39 -> 69255.129 | I38: =Субсидии!C39 -> 42808.901 | J38: =I38/H38*100 -> 61.813329 | K38: ='Субвенции '!B41 -> 353830.75 | L38: ='Субвенции '!C41 -> 254596.49 | M38: =L38/K38*100 -> 71.954314 | N38: =Иные!B23 -> 14325.765 | O38: =Иные!C23 -> 11784.168 | P38: =O38/N38*100 -> 82.258558
A39: Алексеевское МО | B39: =E39+H39+K39+N39 -> 8524.7361 | C39: =F39+I39+L39+O39 -> 8440.5498 | D39: =C39/B39*100 -> 99.012448 | H39: =Субсидии!B40 -> 8236.6361 | I39: =Субсидии!C40 -> 8236.6361 | J39: =I39/H39*100 -> 100 | K39: ='Субвенции '!B42 -> 288.1 | L39: ='Субвенции '!C42 -> 203.91376 | M39: =L39/K39*100 -> 70.778813
A40: Базарно-Карабулакское МО | B40: =E40+H40+K40+N40 -> 10000 | C40: =F40+I40+L40+O40 -> 10000 | D40: =C40/B40*100 -> 100 | H40: =Субсидии!B41 -> 10000 | I40: =Субсидии!C41 -> 10000 | J40: =I40/H40*100 -> 100 | N40: =Иные!B24 -> 0 | O40: =Иные!C24 -> 0
A41: Большечечуйское МО | B41: =E41+H41+K41+N41 -> 2281.2 | C41: =F41+I41+L41+O41 -> 2239.4864 | D41: =C41/B41*100 -> 98.171421 | H41: =Субсидии!B42 -> 2166 | I41: =Субсидии!C42 -> 2166 | J41: =I41/H41*100 -> 100 | K41: ='Субвенции '!B43 -> 115.2 | L41: ='Субвенции '!C43 -> 73.48645 | M41: =L41/K41*100 -> 63.790321
...

Sheet Дотации
B2: Сведения о предоставлении из бюджета Саратовской области межбюджетных трансфертов местным бюджетам за 9 месяцев 2023 года
M4: тыс.рублей
A5: Наименование муниципальных образований | B5: Дотации, всего | E5: в том числе
E6: бюджетам городских округов области, связанные с особым режимом безопасного функционирования закрытых административно-территориальных образований | H6: на выравнивание бюджетной обеспеченности муниципальных районов (городских округов) области | K6: бюджетам муниципальных районов области на поддержку мер по обеспечению сбалансированности местных бюджетов
B7: утвержденные бюджетные назначения * | C7: исполнено | D7: % исполнения | E7: утвержденные бюджетные назначения * | F7: исполнено | G7: % исполнения | H7: утвержденные бюджетные назначения * | I7: исполнено | J7: % исполнения | K7: утвержденные бюджетные назначения * | L7: исполнено | M7: % исполнения
A8: Муниципальные районы области (консолидированный) | B8: =E8+H8+K8 -> 4269213 | C8: =F8+I8+L8 -> 3340707 | D8: =G8+J8+M8 -> 153.43399 | H8: =H11+H13+H15+H17+H19+H21+H24+H26+H28+H30+H32+H34+H36+H38+H40+H42+H44+H46+H48+H50+H52+H54+H56+H58+H60+H62+H64+H66+H68+H70+H72+H74+H76+H78+H80+H82+H84 -> 4042260.3 | I8: =I11+I13+I15+I17+I19+I21+I24+I26+I28+I30+I32+I34+I36+I38+I40+I42+I44+I46+I48+I50+I52+I54+I56+I58+I60+I62+I64+I66+I68+I70+I72+I74+I76+I78+I80+I82+I84 -> 3170491.7 | J8: =I8/H8*100 -> 78.433635 | K8: =K11+K13+K15+K17+K19+K21+K24+K26+K28+K30+K32+K34+K36+K38+K40+K42+K44+K46+K48+K50+K52+K54+K56+K58+K60+K62+K64+K66+K68+K70+K72+K74+K76+K78+K80+K82+K84 -> 226952.7 | L8: =L11+L13+L15+L17+L19+L21+L24+L26+L28+L30+L32+L34+L36+L38+L40+L42+L44+L46+L48+L50+L52+L54+L56+L58+L60+L62+L64+L66+L68+L70+L72+L74+L76+L78+L80+L82+L84 -> 170215.32 | M8: =L8/K8*100 -> 75.00035
A9: Муниципальные районы области (собственный): | B9: =E9+H9+K9 -> 4269213 | C9: =F9+I9+L9 -> 3340707 | D9: =G9+J9+M9 -> 153.43399 | H9: =H12+H14+H16+H18+H20+H22+H25+H27+H29+H31+H33+H35+H37+H39+H41+H43+H45+H47+H49+H51+H53+H55+H57+H59+H61+H63+H65+H67+H69+H71+H73+H75+H77+H79+H81+H83+H85 -> 4042260.3 | I9: =I12+I14+I16+I18+I20+I22+I25+I27+I29+I31+I33+I35+I37+I39+I41+I43+I45+I47+I49+I51+I53+I55+I57+I59+I61+I63+I65+I67+I69+I71+I73+I75+I77+I79+I81+I83+I85 -> 3170491.7 | J9: =I9/H9*100 -> 78.433635 | K9: =K12+K14+K16+K18+K20+K22+K25+K27+K29+K31+K33+K35+K37+K39+K41+K43+K45+K47+K49+K51+K53+K55+K57+K59+K61+K63+K65+K67+K69+K71+K73+K75+K77+K79+K81+K83+K85 -> 226952.7 | L9: =L12+L14+L16+L18+L20+L22+L25+L27+L29+L31+L33+L35+L37+L39+L41+L43+L45+L47+L49+L51+L53+L55+L57+L59+L61+L63+L65+L67+L69+L71+L73+L75+L77+L79+L81+L83+L85 -> 170215.32 | M9: =L9/K9*100 -> 75.00035
A10: Поселения: | B10: =E10+H10+K10 -> 0 | C10: =F10+I10+L10 -> 0 | D10: =G10+J10+M10 -> 0 | H10: =H23+H86 -> 0 | I10: =I23+I86 -> 0 | K10: =K23+K86 -> 0 | L10: =L23+L86 -> 0
A11: Александрово-Гайский (консолидированный) | B11: =E11+H11+K11 -> 105285.5 | C11: =F11+I11+L11 -> 81191.6 | D11: =C11/B11*100 -> 77.115652 | H11: =H12 -> 89081.9 | I11: =I12 -> 69038.45 | J11: =I11/H11*100 -> 77.499975 | K11: =K12 -> 16203.6 | L11: =L12 -> 12153.15 | M11: =L11/K11*100 -> 75.002777
A12: Александрово-Гайский (собственный) | B12: =E12+H12+K12 -> 105285.5 | C12: =F12+I12+L12 -> 81191.6 | D12: =C12/B12*100 -> 77.115652 | H12: 89081.9 | I12: 69038.45 | J12: =I12/H12*100 -> 77.499975 | K12: 16203.6 | L12: 12153.15 | M12: =L12/K12*100 -> 75.002777
A13: Аркадакский (консолидированный) | B13: =E13+H13+K13 -> 73095.2 | C13: =F13+I13+L13 -> 56648.78 | D13: =C13/B13*100 -> 77.5 | H13: =H14 -> 73095.2 | I13: =I14 -> 56648.78 | J13: =I13/H13*100 -> 77.5 | K13: =K14 -> 0 | L13: =L14 -> 0
A14: Аркадакский (собственный) | B14: =E14+H14+K14 -> 73095.2 | C14: =F14+I14+L14 -> 56648.78 | D14: =C14/B14*100 -> 77.5 | H14: 73095.2 | I14: 56648.78 | J14: =I14/H14*100 -> 77.5
A15: Аткарский район (консолидированный) | B15: =E15+H15+K15 -> 158532.1 | C15: =F15+I15+L15 -> 122862.45 | D15: =C15/B15*100 -> 77.500046 | H15: =H16 -> 158532.1 | I15: =I16 -> 122862.45 | J15: =I15/H15*100 -> 77.500046 | K15: =K16 -> 0 | L15: =L16 -> 0
A16: Аткарский район (собственный) | B16: =E16+H16+K16 -> 158532.1 | C16: =F16+I16+L16 -> 122862.45 | D16: =C16/B16*100 -> 77.500046 | H16: 158532.1 | I16: 122862.45 | J16: =I16/H16*100 -> 77.500046
A17: Базарно-Карабулакский (консолидированный) | B17: =E17+H17+K17 -> 134265.2 | C17: =F17+I17+L17 -> 105188.78 | D17: =C17/B17*100 -> 78.344039 | H17: =H18 -> 134265.2 | I17: =I18 -> 105188.78 | J17: =I17/H17*100 -> 78.344039 | K17: =K18 -> 0 | L17: =L18 -> 0
A18: Базарно-Карабулакский (собственный) | B18: =E18+H18+K18 -> 134265.2 | C18: =F18+I18+L18 -> 105188.78 | D18: =C18/B18*100 -> 78.344039 | H18: 134265.2 | I18: 105188.78 | J18: =I18/H18*100 -> 78.344039
A19: Балаковский (консолидированный) | B19: =E19+H19+K19 -> 0 | C19: =F19+I19+L19 -> 0 | H19: =H20 -> 0 | I19: =I20 -> 0 | K19: =K20 -> 0 | L19: =L20 -> 0
A20: Балаковский (собственный) | B20: =E20+H20+K20 -> 0 | C20: =F20+I20+L20 -> 0
A21: Балашовский (консолидированный) | B21: =E21+H21+K21 -> 220233.6 | C21: =F21+I21+L21 -> 192481.38 | D21: =C21/B21*100 -> 87.398735 | H21: =H22+H23 -> 220233.6 | I21: =I22+I23 -> 192481.38 | J21: =I21/H21*100 -> 87.398735 | K21: =K22+K23 -> 0 | L21: =L22+L23 -> 0
A22: Балашовский (собственный) | B22: =E22+H22+K22 -> 220233.6 | C22: =F22+I22+L22 -> 192481.38 | D22: =C22/B22*100 -> 87.398735 | H22: 220233.6 | I22: 192481.38 | J22: =I22/H22*100 -> 87.398735
A23: город Балашов | B23: =E23+H23+K23 -> 0 | C23: =F23+I23+L23 -> 0
A24: Балтайский (консолидированный) | B24: =E24+H24+K24 -> 76846.7 | C24: =F24+I24+L24 -> 59050.9 | D24: =C24/B24*100 -> 76.842467 | H24: =H25 -> 56645.2 | I24: =I25 -> 43900.15 | J24: =I24/H24*100 -> 77.500212 | K24: =K25 -> 20201.5 | L24: =L25 -> 15150.75 | M24: =L24/K24*100 -> 74.998144
A25: Балтайский (собственный) | B25: =E25+H25+K25 -> 76846.7 | C25: =F25+I25+L25 -> 59050.9 | D25: =C25/B25*100 -> 76.842467 | H25: 56645.2 | I25: 43900.15 | J25: =I25/H25*100 -> 77.500212 | K25: 20201.5 | L25: 15150.75 | M25: =L25/K25*100 -> 74.998144
A26: Вольский (консолидированный) | B26: =E26+H26+K26 -> 112110 | C26: =F26+I26+L26 -> 87762.9 | D26: =C26/B26*100 -> 78.282847 | H26: =H27 -> 112110 | I26: =I27 -> 87762.9 | J26: =I26/H26*100 -> 78.282847 | K26: =K27 -> 0 | L26: =L27 -> 0
A27: Вольский (собственный) | B27: =E27+H27+K27 -> 112110 | C27: =F27+I27+L27 -> 87762.9 | D27: =C27/B27*100 -> 78.282847 | H27: 112110 | I27: 87762.9 | J27: =I27/H27*100 -> 78.282847
A28: Воскресенский (консолидированный) | B28: =E28+H28+K28 -> 62697.2 | C28: =F28+I28+L28 -> 48590.43 | D28: =C28/B28*100 -> 77.500159 | H28: =H29 -> 62697.2 | I28: =I29 -> 48590.43 | J28: =I28/H28*100 -> 77.500159
A29: Воскресенский (собственный) | B29: =E29+H29+K29 -> 62697.2 | C29: =F29+I29+L29 -> 48590.43 | D29: =C29/B29*100 -> 77.500159 | H29: 62697.2 | I29: 48590.43 | J29: =I29/H29*100 -> 77.500159
A30: Дергачевский (консолидированный) | B30: =E30+H30+K30 -> 136731.3 | C30: =F30+I30+L30 -> 105966.78 | D30: =C30/B30*100 -> 77.500016 | H30: =H31 -> 136731.3 | I30: =I31 -> 105966.78 | J30: =I30/H30*100 -> 77.500016 | K30: =K31 -> 0 | L30: =L31 -> 0
A31: Дергачевский (собственный) | B31: =E31+H31+K31 -> 136731.3 | C31: =F31+I31+L31 -> 105966.78 | D31: =C31/B31*100 -> 77.500016 | H31: 136731.3 | I31: 105966.78 | J31: =I31/H31*100 -> 77.500016
A32: Духовницкий (консолидированный) | B32: =E32+H32+K32 -> 49880.9 | C32: =F32+I32+L32 -> 39391.03 | D32: =C32/B32*100 -> 78.970167 | H32: =H33 -> 49880.9 | I32: =I33 -> 39391.03 | J32: =I32/H32*100 -> 78.970167
A33: Духовницкий (собственный) | B33: =E33+H33+K33 -> 49880.9 | C33: =F33+I33+L33 -> 39391.03 | D33: =C33/B33*100 -> 78.970167 | H33: 49880.9 | I33: 39391.03 | J33: =I33/H33*100 -> 78.970167
A34: Екатериновский (консолидированный) | B34: =E34+H34+K34 -> 51297.8 | C34: =F34+I34+L34 -> 39207.9 | D34: =C34/B34*100 -> 76.431933 | H34: =H35 -> 29367.6 | I34: =I35 -> 22759.95 | J34: =I34/H34*100 -> 77.500204 | K34: =K35 -> 21930.2 | L34: =L35 -> 16447.95 | M34: =L34/K34*100 -> 75.001368
A35: Екатериновский (собственный) | B35: =E35+H35+K35 -> 51297.8 | C35: =F35+I35+L35 -> 39207.9 | D35: =C35/B35*100 -> 76.431933 | H35: 29367.6 | I35: 22759.95 | J35: =I35/H35*100 -> 77.500204 | K35: 21930.2 | L35: 16447.95 | M35: =L35/K35*100 -> 75.001368
A36: Ершовский (консолидированный) | B36: =E36+H36+K36 -> 127836.5 | C36: =F36+I36+L36 -> 99073.28 | D36: =C36/B36*100 -> 77.499994 | H36: =H37 -> 127836.5 | I36: =I37 -> 99073.28 | J36: =I36/H36*100 -> 77.499994
A37: Ершовский (собственный) | B37: =E37+H37+K37 -> 127836.5 | C37: =F37+I37+L37 -> 99073.28 | D37: =C37/B37*100 -> 77.499994 | H37: 127836.5 | I37: 99073.28 | J37: =I37/H37*100 -> 77.499994
A38: Ивантеевский (консолидированный) | B38: =E38+H38+K38 -> 83547.7 | C38: =F38+I38+L38 -> 63759.94 | D38: =C38/B38*100 -> 76.315614 | H38: =H39 -> 33494.5 | I38: =I39 -> 26220.43 | J38: =I38/H38*100 -> 78.282793 | K38: =K39 -> 50053.2 | L38: =L39 -> 37539.51 | M38: =L38/K38*100 -> 74.999221
A39: Ивантеевский (собственный) | B39: =E39+H39+K39 -> 83547.7 | C39: =F39+I39+L39 -> 63759.94 | D39: =C39/B39*100 -> 76.315614 | H39: 33494.5 | I39: 26220.43 | J39: =I39/H39*100 -> 78.282793 | K39: 50053.2 | L39: 37539.51 | M39: =L39/K39*100 -> 74.999221
A40: Калининский (консолидированный) | B40: =E40+H40+K40 -> 89477.8 | C40: =F40+I40+L40 -> 70045.68 | D40: =C40/B40*100 -> 78.282747 | H40: =H41 -> 89477.8 | I40: =I41 -> 70045.68 | J40: =I40/H40*100 -> 78.282747
A41: Калининский (собственный) | B41: =E41+H41+K41 -> 89477.8 | C41: =F41+I41+L41 -> 70045.68 | D41: =C41/B41*100 -> 78.282747 | H41: 89477.8 | I41: 70045.68 | J41: =I41/H41*100 -> 78.282747
A42: Красноармейский (консолидированный) | B42: =E42+H42+K42 -> 202275.1 | C42: =F42+I42+L42 -> 156763.13 | D42: =C42/B42*100 -> 77.499964 | H42: =H43 -> 202275.1 | I42: =I43 -> 156763.13 | J42: =I42/H42*100 -> 77.499964 | K42: =K43 -> 0
...

Sheet Субсидии
BH1: Продолжение таблицы | CL1: Продолжение таблицы | DP1: Продолжение таблицы | ET1: Продолжение таблицы | FX1: Продолжение таблицы | GY1: Продолжение таблицы | HT1: Продолжение таблицы
B2: Сведения о предоставлении из бюджета Саратовской области межбюджетных трансфертов местным бюджетам за 9 месяцев 2023 года | AF2: Сведения о предоставлении из бюджета Саратовской области межбюджетных трансфертов местным бюджетам за 9 месяцев 2023 года | BJ2: Сведения о предоставлении из бюджета Саратовской области межбюджетных трансфертов местным бюджетам за 9 месяцев 2023 года | CN2: Сведения о предоставлении из бюджета Саратовской области межбюджетных трансфертов местным бюджетам за 9 месяцев 2023 года | DR2: Сведения о предоставлении из бюджета Саратовской области межбюджетных трансфертов местным бюджетам за 9 месяцев 2023 года | EV2: Сведения о предоставлении из бюджета Саратовской области межбюджетных трансфертов местным бюджетам за 9 месяцев 2023 года | FZ2: Сведения о предоставлении из бюджета Саратовской области межбюджетных трансфертов местным бюджетам за 9 месяцев 2023 года | HA2: Сведения о предоставлении из бюджета Саратовской области межбюджетных трансфертов местным бюджетам за 9 месяцев 2023 года
AD4: тыс.рублей | BH4: тыс.рублей | CL4: тыс.рублей | CZ4: =CZ8-CZ10 -> 0 | DO4: тыс.рублей | ES4: тыс.рублей | FW4: тыс.рублей | GX4: тыс.рублей | HS4: тыс.рублей
A5: Наименование муниципальных образований | B5: Субсидии, всего | E5: в том числе | AF5: в том числе | BJ5: в том числе | CN5: в том числе | DR5: в том числе | EV5: в том числе | FZ5: в том числе | HA5: в том числе
