Workbook

Sheet Итого по видам(с учет нераспр.)
A1: Сведения о предоставлении из бюджета Саратовской области межбюджетных трансфертов местным бюджетам
A2: за 1 полугодие 2023 года
F3: тыс. рублей
A4: № п/п | B4: Наименование | C4: Код бюджетной классификации | D4: Утвержденные бюджетные назначения* | E4: Исполнение | F4: % исполнения
A5: 1 | B5: 2 | C5: 3 | D5: 4 | E5: 5 | F5: 6
A6: 1. | B6: Дотация - всего | D6: =SUM(D7:D9) -> 4505661.7 | E6: =SUM(E7:E9) -> 2498725.8 | F6: =E6/D6*100 -> 55.457466
A7: 1.1. | B7: Дотация бюджетам городских округов области, связанные с особым режимом безопасного функционирования закрытых административно-территориальных образований | C7: 000 1402 6640150100 512 | D7: =Дотации!E93 -> 34002 | E7: =Дотации!F93 -> 18546 | F7: =E7/D7*100 -> 54.54385
A8: 1.2. | B8: Дотация на выравнивание бюджетной обеспеченности муниципальных районов (городских округов) области | C8: 000 1401 6640170200 511 | D8: =Дотации!H93 -> 4244707 | E8: =Дотации!I93 -> 2366702.9 | F8: =E8/D8*100 -> 55.756568
A9: 1.3. | B9: Дотация бюджетам муниципальных районов области на поддержку мер по обеспечению сбалансированности местных бюджетов | C9: 000 1402 6640170300 512 | D9: =Дотации!K93 -> 226952.7 | E9: =Дотации!L93 -> 113476.88 | F9: =E9/D9*100 -> 50.000234
A10: 2. | B10: Субсидии - всего | D10: =SUM(D11:D76) -> 27423598 | E10: =SUM(E11:E76) -> 8033311.1 | F10: =E10/D10*100 -> 29.293425
A11: 2.1. | B11: Субсидия бюджетам муниципальных районов и городских округов области на обновление материально-технической базы для организации учебно-исследовательской, научно-практической, творческой деятельности, занятий физической культурой и спортом в общеобразовательных организациях | C11: 000 0702 5A2E250980 521 | D11: =Субсидии!E395 -> 16091 | E11: =Субсидии!F395 -> 11650.917 | F11: =E11/D11*100 -> 72.406419
A12: 2.2. | B12: Субсидия бюджетам муниципальных районов области на достижение показателей результативности по обеспечению развития и укрепления материально-технической базы домов культуры в населенных пунктах с числом жителей до 50 тысяч человек | C12: 000 0801 55A12W4670 521 | D12: =Субсидии!H395 -> 8960 | E12: =Субсидии!I395 -> 1216.9402 | F12: =E12/D12*100 -> 13.581922
A13: 2.3. | B13: Субсидии бюджетам городских округов области на создание новых мест в общеобразовательных организациях | C13: 000 0702 5A2E155200 523 | D13: =Субсидии!K395 -> 355618.1 | E13: =Субсидии!L395 -> 33056.527 | F13: =E13/D13*100 -> 9.2955131
A14: 2.4. | B14: Субсидия бюджетам муниципальных районов области на создание новых мест в общеобразовательных организациях, расположенных в сельской местности и поселках городского типа | C14: 000 0702 5A2E152300 523 | D14: =Субсидии!N395 -> 70080.7 | E14: =Субсидии!O395 -> 60302.041 | F14: =E14/D14*100 -> 86.046574
A15: 2.5. | B15: Субсидия бюджетам городских округов области на создание новых мест в общеобразовательных организациях в связи с ростом числа обучающихся, вызванным демографическим фактором | C15: 000 0702 5A2E153050 523 | D15: =Субсидии!Q395 -> 440905.3 | E15: =Субсидии!R395 -> 302740.05 | F15: =E15/D15*100 -> 68.663281
A16: 2.6. | B16: Субсидия бюджетам муниципальных районов области на реализацию мероприятий по созданию «умной» спортивной площадки | C16: 000 1102 56417W2531 521 | D16: =Субсидии!T395 -> 56998.336 | E16: =Субсидии!U395 -> 0 | F16: =E16/D16*100 -> 0
A17: 2.7. | B17: Субсидия бюджетам муниципальных районов и городских округов области на обеспечение жильем молодых семей | C17: 000 1004 5E301R4970 521 | D17: =Субсидии!W395 -> 61327.5 | E17: =Субсидии!X395 -> 59928.46 | F17: =E17/D17*100 -> 97.71874
A18: 2.8. | B18: Субсидия бюджетам городских округов и поселений области на реализацию регионального проекта (программы) в целях выполнения задач федерального проекта «Жилье» (Стимулирование программ развития жилищного строительства) 3* | C18: 000 1403 5E1F150210 523 | D18: =Субсидии!Z395 -> 449463 | E18: =Субсидии!AA395 -> 82129.895 | F18: =E18/D18*100 -> 18.272894
A19: 2.9. | B19: Субсидия бюджетам муниципальных районов и поселений области на поддержку творческой деятельности и укрепление материально-технической базы муниципальных театров в населенных пунктах с численностью населения до 300 тысяч человек | C19: 000 0801 55206R4660 521 | D19: =Субсидии!AC395 -> 7278.6517 | E19: =Субсидии!AD395 -> 7278.6517 | F19: =E19/D19*100 -> 100
A20: 2.10. | B20: Субсидия бюджетам муниципальных районов и поселений области на обеспечение развития и укрепления материально-технической базы домов культуры в населенных пунктах с числом жителей до 50 тысяч человек | C20: 000 0801 55A12R4670 521 | D20: =Субсидии!AF395 -> 36796.742 | E20: =Субсидии!AG395 -> 20814.799 | F20: =E20/D20*100 -> 56.566963
A21: 2.11. | B21: Субсидия бюджетам муниципальных районов и городских округов области на поддержку отрасли культуры (государственная поддержка лучших сельских учреждений культуры) | C21: 000 0801 55БA255192 523 | D21: =Субсидии!AI395 -> 2142.8571 | E21: =Субсидии!AJ395 -> 2142.8571 | F21: =E21/D21*100 -> 100
A22: 2.12. | B22: Субсидия бюджетам муниципальных районов и городских округов области на поддержку отрасли культуры (государственная поддержка лучших работников сельских учреждений культуры) | C22: 000 0801 55БA255194 523 | D22: =Субсидии!AL395 -> 867.34694 | E22: =Субсидии!AM395 -> 867.34694 | F22: =E22/D22*100 -> 100
A23: 2.13. | B23: Субсидиябюджетам муниципальных районов, поселений и городских округов области на государственную поддержку отрасли культуры (комплектование книжных фондов муниципальных общедоступных библиотек) | C23: 000 0801 55402R5191 523 | D23: =Субсидии!AO395 -> 10074.93 | E23: =Субсидии!AP395 -> 10074.93 | F23: =Субсидии!AQ395 -> 100
A24: 2.14. | B24: Субсидия бюджетам городских округов области на поддержку отрасли культуры (модернизация региональных и муниципальных детских школ искусств по видам искусств) | C24: 000 0703 55AA155195 523 | D24: =Субсидии!AR395 -> 37300 | E24: =Субсидии!AS395 -> 28930.446 | F24: =E24/D24*100 -> 77.561517
A25: 2.15. | B25: Субсидия бюджетам муниципальных районов области на обеспечение деятельности муниципальных бизнес-инкубаторов | C25: 000 0412 5830171100 521 | D25: =Субсидии!AU395 -> 5775 | E25: =Субсидии!AV395 -> 2887.5 | F25: =E25/D25*100 -> 50
A26: 2.16. | B26: Субсидия бюджетам городских округов, городских и сельских поселений области на реализацию инициативных проектов 6* | C26: 000 0113 6640572100 523 | D26: =Субсидии!AX395 -> 140000 | E26: =Субсидии!AY395 -> 3118.7667 | F26: =E26/D26*100 -> 2.2276905
A27: 2.17. | B27: Субсидия бюджетам городских округов и поселений области на поддержку муниципальных программ формирования современной городской среды | C27: 000 0503 691F255550 523 | D27: =Субсидии!BA395 -> 673809.39 | E27: =Субсидии!BB395 -> 334955.68 | F27: =E27/D27*100 -> 49.710747
A28: 2.18. | B28: Субсидия бюджетам муниципальных районов и городских округов области на обеспечение сохранения достигнутых показателей повышения оплаты труда отдельных категорий работников бюджетной сферы | C28: 000 1403 6640172500 521 | D28: =Субсидии!BD395 -> 1808850.5 | E28: =Субсидии!BE395 -> 660082.72 | F28: =E28/D28*100 -> 36.491834
A29: 2.19. | B29: Субсидия бюджетам муниципальных районов области на развитие сети учреждений культурно-досугового типа (создание и модернизация учреждений культурно-досугового типа, строительство дома культуры) | C29: 000 0801 55AA155131 523 | D29: =Субсидии!BG395 -> 182559.44 | E29: =Субсидии!BH395 -> 74571.614 | F29: =E29/D29*100 -> 40.847855
A30: 2.20. | B30: Субсидия бюджетам муниципальных районов и поселений области на развитие сети учреждений культурно-досугового типа (создание центров культурного развития в городах с числом жителей до 300 тысяч человек) | C30: 000 0801 55AA155132 522 | D30: =Субсидии!BJ395 -> 92123.596 | E30: =Субсидии!BK395 -> 27582.439 | F30: =E30/D30*100 -> 29.940689
A31: 2.21. | B31: Субсидия бюджетам муниципальных районов и городских округов области на обеспечение условий для создания центров образования цифрового и гуманитарного профилей (в рамках достижения соответствующих результатов федерального проекта) в части расходов на оплату труда с начислениями | C31: 000 0702 5A2E1U1137 521 | D31: =Субсидии!BM395 -> 180333.5 | E31: =Субсидии!BN395 -> 89905.618 | F31: =E31/D31*100 -> 49.855195
A32: 2.22. | B32: Субсидия бюджетам муниципальных районов и городских округов области на обеспечение условий для создания центров образования цифрового и гуманитарного профилей (в рамках достижения соответствующих результатов федерального проекта) за исключением расходов на оплату труда с начислениями | C32: 000 0702 5A2E1U1131 521 | D32: =Субсидии!BP395 -> 29960 | E32: =Субсидии!BQ395 -> 4200.7559 | F32: =E32/D32*100 -> 14.021214
A33: 2.23. | B33: Субсидия бюджетам городских округов и поселений области на реализацию мероприятий по строительству и реконструкции (модернизации) объектов питьевого водоснабжения 5* | C33: 000 0502 5E8F552430 522 | D33: =Субсидии!BS395 -> 947017.4 | E33: =Субсидии!BT395 -> 261442.51 | F33: =E33/D33*100 -> 27.606938
A34: 2.24. | B34: Субсидия бюджетам муниципальных районов, городских округов и поселений области на обустройство и восстановление воинских захоронений, находящихся в государственной (муниципальной) собственности | C34: 000 0503 66105R2990 521 | D34: =Субсидии!BV395 -> 4185.5056 | E34: =Субсидии!BW395 -> 4185.5056 | F34: =E34/D34*100 -> 100
A35: 2.25. | B35: Субсидия бюджетам городских округов области на осуществление дорожной деятельности в отношении автомобильных дорог общего пользования местного значения Саратовской агломерации в границах городских округов области за счет средств областного дорожного фонда (в рамках достижения соответствующих задач федерального проекта) | C35: 000 0409 5Ж2R1U7190 523 | D35: =Субсидии!BY395 -> 746000 | E35: =Субсидии!BZ395 -> 570726.23 | F35: =E35/D35*100 -> 76.504857
A36: 2.26. | B36: Субсидия бюджетам поселений области на осуществление дорожной деятельности в отношении автомобильных дорог общего пользования местного значения Саратовской агломерации в границах городских поселений области за счет средств областного дорожного фонда (в рамках достижения соответствующих задач федерального проекта) 2* | C36: 000 0409 5Ж2R1U7210 521 | D36: =Субсидии!CB395 -> 300000 | E36: =Субсидии!CC395 -> 245002.63 | F36: =E36/D36*100 -> 81.667543
A37: 2.27. | B37: Субсидия бюджетам муниципальных районов и поселений области на развитие транспортной инфраструктуры на сельских территориях | C37: 000 0409 70303R3720 523 | D37: =Субсидии!CE395 -> 172316.53 | E37: =Субсидии!CF395 -> 109960.71 | F37: =E37/D37*100 -> 63.81321
A38: 2.28. | B38: Субсидия бюджетам поселений области на обустройство объектами инженерной инфраструктуры и благоустройство площадок, расположенных на сельских территориях, под компактную жилищную застройку | C38: 000 0505 70101R5762 522 | D38: =Субсидии!CH395 -> 36621.02 | E38: =Субсидии!CI395 -> 10983.968 | F38: =E38/D38*100 -> 29.993616
A39: 2.29. | B39: Субсидия бюджетам муниципальных районов области на реализацию мероприятий по благоустройству сельских территорий | C39: 000 0503 70302R5766 521 | D39: =Субсидии!CK395 -> 13621.939 | E39: =Субсидии!CL395 -> 5021.6671 | F39: =E39/D39*100 -> 36.864555
A40: 2.30. | B40: Субсидия бюджетам муниципальных районов и городских округов области на обеспечение условий для внедрения цифровой образовательной среды в общеобразовательных организациях | C40: 000 0702 5A8E4U1330 521 | D40: =Субсидии!CN395 -> 12623.5 | E40: =Субсидии!CO395 -> 3459.765 | F40: =E40/D40*100 -> 27.407336
...

Sheet Всего (с выдел. нераспред)
A1: Сведения о предоставленных из бюджета Саратовской области межбюджетных трансфертах бюджетам муниципальных образований за 1 полугодие 2023 года
O2: тыс.рублей
A3: Наименование муниципальных образований | B3: Всего | E3: в том числе
E4: Дотации | H4: Субсидии | K4: Субвенции | N4: Иные межбюджетные трансферты
B6: утвержденные бюджетные назначения 2* | C6: исполнено | D6: % исполнения | E6: утвержденные бюджетные назначения * | F6: исполнено | G6: % исполнения | H6: утвержденные бюджетные назначения 2* | I6: исполнено | J6: % исполнения | K6: утвержденные бюджетные назначения 2* | L6: исполнено | M6: % исполнения | N6: утвержденные бюджетные назначения 2* | O6: исполнено | P6: % исполнения
A7: Муниципальные районы области (консолидированный) | B7: =E7+H7+K7+N7 -> 38632588 | C7: =F7+I7+L7+O7 -> 17811426 | D7: =C7/B7*100 -> 46.104666 | E7: =E10+E14+E23+E37+E52+E57+E75+E81+E98+E103+E115+E124+E138+E151+E162+E175+E188+E202+E206+E218+E227+E234+E247+E260+E274+E282+E292+E303+E313+E322+E331+E341+E352+E361+E370+E383+E392 -> 4274636.7 | F7: =F10+F14+F23+F37+F52+F57+F75+F81+F98+F103+F115+F124+F138+F151+F162+F175+F188+F202+F206+F218+F227+F234+F247+F260+F274+F282+F292+F303+F313+F322+F331+F341+F352+F361+F370+F383+F392 -> 2371817 | G7: =F7/E7*100 -> 55.485814 | H7: =H10+H14+H23+H37+H52+H57+H75+H81+H98+H103+H115+H124+H138+H151+H162+H175+H188+H202+H206+H218+H227+H234+H247+H260+H274+H282+H292+H303+H313+H322+H331+H341+H352+H361+H370+H383+H392 -> 15463262 | I7: =I10+I14+I23+I37+I52+I57+I75+I81+I98+I103+I115+I124+I138+I151+I162+I175+I188+I202+I206+I218+I227+I234+I247+I260+I274+I282+I292+I303+I313+I322+I331+I341+I352+I361+I370+I383+I392 -> 5071688.7 | J7: =I7/H7*100 -> 32.798311 | K7: =K10+K14+K23+K37+K52+K57+K75+K81+K98+K103+K115+K124+K138+K151+K162+K175+K188+K202+K206+K218+K227+K234+K247+K260+K274+K282+K292+K303+K313+K322+K331+K341+K352+K361+K370+K383+K392 -> 17069714 | L7: =L10+L14+L23+L37+L52+L57+L75+L81+L98+L103+L115+L124+L138+L151+L162+L175+L188+L202+L206+L218+L227+L234+L247+L260+L274+L282+L292+L303+L313+L322+L331+L341+L352+L361+L370+L383+L392 -> 9290615.5 | M7: =L7/K7*100 -> 54.427483 | N7: =N10+N14+N23+N37+N52+N57+N75+N81+N98+N103+N115+N124+N138+N151+N162+N175+N188+N202+N206+N218+N227+N234+N247+N260+N274+N282+N292+N303+N313+N322+N331+N341+N352+N361+N370+N383+N392 -> 1824976 | O7: =O10+O14+O23+O37+O52+O57+O75+O81+O98+O103+O115+O124+O138+O151+O162+O175+O188+O202+O206+O218+O227+O234+O247+O260+O274+O282+O292+O303+O313+O322+O331+O341+O352+O361+O370+O383+O392 -> 1077304.6 | P7: =O7/N7*100 -> 59.031165
A8: Муниципальные районы области (собственный): | B8: =E8+H8+K8+N8 -> 31245560 | C8: =F8+I8+L8+O8 -> 15429014 | D8: =C8/B8*100 -> 49.379861 | E8: =E11+E15+E24+E38+E53+E58+E76+E82+E99+E104+E116+E125+E139+E152+E163+E176+E189+E203+E207+E219+E228+E235+E248+E261+E275+E283+E293+E304+E314+E323+E332+E342+E353+E362+E371+E384+E393 -> 4274636.7 | F8: =F11+F15+F24+F38+F53+F58+F76+F82+F99+F104+F116+F125+F139+F152+F163+F176+F189+F203+F207+F219+F228+F235+F248+F261+F275+F283+F293+F304+F314+F323+F332+F342+F353+F362+F371+F384+F393 -> 2371817 | G8: =F8/E8*100 -> 55.485814 | H8: =H11+H15+H24+H38+H53+H58+H76+H82+H99+H104+H116+H125+H139+H152+H163+H176+H189+H203+H207+H219+H228+H235+H248+H261+H275+H283+H293+H304+H314+H323+H332+H342+H353+H362+H371+H384+H393 -> 8882589.9 | I8: =I11+I15+I24+I38+I53+I58+I76+I82+I99+I104+I116+I125+I139+I152+I163+I176+I189+I203+I207+I219+I228+I235+I248+I261+I275+I283+I293+I304+I314+I323+I332+I342+I353+I362+I371+I384+I393 -> 3298897.3 | J8: =I8/H8*100 -> 37.138913 | K8: =K11+K15+K24+K38+K53+K58+K76+K82+K99+K104+K116+K125+K139+K152+K163+K176+K189+K203+K207+K219+K228+K235+K248+K261+K275+K283+K293+K304+K314+K323+K332+K342+K353+K362+K371+K384+K393 -> 17012137 | L8: =L11+L15+L24+L38+L53+L58+L76+L82+L99+L104+L116+L125+L139+L152+L163+L176+L189+L203+L207+L219+L228+L235+L248+L261+L275+L283+L293+L304+L314+L323+L332+L342+L353+L362+L371+L384+L393 -> 9267397.5 | M8: =L8/K8*100 -> 54.475212 | N8: =N11+N15+N24+N38+N53+N58+N76+N82+N99+N104+N116+N125+N139+N152+N163+N176+N189+N203+N207+N219+N228+N235+N248+N261+N275+N283+N293+N304+N314+N323+N332+N342+N353+N362+N371+N384+N393 -> 1076196.8 | O8: =O11+O15+O24+O38+O53+O58+O76+O82+O99+O104+O116+O125+O139+O152+O163+O176+O189+O203+O207+O219+O228+O235+O248+O261+O275+O283+O293+O304+O314+O323+O332+O342+O353+O362+O371+O384+O393 -> 490902.33 | P8: =O8/N8*100 -> 45.614549
A9: Поселения: | B9: =E9+H9+K9+N9 -> 7387028.3 | C9: =F9+I9+L9+O9 -> 2382411.7 | D9: =C9/B9*100 -> 32.251287 | E9: =SUM(E12:E13)+SUM(E16:E22)+SUM(E25:E36)+SUM(E39:E51)+SUM(E54:E56)+SUM(E59:E74)+SUM(E77:E80)+SUM(E83:E97)+SUM(E100:E102)+SUM(E105:E114)+SUM(E117:E123)+SUM(E126:E137)+SUM(E140:E150)+SUM(E153:E161)+SUM(E164:E174)+SUM(E177:E187)+SUM(E190:E201)+SUM(E204:E205)+SUM(E208:E217)+SUM(E220:E226)+SUM(E229:E233)+SUM(E236:E246)+SUM(E249:E259)+SUM(E262:E273)+SUM(E276:E281)+SUM(E284:E291)+SUM(E294:E302)+SUM(E305:E312)+SUM(E315:E321)+SUM(E324:E330)+SUM(E333:E340)+SUM(E343:E351)+SUM(E354:E360)+SUM(E363:E369)+SUM(E372:E382)+SUM(E385:E391)+SUM(E394:E398) -> 0 | F9: =SUM(F12:F13)+SUM(F16:F22)+SUM(F25:F36)+SUM(F39:F51)+SUM(F54:F56)+SUM(F59:F74)+SUM(F77:F80)+SUM(F83:F97)+SUM(F100:F102)+SUM(F105:F114)+SUM(F117:F123)+SUM(F126:F137)+SUM(F140:F150)+SUM(F153:F161)+SUM(F164:F174)+SUM(F177:F187)+SUM(F190:F201)+SUM(F204:F205)+SUM(F208:F217)+SUM(F220:F226)+SUM(F229:F233)+SUM(F236:F246)+SUM(F249:F259)+SUM(F262:F273)+SUM(F276:F281)+SUM(F284:F291)+SUM(F294:F302)+SUM(F305:F312)+SUM(F315:F321)+SUM(F324:F330)+SUM(F333:F340)+SUM(F343:F351)+SUM(F354:F360)+SUM(F363:F369)+SUM(F372:F382)+SUM(F385:F391)+SUM(F394:F398) -> 0 | H9: =SUM(H12:H13)+SUM(H16:H22)+SUM(H25:H36)+SUM(H39:H51)+SUM(H54:H56)+SUM(H59:H74)+SUM(H77:H80)+SUM(H83:H97)+SUM(H100:H102)+SUM(H105:H114)+SUM(H117:H123)+SUM(H126:H137)+SUM(H140:H150)+SUM(H153:H161)+SUM(H164:H174)+SUM(H177:H187)+SUM(H190:H201)+SUM(H204:H205)+SUM(H208:H217)+SUM(H220:H226)+SUM(H229:H233)+SUM(H236:H246)+SUM(H249:H259)+SUM(H262:H273)+SUM(H276:H281)+SUM(H284:H291)+SUM(H294:H302)+SUM(H305:H312)+SUM(H315:H321)+SUM(H324:H330)+SUM(H333:H340)+SUM(H343:H351)+SUM(H354:H360)+SUM(H363:H369)+SUM(H372:H382)+SUM(H385:H391)+SUM(H394:H398) -> 6580672.1 | I9: =SUM(I12:I13)+SUM(I16:I22)+SUM(I25:I36)+SUM(I39:I51)+SUM(I54:I56)+SUM(I59:I74)+SUM(I77:I80)+SUM(I83:I97)+SUM(I100:I102)+SUM(I105:I114)+SUM(I117:I123)+SUM(I126:I137)+SUM(I140:I150)+SUM(I153:I161)+SUM(I164:I174)+SUM(I177:I187)+SUM(I190:I201)+SUM(I204:I205)+SUM(I208:I217)+SUM(I220:I226)+SUM(I229:I233)+SUM(I236:I246)+SUM(I249:I259)+SUM(I262:I273)+SUM(I276:I281)+SUM(I284:I291)+SUM(I294:I302)+SUM(I305:I312)+SUM(I315:I321)+SUM(I324:I330)+SUM(I333:I340)+SUM(I343:I351)+SUM(I354:I360)+SUM(I363:I369)+SUM(I372:I382)+SUM(I385:I391)+SUM(I394:I398) -> 1772791.4 | J9: =I9/H9*100 -> 26.939367 | K9: =SUM(K12:K13)+SUM(K16:K22)+SUM(K25:K36)+SUM(K39:K51)+SUM(K54:K56)+SUM(K59:K74)+SUM(K77:K80)+SUM(K83:K97)+SUM(K100:K102)+SUM(K105:K114)+SUM(K117:K123)+SUM(K126:K137)+SUM(K140:K150)+SUM(K153:K161)+SUM(K164:K174)+SUM(K177:K187)+SUM(K190:K201)+SUM(K204:K205)+SUM(K208:K217)+SUM(K220:K226)+SUM(K229:K233)+SUM(K236:K246)+SUM(K249:K259)+SUM(K262:K273)+SUM(K276:K281)+SUM(K284:K291)+SUM(K294:K302)+SUM(K305:K312)+SUM(K315:K321)+SUM(K324:K330)+SUM(K333:K340)+SUM(K343:K351)+SUM(K354:K360)+SUM(K363:K369)+SUM(K372:K382)+SUM(K385:K391)+SUM(K394:K398) -> 57577 | L9: =SUM(L12:L13)+SUM(L16:L22)+SUM(L25:L36)+SUM(L39:L51)+SUM(L54:L56)+SUM(L59:L74)+SUM(L77:L80)+SUM(L83:L97)+SUM(L100:L102)+SUM(L105:L114)+SUM(L117:L123)+SUM(L126:L137)+SUM(L140:L150)+SUM(L153:L161)+SUM(L164:L174)+SUM(L177:L187)+SUM(L190:L201)+SUM(L204:L205)+SUM(L208:L217)+SUM(L220:L226)+SUM(L229:L233)+SUM(L236:L246)+SUM(L249:L259)+SUM(L262:L273)+SUM(L276:L281)+SUM(L284:L291)+SUM(L294:L302)+SUM(L305:L312)+SUM(L315:L321)+SUM(L324:L330)+SUM(L333:L340)+SUM(L343:L351)+SUM(L354:L360)+SUM(L363:L369)+SUM(L372:L382)+SUM(L385:L391)+SUM(L394:L398) -> 23217.992 | M9: =L9/K9*100 -> 40.325116 | N9: =SUM(N12:N13)+SUM(N16:N22)+SUM(N25:N36)+SUM(N39:N51)+SUM(N54:N56)+SUM(N59:N74)+SUM(N77:N80)+SUM(N83:N97)+SUM(N100:N102)+SUM(N105:N114)+SUM(N117:N123)+SUM(N126:N137)+SUM(N140:N150)+SUM(N153:N161)+SUM(N164:N174)+SUM(N177:N187)+SUM(N190:N201)+SUM(N204:N205)+SUM(N208:N217)+SUM(N220:N226)+SUM(N229:N233)+SUM(N236:N246)+SUM(N249:N259)+SUM(N262:N273)+SUM(N276:N281)+SUM(N284:N291)+SUM(N294:N302)+SUM(N305:N312)+SUM(N315:N321)+SUM(N324:N330)+SUM(N333:N340)+SUM(N343:N351)+SUM(N354:N360)+SUM(N363:N369)+SUM(N372:N382)+SUM(N385:N391)+SUM(N394:N398) -> 748779.19 | O9: =SUM(O12:O13)+SUM(O16:O22)+SUM(O25:O36)+SUM(O39:O51)+SUM(O54:O56)+SUM(O59:O74)+SUM(O77:O80)+SUM(O83:O97)+SUM(O100:O102)+SUM(O105:O114)+SUM(O117:O123)+SUM(O126:O137)+SUM(O140:O150)+SUM(O153:O161)+SUM(O164:O174)+SUM(O177:O187)+SUM(O190:O201)+SUM(O204:O205)+SUM(O208:O217)+SUM(O220:O226)+SUM(O229:O233)+SUM(O236:O246)+SUM(O249:O259)+SUM(O262:O273)+SUM(O276:O281)+SUM(O284:O291)+SUM(O294:O302)+SUM(O305:O312)+SUM(O315:O321)+SUM(O324:O330)+SUM(O333:O340)+SUM(O343:O351)+SUM(O354:O360)+SUM(O363:O369)+SUM(O372:O382)+SUM(O385:O391)+SUM(O394:O398) -> 586402.28 | P9: =O9/N9*100 -> 78.314447
A10: Александрово-Гайский район (консолидированный) | B10: =E10+H10+K10+N10 -> 539851.91 | C10: =F10+I10+L10+O10 -> 251196.49 | D10: =C10/B10*100 -> 46.530629 | E10: =E11+E12+E13 -> 105285.5 | F10: =F11+F12+F13 -> 57097.15 | G10: =F10/E10*100 -> 54.230782 | H10: =H11+H12+H13 -> 155400.08 | I10: =I11+I12+I13 -> 43776.617 | J10: =I10/H10*100 -> 28.170266 | K10: =K11+K12+K13 -> 249080.68 | L10: =L11+L12+L13 -> 132040.98 | M10: =L10/K10*100 -> 53.011329 | N10: =N11+N12+N13 -> 30085.64 | O10: =O11+O12+O13 -> 18281.738 | P10: =O10/N10*100 -> 60.765662
A11: Александрово-Гайский район (собственный) | B11: =E11+H11+K11+N11 -> 435656.32 | C11: =F11+I11+L11+O11 -> 229287.71 | D11: =C11/B11*100 -> 52.630411 | E11: =Дотации!B11 -> 105285.5 | F11: =Дотации!C11 -> 57097.15 | G11: =F11/E11*100 -> 54.230782 | H11: =Субсидии!B12 -> 52313.894 | I11: =Субсидии!C12 -> 22269.868 | J11: =I11/H11*100 -> 42.569701 | K11: ='Субвенции '!B14 -> 247971.29 | L11: ='Субвенции '!C14 -> 131638.95 | M11: =L11/K11*100 -> 53.08637 | N11: =Иные!B12 -> 30085.64 | O11: =Иные!C12 -> 18281.738 | P11: =O11/N11*100 -> 60.765662
A12: Александрово-Гайское МО | B12: =E12+H12+K12+N12 -> 96588.991 | C12: =F12+I12+L12+O12 -> 21869.867 | D12: =C12/B12*100 -> 22.642195 | H12: =Субсидии!B13 -> 95610.091 | I12: =Субсидии!C13 -> 21506.749 | J12: =I12/H12*100 -> 22.494225 | K12: ='Субвенции '!B15 -> 978.9 | L12: ='Субвенции '!C15 -> 363.1181 | M12: =L12/K12*100 -> 37.094504 | N12: =Иные!B13 -> 0 | O12: =Иные!C13 -> 0
A13: Новоалександровское МО | B13: =E13+H13+K13+N13 -> 7606.6 | C13: =F13+I13+L13+O13 -> 38.91064 | D13: =C13/B13*100 -> 0.51153788 | H13: =Субсидии!B14 -> 7476.1 | I13: =Субсидии!C14 -> 0 | J13: =I13/H13*100 -> 0 | K13: ='Субвенции '!B16 -> 130.5 | L13: ='Субвенции '!C16 -> 38.91064 | M13: =L13/K13*100 -> 29.816582
A14: Аркадакский район (консолидированный) | B14: =E14+H14+K14+N14 -> 512690.99 | C14: =F14+I14+L14+O14 -> 314846.81 | D14: =C14/B14*100 -> 61.410639 | E14: =SUM(E15:E22) -> 73095.2 | F14: =SUM(F15:F22) -> 40202.28 | G14: =F14/E14*100 -> 54.999891 | H14: =SUM(H15:H22) -> 97684.935 | I14: =SUM(I15:I22) -> 31150.059 | J14: =I14/H14*100 -> 31.888294 | K14: =SUM(K15:K22) -> 258875.85 | L14: =SUM(L15:L22) -> 163574.42 | M14: =L14/K14*100 -> 63.186434 | N14: =SUM(N15:N22) -> 83035 | O14: =SUM(O15:O22) -> 79920.053 | P14: =O14/N14*100 -> 96.248633
A15: Аркадакский район (собственный) | B15: =E15+H15+K15+N15 -> 406501.9 | C15: =F15+I15+L15+O15 -> 234880.9 | D15: =C15/B15*100 -> 57.781009 | E15: =Дотации!B13 -> 73095.2 | F15: =Дотации!C13 -> 40202.28 | G15: =F15/E15*100 -> 54.999891 | H15: =Субсидии!B16 -> 63188.645 | I15: =Субсидии!C16 -> 21745.195 | J15: =I15/H15*100 -> 34.413137 | K15: ='Субвенции '!B18 -> 257608.05 | L15: ='Субвенции '!C18 -> 163013.37 | M15: =L15/K15*100 -> 63.279609 | N15: =Иные!B15 -> 12610 | O15: =Иные!C15 -> 9920.0527 | P15: =O15/N15*100 -> 78.668142
A16: город Аркадак | B16: =E16+H16+K16+N16 -> 77001.6 | C16: =F16+I16+L16+O16 -> 72359.321 | D16: =C16/B16*100 -> 93.971192 | H16: =Субсидии!B17 -> 6000 | I16: =Субсидии!C17 -> 2092.2497 | J16: =I16/H16*100 -> 34.870828 | K16: ='Субвенции '!B19 -> 576.6 | L16: ='Субвенции '!C19 -> 267.07163 | M16: =L16/K16*100 -> 46.318354 | N16: =Иные!B16 -> 70425 | O16: =Иные!C16 -> 70000 | P16: =O16/N16*100 -> 99.396521
A17: Большежуравское МО | B17: =E17+H17+K17+N17 -> 3081.9314 | C17: =F17+I17+L17+O17 -> 51.51907 | D17: =C17/B17*100 -> 1.6716488 | H17: =Субсидии!B18 -> 2966.7314 | I17: =Субсидии!C18 -> 0 | J17: =I17/H17*100 -> 0 | K17: ='Субвенции '!B20 -> 115.2 | L17: ='Субвенции '!C20 -> 51.51907 | M17: =L17/K17*100 -> 44.721415
A18: Краснознаменское МО | B18: =E18+H18+K18+N18 -> 5413.2 | C18: =F18+I18+L18+O18 -> 3194.203 | D18: =C18/B18*100 -> 59.007666 | H18: =Субсидии!B19 -> 5298 | I18: =Субсидии!C19 -> 3143.45 | J18: =I18/H18*100 -> 59.332767 | K18: ='Субвенции '!B21 -> 115.2 | L18: ='Субвенции '!C21 -> 50.75298 | M18: =L18/K18*100 -> 44.056406
A19: Львовское МО | B19: =E19+H19+K19+N19 -> 3779.7 | C19: =F19+I19+L19+O19 -> 50.75298 | D19: =C19/B19*100 -> 1.342778 | H19: =Субсидии!B20 -> 3664.5 | I19: =Субсидии!C20 -> 0 | J19: =I19/H19*100 -> 0 | K19: ='Субвенции '!B22 -> 115.2 | L19: ='Субвенции '!C22 -> 50.75298 | M19: =L19/K19*100 -> 44.056406
A20: Малиновское МО | B20: =E20+H20+K20+N20 -> 5771.259 | C20: =F20+I20+L20+O20 -> 49.5995 | D20: =C20/B20*100 -> 0.85942253 | H20: =Субсидии!B21 -> 5656.059 | I20: =Субсидии!C21 -> 0 | J20: =I20/H20*100 -> 0 | K20: ='Субвенции '!B23 -> 115.2 | L20: ='Субвенции '!C23 -> 49.5995 | M20: =L20/K20*100 -> 43.055122
A21: Росташовское МО | B21: =E21+H21+K21+N21 -> 5923.2 | C21: =F21+I21+L21+O21 -> 4219.9175 | D21: =C21/B21*100 -> 71.24388 | H21: =Субсидии!B22 -> 5808 | I21: =Субсидии!C22 -> 4169.1645 | J21: =I21/H21*100 -> 71.783135 | K21: ='Субвенции '!B24 -> 115.2 | L21: ='Субвенции '!C24 -> 50.75298 | M21: =L21/K21*100 -> 44.056406
A22: Семеновское МО | B22: =E22+H22+K22+N22 -> 5218.2 | C22: =F22+I22+L22+O22 -> 40.60238 | D22: =C22/B22*100 -> 0.77809168 | H22: =Субсидии!B23 -> 5103 | I22: =Субсидии!C23 -> 0 | J22: =I22/H22*100 -> 0 | K22: ='Субвенции '!B25 -> 115.2 | L22: ='Субвенции '!C25 -> 40.60238 | M22: =L22/K22*100 -> 35.245122
A23: Аткарский район (консолидированный) | B23: =E23+H23+K23+N23 -> 799168.09 | C23: =F23+I23+L23+O23 -> 398899.26 | D23: =C23/B23*100 -> 49.914313 | E23: =SUM(E24:E36) -> 158532.1 | F23: =SUM(F24:F36) -> 87192.75 | G23: =F23/E23*100 -> 55.00006 | H23: =SUM(H24:H36) -> 151298.79 | I23: =SUM(I24:I36) -> 41223.411 | J23: =I23/H23*100 -> 27.246358 | K23: =SUM(K24:K36) -> 464389.2 | L23: =SUM(L24:L36) -> 254071.8 | M23: =L23/K23*100 -> 54.710963 | N23: =SUM(N24:N36) -> 24948 | O23: =SUM(O24:O36) -> 16411.297 | P23: =O23/N23*100 -> 65.782016
A24: Аткарский район (собственный) | B24: =E24+H24+K24+N24 -> 728747.57 | C24: =F24+I24+L24+O24 -> 388746.93 | D24: =C24/B24*100 -> 53.344525 | E24: =Дотации!B15 -> 158532.1 | F24: =Дотации!C15 -> 87192.75 | G24: =F24/E24*100 -> 55.00006 | H24: =Субсидии!B25 -> 83268.273 | I24: =Субсидии!C25 -> 31908.95 | J24: =I24/H24*100 -> 38.320657 | K24: ='Субвенции '!B27 -> 462199.2 | L24: ='Субвенции '!C27 -> 253233.94 | M24: =L24/K24*100 -> 54.788917 | N24: =Иные!B18 -> 24748 | O24: =Иные!C18 -> 16411.297 | P24: =O24/N24*100 -> 66.313631
A25: город Аткарск | B25: =E25+H25+K25+N25 -> 24186.8 | C25: =F25+I25+L25+O25 -> 4772.8312 | D25: =C25/B25*100 -> 19.733207 | H25: =Субсидии!B26 -> 22833.8 | I25: =Субсидии!C26 -> 4381.7008 | J25: =I25/H25*100 -> 19.189538 | K25: ='Субвенции '!B28 -> 1153 | L25: ='Субвенции '!C28 -> 391.1304 | M25: =L25/K25*100 -> 33.922845 | N25: =Иные!B19 -> 200 | O25: =Иные!C19 -> 0 | P25: =O25/N25*100 -> 0
A26: Барановское МО | B26: =E26+H26+K26+N26 -> 7630.2 | C26: =F26+I26+L26+O26 -> 52.3988 | D26: =C26/B26*100 -> 0.68672905 | H26: =Субсидии!B27 -> 7515 | I26: =Субсидии!C27 -> 0 | J26: =I26/H26*100 -> 0 | K26: ='Субвенции '!B29 -> 115.2 | L26: ='Субвенции '!C29 -> 52.3988 | M26: =L26/K26*100 -> 45.485069 | N26: =Иные!B20 -> 0 | O26: =Иные!C20 -> 0
A27: Большеекатериновское МО | B27: =E27+H27+K27+N27 -> 0 | C27: =F27+I27+L27+O27 -> 0 | H27: =Субсидии!B28 -> 0 | I27: =Субсидии!C28 -> 0 | K27: ='Субвенции '!B30 -> 0 | L27: ='Субвенции '!C30 -> 0
A28: Даниловское МО | B28: =E28+H28+K28+N28 -> 9006.1 | C28: =F28+I28+L28+O28 -> 3698.7118 | D28: =C28/B28*100 -> 41.068962 | H28: =Субсидии!B29 -> 8718 | I28: =Субсидии!C29 -> 3561.5625 | J28: =I28/H28*100 -> 40.852977 | K28: ='Субвенции '!B31 -> 288.1 | L28: ='Субвенции '!C31 -> 137.14929 | M28: =L28/K28*100 -> 47.604752 | N28: =Иные!B21 -> 0 | O28: =Иные!C21 -> 0
A29: Ершовское МО | B29: =E29+H29+K29+N29 -> 6403.2 | C29: =F29+I29+L29+O29 -> 47.98708 | D29: =C29/B29*100 -> 0.74942341 | H29: =Субсидии!B30 -> 6288 | I29: =Субсидии!C30 -> 0 | J29: =I29/H29*100 -> 0 | K29: ='Субвенции '!B32 -> 115.2 | L29: ='Субвенции '!C32 -> 47.98708 | M29: =L29/K29*100 -> 41.655451
A30: Кочетовское МО | B30: =E30+H30+K30+N30 -> 9256.8204 | C30: =F30+I30+L30+O30 -> 1507.7211 | D30: =C30/B30*100 -> 16.287678 | H30: =Субсидии!B31 -> 8968.7204 | I30: =Субсидии!C31 -> 1371.1984 | J30: =I30/H30*100 -> 15.288674 | K30: ='Субвенции '!B33 -> 288.1 | L30: ='Субвенции '!C33 -> 136.52269 | M30: =L30/K30*100 -> 47.387258
A31: Лопуховское МО | B31: =E31+H31+K31+N31 -> 7834.2 | C31: =F31+I31+L31+O31 -> 48.82071 | D31: =C31/B31*100 -> 0.62317416 | H31: =Субсидии!B32 -> 7719 | I31: =Субсидии!C32 -> 0 | J31: =I31/H31*100 -> 0 | K31: ='Субвенции '!B34 -> 115.2 | L31: ='Субвенции '!C34 -> 48.82071 | M31: =L31/K31*100 -> 42.379089
A32: Озерное МО | B32: =E32+H32+K32+N32 -> 6103.2 | C32: =F32+I32+L32+O32 -> 23.85832 | D32: =C32/B32*100 -> 0.39091493 | H32: =Субсидии!B33 -> 5988 | I32: =Субсидии!C33 -> 0 | J32: =I32/H32*100 -> 0 | K32: ='Субвенции '!B35 -> 115.2 | L32: ='Субвенции '!C35 -> 23.85832 | M32: =L32/K32*100 -> 20.710347
A33: Песчанское МО | B33: =E33+H33+K33+N33 -> 0 | C33: =F33+I33+L33+O33 -> 0 | H33: =Субсидии!B34 -> 0 | I33: =Субсидии!C34 -> 0 | K33: ='Субвенции '!B36 -> 0 | L33: ='Субвенции '!C36 -> 0
A34: Петровское МО | B34: =E34+H34+K34+N34 -> 0 | C34: =F34+I34+L34+O34 -> 0 | H34: =Субсидии!B35 -> 0 | I34: =Субсидии!C35 -> 0 | K34: ='Субвенции '!B37 -> 0 | L34: ='Субвенции '!C37 -> 0
A35: Тургеневское МО | B35: =E35+H35+K35+N35 -> 0 | C35: =F35+I35+L35+O35 -> 0 | H35: =Субсидии!B36 -> 0 | I35: =Субсидии!C36 -> 0 | K35: ='Субвенции '!B38 -> 0 | L35: ='Субвенции '!C38 -> 0
A36: Языковское МО | B36: =E36+H36+K36+N36 -> 0 | C36: =F36+I36+L36+O36 -> 0 | H36: =Субсидии!B37 -> 0 | I36: =Субсидии!C37 -> 0 | K36: ='Субвенции '!B39 -> 0 | L36: ='Субвенции '!C39 -> 0
A37: Базарно-Карабулакский район (консолидированный) | B37: =E37+H37+K37+N37 -> 614876.15 | C37: =F37+I37+L37+O37 -> 312405.2 | D37: =C37/B37*100 -> 50.807826 | E37: =SUM(E38:E51) -> 134265.2 | F37: =SUM(F38:F51) -> 76112.48 | G37: =F37/E37*100 -> 56.688166 | H37: =SUM(H38:H51) -> 115544.55 | I37: =SUM(I38:I51) -> 27450.169 | J37: =I37/H37*100 -> 23.757218 | K37: =SUM(K38:K51) -> 350154.8 | L37: =SUM(L38:L51) -> 201412.62 | M37: =L37/K37*100 -> 57.521022 | N37: =SUM(N38:N51) -> 14911.6 | O37: =SUM(O38:O51) -> 7429.9342 | P37: =O37/N37*100 -> 49.826539
A38: Базарно-Карабулакский район (собственный) | B38: =E38+H38+K38+N38 -> 560534.83 | C38: =F38+I38+L38+O38 -> 310022.27 | D38: =C38/B38*100 -> 55.308297 | E38: =Дотации!B17 -> 134265.2 | F38: =Дотации!C17 -> 76112.48 | G38: =F38/E38*100 -> 56.688166 | H38: =Субсидии!B39 -> 64431.629 | I38: =Субсидии!C39 -> 27348.129 | J38: =I38/H38*100 -> 42.445192 | K38: ='Субвенции '!B41 -> 348426.4 | L38: ='Субвенции '!C41 -> 200631.73 | M38: =L38/K38*100 -> 57.58224 | N38: =Иные!B23 -> 13411.6 | O38: =Иные!C23 -> 5929.9342 | P38: =O38/N38*100 -> 44.214965
A39: Алексеевское МО | B39: =E39+H39+K39+N39 -> 8524.7361 | C39: =F39+I39+L39+O39 -> 228.3188 | D39: =C39/B39*100 -> 2.6783093 | H39: =Субсидии!B40 -> 8236.6361 | I39: =Субсидии!C40 -> 102.04082 | J39: =I39/H39*100 -> 1.2388652 | K39: ='Субвенции '!B42 -> 288.1 | L39: ='Субвенции '!C42 -> 126.27798 | M39: =L39/K39*100 -> 43.831302
A40: Базарно-Карабулакское МО | B40: =E40+H40+K40+N40 -> 10000 | C40: =F40+I40+L40+O40 -> 0 | D40: =C40/B40*100 -> 0 | H40: =Субсидии!B41 -> 10000 | I40: =Субсидии!C41 -> 0 | J40: =I40/H40*100 -> 0 | N40: =Иные!B24 -> 0 | O40: =Иные!C24 -> 0
A41: Большечечуйское МО | B41: =E41+H41+K41+N41 -> 2281.2 | C41: =F41+I41+L41+O41 -> 50.84268 | D41: =C41/B41*100 -> 2.2287691 | H41: =Субсидии!B42 -> 2166 | I41: =Субсидии!C42 -> 0 | J41: =I41/H41*100 -> 0 | K41: ='Субвенции '!B43 -> 115.2 | L41: ='Субвенции '!C43 -> 50.84268 | M41: =L41/K41*100 -> 44.134271
...

Sheet Дотации
B2: Сведения о предоставлении из бюджета Саратовской области межбюджетных трансфертов местным бюджетам за 1 полугодие 2023 года
M4: тыс.рублей
A5: Наименование муниципальных образований | B5: Дотации, всего | E5: в том числе
E6: бюджетам городских округов области, связанные с особым режимом безопасного функционирования закрытых административно-территориальных образований | H6: на выравнивание бюджетной обеспеченности муниципальных районов (городских округов) области | K6: бюджетам муниципальных районов области на поддержку мер по обеспечению сбалансированности местных бюджетов
B7: утвержденные бюджетные назначения * | C7: исполнено | D7: % исполнения | E7: утвержденные бюджетные назначения * | F7: исполнено | G7: % исполнения | H7: утвержденные бюджетные назначения * | I7: исполнено | J7: % исполнения | K7: утвержденные бюджетные назначения * | L7: исполнено | M7: % исполнения
A8: Муниципальные районы области (консолидированный) | B8: =E8+H8+K8 -> 4274636.7 | C8: =F8+I8+L8 -> 2371817 | D8: =G8+J8+M8 -> 105.79362 | H8: =H11+H13+H15+H17+H19+H21+H24+H26+H28+H30+H32+H34+H36+H38+H40+H42+H44+H46+H48+H50+H52+H54+H56+H58+H60+H62+H64+H66+H68+H70+H72+H74+H76+H78+H80+H82+H84 -> 4047684 | I8: =I11+I13+I15+I17+I19+I21+I24+I26+I28+I30+I32+I34+I36+I38+I40+I42+I44+I46+I48+I50+I52+I54+I56+I58+I60+I62+I64+I66+I68+I70+I72+I74+I76+I78+I80+I82+I84 -> 2258340.1 | J8: =I8/H8*100 -> 55.793389 | K8: =K11+K13+K15+K17+K19+K21+K24+K26+K28+K30+K32+K34+K36+K38+K40+K42+K44+K46+K48+K50+K52+K54+K56+K58+K60+K62+K64+K66+K68+K70+K72+K74+K76+K78+K80+K82+K84 -> 226952.7 | L8: =L11+L13+L15+L17+L19+L21+L24+L26+L28+L30+L32+L34+L36+L38+L40+L42+L44+L46+L48+L50+L52+L54+L56+L58+L60+L62+L64+L66+L68+L70+L72+L74+L76+L78+L80+L82+L84 -> 113476.88 | M8: =L8/K8*100 -> 50.000234
A9: Муниципальные районы области (собственный): | B9: =E9+H9+K9 -> 4274636.7 | C9: =F9+I9+L9 -> 2371817 | D9: =G9+J9+M9 -> 105.79362 | H9: =H12+H14+H16+H18+H20+H22+H25+H27+H29+H31+H33+H35+H37+H39+H41+H43+H45+H47+H49+H51+H53+H55+H57+H59+H61+H63+H65+H67+H69+H71+H73+H75+H77+H79+H81+H83+H85 -> 4047684 | I9: =I12+I14+I16+I18+I20+I22+I25+I27+I29+I31+I33+I35+I37+I39+I41+I43+I45+I47+I49+I51+I53+I55+I57+I59+I61+I63+I65+I67+I69+I71+I73+I75+I77+I79+I81+I83+I85 -> 2258340.1 | J9: =I9/H9*100 -> 55.793389 | K9: =K12+K14+K16+K18+K20+K22+K25+K27+K29+K31+K33+K35+K37+K39+K41+K43+K45+K47+K49+K51+K53+K55+K57+K59+K61+K63+K65+K67+K69+K71+K73+K75+K77+K79+K81+K83+K85 -> 226952.7 | L9: =L12+L14+L16+L18+L20+L22+L25+L27+L29+L31+L33+L35+L37+L39+L41+L43+L45+L47+L49+L51+L53+L55+L57+L59+L61+L63+L65+L67+L69+L71+L73+L75+L77+L79+L81+L83+L85 -> 113476.88 | M9: =L9/K9*100 -> 50.000234
A10: Поселения: | B10: =E10+H10+K10 -> 0 | C10: =F10+I10+L10 -> 0 | D10: =G10+J10+M10 -> 0 | H10: =H23+H86 -> 0 | I10: =I23+I86 -> 0 | K10: =K23+K86 -> 0 | L10: =L23+L86 -> 0
A11: Александрово-Гайский (консолидированный) | B11: =E11+H11+K11 -> 105285.5 | C11: =F11+I11+L11 -> 57097.15 | D11: =C11/B11*100 -> 54.230782 | H11: =H12 -> 89081.9 | I11: =I12 -> 48995.05 | J11: =I11/H11*100 -> 55.000006 | K11: =K12 -> 16203.6 | L11: =L12 -> 8102.1 | M11: =L11/K11*100 -> 50.001851
A12: Александрово-Гайский (собственный) | B12: =E12+H12+K12 -> 105285.5 | C12: =F12+I12+L12 -> 57097.15 | D12: =C12/B12*100 -> 54.230782 | H12: 89081.9 | I12: 48995.05 | J12: =I12/H12*100 -> 55.000006 | K12: 16203.6 | L12: 8102.1 | M12: =L12/K12*100 -> 50.001851
A13: Аркадакский (консолидированный) | B13: =E13+H13+K13 -> 73095.2 | C13: =F13+I13+L13 -> 40202.28 | D13: =C13/B13*100 -> 54.999891 | H13: =H14 -> 73095.2 | I13: =I14 -> 40202.28 | J13: =I13/H13*100 -> 54.999891 | K13: =K14 -> 0 | L13: =L14 -> 0
A14: Аркадакский (собственный) | B14: =E14+H14+K14 -> 73095.2 | C14: =F14+I14+L14 -> 40202.28 | D14: =C14/B14*100 -> 54.999891 | H14: 73095.2 | I14: 40202.28 | J14: =I14/H14*100 -> 54.999891
A15: Аткарский район (консолидированный) | B15: =E15+H15+K15 -> 158532.1 | C15: =F15+I15+L15 -> 87192.75 | D15: =C15/B15*100 -> 55.00006 | H15: =H16 -> 158532.1 | I15: =I16 -> 87192.75 | J15: =I15/H15*100 -> 55.00006 | K15: =K16 -> 0 | L15: =L16 -> 0
A16: Аткарский район (собственный) | B16: =E16+H16+K16 -> 158532.1 | C16: =F16+I16+L16 -> 87192.75 | D16: =C16/B16*100 -> 55.00006 | H16: 158532.1 | I16: 87192.75 | J16: =I16/H16*100 -> 55.00006
A17: Базарно-Карабулакский (консолидированный) | B17: =E17+H17+K17 -> 134265.2 | C17: =F17+I17+L17 -> 76112.48 | D17: =C17/B17*100 -> 56.688166 | H17: =H18 -> 134265.2 | I17: =I18 -> 76112.48 | J17: =I17/H17*100 -> 56.688166 | K17: =K18 -> 0 | L17: =L18 -> 0
A18: Базарно-Карабулакский (собственный) | B18: =E18+H18+K18 -> 134265.2 | C18: =F18+I18+L18 -> 76112.48 | D18: =C18/B18*100 -> 56.688166 | H18: 134265.2 | I18: 76112.48 | J18: =I18/H18*100 -> 56.688166
A19: Балаковский (консолидированный) | B19: =E19+H19+K19 -> 0 | C19: =F19+I19+L19 -> 0 | H19: =H20 -> 0 | I19: =I20 -> 0 | K19: =K20 -> 0 | L19: =L20 -> 0
A20: Балаковский (собственный) | B20: =E20+H20+K20 -> 0 | C20: =F20+I20+L20 -> 0
A21: Балашовский (консолидированный) | B21: =E21+H21+K21 -> 220233.6 | C21: =F21+I21+L21 -> 137929.18 | D21: =C21/B21*100 -> 62.628582 | H21: =H22+H23 -> 220233.6 | I21: =I22+I23 -> 137929.18 | J21: =I21/H21*100 -> 62.628582 | K21: =K22+K23 -> 0 | L21: =L22+L23 -> 0
A22: Балашовский (собственный) | B22: =E22+H22+K22 -> 220233.6 | C22: =F22+I22+L22 -> 137929.18 | D22: =C22/B22*100 -> 62.628582 | H22: 220233.6 | I22: 137929.18 | J22: =I22/H22*100 -> 62.628582
A23: город Балашов | B23: =E23+H23+K23 -> 0 | C23: =F23+I23+L23 -> 0
A24: Балтайский (консолидированный) | B24: =E24+H24+K24 -> 76846.7 | C24: =F24+I24+L24 -> 41255.55 | D24: =C24/B24*100 -> 53.685519 | H24: =H25 -> 56645.2 | I24: =I25 -> 31155.05 | J24: =I24/H24*100 -> 55.000335 | K24: =K25 -> 20201.5 | L24: =L25 -> 10100.5 | M24: =L24/K24*100 -> 49.998762
A25: Балтайский (собственный) | B25: =E25+H25+K25 -> 76846.7 | C25: =F25+I25+L25 -> 41255.55 | D25: =C25/B25*100 -> 53.685519 | H25: 56645.2 | I25: 31155.05 | J25: =I25/H25*100 -> 55.000335 | K25: 20201.5 | L25: 10100.5 | M25: =L25/K25*100 -> 49.998762
A26: Вольский (консолидированный) | B26: =E26+H26+K26 -> 113242.4 | C26: =F26+I26+L26 -> 62283.3 | D26: =C26/B26*100 -> 54.999982 | H26: =H27 -> 113242.4 | I26: =I27 -> 62283.3 | J26: =I26/H26*100 -> 54.999982 | K26: =K27 -> 0 | L26: =L27 -> 0
A27: Вольский (собственный) | B27: =E27+H27+K27 -> 113242.4 | C27: =F27+I27+L27 -> 62283.3 | D27: =C27/B27*100 -> 54.999982 | H27: 113242.4 | I27: 62283.3 | J27: =I27/H27*100 -> 54.999982
A28: Воскресенский (консолидированный) | B28: =E28+H28+K28 -> 62697.2 | C28: =F28+I28+L28 -> 34483.53 | D28: =C28/B28*100 -> 55.000112 | H28: =H29 -> 62697.2 | I28: =I29 -> 34483.53 | J28: =I28/H28*100 -> 55.000112
A29: Воскресенский (собственный) | B29: =E29+H29+K29 -> 62697.2 | C29: =F29+I29+L29 -> 34483.53 | D29: =C29/B29*100 -> 55.000112 | H29: 62697.2 | I29: 34483.53 | J29: =I29/H29*100 -> 55.000112
A30: Дергачевский (консолидированный) | B30: =E30+H30+K30 -> 136731.3 | C30: =F30+I30+L30 -> 75202.18 | D30: =C30/B30*100 -> 54.999974 | H30: =H31 -> 136731.3 | I30: =I31 -> 75202.18 | J30: =I30/H30*100 -> 54.999974 | K30: =K31 -> 0 | L30: =L31 -> 0
A31: Дергачевский (собственный) | B31: =E31+H31+K31 -> 136731.3 | C31: =F31+I31+L31 -> 75202.18 | D31: =C31/B31*100 -> 54.999974 | H31: 136731.3 | I31: 75202.18 | J31: =I31/H31*100 -> 54.999974
A32: Духовницкий (консолидированный) | B32: =E32+H32+K32 -> 49880.9 | C32: =F32+I32+L32 -> 28901.23 | D32: =C32/B32*100 -> 57.940474 | H32: =H33 -> 49880.9 | I32: =I33 -> 28901.23 | J32: =I32/H32*100 -> 57.940474
A33: Духовницкий (собственный) | B33: =E33+H33+K33 -> 49880.9 | C33: =F33+I33+L33 -> 28901.23 | D33: =C33/B33*100 -> 57.940474 | H33: 49880.9 | I33: 28901.23 | J33: =I33/H33*100 -> 57.940474
A34: Екатериновский (консолидированный) | B34: =E34+H34+K34 -> 51297.8 | C34: =F34+I34+L34 -> 27117.65 | D34: =C34/B34*100 -> 52.863183 | H34: =H35 -> 29367.6 | I34: =I35 -> 16152.35 | J34: =I34/H34*100 -> 55.000579 | K34: =K35 -> 21930.2 | L34: =L35 -> 10965.3 | M34: =L34/K34*100 -> 50.000912
A35: Екатериновский (собственный) | B35: =E35+H35+K35 -> 51297.8 | C35: =F35+I35+L35 -> 27117.65 | D35: =C35/B35*100 -> 52.863183 | H35: 29367.6 | I35: 16152.35 | J35: =I35/H35*100 -> 55.000579 | K35: 21930.2 | L35: 10965.3 | M35: =L35/K35*100 -> 50.000912
A36: Ершовский (консолидированный) | B36: =E36+H36+K36 -> 127836.5 | C36: =F36+I36+L36 -> 70310.08 | D36: =C36/B36*100 -> 55.000004 | H36: =H37 -> 127836.5 | I36: =I37 -> 70310.08 | J36: =I36/H36*100 -> 55.000004
A37: Ершовский (собственный) | B37: =E37+H37+K37 -> 127836.5 | C37: =F37+I37+L37 -> 70310.08 | D37: =C37/B37*100 -> 55.000004 | H37: 127836.5 | I37: 70310.08 | J37: =I37/H37*100 -> 55.000004
A38: Ивантеевский (консолидированный) | B38: =E38+H38+K38 -> 83886 | C38: =F38+I38+L38 -> 43634.47 | D38: =C38/B38*100 -> 52.016391 | H38: =H39 -> 33832.8 | I38: =I39 -> 18608.13 | J38: =I38/H38*100 -> 55.000266 | K38: =K39 -> 50053.2 | L38: =L39 -> 25026.34 | M38: =L38/K38*100 -> 49.999481
A39: Ивантеевский (собственный) | B39: =E39+H39+K39 -> 83886 | C39: =F39+I39+L39 -> 43634.47 | D39: =C39/B39*100 -> 52.016391 | H39: 33832.8 | I39: 18608.13 | J39: =I39/H39*100 -> 55.000266 | K39: 50053.2 | L39: 25026.34 | M39: =L39/K39*100 -> 49.999481
A40: Калининский (консолидированный) | B40: =E40+H40+K40 -> 90381.6 | C40: =F40+I40+L40 -> 49709.88 | D40: =C40/B40*100 -> 55 | H40: =H41 -> 90381.6 | I40: =I41 -> 49709.88 | J40: =I40/H40*100 -> 55
A41: Калининский (собственный) | B41: =E41+H41+K41 -> 90381.6 | C41: =F41+I41+L41 -> 49709.88 | D41: =C41/B41*100 -> 55 | H41: 90381.6 | I41: 49709.88 | J41: =I41/H41*100 -> 55
A42: Красноармейский (консолидированный) | B42: =E42+H42+K42 -> 202275.1 | C42: =F42+I42+L42 -> 111251.23 | D42: =C42/B42*100 -> 54.999963 | H42: =H43 -> 202275.1 | I42: =I43 -> 111251.23 | J42: =I42/H42*100 -> 54.999963 | K42: =K43 -> 0
...

Sheet Субсидии
BH1: Продолжение таблицы | CL1: Продолжение таблицы | DP1: Продолжение таблицы | ET1: Продолжение таблицы | FX1: Продолжение таблицы | GS1: Продолжение таблицы
B2: Сведения о предоставлении из бюджета Саратовской области межбюджетных трансфертов местным бюджетам за 1 полугодие 2023 года | AF2: Сведения о предоставлении из бюджета Саратовской области межбюджетных трансфертов местным бюджетам за 1 полугодие 2023 года | BJ2: Сведения о предоставлении из бюджета Саратовской области межбюджетных трансфертов местным бюджетам за 1 полугодие 2023 года | CN2: Сведения о предоставлении из бюджета Саратовской области межбюджетных трансфертов местным бюджетам за 1 полугодие 2023 года | DR2: Сведения о предоставлении из бюджета Саратовской области межбюджетных трансфертов местным бюджетам за 1 полугодие 2023 года | EV2: Сведения о предоставлении из бюджета Саратовской области межбюджетных трансфертов местным бюджетам за 1 полугодие 2023 года | FZ2: Сведения о предоставлении из бюджета Саратовской области межбюджетных трансфертов местным бюджетам за 1 полугодие 2023 года
AD4: тыс.рублей | BH4: тыс.рублей | CL4: тыс.рублей | CZ4: =CZ8-CZ10 -> 0 | DO4: тыс.рублей | ES4: тыс.рублей | FW4: тыс.рублей | GR4: тыс.рублей
A5: Наименование муниципальных образований | B5: Субсидии, всего | E5: в том числе | AF5: в том числе | BJ5: в том числе | CN5: в том числе | EV5: в том числе | FZ5: в том числе
E6: бюджетам муниципальных районов и городских округов области на обновление материально-технической базы для организации учебно-исследовательской, научно-практической, творческой деятельности, занятий физической культурой и спортом в общеобразовательных организациях | H6: бюджетам муниципальных районов области на достижение показателей результативности по обеспечению развития и укрепления материально-технической базы домов культуры в населенных пунктах с числом жителей до 50 тысяч человек | K6: бюджетам городских округов области на создание новых мест в общеобразовательных организациях | N6: бюджетам муниципальных районов области на создание новых мест в общеобразовательных организациях, расположенных в сельской местности и поселках городского типа | Q6: бюджетам городских округов области на создание новых мест в общеобразовательных организациях в связи с ростом числа обучающихся, вызванным демографическим фактором | T6: бюджетам муниципальных районов области на реализацию мероприятий по созданию «умной» спортивной площадки | W6: бюджетам муниципальных районов и городских округов области на обеспечение жильем молодых семей | Z6: бюджетам городских округов и поселений области на реализацию регионального проекта (программы) в целях выполнения задач федерального проекта «Жилье» (Стимулирование программ развития жилищного строительства) | AC6: бюджетам муниципальных районов и поселений области на поддержку творческой деятельности и укрепление материально-технической базы муниципальных театров в населенных пунктах с численностью населения до 300 тысяч человек | AF6: бюджетам муниципальных районов и поселений области на обеспечение развития и укрепления материально-технической базы домов культуры в населенных пунктах с числом жителей до 50 тысяч человек | AI6: бюджетам муниципальных районов и городских округов области на поддержку отрасли культуры (государственная поддержка лучших сельских учреждений культуры) | AL6: бюджетам муниципальных районов и городских округов области на поддержку отрасли культуры (государственная поддержка лучших работников сельских учреждений культуры) | AO6: бюджетам муниципальных районов, поселений и городских округов области на государственную поддержку отрасли культуры (комплектование книжных фондов муниципальных общедоступных библиотек) | AR6: бюджетам городских округов области на поддержку отрасли культуры (модернизация региональных и муниципальных детских школ искусств по видам искусств) | AU6: бюджетам муниципальных районов области на обеспечение деятельности муниципальных бизнес-инкубаторов | AX6: бюджетам городских округов, городских и сельских поселений области на реализацию инициативных проектов | BA6: бюджетам городских округов и поселений области на поддержку муниципальных программ формирования современной городской среды | BD6: бюджетам муниципальных районов и городских округов области на обеспечение сохранения достигнутых показателей повышения оплаты труда отдельных категорий работников бюджетной сферы | BG6: бюджетам муниципальных районов области на развитие сети учреждений культурно-досугового типа (создание и модернизация учреждений культурно-досугового типа, строительство дома культуры) | BJ6: бюджетам муниципальных районов и поселений области на развитие сети учреждений культурно-досугового типа (создание центров культурного развития в городах с числом жителей до 300 тысяч человек) | BM6: бюджетам муниципальных районов и городских округов области на обеспечение условий для создания центров образования цифрового и гуманитарного профилей (в рамках достижения соответствующих результатов федерального проекта) в части расходов на оплату труда с начислениями | BP6: бюджетам муниципальных районов и городских округов области на обеспечение условий для создания центров образования цифрового и гуманитарного профилей (в рамках достижения соответствующих результатов федерального проекта) за исключением расходов на оплату труда с начислениями | BS6: бюджетам городских округов и поселений области на реализацию мероприятий по строительству и реконструкции (модернизации) объектов питьевого водоснабжения | BV6: бюджетам муниципальных районов, городских округов и поселений области на обустройство и восстановление воинских захоронений, находящихся в государственной (муниципальной) собственности | BY6: бюджетам городских округов области на осуществление дорожной деятельности в отношении автомобильных дорог общего пользования местного значения Саратовской агломерации в границах городских округов области за счет средств областного дорожного фонда (в рамках достижения соответствующих задач федерального проекта) | CB6: бюджетам поселений области на осуществление дорожной деятельности в отношении автомобильных дорог общего пользования местного значения Саратовской агломерации в границах городских поселений области за счет средств областного дорожного фонда (в рамках достижения соответствующих задач федерального проекта) | CE6: бюджетам муниципальных районов и поселений области на развитие транспортной инфраструктуры на сельских территориях | CH6: бюджетам поселений области на обустройство объектами инженерной инфраструктуры и благоустройство площадок, расположенных на сельских территориях, под компактную жилищную застройку | CK6: бюджетам муниципальных районов области на реализацию мероприятий по благоустройству сельских территорий | CN6: бюджетам муниципальных районов и городских округов области на обеспечение условий для внедрения цифровой образовательной среды в общеобразовательных организациях | CQ6: бюджетам муниципальных районов области на обеспечение функционирования центров цифрового образования детей «IT-куб» (в рамках достижения соответствующих результатов федерального проекта) в части расходов на оплату труда с начислениями | CT6: бюджетам муниципальных районов области на обеспечение функционирования центров цифрового образования детей «IT-куб» (в рамках достижения соответствующих результатов федерального проекта) за исключением расходов на оплату труда с начислениями | CW6: бюджетам муниципальных районов и городских округов области на организацию бесплатного горячего питания обучающихся, получающих начальное общее образование в муниципальных образовательных организациях | CZ6: бюджетам поселений области на осуществление дорожной деятельности в отношении автомобильных дорог общего пользования местного значения в границах населенных пунктов сельских поселений за счет средств областного дорожного фонда | DC6: бюджетам муниципальных районов и городских округов области на обеспечение условий для функционирования центров образования естественно-научной и технологической направленностей в общеобразовательных организациях (в рамках достижения соответствующих результатов федерального проекта) в части расходов на оплату труда с начислениями | DF6: бюджетам муниципальных районов и городских округов области на обеспечение условий для функционирования центров образования естественно-научной и технологической направленностей в общеобразовательных организациях (в рамках достижения соответствующих результатов федерального проекта) за исключением расходов на оплату труда с начислениями | DI6: бюджетам муниципальных районов и городских округов области на проведение капитального и текущего ремонтов муниципальных дошкольных образовательных организациях | DL6: бюджетам муниципальных районов и городских округов области на проведение капитального и текущего ремонтов муниципальных общеобразовательных организациях | DO6: бюджетам муниципальных районов области на обеспечение условий для функционирования детских технопарков «Кванториум» в общеобразовательных организациях в части расходов на оплату труда с начислениями | DR6: бюджетам муниципальных районов области на обеспечение условий для функционирования детских технопарков «Кванториум» в общеобразовательных организациях за исключением расходов на оплату труда с начислениями | DU6: бюджетам муниципальных районов, городских округов и поселений области на техническое оснащение региональных и муниципальных музеев | DX6: бюджетам городских округов области на поддержку творческой деятельности и техническое оснащение детских и кукольных театров | EA6: бюджетам муниципальных районов и городских округов области на проведение комплексных кадастровых работ | ED6: бюджетам муниципальных районов, поселений области на оснащение объектов спортивной инфраструктуры спортивно-технологическим оборудованием | EG6: бюджетам поселений области на ремонт и развитие водопроводной сети | EJ6: бюджетам муниципальных районов и городских округов области на реализацию мероприятий по модернизации школьных систем образования | EM6: бюджетам муниципальных районов и городских округов области на обеспечение условий для реализации мероприятий по модернизации школьных систем образования | EP6: бюджетам муниципальных районов, городских округов и поселений области на обеспечение мероприятий по переселению граждан из аварийного жилищного фонда, в том числе переселению граждан из аварийного жилищного фонда с учетом необходимости развития малоэтажного жилищного строительства (ППК «Фонд развития территорий») | ES6: бюджетам муниципальных районов, городских округов и поселений области на обеспечение мероприятий по переселению граждан из аварийного жилищного фонда, в том числе переселению граждан из аварийного жилищного фонда с учетом необходимости развития малоэтажного жилищного строительства (за счет средств областного бюджета) | EV6: бюджетам поселений области на выполнение мероприятий по ремонту автомобильных дорог общего пользования местного значения в границах городских поселений области за счет средств областного дорожного фонда | EY6: бюджетам поселений на ликвидацию несанкционированных свалок в границах городов и наиболее опасных объектов накопленного вреда окружающей среде | FB6: бюджетам муниципальных районов и поселений области на создание, реконструкцию (модернизацию), капитальный ремонт объектов социальной и культурной сферы | FE6: бюджетам городских округов области на приведение в нормативное состояние автомобильных дорог местного значения и искусственных дорожных сооружений на них в границах городских округов области | FH6: бюджетам муниципальных районов и городских округов области на проведение капитального и текущего ремонта спортивных залов муниципальных образовательных организаций | FK6: бюджетам муниципальных районов и городских округов области на оснащение (обновление материально-технической базы) оборудованием, средствами обучения и воспитания общеобразовательных организаций, в том числе осуществляющих образовательную деятельность по адаптированным основным общеобразовательным программам | FN6: бюджетам муниципальных районов и городских округов области на оснащение (обновление материально-технической базы) оборудованием, средствами обучения и воспитания образовательных организаций различных типов для реализации дополнительных общеразвивающих программ, для создания информационных систем в образовательных организациях | FQ6: бюджетам муниципальных районов и городских округов области на обновление материально-технической базы образовательных организаций для внедрения цифровой образовательной среды и развития цифровых навыков обучающихся в общеобразовательных организациях | FT6: бюджетам муниципальных районов и городских округов области на обновление материально-технической базы образовательных организаций для внедрения цифровой образовательной среды и развития цифровых навыков обучающихся в организациях дополнительного образования детей | FW6: бюджетам муниципальных районов и поселений области на реконструкцию и капитальный ремонт региональных и муниципальных музеев | FZ6: бюджетам городских округов области на государственную поддержку в целях обеспечения реализации инфраструктурных проектов, направленных на комплексное развитие городского наземного электрического транспорта и автомобильного транспорта общего пользования, выполнение работ по освещению и благоустройству территорий, а также на закупку автобусов, приводимых в движение электрической энергией от батареи, заряжаемой от внешнего источника (электробусов), и объектов зарядной инфраструктуры для них (реализация инфраструктурных проектов, направленных на комплексное развитие городского наземного электрического транспорта) | GC6: бюджетам городских округов области на государственную поддержку в целях обеспечения реализации инфраструктурных проектов, направленных на комплексное развитие городского наземного электрического транспорта и автомобильного транспорта общего пользования, выполнение работ по освещению и благоустройству территорий, а также на закупку автобусов, приводимых в движение электрической энергией от батареи, заряжаемой от внешнего источника (электробусов), и объектов зарядной инфраструктуры для них (закупка автобусов, приводимых в движение электрической энергией от батареи, заряжаемой от внешнего источника (электробусов), и объектов зарядной инфраструктуры для них) | GF6: бюджетам городских округов области на создание новых мест в общеобразовательных организациях (в целях опережающего финансового обеспечения расходных обязательств области) за счет бюджетного кредита в целях опережающего финансового обеспечения расходных обязательств области | GI6: бюджетам городских округов области на создание новых мест в общеобразовательных организациях (в целях опережающего финансового обеспечения расходных обязательств области) за счет средств областного бюджета | GL6: бюджетам городских округов области на развитие и увеличение пропускной способности сети автомобильных дорог общего пользования местного значения за счет средств областного дорожного фонда | GO6: бюджетам муниципальных районов области на создание и внедрение программы поддержки и продвижения событийных мероприятий | GR6: бюджетам поселений области на достижение целевых показателей, предусматривающих мероприятия по решению неотложных задач по приведению в нормативное состояние автомобильных дорог местного значения городских поселений области, входящих в состав Саратовской агломерации, за счет средств областного дорожного фонда
