Workbook

Sheet Итого по видам(с учет нераспр.)
A1: Сведения о предоставлении из бюджета Саратовской области межбюджетных трансфертов местным бюджетам
A2: за 2022 год
G3: тыс. рублей
A4: № п/п | B4: Наименование | C4: Код бюджетной классификации | D4: Закон Саратовской области «Об областном бюджете на 2022 год и на плановый период 2023 и 2024 годов» | F4: Исполнение | G4: % исполнения
D5: первоначальный бюджет (ред. 140-ЗСО от 02.12.2021) | E5: уточненный бюджет (ред. 170-ЗСО от 26.12.2022) + бюджетная роспись
A6: 1 | B6: 2 | C6: 3 | D6: 4 | E6: 5 | F6: 6 | G6: 7
A7: 1. | B7: Дотация - всего | D7: =SUM(D8:D13) -> 3757267.1 | E7: =SUM(E8:E13) -> 4658965.9 | F7: =SUM(F8:F13) -> 4658965.9 | G7: =F7/E7*100 -> 100
A8: 1.1. | B8: Дотация бюджетам городских округов области, связанные с особым режимом безопасного функционирования закрытых административно-территориальных образований | C8: 000 1402 6640150100 512 | D8: =Дотации!F93 -> 0 | E8: =Дотации!G93 -> 37735 | F8: =Дотации!H93 -> 37735 | G8: =F8/E8*100 -> 100
A9: 1.2. | B9: Дотация на выравнивание бюджетной обеспеченности муниципальных районов (городских округов) области | C9: 000 1401 6640170200 511 | D9: =Дотации!J93 -> 3434503.3 | E9: =Дотации!K93 -> 3498129 | F9: =Дотации!L93 -> 3498129 | G9: =F9/E9*100 -> 100
A10: 1.3. | B10: Дотация бюджетам муниципальных районов и городских округов области на поддержку мер по обеспечению сбалансированности местных бюджетов | C10: 000 1402 6640170300 512 | D10: =Дотации!N93 -> 322763.8 | E10: =Дотации!O93 -> 657280.1 | F10: =Дотации!P93 -> 657280.1 | G10: =F10/E10*100 -> 100
A11: 1.4. | B11: Дотация бюджетам муниципальных районов и городских округов области на компенсацию дополнительных расходов на повышение оплаты труда некоторых категорий работников муниципальных учреждений в связи с увеличением минимального размера оплаты труда | C11: 000 1402 6640170700 512 | D11: =Дотации!R93 -> 0 | E11: =Дотации!S93 -> 182121.8 | F11: =Дотации!T93 -> 182121.8 | G11: =F11/E11*100 -> 100
A12: 1.5. | B12: Дотация бюджетам городских округов и поселений области на премирование победителей Всероссийского конкурса «Лучшая муниципальная практика» | C12: 000 1402 9610053990 512 | D12: =Дотации!V93 -> 0 | E12: =Дотации!W93 -> 83700 | F12: =Дотации!X93 -> 83700 | G12: =F12/E12*100 -> 100
A13: 1.6. | B13: Дотация бюджетам муниципальных районов и городских округов области на частичную компенсацию расходов, связанных с выплатой заработной платы, финансовое обеспечение которой осуществляется за счет средств местных бюджетов | C13: 000 1402 6640170800 512 | D13: =Дотации!Z93 -> 0 | E13: =Дотации!AA93 -> 200000 | F13: =Дотации!AB93 -> 200000 | G13: =F13/E13*100 -> 100
A14: 2. | B14: Субсидии - всего | D14: =SUM(D15:D82) -> 8691587 | E14: =SUM(E15:E82) -> 16937372 | F14: =SUM(F15:F82) -> 14255625 | G14: =F14/E14*100 -> 84.166686
A15: 2.1. | B15: Субсидия бюджетам муниципальных районов и городских округов области на создание в общеобразовательных организациях, расположенных в сельской местности и малых городах, условий для занятий физической культурой и спортом | C15: 000 0702 5A2E250970 521 | D15: =Субсидии!F395 -> 16678.78 | E15: =Субсидии!G395 -> 16678.78 | F15: =Субсидии!H395 -> 16678.78 | G15: =F15/E15*100 -> 100
A16: 2.2. | B16: Субсидия бюджетам муниципальных районов и городских округов области на создание новых мест в образовательных организациях различных типов для реализации дополнительных общеразвивающих программ всех направленностей | C16: 000 0703 5A2E254910 523 | D16: =Субсидии!J395 -> 4580.1 | E16: =Субсидии!K395 -> 4580.1 | F16: =Субсидии!L395 -> 4580.0386 | G16: =F16/E16*100 -> 99.998659
A17: 2.3. | B17: Субсидии бюджетам городских округов области на создание новых мест в общеобразовательных организациях * | C17: 000 0702 5A2E155200 523 | D17: =Субсидии!N395 -> 364196.2 | E17: =Субсидии!O395 -> 449871.8 | F17: =Субсидии!P395 -> 449426.98 | G17: =F17/E17*100 -> 99.901122
A18: 2.4. | B18: Субсидия бюджетам муниципальных районов области на создание новых мест в общеобразовательных организациях, расположенных в сельской местности и поселках городского типа | C18: 000 0702 5A2E152300 523 | D18: =Субсидии!R395 -> 72454.796 | E18: =Субсидии!S395 -> 72454.796 | F18: =Субсидии!T395 -> 72454.796 | G18: =F18/E18*100 -> 100
A19: 2.5. | B19: Субсидия бюджетам городских округов области на создание новых мест в общеобразовательных организациях в связи с ростом числа обучающихся, вызванным демографическим фактором 3* | C19: 000 0702 5A2E153050 523 | D19: =Субсидии!V395 -> 475429.8 | E19: =Субсидии!W395 -> 503941.4 | F19: =Субсидии!X395 -> 503941.4 | G19: =F19/E19*100 -> 100
A20: 2.6. | B20: Субсидия бюджетам городских округов области на создание новых мест в общеобразовательных организациях в связи с ростом числа обучающихся, вызванным демографическим фактором, за счет резервного фонда Правительства Российской Федерации 10* | C20: 000 0702 5A2E15305F 523 | D20: =Субсидии!Z395 -> 0 | E20: =Субсидии!AA395 -> 86448.199 | F20: =Субсидии!AB395 -> 86448.199 | G20: =F20/E20*100 -> 100
A21: 2.7. | B21: Субсидия бюджетам городских округов области на создание новых мест в общеобразовательных организациях в связи с ростом числа обучающихся, вызванным демографическим фактором (в рамках достижения соответствующих результатов федерального проекта) 3* | C21: 000 0702 5A2E1U3050 523 | D21: =Субсидии!AD395 -> 0 | E21: =Субсидии!AE395 -> 200000 | F21: =Субсидии!AF395 -> 199999.71 | G21: =F21/E21*100 -> 99.999853
A22: 2.8. | B22: Субсидия бюджетам муниципальных районов и городских округов области на обеспечение жильем молодых семей | C22: 000 1004 5E301R4970 521 | D22: =Субсидии!AH395 -> 59232.508 | E22: =Субсидии!AI395 -> 59232.5 | F22: =Субсидии!AJ395 -> 57625.835 | G22: =F22/E22*100 -> 97.287528
A23: 2.9. | B23: Субсидия бюджетам городских округов и поселений области на реализацию регионального проекта (программы) в целях выполнения задач федерального проекта «Жилье» (Стимулирование программ развития жилищного строительства) 5* | C23: 000 1403 5E1F150210 523 | D23: =Субсидии!AL395 -> 0 | E23: =Субсидии!AM395 -> 780826.53 | F23: =Субсидии!AN395 -> 780826.53 | G23: =F23/E23*100 -> 100
A24: 2.10. | B24: Субсидия бюджетам муниципальных районов и поселений области на поддержку творческой деятельности и укрепление материально-технической базы муниципальных театров в населенных пунктах с численностью населения до 300 тысяч человек | C24: 000 0801 55206R4660 521 | D24: =Субсидии!AP395 -> 5763.0337 | E24: =Субсидии!AQ395 -> 5763.0337 | F24: =Субсидии!AR395 -> 5763.0337 | G24: =F24/E24*100 -> 100
A25: 2.11. | B25: Субсидия бюджетам муниципальных районов и поселений области на обеспечение развития и укрепления материально-технической базы домов культуры в населенных пунктах с числом жителей до 50 тысяч человек | C25: 000 0801 55A12R4670 521 | D25: =Субсидии!AT395 -> 36826.658 | E25: =Субсидии!AU395 -> 36826.629 | F25: =Субсидии!AV395 -> 36826.629 | G25: =F25/E25*100 -> 100
A26: 2.12. | B26: Субсидия бюджетам муниципальных районов и поселений области на поддержку отрасли культуры на государственную поддержку лучших сельских учреждений культуры | C26: 000 0801 55БA255192 523 | D26: =Субсидии!AX395 -> 2346.9389 | E26: =Субсидии!AY395 -> 2346.9389 | F26: =Субсидии!AZ395 -> 2346.9389 | G26: =F26/E26*100 -> 100
A27: 2.13. | B27: Субсидия бюджетам муниципальных районов и поселений области на поддержку отрасли культуры на государственную поддержку лучших работников сельских учреждений культуры | C27: 000 0801 55БA255194 523 | D27: =Субсидии!BB395 -> 867.34714 | E27: =Субсидии!BC395 -> 867.34714 | F27: =Субсидии!BD395 -> 867.34714 | G27: =F27/E27*100 -> 100
A28: 2.14. | B28: Субсидия бюджетам муниципальных районов и поселений области на поддержку отрасли культуры на комплектование книжных фондов муниципальных общедоступных библиотек | C28: 000 0801 55402R5191 523 | D28: =Субсидии!BF395 -> 10898.777 | E28: =Субсидии!BG395 -> 10898.777 | F28: =Субсидии!BH395 -> 10898.777 | G28: =Субсидии!BI395 -> 100
A29: 2.15. | B29: Субсидия бюджетам муниципальных районов и поселений области на поддержку отрасли культуры на приобретение музыкальных инструментов, оборудования и материалов для детских школ искусств по видам искусств | C29: 000 0703 55AA155199 523 | D29: =Субсидии!BJ395 -> 0 | E29: =Субсидии!BK395 -> 1503.591 | F29: =Субсидии!BL395 -> 1503.591 | G29: =F29/E29*100 -> 100
A30: 2.16. | B30: Субсидия бюджетам муниципальных районов и поселений области на поддержку отрасли культуры на модернизация региональных и муниципальных детских школ искусств по видам искусств | C30: 000 0703 55AA155195 523 | D30: =Субсидии!BN395 -> 20518.6 | E30: =Субсидии!BO395 -> 20518.6 | F30: =Субсидии!BP395 -> 20518.6 | G30: =F30/E30*100 -> 100
A31: 2.17. | B31: Субсидия бюджетам муниципальных районов области на обеспечение деятельности муниципальных бизнес-инкубаторов | C31: 000 0412 5830171100 521 | D31: =Субсидии!BR395 -> 5300 | E31: =Субсидии!BS395 -> 5300 | F31: =Субсидии!BT395 -> 5300 | G31: =F31/E31*100 -> 100
A32: 2.18. | B32: Субсидия бюджетам городских округов, городских и сельских поселений области на реализацию инициативных проектов 7* | C32: 000 0113 6640572100 523 | D32: =Субсидии!BV395 -> 140000 | E32: =Субсидии!BW395 -> 140000 | F32: =Субсидии!BX395 -> 138473.02 | G32: =F32/E32*100 -> 98.909299
A33: 2.19. | B33: Субсидия бюджетам городских округов и поселений области на поддержку муниципальных программ формирования современной городской среды 4* | C33: 000 0503 691F255550 523 | D33: =Субсидии!BZ395 -> 693373.11 | E33: =Субсидии!CA395 -> 693373.06 | F33: =Субсидии!CB395 -> 693373.06 | G33: =F33/E33*100 -> 99.999999
A34: 2.20. | B34: Субсидия бюджетам муниципальных районов и городских округов области на обеспечение сохранения достигнутых показателей повышения оплаты труда отдельных категорий работников бюджетной сферы | C34: 000 1403 6640172500 521 | D34: =Субсидии!CD395 -> 1332228.3 | E34: =Субсидии!CE395 -> 1332228.3 | F34: =Субсидии!CF395 -> 1297723 | G34: =F34/E34*100 -> 97.409956
A35: 2.21. | B35: Субсидия бюджетам муниципальных районов и городских округов области на повышение оплаты труда отдельным категориям работников бюджетной сферы | C35: 000 1403 664017252Д 521 | D35: =Субсидии!CH395 -> 0 | E35: =Субсидии!CI395 -> 151700.9 | F35: =Субсидии!CJ395 -> 148829.6 | G35: =F35/E35*100 -> 98.107265
A36: 2.22. | B36: Субсидия бюджетам муниципальных районов области на развитие сети учреждений культурно-досугового типа (создание и модернизация учреждений культурно-досугового типа) | C36: 000 0801 55AA155131 523 | D36: =Субсидии!CL395 -> 33126.4 | E36: =Субсидии!CM395 -> 33126.4 | F36: =Субсидии!CN395 -> 33126.4 | G36: =F36/E36*100 -> 100
A37: 2.23. | B37: Субсидия бюджетам поселений области на развитие сети учреждений культурно-досугового типа (создание центров культурного развития) | C37: 000 0801 55AA155132 522 | D37: =Субсидии!CP395 -> 48011.2 | E37: =Субсидии!CQ395 -> 48011.2 | F37: =Субсидии!CR395 -> 48011.2 | G37: =F37/E37*100 -> 100
A38: 2.24. | B38: Субсидия бюджетам муниципальных районов и городских округов области на обеспечение условий для создания центров образования цифрового и гуманитарного профилей (в рамках достижения соответствующих результатов федерального проекта) в части расходов на оплату труда с начислениями | C38: 000 0702 5A2E1U1137 521 | D38: =Субсидии!CT395 -> 196664.5 | E38: =Субсидии!CU395 -> 151142.5 | F38: =Субсидии!CV395 -> 149271.42 | G38: =F38/E38*100 -> 98.762042
A39: 2.25. | B39: Субсидия бюджетам городских округов области на реализацию регионального проекта (программы) в целях выполнения задач федерального проекта «Жилье» (Стимулирование программ развития жилищного строительства) за счет средств резервного фонда Правительства Российской Федерации 11* | C39: 000 1403 5E1F15021F 521 | D39: =Субсидии!CX395 -> 0 | E39: =Субсидии!CY395 -> 20878.062 | F39: =Субсидии!CZ395 -> 17768.226 | G39: =F39/E39*100 -> 85.104767
A40: 2.26. | B40: Субсидия бюджетам муниципальных районов и городских округов области на обеспечение условий для создания центров образования цифрового и гуманитарного профилей (в рамках достижения соответствующих результатов федерального проекта) за исключением расходов на оплату труда с начислениями | C40: 000 0702 5A2E1U1131 521 | D40: =Субсидии!DB395 -> 0 | E40: =Субсидии!DC395 -> 13247.4 | F40: =Субсидии!DD395 -> 11911.62 | G40: =F40/E40*100 -> 89.916661
...

Sheet Всего (с выдел. нераспред)
A1: Сведения о предоставленных из бюджета Саратовской области межбюджетных трансфертах бюджетам муниципальных образований за 2022 год
T2: тыс.рублей
A3: Наименование муниципальных образований | B3: Всего | F3: в том числе
F4: Дотации | J4: Субсидии | N4: Субвенции | R4: Иные межбюджетные трансферты
B6: первоначаль-ный бюджет* | C6: утвержденные бюджетные назначения 3* | D6: исполнено | E6: % исполнения | F6: первоначаль-ный бюджет* | G6: утвержденные бюджетные назначения 2* | H6: исполнено | I6: % исполнения | J6: первоначаль-ный бюджет* | K6: утвержденные бюджетные назначения 3* | L6: исполнено | M6: % исполнения | N6: первоначаль-ный бюджет* | O6: утвержденные бюджетные назначения 2* | P6: исполнено | Q6: % исполнения | R6: первоначаль-ный бюджет* | S6: утвержденные бюджетные назначения 3* | T6: исполнено | U6: % исполнения
A7: Муниципальные районы области (консолидированный) | B7: =F7+J7+N7+R7 -> 26129488 | C7: =G7+K7+O7+S7 -> 34715673 | D7: =H7+L7+P7+T7 -> 33728447 | E7: =D7/C7*100 -> 97.156253 | F7: =F10+F14+F23+F37+F52+F57+F75+F81+F98+F103+F115+F124+F138+F151+F162+F175+F188+F202+F206+F218+F227+F234+F247+F260+F274+F282+F292+F303+F313+F322+F331+F341+F352+F361+F370+F383+F392 -> 3599664.3 | G7: =G10+G14+G23+G37+G52+G57+G75+G81+G98+G103+G115+G124+G138+G151+G162+G175+G188+G202+G206+G218+G227+G234+G247+G260+G274+G282+G292+G303+G313+G322+G331+G341+G352+G361+G370+G383+G392 -> 4359052.1 | H7: =H10+H14+H23+H37+H52+H57+H75+H81+H98+H103+H115+H124+H138+H151+H162+H175+H188+H202+H206+H218+H227+H234+H247+H260+H274+H282+H292+H303+H313+H322+H331+H341+H352+H361+H370+H383+H392 -> 4359052.1 | I7: =H7/G7*100 -> 100 | J7: =J10+J14+J23+J37+J52+J57+J75+J81+J98+J103+J115+J124+J138+J151+J162+J175+J188+J202+J206+J218+J227+J234+J247+J260+J274+J282+J292+J303+J313+J322+J331+J341+J352+J361+J370+J383+J392 -> 5828667.9 | K7: =K10+K14+K23+K37+K52+K57+K75+K81+K98+K103+K115+K124+K138+K151+K162+K175+K188+K202+K206+K218+K227+K234+K247+K260+K274+K282+K292+K303+K313+K322+K331+K341+K352+K361+K370+K383+K392 -> 10155598 | L7: =L10+L14+L23+L37+L52+L57+L75+L81+L98+L103+L115+L124+L138+L151+L162+L175+L188+L202+L206+L218+L227+L234+L247+L260+L274+L282+L292+L303+L313+L322+L331+L341+L352+L361+L370+L383+L392 -> 9393352 | M7: =L7/K7*100 -> 92.494325 | N7: =N10+N14+N23+N37+N52+N57+N75+N81+N98+N103+N115+N124+N138+N151+N162+N175+N188+N202+N206+N218+N227+N234+N247+N260+N274+N282+N292+N303+N313+N322+N331+N341+N352+N361+N370+N383+N392 -> 16226107 | O7: =O10+O14+O23+O37+O52+O57+O75+O81+O98+O103+O115+O124+O138+O151+O162+O175+O188+O202+O206+O218+O227+O234+O247+O260+O274+O282+O292+O303+O313+O322+O331+O341+O352+O361+O370+O383+O392 -> 16599688 | P7: =P10+P14+P23+P37+P52+P57+P75+P81+P98+P103+P115+P124+P138+P151+P162+P175+P188+P202+P206+P218+P227+P234+P247+P260+P274+P282+P292+P303+P313+P322+P331+P341+P352+P361+P370+P383+P392 -> 16525361 | Q7: =P7/O7*100 -> 99.552239 | R7: =R10+R14+R23+R37+R52+R57+R75+R81+R98+R103+R115+R124+R138+R151+R162+R175+R188+R202+R206+R218+R227+R234+R247+R260+R274+R282+R292+R303+R313+R322+R331+R341+R352+R361+R370+R383+R392 -> 475049.3 | S7: =S10+S14+S23+S37+S52+S57+S75+S81+S98+S103+S115+S124+S138+S151+S162+S175+S188+S202+S206+S218+S227+S234+S247+S260+S274+S282+S292+S303+S313+S322+S331+S341+S352+S361+S370+S383+S392 -> 3601334.4 | T7: =T10+T14+T23+T37+T52+T57+T75+T81+T98+T103+T115+T124+T138+T151+T162+T175+T188+T202+T206+T218+T227+T234+T247+T260+T274+T282+T292+T303+T313+T322+T331+T341+T352+T361+T370+T383+T392 -> 3450681.6 | U7: =T7/S7*100 -> 95.816751
A8: Муниципальные районы области (собственный): | B8: =F8+J8+N8+R8 -> 22754951 | C8: =G8+K8+O8+S8 -> 28714600 | D8: =H8+L8+P8+T8 -> 28004380 | E8: =D8/C8*100 -> 97.526625 | F8: =F11+F15+F24+F38+F53+F58+F76+F82+F99+F104+F116+F125+F139+F152+F163+F176+F189+F203+F207+F219+F228+F235+F248+F261+F275+F283+F293+F304+F314+F323+F332+F342+F353+F362+F371+F384+F393 -> 3599664.3 | G8: =G11+G15+G24+G38+G53+G58+G76+G82+G99+G104+G116+G125+G139+G152+G163+G176+G189+G203+G207+G219+G228+G235+G248+G261+G275+G283+G293+G304+G314+G323+G332+G342+G353+G362+G371+G384+G393 -> 4311352.1 | H8: =H11+H15+H24+H38+H53+H58+H76+H82+H99+H104+H116+H125+H139+H152+H163+H176+H189+H203+H207+H219+H228+H235+H248+H261+H275+H283+H293+H304+H314+H323+H332+H342+H353+H362+H371+H384+H393 -> 4311352.1 | I8: =H8/G8*100 -> 100 | J8: =J11+J15+J24+J38+J53+J58+J76+J82+J99+J104+J116+J125+J139+J152+J163+J176+J189+J203+J207+J219+J228+J235+J248+J261+J275+J283+J293+J304+J314+J323+J332+J342+J353+J362+J371+J384+J393 -> 2793138.5 | K8: =K11+K15+K24+K38+K53+K58+K76+K82+K99+K104+K116+K125+K139+K152+K163+K176+K189+K203+K207+K219+K228+K235+K248+K261+K275+K283+K293+K304+K314+K323+K332+K342+K353+K362+K371+K384+K393 -> 5704515.1 | L8: =L11+L15+L24+L38+L53+L58+L76+L82+L99+L104+L116+L125+L139+L152+L163+L176+L189+L203+L207+L219+L228+L235+L248+L261+L275+L283+L293+L304+L314+L323+L332+L342+L353+L362+L371+L384+L393 -> 5218582.2 | M8: =L8/K8*100 -> 91.481609 | N8: =N11+N15+N24+N38+N53+N58+N76+N82+N99+N104+N116+N125+N139+N152+N163+N176+N189+N203+N207+N219+N228+N235+N248+N261+N275+N283+N293+N304+N314+N323+N332+N342+N353+N362+N371+N384+N393 -> 16177099 | O8: =O11+O15+O24+O38+O53+O58+O76+O82+O99+O104+O116+O125+O139+O152+O163+O176+O189+O203+O207+O219+O228+O235+O248+O261+O275+O283+O293+O304+O314+O323+O332+O342+O353+O362+O371+O384+O393 -> 16545855 | P8: =P11+P15+P24+P38+P53+P58+P76+P82+P99+P104+P116+P125+P139+P152+P163+P176+P189+P203+P207+P219+P228+P235+P248+P261+P275+P283+P293+P304+P314+P323+P332+P342+P353+P362+P371+P384+P393 -> 16471713 | Q8: =P8/O8*100 -> 99.551897 | R8: =R11+R15+R24+R38+R53+R58+R76+R82+R99+R104+R116+R125+R139+R152+R163+R176+R189+R203+R207+R219+R228+R235+R248+R261+R275+R283+R293+R304+R314+R323+R332+R342+R353+R362+R371+R384+R393 -> 185049.3 | S8: =S11+S15+S24+S38+S53+S58+S76+S82+S99+S104+S116+S125+S139+S152+S163+S176+S189+S203+S207+S219+S228+S235+S248+S261+S275+S283+S293+S304+S314+S323+S332+S342+S353+S362+S371+S384+S393 -> 2152876.9 | T8: =T11+T15+T24+T38+T53+T58+T76+T82+T99+T104+T116+T125+T139+T152+T163+T176+T189+T203+T207+T219+T228+T235+T248+T261+T275+T283+T293+T304+T314+T323+T332+T342+T353+T362+T371+T384+T393 -> 2002732.6 | U8: =T8/S8*100 -> 93.025874
A9: Поселения: | B9: =F9+J9+N9+R9 -> 3374537.1 | C9: =G9+K9+O9+S9 -> 6001073 | D9: =H9+L9+P9+T9 -> 5724066.8 | E9: =D9/C9*100 -> 95.384056 | G9: =SUM(G12:G13)+SUM(G16:G22)+SUM(G25:G36)+SUM(G39:G51)+SUM(G54:G56)+SUM(G59:G74)+SUM(G77:G80)+SUM(G83:G97)+SUM(G100:G102)+SUM(G105:G114)+SUM(G117:G123)+SUM(G126:G137)+SUM(G140:G150)+SUM(G153:G161)+SUM(G164:G174)+SUM(G177:G187)+SUM(G190:G201)+SUM(G204:G205)+SUM(G208:G217)+SUM(G220:G226)+SUM(G229:G233)+SUM(G236:G246)+SUM(G249:G259)+SUM(G262:G273)+SUM(G276:G281)+SUM(G284:G291)+SUM(G294:G302)+SUM(G305:G312)+SUM(G315:G321)+SUM(G324:G330)+SUM(G333:G340)+SUM(G343:G351)+SUM(G354:G360)+SUM(G363:G369)+SUM(G372:G382)+SUM(G385:G391)+SUM(G394:G398) -> 47700 | H9: =SUM(H12:H13)+SUM(H16:H22)+SUM(H25:H36)+SUM(H39:H51)+SUM(H54:H56)+SUM(H59:H74)+SUM(H77:H80)+SUM(H83:H97)+SUM(H100:H102)+SUM(H105:H114)+SUM(H117:H123)+SUM(H126:H137)+SUM(H140:H150)+SUM(H153:H161)+SUM(H164:H174)+SUM(H177:H187)+SUM(H190:H201)+SUM(H204:H205)+SUM(H208:H217)+SUM(H220:H226)+SUM(H229:H233)+SUM(H236:H246)+SUM(H249:H259)+SUM(H262:H273)+SUM(H276:H281)+SUM(H284:H291)+SUM(H294:H302)+SUM(H305:H312)+SUM(H315:H321)+SUM(H324:H330)+SUM(H333:H340)+SUM(H343:H351)+SUM(H354:H360)+SUM(H363:H369)+SUM(H372:H382)+SUM(H385:H391)+SUM(H394:H398) -> 47700 | I9: =H9/G9*100 -> 100 | J9: =SUM(J12:J13)+SUM(J16:J22)+SUM(J25:J36)+SUM(J39:J51)+SUM(J54:J56)+SUM(J59:J74)+SUM(J77:J80)+SUM(J83:J97)+SUM(J100:J102)+SUM(J105:J114)+SUM(J117:J123)+SUM(J126:J137)+SUM(J140:J150)+SUM(J153:J161)+SUM(J164:J174)+SUM(J177:J187)+SUM(J190:J201)+SUM(J204:J205)+SUM(J208:J217)+SUM(J220:J226)+SUM(J229:J233)+SUM(J236:J246)+SUM(J249:J259)+SUM(J262:J273)+SUM(J276:J281)+SUM(J284:J291)+SUM(J294:J302)+SUM(J305:J312)+SUM(J315:J321)+SUM(J324:J330)+SUM(J333:J340)+SUM(J343:J351)+SUM(J354:J360)+SUM(J363:J369)+SUM(J372:J382)+SUM(J385:J391)+SUM(J394:J398) -> 3035529.5 | K9: =SUM(K12:K13)+SUM(K16:K22)+SUM(K25:K36)+SUM(K39:K51)+SUM(K54:K56)+SUM(K59:K74)+SUM(K77:K80)+SUM(K83:K97)+SUM(K100:K102)+SUM(K105:K114)+SUM(K117:K123)+SUM(K126:K137)+SUM(K140:K150)+SUM(K153:K161)+SUM(K164:K174)+SUM(K177:K187)+SUM(K190:K201)+SUM(K204:K205)+SUM(K208:K217)+SUM(K220:K226)+SUM(K229:K233)+SUM(K236:K246)+SUM(K249:K259)+SUM(K262:K273)+SUM(K276:K281)+SUM(K284:K291)+SUM(K294:K302)+SUM(K305:K312)+SUM(K315:K321)+SUM(K324:K330)+SUM(K333:K340)+SUM(K343:K351)+SUM(K354:K360)+SUM(K363:K369)+SUM(K372:K382)+SUM(K385:K391)+SUM(K394:K398) -> 4451083 | L9: =SUM(L12:L13)+SUM(L16:L22)+SUM(L25:L36)+SUM(L39:L51)+SUM(L54:L56)+SUM(L59:L74)+SUM(L77:L80)+SUM(L83:L97)+SUM(L100:L102)+SUM(L105:L114)+SUM(L117:L123)+SUM(L126:L137)+SUM(L140:L150)+SUM(L153:L161)+SUM(L164:L174)+SUM(L177:L187)+SUM(L190:L201)+SUM(L204:L205)+SUM(L208:L217)+SUM(L220:L226)+SUM(L229:L233)+SUM(L236:L246)+SUM(L249:L259)+SUM(L262:L273)+SUM(L276:L281)+SUM(L284:L291)+SUM(L294:L302)+SUM(L305:L312)+SUM(L315:L321)+SUM(L324:L330)+SUM(L333:L340)+SUM(L343:L351)+SUM(L354:L360)+SUM(L363:L369)+SUM(L372:L382)+SUM(L385:L391)+SUM(L394:L398) -> 4174769.7 | M9: =L9/K9*100 -> 93.792223 | N9: =SUM(N12:N13)+SUM(N16:N22)+SUM(N25:N36)+SUM(N39:N51)+SUM(N54:N56)+SUM(N59:N74)+SUM(N77:N80)+SUM(N83:N97)+SUM(N100:N102)+SUM(N105:N114)+SUM(N117:N123)+SUM(N126:N137)+SUM(N140:N150)+SUM(N153:N161)+SUM(N164:N174)+SUM(N177:N187)+SUM(N190:N201)+SUM(N204:N205)+SUM(N208:N217)+SUM(N220:N226)+SUM(N229:N233)+SUM(N236:N246)+SUM(N249:N259)+SUM(N262:N273)+SUM(N276:N281)+SUM(N284:N291)+SUM(N294:N302)+SUM(N305:N312)+SUM(N315:N321)+SUM(N324:N330)+SUM(N333:N340)+SUM(N343:N351)+SUM(N354:N360)+SUM(N363:N369)+SUM(N372:N382)+SUM(N385:N391)+SUM(N394:N398) -> 49007.6 | O9: =SUM(O12:O13)+SUM(O16:O22)+SUM(O25:O36)+SUM(O39:O51)+SUM(O54:O56)+SUM(O59:O74)+SUM(O77:O80)+SUM(O83:O97)+SUM(O100:O102)+SUM(O105:O114)+SUM(O117:O123)+SUM(O126:O137)+SUM(O140:O150)+SUM(O153:O161)+SUM(O164:O174)+SUM(O177:O187)+SUM(O190:O201)+SUM(O204:O205)+SUM(O208:O217)+SUM(O220:O226)+SUM(O229:O233)+SUM(O236:O246)+SUM(O249:O259)+SUM(O262:O273)+SUM(O276:O281)+SUM(O284:O291)+SUM(O294:O302)+SUM(O305:O312)+SUM(O315:O321)+SUM(O324:O330)+SUM(O333:O340)+SUM(O343:O351)+SUM(O354:O360)+SUM(O363:O369)+SUM(O372:O382)+SUM(O385:O391)+SUM(O394:O398) -> 53832.5 | P9: =SUM(P12:P13)+SUM(P16:P22)+SUM(P25:P36)+SUM(P39:P51)+SUM(P54:P56)+SUM(P59:P74)+SUM(P77:P80)+SUM(P83:P97)+SUM(P100:P102)+SUM(P105:P114)+SUM(P117:P123)+SUM(P126:P137)+SUM(P140:P150)+SUM(P153:P161)+SUM(P164:P174)+SUM(P177:P187)+SUM(P190:P201)+SUM(P204:P205)+SUM(P208:P217)+SUM(P220:P226)+SUM(P229:P233)+SUM(P236:P246)+SUM(P249:P259)+SUM(P262:P273)+SUM(P276:P281)+SUM(P284:P291)+SUM(P294:P302)+SUM(P305:P312)+SUM(P315:P321)+SUM(P324:P330)+SUM(P333:P340)+SUM(P343:P351)+SUM(P354:P360)+SUM(P363:P369)+SUM(P372:P382)+SUM(P385:P391)+SUM(P394:P398) -> 53648.073 | Q9: =P9/O9*100 -> 99.657406 | R9: =SUM(R12:R13)+SUM(R16:R22)+SUM(R25:R36)+SUM(R39:R51)+SUM(R54:R56)+SUM(R59:R74)+SUM(R77:R80)+SUM(R83:R97)+SUM(R100:R102)+SUM(R105:R114)+SUM(R117:R123)+SUM(R126:R137)+SUM(R140:R150)+SUM(R153:R161)+SUM(R164:R174)+SUM(R177:R187)+SUM(R190:R201)+SUM(R204:R205)+SUM(R208:R217)+SUM(R220:R226)+SUM(R229:R233)+SUM(R236:R246)+SUM(R249:R259)+SUM(R262:R273)+SUM(R276:R281)+SUM(R284:R291)+SUM(R294:R302)+SUM(R305:R312)+SUM(R315:R321)+SUM(R324:R330)+SUM(R333:R340)+SUM(R343:R351)+SUM(R354:R360)+SUM(R363:R369)+SUM(R372:R382)+SUM(R385:R391)+SUM(R394:R398) -> 290000 | S9: =SUM(S12:S13)+SUM(S16:S22)+SUM(S25:S36)+SUM(S39:S51)+SUM(S54:S56)+SUM(S59:S74)+SUM(S77:S80)+SUM(S83:S97)+SUM(S100:S102)+SUM(S105:S114)+SUM(S117:S123)+SUM(S126:S137)+SUM(S140:S150)+SUM(S153:S161)+SUM(S164:S174)+SUM(S177:S187)+SUM(S190:S201)+SUM(S204:S205)+SUM(S208:S217)+SUM(S220:S226)+SUM(S229:S233)+SUM(S236:S246)+SUM(S249:S259)+SUM(S262:S273)+SUM(S276:S281)+SUM(S284:S291)+SUM(S294:S302)+SUM(S305:S312)+SUM(S315:S321)+SUM(S324:S330)+SUM(S333:S340)+SUM(S343:S351)+SUM(S354:S360)+SUM(S363:S369)+SUM(S372:S382)+SUM(S385:S391)+SUM(S394:S398) -> 1448457.4 | T9: =SUM(T12:T13)+SUM(T16:T22)+SUM(T25:T36)+SUM(T39:T51)+SUM(T54:T56)+SUM(T59:T74)+SUM(T77:T80)+SUM(T83:T97)+SUM(T100:T102)+SUM(T105:T114)+SUM(T117:T123)+SUM(T126:T137)+SUM(T140:T150)+SUM(T153:T161)+SUM(T164:T174)+SUM(T177:T187)+SUM(T190:T201)+SUM(T204:T205)+SUM(T208:T217)+SUM(T220:T226)+SUM(T229:T233)+SUM(T236:T246)+SUM(T249:T259)+SUM(T262:T273)+SUM(T276:T281)+SUM(T284:T291)+SUM(T294:T302)+SUM(T305:T312)+SUM(T315:T321)+SUM(T324:T330)+SUM(T333:T340)+SUM(T343:T351)+SUM(T354:T360)+SUM(T363:T369)+SUM(T372:T382)+SUM(T385:T391)+SUM(T394:T398) -> 1447949 | U9: =T9/S9*100 -> 99.964898
A10: Александрово-Гайский район (консолидированный) | B10: =F10+J10+N10+R10 -> 459923.44 | C10: =G10+K10+O10+S10 -> 574304.12 | D10: =H10+L10+P10+T10 -> 570078.64 | E10: =D10/C10*100 -> 99.264245 | F10: =F11+F12+F13 -> 105617.3 | G10: =G11+G12+G13 -> 113690.3 | H10: =H11+H12+H13 -> 113690.3 | I10: =H10/G10*100 -> 100 | J10: =J11+J12+J13 -> 100100.84 | K10: =K11+K12+K13 -> 153460.39 | L10: =L11+L12+L13 -> 150672.11 | M10: =L10/K10*100 -> 98.183059 | N10: =N11+N12+N13 -> 240141.3 | O10: =O11+O12+O13 -> 235122.9 | P10: =P11+P12+P13 -> 233747.81 | Q10: =P10/O10*100 -> 99.41516 | R10: =R11+R12+R13 -> 14064 | S10: =S11+S12+S13 -> 72030.524 | T10: =T11+T12+T13 -> 71968.429 | U10: =T10/S10*100 -> 99.913793
A11: Александрово-Гайский район (собственный) | B11: =F11+J11+N11+R11 -> 403602.24 | C11: =G11+K11+O11+S11 -> 459577 | D11: =H11+L11+P11+T11 -> 455351.84 | E11: =D11/C11*100 -> 99.08064 | F11: =Дотации!B11 -> 105617.3 | G11: =Дотации!C11 -> 113690.3 | H11: =Дотации!D11 -> 113690.3 | I11: =H11/G11*100 -> 100 | J11: =Субсидии!B12 -> 44703.837 | K11: =Субсидии!C12 -> 49740.781 | L11: =Субсидии!D12 -> 46952.804 | M11: =L11/K11*100 -> 94.394989 | N11: ='Субвенции '!B14 -> 239217.1 | O11: ='Субвенции '!C14 -> 234115.4 | P11: ='Субвенции '!D14 -> 232740.31 | Q11: =P11/O11*100 -> 99.412643 | R11: =Иные!B12 -> 14064 | S11: =Иные!C12 -> 62030.524 | T11: =Иные!D12 -> 61968.429 | U11: =T11/S11*100 -> 99.899896
A12: Александрово-Гайское МО | B12: =F12+J12+N12+R12 -> 52459.5 | C12: =G12+K12+O12+S12 -> 105750.59 | D12: =H12+L12+P12+T12 -> 105750.59 | E12: =D12/C12*100 -> 100 | J12: =Субсидии!B13 -> 51644 | K12: =Субсидии!C13 -> 94861.587 | L12: =Субсидии!D13 -> 94861.587 | M12: =L12/K12*100 -> 100 | N12: ='Субвенции '!B15 -> 815.5 | O12: ='Субвенции '!C15 -> 889 | P12: ='Субвенции '!D15 -> 889 | Q12: =P12/O12*100 -> 100 | R12: =Иные!B13 -> 0 | S12: =Иные!C13 -> 10000 | T12: =Иные!D13 -> 10000 | U12: =T12/S12*100 -> 100
A13: Новоалександровское МО | B13: =F13+J13+N13+R13 -> 3861.7 | C13: =G13+K13+O13+S13 -> 8976.525 | D13: =H13+L13+P13+T13 -> 8976.217 | E13: =D13/C13*100 -> 99.996569 | J13: =Субсидии!B14 -> 3753 | K13: =Субсидии!C14 -> 8858.025 | L13: =Субсидии!D14 -> 8857.717 | M13: =L13/K13*100 -> 99.996523 | N13: ='Субвенции '!B16 -> 108.7 | O13: ='Субвенции '!C16 -> 118.5 | P13: ='Субвенции '!D16 -> 118.5 | Q13: =P13/O13*100 -> 100
A14: Аркадакский район (консолидированный) | B14: =F14+J14+N14+R14 -> 506480.41 | C14: =G14+K14+O14+S14 -> 615225.99 | D14: =H14+L14+P14+T14 -> 614330.35 | E14: =D14/C14*100 -> 99.854422 | F14: =SUM(F15:F22) -> 71347.4 | G14: =SUM(G15:G22) -> 81168.6 | H14: =SUM(H15:H22) -> 81168.6 | I14: =H14/G14*100 -> 100 | J14: =SUM(J15:J22) -> 115673.91 | K14: =SUM(K15:K22) -> 122458.09 | L14: =SUM(L15:L22) -> 122263.18 | M14: =L14/K14*100 -> 99.840831 | N14: =SUM(N15:N22) -> 247799.1 | O14: =SUM(O15:O22) -> 295335.99 | P14: =SUM(P15:P22) -> 294731.76 | Q14: =P14/O14*100 -> 99.79541 | R14: =SUM(R15:R22) -> 71660 | S14: =SUM(S15:S22) -> 116263.3 | T14: =SUM(T15:T22) -> 116166.81 | U14: =T14/S14*100 -> 99.917006
A15: Аркадакский район (собственный) | B15: =F15+J15+N15+R15 -> 364447.41 | C15: =G15+K15+O15+S15 -> 443865.99 | D15: =H15+L15+P15+T15 -> 442970.36 | E15: =D15/C15*100 -> 99.79822 | F15: =Дотации!B13 -> 71347.4 | G15: =Дотации!C13 -> 81168.6 | H15: =Дотации!D13 -> 81168.6 | I15: =H15/G15*100 -> 100 | J15: =Субсидии!B16 -> 44936.71 | K15: =Субсидии!C16 -> 51921.799 | L15: =Субсидии!D16 -> 51726.884 | M15: =L15/K15*100 -> 99.624599 | N15: ='Субвенции '!B18 -> 246503.3 | O15: ='Субвенции '!C18 -> 293912.29 | P15: ='Субвенции '!D18 -> 293308.06 | Q15: =P15/O15*100 -> 99.794419 | R15: =Иные!B15 -> 1660 | S15: =Иные!C15 -> 16863.3 | T15: =Иные!D15 -> 16766.808 | U15: =T15/S15*100 -> 99.427802
A16: город Аркадак | B16: =F16+J16+N16+R16 -> 110719.8 | C16: =G16+K16+O16+S16 -> 140191.3 | D16: =H16+L16+P16+T16 -> 140191.3 | E16: =D16/C16*100 -> 100 | J16: =Субсидии!B17 -> 40000 | K16: =Субсидии!C17 -> 40000 | L16: =Субсидии!D17 -> 40000 | M16: =L16/K16*100 -> 100 | N16: ='Субвенции '!B19 -> 719.8 | O16: ='Субвенции '!C19 -> 791.3 | P16: ='Субвенции '!D19 -> 791.3 | Q16: =P16/O16*100 -> 100 | R16: =Иные!B16 -> 70000 | S16: =Иные!C16 -> 99400 | T16: =Иные!D16 -> 99400 | U16: =T16/S16*100 -> 100
A17: Большежуравское МО | B17: =F17+J17+N17+R17 -> 2976 | C17: =G17+K17+O17+S17 -> 2985.4 | D17: =H17+L17+P17+T17 -> 2985.4 | E17: =D17/C17*100 -> 100 | J17: =Субсидии!B18 -> 2880 | K17: =Субсидии!C18 -> 2880 | L17: =Субсидии!D18 -> 2880 | M17: =L17/K17*100 -> 100 | N17: ='Субвенции '!B20 -> 96 | O17: ='Субвенции '!C20 -> 105.4 | P17: ='Субвенции '!D20 -> 105.4 | Q17: =P17/O17*100 -> 100
A18: Краснознаменское МО | B18: =F18+J18+N18+R18 -> 5127 | C18: =G18+K18+O18+S18 -> 5356.4 | D18: =H18+L18+P18+T18 -> 5356.4 | E18: =D18/C18*100 -> 100 | J18: =Субсидии!B19 -> 5031 | K18: =Субсидии!C19 -> 5251 | L18: =Субсидии!D19 -> 5251 | M18: =L18/K18*100 -> 100 | N18: ='Субвенции '!B21 -> 96 | O18: ='Субвенции '!C21 -> 105.4 | P18: ='Субвенции '!D21 -> 105.4 | Q18: =P18/O18*100 -> 100
A19: Львовское МО | B19: =F19+J19+N19+R19 -> 3564 | C19: =G19+K19+O19+S19 -> 3710.6952 | D19: =H19+L19+P19+T19 -> 3710.6952 | E19: =D19/C19*100 -> 100 | J19: =Субсидии!B20 -> 3468 | K19: =Субсидии!C20 -> 3605.2952 | L19: =Субсидии!D20 -> 3605.2952 | M19: =L19/K19*100 -> 100 | N19: ='Субвенции '!B22 -> 96 | O19: ='Субвенции '!C22 -> 105.4 | P19: ='Субвенции '!D22 -> 105.4 | Q19: =P19/O19*100 -> 100
A20: Малиновское МО | B20: =F20+J20+N20+R20 -> 5226 | C20: =G20+K20+O20+S20 -> 5235.4 | D20: =H20+L20+P20+T20 -> 5235.4 | E20: =D20/C20*100 -> 100 | J20: =Субсидии!B21 -> 5130 | K20: =Субсидии!C21 -> 5130 | L20: =Субсидии!D21 -> 5130 | M20: =L20/K20*100 -> 100 | N20: ='Субвенции '!B23 -> 96 | O20: ='Субвенции '!C23 -> 105.4 | P20: ='Субвенции '!D23 -> 105.4 | Q20: =P20/O20*100 -> 100
A21: Росташовское МО | B21: =F21+J21+N21+R21 -> 9107.2 | C21: =G21+K21+O21+S21 -> 8558.4 | D21: =H21+L21+P21+T21 -> 8558.4 | E21: =D21/C21*100 -> 100 | J21: =Субсидии!B22 -> 9011.2 | K21: =Субсидии!C22 -> 8453 | L21: =Субсидии!D22 -> 8453 | M21: =L21/K21*100 -> 100 | N21: ='Субвенции '!B24 -> 96 | O21: ='Субвенции '!C24 -> 105.4 | P21: ='Субвенции '!D24 -> 105.4 | Q21: =P21/O21*100 -> 100
A22: Семеновское МО | B22: =F22+J22+N22+R22 -> 5313 | C22: =G22+K22+O22+S22 -> 5322.4 | D22: =H22+L22+P22+T22 -> 5322.4 | E22: =D22/C22*100 -> 100 | J22: =Субсидии!B23 -> 5217 | K22: =Субсидии!C23 -> 5217 | L22: =Субсидии!D23 -> 5217 | M22: =L22/K22*100 -> 100 | N22: ='Субвенции '!B25 -> 96 | O22: ='Субвенции '!C25 -> 105.4 | P22: ='Субвенции '!D25 -> 105.4 | Q22: =P22/O22*100 -> 100
A23: Аткарский район (консолидированный) | B23: =F23+J23+N23+R23 -> 703725.28 | C23: =G23+K23+O23+S23 -> 752721.91 | D23: =H23+L23+P23+T23 -> 750898.92 | E23: =D23/C23*100 -> 99.757813 | F23: =SUM(F24:F36) -> 132765.7 | G23: =SUM(G24:G36) -> 136631.7 | H23: =SUM(H24:H36) -> 136631.7 | I23: =H23/G23*100 -> 100 | J23: =SUM(J24:J36) -> 113349.28 | K23: =SUM(K24:K36) -> 127278.71 | L23: =SUM(L24:L36) -> 126981.41 | M23: =L23/K23*100 -> 99.766416 | N23: =SUM(N24:N36) -> 452456.6 | O23: =SUM(O24:O36) -> 455798 | P23: =SUM(P24:P36) -> 454784.33 | Q23: =P23/O23*100 -> 99.777606 | R23: =SUM(R24:R36) -> 5153.7 | S23: =SUM(S24:S36) -> 33013.5 | T23: =SUM(T24:T36) -> 32501.478 | U23: =T23/S23*100 -> 98.449054
A24: Аткарский район (собственный) | B24: =F24+J24+N24+R24 -> 657321.78 | C24: =G24+K24+O24+S24 -> 689826.11 | D24: =H24+L24+P24+T24 -> 688003.12 | E24: =D24/C24*100 -> 99.735731 | F24: =Дотации!B15 -> 132765.7 | G24: =Дотации!C15 -> 136631.7 | H24: =Дотации!D15 -> 136631.7 | I24: =H24/G24*100 -> 100 | J24: =Субсидии!B25 -> 69009.285 | K24: =Субсидии!C25 -> 79550.613 | L24: =Субсидии!D25 -> 79253.311 | M24: =L24/K24*100 -> 99.626273 | N24: ='Субвенции '!B27 -> 450393.1 | O24: ='Субвенции '!C27 -> 453530.3 | P24: ='Субвенции '!D27 -> 452516.63 | Q24: =P24/O24*100 -> 99.776494 | R24: =Иные!B18 -> 5153.7 | S24: =Иные!C18 -> 20113.5 | T24: =Иные!D18 -> 19601.478 | U24: =T24/S24*100 -> 97.454338
A25: город Аткарск | B25: =F25+J25+N25+R25 -> 4199.7 | C25: =G25+K25+O25+S25 -> 17218.9 | D25: =H25+L25+P25+T25 -> 17218.9 | E25: =D25/C25*100 -> 100 | J25: =Субсидии!B26 -> 3000 | K25: =Субсидии!C26 -> 3000 | L25: =Субсидии!D26 -> 3000 | M25: =L25/K25*100 -> 100 | N25: ='Субвенции '!B28 -> 1199.7 | O25: ='Субвенции '!C28 -> 1318.9 | P25: ='Субвенции '!D28 -> 1318.9 | Q25: =P25/O25*100 -> 100 | R25: =Иные!B19 -> 0 | S25: =Иные!C19 -> 12900 | T25: =Иные!D19 -> 12900 | U25: =T25/S25*100 -> 100
A26: Барановское МО | B26: =F26+J26+N26+R26 -> 6375 | C26: =G26+K26+O26+S26 -> 6384.4 | D26: =H26+L26+P26+T26 -> 6384.4 | E26: =D26/C26*100 -> 100 | J26: =Субсидии!B27 -> 6279 | K26: =Субсидии!C27 -> 6279 | L26: =Субсидии!D27 -> 6279 | M26: =L26/K26*100 -> 100 | N26: ='Субвенции '!B29 -> 96 | O26: ='Субвенции '!C29 -> 105.4 | P26: ='Субвенции '!D29 -> 105.4 | Q26: =P26/O26*100 -> 100 | R26: =Иные!B20 -> 0 | S26: =Иные!C20 -> 0 | T26: =Иные!D20 -> 0
A27: Большеекатериновское МО | B27: =F27+J27+N27+R27 -> 0 | C27: =G27+K27+O27+S27 -> 0 | D27: =H27+L27+P27+T27 -> 0 | J27: =Субсидии!B28 -> 0 | K27: =Субсидии!C28 -> 0 | L27: =Субсидии!D28 -> 0 | N27: ='Субвенции '!B30 -> 0 | O27: ='Субвенции '!C30 -> 0 | P27: ='Субвенции '!D30 -> 0
A28: Даниловское МО | B28: =F28+J28+N28+R28 -> 9200.9 | C28: =G28+K28+O28+S28 -> 9224.6 | D28: =H28+L28+P28+T28 -> 9224.6 | E28: =D28/C28*100 -> 100 | J28: =Субсидии!B29 -> 8961 | K28: =Субсидии!C29 -> 8961 | L28: =Субсидии!D29 -> 8961 | M28: =L28/K28*100 -> 100 | N28: ='Субвенции '!B31 -> 239.9 | O28: ='Субвенции '!C31 -> 263.6 | P28: ='Субвенции '!D31 -> 263.6 | Q28: =P28/O28*100 -> 100 | R28: =Иные!B21 -> 0 | S28: =Иные!C21 -> 0 | T28: =Иные!D21 -> 0
A29: Ершовское МО | B29: =F29+J29+N29+R29 -> 6525 | C29: =G29+K29+O29+S29 -> 7764.4 | D29: =H29+L29+P29+T29 -> 7764.4 | E29: =D29/C29*100 -> 100 | J29: =Субсидии!B30 -> 6429 | K29: =Субсидии!C30 -> 7659 | L29: =Субсидии!D30 -> 7659 | M29: =L29/K29*100 -> 100 | N29: ='Субвенции '!B32 -> 96 | O29: ='Субвенции '!C32 -> 105.4 | P29: ='Субвенции '!D32 -> 105.4 | Q29: =P29/O29*100 -> 100
A30: Кочетовское МО | B30: =F30+J30+N30+R30 -> 7157.9 | C30: =G30+K30+O30+S30 -> 8074.7 | D30: =H30+L30+P30+T30 -> 8074.7 | E30: =D30/C30*100 -> 100 | J30: =Субсидии!B31 -> 6918 | K30: =Субсидии!C31 -> 7811.1 | L30: =Субсидии!D31 -> 7811.1 | M30: =L30/K30*100 -> 100 | N30: ='Субвенции '!B33 -> 239.9 | O30: ='Субвенции '!C33 -> 263.6 | P30: ='Субвенции '!D33 -> 263.6 | Q30: =P30/O30*100 -> 100
A31: Лопуховское МО | B31: =F31+J31+N31+R31 -> 6696 | C31: =G31+K31+O31+S31 -> 7970.4 | D31: =H31+L31+P31+T31 -> 7970.4 | E31: =D31/C31*100 -> 100 | J31: =Субсидии!B32 -> 6600 | K31: =Субсидии!C32 -> 7865 | L31: =Субсидии!D32 -> 7865 | M31: =L31/K31*100 -> 100 | N31: ='Субвенции '!B34 -> 96 | O31: ='Субвенции '!C34 -> 105.4 | P31: ='Субвенции '!D34 -> 105.4 | Q31: =P31/O31*100 -> 100
A32: Озерное МО | B32: =F32+J32+N32+R32 -> 6249 | C32: =G32+K32+O32+S32 -> 6258.4 | D32: =H32+L32+P32+T32 -> 6258.4 | E32: =D32/C32*100 -> 100 | J32: =Субсидии!B33 -> 6153 | K32: =Субсидии!C33 -> 6153 | L32: =Субсидии!D33 -> 6153 | M32: =L32/K32*100 -> 100 | N32: ='Субвенции '!B35 -> 96 | O32: ='Субвенции '!C35 -> 105.4 | P32: ='Субвенции '!D35 -> 105.4 | Q32: =P32/O32*100 -> 100
A33: Песчанское МО | B33: =F33+J33+N33+R33 -> 0 | C33: =G33+K33+O33+S33 -> 0 | D33: =H33+L33+P33+T33 -> 0 | J33: =Субсидии!B34 -> 0 | K33: =Субсидии!C34 -> 0 | L33: =Субсидии!D34 -> 0 | N33: ='Субвенции '!B36 -> 0 | O33: ='Субвенции '!C36 -> 0 | P33: ='Субвенции '!D36 -> 0
A34: Петровское МО | B34: =F34+J34+N34+R34 -> 0 | C34: =G34+K34+O34+S34 -> 0 | D34: =H34+L34+P34+T34 -> 0 | J34: =Субсидии!B35 -> 0 | K34: =Субсидии!C35 -> 0 | L34: =Субсидии!D35 -> 0 | N34: ='Субвенции '!B37 -> 0 | O34: ='Субвенции '!C37 -> 0 | P34: ='Субвенции '!D37 -> 0
A35: Тургеневское МО | B35: =F35+J35+N35+R35 -> 0 | C35: =G35+K35+O35+S35 -> 0 | D35: =H35+L35+P35+T35 -> 0 | J35: =Субсидии!B36 -> 0 | K35: =Субсидии!C36 -> 0 | L35: =Субсидии!D36 -> 0 | N35: ='Субвенции '!B38 -> 0 | O35: ='Субвенции '!C38 -> 0 | P35: ='Субвенции '!D38 -> 0
A36: Языковское МО | B36: =F36+J36+N36+R36 -> 0 | C36: =G36+K36+O36+S36 -> 0 | D36: =H36+L36+P36+T36 -> 0 | J36: =Субсидии!B37 -> 0 | K36: =Субсидии!C37 -> 0 | L36: =Субсидии!D37 -> 0 | N36: ='Субвенции '!B39 -> 0 | O36: ='Субвенции '!C39 -> 0 | P36: ='Субвенции '!D39 -> 0
A37: Базарно-Карабулакский район (консолидированный) | B37: =F37+J37+N37+R37 -> 557348.98 | C37: =G37+K37+O37+S37 -> 778391.78 | D37: =H37+L37+P37+T37 -> 773911.42 | E37: =D37/C37*100 -> 99.424408 | F37: =SUM(F38:F51) -> 111390.6 | G37: =SUM(G38:G51) -> 114725 | H37: =SUM(H38:H51) -> 114725 | I37: =H37/G37*100 -> 100 | J37: =SUM(J38:J51) -> 105923.58 | K37: =SUM(K38:K51) -> 198055.57 | L37: =SUM(L38:L51) -> 194653.2 | M37: =L37/K37*100 -> 98.28211 | N37: =SUM(N38:N51) -> 339056.6 | O37: =SUM(O38:O51) -> 340883.11 | P37: =SUM(P38:P51) -> 339913.64 | Q37: =P37/O37*100 -> 99.715599 | R37: =SUM(R38:R51) -> 978.2 | S37: =SUM(S38:S51) -> 124728.1 | T37: =SUM(T38:T51) -> 124619.59 | U37: =T37/S37*100 -> 99.913004
A38: Базарно-Карабулакский район (собственный) | B38: =F38+J38+N38+R38 -> 502112.14 | C38: =G38+K38+O38+S38 -> 655437.2 | D38: =H38+L38+P38+T38 -> 650960.54 | E38: =D38/C38*100 -> 99.316997 | F38: =Дотации!B17 -> 111390.6 | G38: =Дотации!C17 -> 114725 | H38: =Дотации!D17 -> 114725 | I38: =H38/G38*100 -> 100 | J38: =Субсидии!B39 -> 52414.145 | K38: =Субсидии!C39 -> 139998.79 | L38: =Субсидии!D39 -> 136596.41 | M38: =L38/K38*100 -> 97.569709 | N38: ='Субвенции '!B41 -> 337329.2 | O38: ='Субвенции '!C41 -> 338985.31 | P38: ='Субвенции '!D41 -> 338015.84 | Q38: =P38/O38*100 -> 99.714007 | R38: =Иные!B23 -> 978.2 | S38: =Иные!C23 -> 61728.1 | T38: =Иные!D23 -> 61623.294 | U38: =T38/S38*100 -> 99.830214
A39: Алексеевское МО | B39: =F39+J39+N39+R39 -> 7907.9408 | C39: =G39+K39+O39+S39 -> 7931.6408 | D39: =H39+L39+P39+T39 -> 7931.6408 | E39: =D39/C39*100 -> 100 | J39: =Субсидии!B40 -> 7668.0408 | K39: =Субсидии!C40 -> 7668.0408 | L39: =Субсидии!D40 -> 7668.0408 | M39: =L39/K39*100 -> 100 | N39: ='Субвенции '!B42 -> 239.9 | O39: ='Субвенции '!C42 -> 263.6 | P39: ='Субвенции '!D42 -> 263.6 | Q39: =P39/O39*100 -> 100
A40: Базарно-Карабулакское МО | B40: =F40+J40+N40+R40 -> 12105.004 | C40: =G40+K40+O40+S40 -> 75533.756 | D40: =H40+L40+P40+T40 -> 75530.054 | E40: =D40/C40*100 -> 99.995099 | J40: =Субсидии!B41 -> 12105.004 | K40: =Субсидии!C41 -> 13533.756 | L40: =Субсидии!D41 -> 13533.756 | M40: =L40/K40*100 -> 100 | R40: =Иные!B24 -> 0 | S40: =Иные!C24 -> 62000 | T40: =Иные!D24 -> 61996.298 | U40: =Иные!E24 -> 99.994029
A41: Большечечуйское МО | B41: =F41+J41+N41+R41 -> 2379 | C41: =G41+K41+O41+S41 -> 3593.347 | D41: =H41+L41+P41+T41 -> 3593.347 | E41: =D41/C41*100 -> 100 | J41: =Субсидии!B42 -> 2283 | K41: =Субсидии!C42 -> 3487.947 | L41: =Субсидии!D42 -> 3487.947 | M41: =L41/K41*100 -> 100 | N41: ='Субвенции '!B43 -> 96 | O41: ='Субвенции '!C43 -> 105.4 | P41: ='Субвенции '!D43 -> 105.4 | Q41: =P41/O41*100 -> 100
...

Sheet Дотации
AB1: Продолжение таблицы
B2: Сведения о предоставлении из бюджета Саратовской области межбюджетных трансфертов местным бюджетам за 2022 год | R2: Сведения о предоставлении из бюджета Саратовской области межбюджетных трансфертов местным бюджетам за 2022 год
Q4: тыс.рублей | AC4: тыс.рублей
A5: Наименование муниципальных образований | B5: Дотации, всего | F5: в том числе | R5: в том числе
F6: бюджетам городских округов области, связанные с особым режимом безопасного функционирования закрытых административно-территориальных образований | J6: на выравнивание бюджетной обеспеченности муниципальных районов (городских округов) области | N6: бюджетам муниципальных районов и городских округов области на поддержку мер по обеспечению сбалансированности местных бюджетов | R6: бюджетам муниципальных районов и городских округов области на компенсацию дополнительных расходов на повышение оплаты труда некоторых категорий работников муниципальных учреждений в связи с увеличением минимального размера оплаты труда | V6: бюджетам городских округов и поселений области на премирование победителей Всероссийского конкурса «Лучшая муниципальная практика» | Z6: бюджетам муниципальных районов и городских округов области на частичную компенсацию расходов, связанных с выплатой заработной платы, финансовое обеспечение которой осуществляется за счет средств местных бюджетов
B7: первоначаль-ный бюджет* | C7: утвержденные бюджетные назначения 2* | D7: исполнено | E7: % исполнения | F7: первоначаль-ный бюджет* | G7: утвержденные бюджетные назначения 2* | H7: исполнено | I7: % исполнения | J7: первоначаль-ный бюджет* | K7: утвержденные бюджетные назначения 2* | L7: исполнено | M7: % исполнения | N7: первоначаль-ный бюджет* | O7: утвержденные бюджетные назначения 2* | P7: исполнено | Q7: % исполнения | R7: первоначаль-ный бюджет* | S7: утвержденные бюджетные назначения 2* | T7: исполнено | U7: % исполнения | V7: первоначаль-ный бюджет* | W7: утвержденные бюджетные назначения 2* | X7: исполнено | Y7: % исполнения | Z7: первоначаль-ный бюджет* | AA7: утвержденные бюджетные назначения 2* | AB7: исполнено | AC7: % исполнения
A8: Муниципальные районы области (консолидированный) | B8: =F8+J8+N8+R8+V8+Z8 -> 3599664.3 | C8: =G8+K8+O8+S8+W8+AA8 -> 4359052.1 | D8: =H8+L8+P8+T8+X8+AB8 -> 4359052.1 | E8: =D8/C8*100 -> 100 | J8: =J11+J13+J15+J17+J19+J21+J24+J26+J28+J30+J32+J34+J36+J38+J40+J42+J44+J46+J48+J50+J52+J54+J56+J58+J60+J62+J64+J66+J68+J70+J72+J74+J76+J78+J80+J82+J84 -> 3285837.3 | K8: =K11+K13+K15+K17+K19+K21+K24+K26+K28+K30+K32+K34+K36+K38+K40+K42+K44+K46+K48+K50+K52+K54+K56+K58+K60+K62+K64+K66+K68+K70+K72+K74+K76+K78+K80+K82+K84 -> 3348460.4 | L8: =L11+L13+L15+L17+L19+L21+L24+L26+L28+L30+L32+L34+L36+L38+L40+L42+L44+L46+L48+L50+L52+L54+L56+L58+L60+L62+L64+L66+L68+L70+L72+L74+L76+L78+L80+L82+L84 -> 3348460.4 | M8: =L8/K8*100 -> 100 | N8: =N11+N13+N15+N17+N19+N21+N24+N26+N28+N30+N32+N34+N36+N38+N40+N42+N44+N46+N48+N50+N52+N54+N56+N58+N60+N62+N64+N66+N68+N70+N72+N74+N76+N78+N80+N82+N84 -> 313827 | O8: =O11+O13+O15+O17+O19+O21+O24+O26+O28+O30+O32+O34+O36+O38+O40+O42+O44+O46+O48+O50+O52+O54+O56+O58+O60+O62+O64+O66+O68+O70+O72+O74+O76+O78+O80+O82+O84 -> 649451.3 | P8: =P11+P13+P15+P17+P19+P21+P24+P26+P28+P30+P32+P34+P36+P38+P40+P42+P44+P46+P48+P50+P52+P54+P56+P58+P60+P62+P64+P66+P68+P70+P72+P74+P76+P78+P80+P82+P84 -> 649451.3 | Q8: =P8/O8*100 -> 100 | R8: =R11+R13+R15+R17+R19+R21+R24+R26+R28+R30+R32+R34+R36+R38+R40+R42+R44+R46+R48+R50+R52+R54+R56+R58+R60+R62+R64+R66+R68+R70+R72+R74+R76+R78+R80+R82+R84 -> 0 | S8: =S11+S13+S15+S17+S19+S21+S24+S26+S28+S30+S32+S34+S36+S38+S40+S42+S44+S46+S48+S50+S52+S54+S56+S58+S60+S62+S64+S66+S68+S70+S72+S74+S76+S78+S80+S82+S84 -> 116109.3 | T8: =T11+T13+T15+T17+T19+T21+T24+T26+T28+T30+T32+T34+T36+T38+T40+T42+T44+T46+T48+T50+T52+T54+T56+T58+T60+T62+T64+T66+T68+T70+T72+T74+T76+T78+T80+T82+T84 -> 116109.3 | U8: =T8/S8*100 -> 100 | V8: =V11+V13+V15+V17+V19+V21+V24+V26+V28+V30+V32+V34+V36+V38+V40+V42+V44+V46+V48+V50+V52+V54+V56+V58+V60+V62+V64+V66+V68+V70+V72+V74+V76+V78+V80+V82+V84 -> 0 | W8: =W11+W13+W15+W17+W19+W21+W24+W26+W28+W30+W32+W34+W36+W38+W40+W42+W44+W46+W48+W50+W52+W54+W56+W58+W60+W62+W64+W66+W68+W70+W72+W74+W76+W78+W80+W82+W84 -> 47700 | X8: =X11+X13+X15+X17+X19+X21+X24+X26+X28+X30+X32+X34+X36+X38+X40+X42+X44+X46+X48+X50+X52+X54+X56+X58+X60+X62+X64+X66+X68+X70+X72+X74+X76+X78+X80+X82+X84 -> 47700 | Y8: =X8/W8*100 -> 100 | Z8: =Z11+Z13+Z15+Z17+Z19+Z21+Z24+Z26+Z28+Z30+Z32+Z34+Z36+Z38+Z40+Z42+Z44+Z46+Z48+Z50+Z52+Z54+Z56+Z58+Z60+Z62+Z64+Z66+Z68+Z70+Z72+Z74+Z76+Z78+Z80+Z82+Z84 -> 0 | AA8: =AA11+AA13+AA15+AA17+AA19+AA21+AA24+AA26+AA28+AA30+AA32+AA34+AA36+AA38+AA40+AA42+AA44+AA46+AA48+AA50+AA52+AA54+AA56+AA58+AA60+AA62+AA64+AA66+AA68+AA70+AA72+AA74+AA76+AA78+AA80+AA82+AA84 -> 197331.1 | AB8: =AB11+AB13+AB15+AB17+AB19+AB21+AB24+AB26+AB28+AB30+AB32+AB34+AB36+AB38+AB40+AB42+AB44+AB46+AB48+AB50+AB52+AB54+AB56+AB58+AB60+AB62+AB64+AB66+AB68+AB70+AB72+AB74+AB76+AB78+AB80+AB82+AB84 -> 197331.1 | AC8: =AB8/AA8*100 -> 100
A9: Муниципальные районы области (собственный): | B9: =F9+J9+N9+R9+V9+Z9 -> 3599664.3 | C9: =G9+K9+O9+S9+W9+AA9 -> 4311352.1 | D9: =H9+L9+P9+T9+X9+AB9 -> 4311352.1 | E9: =D9/C9*100 -> 100 | J9: =J12+J14+J16+J18+J20+J22+J25+J27+J29+J31+J33+J35+J37+J39+J41+J43+J45+J47+J49+J51+J53+J55+J57+J59+J61+J63+J65+J67+J69+J71+J73+J75+J77+J79+J81+J83+J85 -> 3285837.3 | K9: =K12+K14+K16+K18+K20+K22+K25+K27+K29+K31+K33+K35+K37+K39+K41+K43+K45+K47+K49+K51+K53+K55+K57+K59+K61+K63+K65+K67+K69+K71+K73+K75+K77+K79+K81+K83+K85 -> 3348460.4 | L9: =L12+L14+L16+L18+L20+L22+L25+L27+L29+L31+L33+L35+L37+L39+L41+L43+L45+L47+L49+L51+L53+L55+L57+L59+L61+L63+L65+L67+L69+L71+L73+L75+L77+L79+L81+L83+L85 -> 3348460.4 | M9: =L9/K9*100 -> 100 | N9: =N12+N14+N16+N18+N20+N22+N25+N27+N29+N31+N33+N35+N37+N39+N41+N43+N45+N47+N49+N51+N53+N55+N57+N59+N61+N63+N65+N67+N69+N71+N73+N75+N77+N79+N81+N83+N85 -> 313827 | O9: =O12+O14+O16+O18+O20+O22+O25+O27+O29+O31+O33+O35+O37+O39+O41+O43+O45+O47+O49+O51+O53+O55+O57+O59+O61+O63+O65+O67+O69+O71+O73+O75+O77+O79+O81+O83+O85 -> 649451.3 | P9: =P12+P14+P16+P18+P20+P22+P25+P27+P29+P31+P33+P35+P37+P39+P41+P43+P45+P47+P49+P51+P53+P55+P57+P59+P61+P63+P65+P67+P69+P71+P73+P75+P77+P79+P81+P83+P85 -> 649451.3 | Q9: =P9/O9*100 -> 100 | R9: =R12+R14+R16+R18+R20+R22+R25+R27+R29+R31+R33+R35+R37+R39+R41+R43+R45+R47+R49+R51+R53+R55+R57+R59+R61+R63+R65+R67+R69+R71+R73+R75+R77+R79+R81+R83+R85 -> 0 | S9: =S12+S14+S16+S18+S20+S22+S25+S27+S29+S31+S33+S35+S37+S39+S41+S43+S45+S47+S49+S51+S53+S55+S57+S59+S61+S63+S65+S67+S69+S71+S73+S75+S77+S79+S81+S83+S85 -> 116109.3 | T9: =T12+T14+T16+T18+T20+T22+T25+T27+T29+T31+T33+T35+T37+T39+T41+T43+T45+T47+T49+T51+T53+T55+T57+T59+T61+T63+T65+T67+T69+T71+T73+T75+T77+T79+T81+T83+T85 -> 116109.3 | U9: =T9/S9*100 -> 100 | V9: =V12+V14+V16+V18+V20+V22+V25+V27+V29+V31+V33+V35+V37+V39+V41+V43+V45+V47+V49+V51+V53+V55+V57+V59+V61+V63+V65+V67+V69+V71+V73+V75+V77+V79+V81+V83+V85 -> 0 | W9: =W12+W14+W16+W18+W20+W22+W25+W27+W29+W31+W33+W35+W37+W39+W41+W43+W45+W47+W49+W51+W53+W55+W57+W59+W61+W63+W65+W67+W69+W71+W73+W75+W77+W79+W81+W83+W85 -> 0 | X9: =X12+X14+X16+X18+X20+X22+X25+X27+X29+X31+X33+X35+X37+X39+X41+X43+X45+X47+X49+X51+X53+X55+X57+X59+X61+X63+X65+X67+X69+X71+X73+X75+X77+X79+X81+X83+X85 -> 0 | Z9: =Z12+Z14+Z16+Z18+Z20+Z22+Z25+Z27+Z29+Z31+Z33+Z35+Z37+Z39+Z41+Z43+Z45+Z47+Z49+Z51+Z53+Z55+Z57+Z59+Z61+Z63+Z65+Z67+Z69+Z71+Z73+Z75+Z77+Z79+Z81+Z83+Z85 -> 0 | AA9: =AA12+AA14+AA16+AA18+AA20+AA22+AA25+AA27+AA29+AA31+AA33+AA35+AA37+AA39+AA41+AA43+AA45+AA47+AA49+AA51+AA53+AA55+AA57+AA59+AA61+AA63+AA65+AA67+AA69+AA71+AA73+AA75+AA77+AA79+AA81+AA83+AA85 -> 197331.1 | AB9: =AB12+AB14+AB16+AB18+AB20+AB22+AB25+AB27+AB29+AB31+AB33+AB35+AB37+AB39+AB41+AB43+AB45+AB47+AB49+AB51+AB53+AB55+AB57+AB59+AB61+AB63+AB65+AB67+AB69+AB71+AB73+AB75+AB77+AB79+AB81+AB83+AB85 -> 197331.1 | AC9: =AB9/AA9*100 -> 100
A10: Поселения: | B10: =F10+J10+N10+R10+V10+Z10 -> 0 | C10: =G10+K10+O10+S10+W10+AA10 -> 47700 | D10: =H10+L10+P10+T10+X10+AB10 -> 47700 | E10: =D10/C10*100 -> 100 | J10: =J23+J86 -> 0 | K10: =K23+K86 -> 0 | L10: =L23+L86 -> 0 | N10: =N23+N86 -> 0 | O10: =O23+O86 -> 0 | P10: =P23+P86 -> 0 | R10: =R23+R86 -> 0 | S10: =S23+S86 -> 0 | T10: =T23+T86 -> 0 | V10: =V23+V86 -> 0 | W10: =W23+W86 -> 47700 | X10: =X23+X86 -> 47700 | Y10: =X10/W10*100 -> 100 | Z10: =Z23+Z86 -> 0 | AA10: =AA23+AA86 -> 0 | AB10: =AB23+AB86 -> 0
A11: Александрово-Гайский (консолидированный) | B11: =F11+J11+N11+R11+V11+Z11 -> 105617.3 | C11: =G11+K11+O11+S11+W11+AA11 -> 113690.3 | D11: =H11+L11+P11+T11+X11+AB11 -> 113690.3 | E11: =D11/C11*100 -> 100 | J11: =J12 -> 59796.8 | K11: =K12 -> 60994.2 | L11: =L12 -> 60994.2 | M11: =L11/K11*100 -> 100 | N11: =N12 -> 45820.5 | O11: =O12 -> 44320.2 | P11: =P12 -> 44320.2 | Q11: =P11/O11*100 -> 100 | R11: =R12 -> 0 | S11: =S12 -> 1519.1 | T11: =T12 -> 1519.1 | U11: =T11/S11*100 -> 100 | V11: =V12 -> 0 | W11: =W12 -> 0 | X11: =X12 -> 0 | Z11: =Z12 -> 0 | AA11: =AA12 -> 6856.8 | AB11: =AB12 -> 6856.8 | AC11: =AB11/AA11*100 -> 100
A12: Александрово-Гайский (собственный) | B12: =F12+J12+N12+R12+V12+Z12 -> 105617.3 | C12: =G12+K12+O12+S12+W12+AA12 -> 113690.3 | D12: =H12+L12+P12+T12+X12+AB12 -> 113690.3 | E12: =D12/C12*100 -> 100 | J12: 59796.8 | K12: 60994.2 | L12: 60994.2 | M12: =L12/K12*100 -> 100 | N12: 45820.5 | O12: 44320.2 | P12: 44320.2 | Q12: =P12/O12*100 -> 100 | S12: 1519.1 | T12: 1519.1 | U12: =T12/S12*100 -> 100 | AA12: 6856.8 | AB12: 6856.8 | AC12: =AB12/AA12*100 -> 100
A13: Аркадакский (консолидированный) | B13: =F13+J13+N13+R13+V13+Z13 -> 71347.4 | C13: =G13+K13+O13+S13+W13+AA13 -> 81168.6 | D13: =H13+L13+P13+T13+X13+AB13 -> 81168.6 | E13: =D13/C13*100 -> 100 | J13: =J14 -> 71347.4 | K13: =K14 -> 72787.3 | L13: =L14 -> 72787.3 | M13: =L13/K13*100 -> 100 | N13: =N14 -> 0 | O13: =O14 -> 0 | P13: =P14 -> 0 | R13: =R14 -> 0 | S13: =S14 -> 2075.8 | T13: =T14 -> 2075.8 | U13: =T13/S13*100 -> 100 | V13: =V14 -> 0 | W13: =W14 -> 0 | X13: =X14 -> 0 | Z13: =Z14 -> 0 | AA13: =AA14 -> 6305.5 | AB13: =AB14 -> 6305.5 | AC13: =AB13/AA13*100 -> 100
A14: Аркадакский (собственный) | B14: =F14+J14+N14+R14+V14+Z14 -> 71347.4 | C14: =G14+K14+O14+S14+W14+AA14 -> 81168.6 | D14: =H14+L14+P14+T14+X14+AB14 -> 81168.6 | E14: =D14/C14*100 -> 100 | J14: 71347.4 | K14: 72787.3 | L14: 72787.3 | M14: =L14/K14*100 -> 100 | S14: 2075.8 | T14: 2075.8 | U14: =T14/S14*100 -> 100 | AA14: 6305.5 | AB14: 6305.5 | AC14: =AB14/AA14*100 -> 100
A15: Аткарский район (консолидированный) | B15: =F15+J15+N15+R15+V15+Z15 -> 132765.7 | C15: =G15+K15+O15+S15+W15+AA15 -> 136631.7 | D15: =H15+L15+P15+T15+X15+AB15 -> 136631.7 | E15: =D15/C15*100 -> 100 | J15: =J16 -> 132765.7 | K15: =K16 -> 135087.7 | L15: =L16 -> 135087.7 | M15: =L15/K15*100 -> 100 | N15: =N16 -> 0 | O15: =O16 -> 0 | P15: =P16 -> 0 | R15: =R16 -> 0 | S15: =S16 -> 1544 | T15: =T16 -> 1544 | U15: =T15/S15*100 -> 100 | V15: =V16 -> 0 | W15: =W16 -> 0 | X15: =X16 -> 0 | Z15: =Z16 -> 0 | AA15: =AA16 -> 0 | AB15: =AB16 -> 0
A16: Аткарский район (собственный) | B16: =F16+J16+N16+R16+V16+Z16 -> 132765.7 | C16: =G16+K16+O16+S16+W16+AA16 -> 136631.7 | D16: =H16+L16+P16+T16+X16+AB16 -> 136631.7 | E16: =D16/C16*100 -> 100 | J16: 132765.7 | K16: 135087.7 | L16: 135087.7 | M16: =L16/K16*100 -> 100 | S16: 1544 | T16: 1544 | U16: =T16/S16*100 -> 100
A17: Базарно-Карабулакский (консолидированный) | B17: =F17+J17+N17+R17+V17+Z17 -> 111390.6 | C17: =G17+K17+O17+S17+W17+AA17 -> 114725 | D17: =H17+L17+P17+T17+X17+AB17 -> 114725 | E17: =D17/C17*100 -> 100 | J17: =J18 -> 111390.6 | K17: =K18 -> 113541.3 | L17: =L18 -> 113541.3 | M17: =L17/K17*100 -> 100 | N17: =N18 -> 0 | O17: =O18 -> 0 | P17: =P18 -> 0 | R17: =R18 -> 0 | S17: =S18 -> 1183.7 | T17: =T18 -> 1183.7 | U17: =T17/S17*100 -> 100 | V17: =V18 -> 0 | W17: =W18 -> 0 | X17: =X18 -> 0 | Z17: =Z18 -> 0 | AA17: =AA18 -> 0 | AB17: =AB18 -> 0
A18: Базарно-Карабулакский (собственный) | B18: =F18+J18+N18+R18+V18+Z18 -> 111390.6 | C18: =G18+K18+O18+S18+W18+AA18 -> 114725 | D18: =H18+L18+P18+T18+X18+AB18 -> 114725 | E18: =D18/C18*100 -> 100 | J18: 111390.6 | K18: 113541.3 | L18: 113541.3 | M18: =L18/K18*100 -> 100 | S18: 1183.7 | T18: 1183.7 | U18: =T18/S18*100 -> 100
A19: Балаковский (консолидированный) | B19: =F19+J19+N19+R19+V19+Z19 -> 0 | C19: =G19+K19+O19+S19+W19+AA19 -> 2674.4 | D19: =H19+L19+P19+T19+X19+AB19 -> 2674.4 | E19: =D19/C19*100 -> 100 | J19: =J20 -> 0 | K19: =K20 -> 0 | L19: =L20 -> 0 | N19: =N20 -> 0 | O19: =O20 -> 0 | P19: =P20 -> 0 | R19: =R20 -> 0 | S19: =S20 -> 2674.4 | T19: =T20 -> 2674.4 | U19: =T19/S19*100 -> 100 | V19: =V20 -> 0 | W19: =W20 -> 0 | X19: =X20 -> 0 | Z19: =Z20 -> 0 | AA19: =AA20 -> 0 | AB19: =AB20 -> 0
A20: Балаковский (собственный) | B20: =F20+J20+N20+R20+V20+Z20 -> 0 | C20: =G20+K20+O20+S20+W20+AA20 -> 2674.4 | D20: =H20+L20+P20+T20+X20+AB20 -> 2674.4 | E20: =D20/C20*100 -> 100 | S20: 2674.4 | T20: 2674.4 | U20: =T20/S20*100 -> 100
A21: Балашовский (консолидированный) | B21: =F21+J21+N21+R21+V21+Z21 -> 159855.9 | C21: =G21+K21+O21+S21+W21+AA21 -> 220611.4 | D21: =H21+L21+P21+T21+X21+AB21 -> 220611.4 | E21: =D21/C21*100 -> 100 | J21: =J22+J23 -> 159855.9 | K21: =K22+K23 -> 163746.2 | L21: =L22+L23 -> 163746.2 | M21: =L21/K21*100 -> 100 | N21: =N22+N23 -> 0 | O21: =O22+O23 -> 0 | P21: =P22+P23 -> 0 | R21: =R22+R23 -> 0 | S21: =S22+S23 -> 11865.2 | T21: =T22+T23 -> 11865.2 | U21: =T21/S21*100 -> 100 | V21: =V22+V23 -> 0 | W21: =W22+W23 -> 45000 | X21: =X22+X23 -> 45000 | Y21: =X21/W21*100 -> 100 | Z21: =Z22+Z23 -> 0 | AA21: =AA22+AA23 -> 0 | AB21: =AB22+AB23 -> 0
A22: Балашовский (собственный) | B22: =F22+J22+N22+R22+V22+Z22 -> 159855.9 | C22: =G22+K22+O22+S22+W22+AA22 -> 175611.4 | D22: =H22+L22+P22+T22+X22+AB22 -> 175611.4 | E22: =D22/C22*100 -> 100 | J22: 159855.9 | K22: 163746.2 | L22: 163746.2 | M22: =L22/K22*100 -> 100 | S22: 11865.2 | T22: 11865.2 | U22: =T22/S22*100 -> 100
A23: город Балашов | B23: =F23+J23+N23+R23+V23+Z23 -> 0 | C23: =G23+K23+O23+S23+W23+AA23 -> 45000 | D23: =H23+L23+P23+T23+X23+AB23 -> 45000 | E23: =D23/C23*100 -> 100 | W23: 45000 | X23: 45000 | Y23: =X23/W23*100 -> 100
A24: Балтайский (консолидированный) | B24: =F24+J24+N24+R24+V24+Z24 -> 75918.9 | C24: =G24+K24+O24+S24+W24+AA24 -> 81624 | D24: =H24+L24+P24+T24+X24+AB24 -> 81624 | E24: =D24/C24*100 -> 100 | J24: =J25 -> 37590.8 | K24: =K25 -> 37590.8 | L24: =L25 -> 37590.8 | M24: =L24/K24*100 -> 100 | N24: =N25 -> 38328.1 | O24: =O25 -> 38143.7 | P24: =P25 -> 38143.7 | Q24: =P24/O24*100 -> 100 | R24: =R25 -> 0 | S24: =S25 -> 1029.3 | T24: =T25 -> 1029.3 | U24: =T24/S24*100 -> 100 | V24: =V25 -> 0 | W24: =W25 -> 0 | X24: =X25 -> 0 | Z24: =Z25 -> 0 | AA24: =AA25 -> 4860.2 | AB24: =AB25 -> 4860.2 | AC24: =AB24/AA24*100 -> 100
A25: Балтайский (собственный) | B25: =F25+J25+N25+R25+V25+Z25 -> 75918.9 | C25: =G25+K25+O25+S25+W25+AA25 -> 81624 | D25: =H25+L25+P25+T25+X25+AB25 -> 81624 | E25: =D25/C25*100 -> 100 | J25: 37590.8 | K25: 37590.8 | L25: 37590.8 | M25: =L25/K25*100 -> 100 | N25: 38328.1 | O25: 38143.7 | P25: 38143.7 | Q25: =P25/O25*100 -> 100 | S25: 1029.3 | T25: 1029.3 | U25: =T25/S25*100 -> 100 | AA25: 4860.2 | AB25: 4860.2 | AC25: =AB25/AA25*100 -> 100
A26: Вольский (консолидированный) | B26: =F26+J26+N26+R26+V26+Z26 -> 79599.1 | C26: =G26+K26+O26+S26+W26+AA26 -> 90606.6 | D26: =H26+L26+P26+T26+X26+AB26 -> 90606.6 | E26: =D26/C26*100 -> 100 | J26: =J27 -> 79599.1 | K26: =K27 -> 82403.6 | L26: =L27 -> 82403.6 | M26: =L26/K26*100 -> 100 | N26: =N27 -> 0 | O26: =O27 -> 0 | P26: =P27 -> 0 | R26: =R27 -> 0 | S26: =S27 -> 8203 | T26: =T27 -> 8203 | U26: =T26/S26*100 -> 100 | V26: =V27 -> 0 | W26: =W27 -> 0 | X26: =X27 -> 0 | Z26: =Z27 -> 0 | AA26: =AA27 -> 0 | AB26: =AB27 -> 0
A27: Вольский (собственный) | B27: =F27+J27+N27+R27+V27+Z27 -> 79599.1 | C27: =G27+K27+O27+S27+W27+AA27 -> 90606.6 | D27: =H27+L27+P27+T27+X27+AB27 -> 90606.6 | E27: =D27/C27*100 -> 100 | J27: 79599.1 | K27: 82403.6 | L27: 82403.6 | M27: =L27/K27*100 -> 100 | S27: 8203 | T27: 8203 | U27: =T27/S27*100 -> 100
A28: Воскресенский (консолидированный) | B28: =F28+J28+N28+R28+V28+Z28 -> 49856.9 | C28: =G28+K28+O28+S28+W28+AA28 -> 60077.5 | D28: =H28+L28+P28+T28+X28+AB28 -> 60077.5 | E28: =D28/C28*100 -> 100 | J28: =J29 -> 40132.8 | K28: =K29 -> 41229.2 | L28: =L29 -> 41229.2 | M28: =L28/K28*100 -> 100 | N28: =N29 -> 9724.1 | O28: =O29 -> 14421.2 | P28: =P29 -> 14421.2 | Q28: =P28/O28*100 -> 100 | R28: =R29 -> 0 | S28: =S29 -> 325.9 | T28: =T29 -> 325.9 | U28: =T28/S28*100 -> 100 | V28: =V29 -> 0 | W28: =W29 -> 0 | X28: =X29 -> 0 | Z28: =Z29 -> 0 | AA28: =AA29 -> 4101.2 | AB28: =AB29 -> 4101.2 | AC28: =AB28/AA28*100 -> 100
A29: Воскресенский (собственный) | B29: =F29+J29+N29+R29+V29+Z29 -> 49856.9 | C29: =G29+K29+O29+S29+W29+AA29 -> 60077.5 | D29: =H29+L29+P29+T29+X29+AB29 -> 60077.5 | E29: =D29/C29*100 -> 100 | J29: 40132.8 | K29: 41229.2 | L29: 41229.2 | M29: =L29/K29*100 -> 100 | N29: 9724.1 | O29: 14421.2 | P29: 14421.2 | Q29: =P29/O29*100 -> 100 | S29: 325.9 | T29: 325.9 | U29: =T29/S29*100 -> 100 | AA29: 4101.2 | AB29: 4101.2 | AC29: =AB29/AA29*100 -> 100
A30: Дергачевский (консолидированный) | B30: =F30+J30+N30+R30+V30+Z30 -> 114287.5 | C30: =G30+K30+O30+S30+W30+AA30 -> 124008.9 | D30: =H30+L30+P30+T30+X30+AB30 -> 124008.9 | E30: =D30/C30*100 -> 100 | J30: =J31 -> 114287.5 | K30: =K31 -> 115998.8 | L30: =L31 -> 115998.8 | M30: =L30/K30*100 -> 100 | N30: =N31 -> 0 | O30: =O31 -> 0 | P30: =P31 -> 0 | R30: =R31 -> 0 | S30: =S31 -> 1869.9 | T30: =T31 -> 1869.9 | U30: =T30/S30*100 -> 100 | V30: =V31 -> 0 | W30: =W31 -> 0 | X30: =X31 -> 0 | Z30: =Z31 -> 0 | AA30: =AA31 -> 6140.2 | AB30: =AB31 -> 6140.2 | AC30: =AB30/AA30*100 -> 100
A31: Дергачевский (собственный) | B31: =F31+J31+N31+R31+V31+Z31 -> 114287.5 | C31: =G31+K31+O31+S31+W31+AA31 -> 124008.9 | D31: =H31+L31+P31+T31+X31+AB31 -> 124008.9 | E31: =D31/C31*100 -> 100 | J31: 114287.5 | K31: 115998.8 | L31: 115998.8 | M31: =L31/K31*100 -> 100 | S31: 1869.9 | T31: 1869.9 | U31: =T31/S31*100 -> 100 | AA31: 6140.2 | AB31: 6140.2 | AC31: =AB31/AA31*100 -> 100
A32: Духовницкий (консолидированный) | B32: =F32+J32+N32+R32+V32+Z32 -> 20411.3 | C32: =G32+K32+O32+S32+W32+AA32 -> 52825.8 | D32: =H32+L32+P32+T32+X32+AB32 -> 52825.8 | E32: =D32/C32*100 -> 100 | J32: =J33 -> 20411.3 | K32: =K33 -> 20411.3 | L32: =L33 -> 20411.3 | M32: =L32/K32*100 -> 100 | N32: =N33 -> 0 | O32: =O33 -> 25852.5 | P32: =P33 -> 25852.5 | Q32: =P32/O32*100 -> 100 | R32: =R33 -> 0 | S32: =S33 -> 2146.8 | T32: =T33 -> 2146.8 | U32: =T32/S32*100 -> 100 | V32: =V33 -> 0 | W32: =W33 -> 0 | X32: =X33 -> 0 | Z32: =Z33 -> 0 | AA32: =AA33 -> 4415.2 | AB32: =AB33 -> 4415.2 | AC32: =AB32/AA32*100 -> 100
A33: Духовницкий (собственный) | B33: =F33+J33+N33+R33+V33+Z33 -> 20411.3 | C33: =G33+K33+O33+S33+W33+AA33 -> 52825.8 | D33: =H33+L33+P33+T33+X33+AB33 -> 52825.8 | E33: =D33/C33*100 -> 100 | J33: 20411.3 | K33: 20411.3 | L33: 20411.3 | M33: =L33/K33*100 -> 100 | O33: 25852.5 | P33: 25852.5 | Q33: =P33/O33*100 -> 100 | S33: 2146.8 | T33: 2146.8 | U33: =T33/S33*100 -> 100 | AA33: 4415.2 | AB33: 4415.2 | AC33: =AB33/AA33*100 -> 100
A34: Екатериновский (консолидированный) | B34: =F34+J34+N34+R34+V34+Z34 -> 51742 | C34: =G34+K34+O34+S34+W34+AA34 -> 58995.1 | D34: =H34+L34+P34+T34+X34+AB34 -> 58995.1 | E34: =D34/C34*100 -> 100 | J34: =J35 -> 22551.7 | K34: =K35 -> 22551.7 | L34: =L35 -> 22551.7 | M34: =L34/K34*100 -> 100 | N34: =N35 -> 29190.3 | O34: =O35 -> 28783 | P34: =P35 -> 28783 | Q34: =P34/O34*100 -> 100 | R34: =R35 -> 0 | S34: =S35 -> 1080.8 | T34: =T35 -> 1080.8 | U34: =T34/S34*100 -> 100 | V34: =V35 -> 0 | W34: =W35 -> 0 | X34: =X35 -> 0 | Z34: =Z35 -> 0 | AA34: =AA35 -> 6579.6 | AB34: =AB35 -> 6579.6 | AC34: =AB34/AA34*100 -> 100
A35: Екатериновский (собственный) | B35: =F35+J35+N35+R35+V35+Z35 -> 51742 | C35: =G35+K35+O35+S35+W35+AA35 -> 58995.1 | D35: =H35+L35+P35+T35+X35+AB35 -> 58995.1 | E35: =D35/C35*100 -> 100 | J35: 22551.7 | K35: 22551.7 | L35: 22551.7 | M35: =L35/K35*100 -> 100 | N35: 29190.3 | O35: 28783 | P35: 28783 | Q35: =P35/O35*100 -> 100 | S35: 1080.8 | T35: 1080.8 | U35: =T35/S35*100 -> 100 | AA35: 6579.6 | AB35: 6579.6 | AC35: =AB35/AA35*100 -> 100
