Workbook

Sheet Итого по видам(с учет нераспр.)
A1: Сведения о предоставлении из бюджета Саратовской области межбюджетных трансфертов местным бюджетам
A2: за 9 месяцев 2022 года
F3: тыс. рублей
A4: № п/п | B4: Наименование | C4: Код бюджетной классификации | D4: Утвержденные бюджетные назначения* | E4: Исполнение | F4: % исполнения
A6: 1 | B6: 2 | C6: 3 | D6: 4 | E6: 5 | F6: 6
A7: 1. | B7: Дотация - всего | D7: =SUM(D8:D11) -> 4378132.9 | E7: =SUM(E8:E11) -> 3069712.9 | F7: =E7/D7*100 -> 70.114658
A8: 1.1. | B8: Дотация бюджетам городских округов области, связанные с особым режимом безопасного функционирования закрытых административно-территориальных образований | C8: 000 1402 6640150100 512 | D8: =Дотации!E51 -> 37735 | E8: =Дотации!F51 -> 28302 | F8: =E8/D8*100 -> 75.001988
A9: 1.2. | B9: Дотация на выравнивание бюджетной обеспеченности муниципальных районов (городских округов) области | C9: 000 1401 6640170200 511 | D9: =Дотации!H51 -> 3500996 | E9: =Дотации!I51 -> 2660897.8 | F9: =E9/D9*100 -> 76.004023
A10: 1.3. | B10: Дотация бюджетам муниципальных районов и городских округов области на поддержку мер по обеспечению сбалансированности местных бюджетов | C10: 000 1402 6640170300 512 | D10: =Дотации!K51 -> 657280.1 | E10: =Дотации!L51 -> 243920.7 | F10: =E10/D10*100 -> 37.110617
A11: 1.4. | B11: Дотации бюджетам муниципальных районов и городских округов области на компенсацию дополнительных расходов на повышение оплаты труда некоторых категорий работников муниципальных учреждений в связи с увеличением минимального размера оплаты труда | C11: 000 1402 6640170700 512 | D11: =Дотации!N51 -> 182121.8 | E11: =Дотации!O51 -> 136592.4 | F11: =E11/D11*100 -> 75.000577
A12: 2. | B12: Субсидии - всего | D12: =SUM(D13:D81) -> 12813139 | E12: =SUM(E13:E81) -> 9036034.6 | F12: =E12/D12*100 -> 70.521631
A13: 2.1. | B13: Субсидия бюджетам муниципальных районов и городских округов области на создание в общеобразовательных организациях, расположенных в сельской местности и малых городах, условий для занятий физической культурой и спортом | C13: 000 0702 5A2E250970 521 | D13: =Субсидии!E395 -> 16678.78 | E13: =Субсидии!F395 -> 16661.165 | F13: =E13/D13*100 -> 99.894387
A14: 2.2. | B14: Субсидия бюджетам муниципальных районов и городских округов области на создание новых мест в образовательных организациях различных типов для реализации дополнительных общеразвивающих программ всех направленностей | C14: 000 0703 5A2E254910 523 | D14: =Субсидии!H395 -> 4580.1 | E14: =Субсидии!I395 -> 4518.266 | F14: =E14/D14*100 -> 98.649941
A15: 2.3. | B15: Субсидии бюджетам городских округов области на создание новых мест в общеобразовательных организациях 2* | C15: 000 0702 5A2E155200 523 | D15: =Субсидии!K395 -> 451729.8 | E15: =Субсидии!L395 -> 431925.51 | F15: =E15/D15*100 -> 95.6159
A16: 2.4. | B16: Субсидия бюджетам муниципальных районов области на создание новых мест в общеобразовательных организациях, расположенных в сельской местности и поселках городского типа | C16: 000 0702 5A2E152300 523 | D16: =Субсидии!N395 -> 72454.796 | E16: =Субсидии!O395 -> 11224.49 | F16: =E16/D16*100 -> 15.491714
A17: 2.5. | B17: Субсидия бюджетам городских округов области на создание новых мест в общеобразовательных организациях в связи с ростом числа обучающихся, вызванным демографическим фактором 4* | C17: 000 0702 5A2E153050 523 | D17: =Субсидии!Q395 -> 503998.2 | E17: =Субсидии!R395 -> 448785.15 | F17: =E17/D17*100 -> 89.04499
A18: 2.6. | B18: Субсидия бюджетам городских округов области на создание новых мест в общеобразовательных организациях в связи с ростом числа обучающихся, вызванным демографическим фактором, за счет резервного фонда Правительства Российской Федерации 9* | C18: 000 0702 5A2E15305F 523 | D18: =Субсидии!T395 -> 96463.6 | E18: =Субсидии!U395 -> 86448.199 | F18: =E18/D18*100 -> 89.61743
A19: 2.7. | B19: Субсидия бюджетам городских округов области на создание новых мест в общеобразовательных организациях в связи с ростом числа обучающихся, вызванным демографическим фактором (в рамках достижения соответствующих результатов федерального проекта) 4* | C19: 000 0702 5A2E1U3050 523 | D19: =Субсидии!W395 -> 200000 | E19: =Субсидии!X395 -> 197655.33 | F19: =E19/D19*100 -> 98.827666
A20: 2.8. | B20: Субсидия бюджетам муниципальных районов и городских округов области на обеспечение жильем молодых семей | C20: 000 1004 5E301R4970 521 | D20: =Субсидии!Z395 -> 59232.5 | E20: =Субсидии!AA395 -> 57625.835 | F20: =E20/D20*100 -> 97.287528
A21: 2.9. | B21: Субсидия бюджетам городских округов и поселений области на реализацию регионального проекта (программы) в целях выполнения задач федерального проекта «Жилье» (Стимулирование программ развития жилищного строительства) | C21: 000 1403 5E1F150210 523 | D21: =Субсидии!AC395 -> 787535.94 | E21: =Субсидии!AD395 -> 568082.6 | F21: =E21/D21*100 -> 72.134182
A22: 2.10. | B22: Субсидия бюджетам муниципальных районов и поселений области на поддержку творческой деятельности и укрепление материально-технической базы муниципальных театров в населенных пунктах с численностью населения до 300 тысяч человек | C22: 000 0801 55206R4660 521 | D22: =Субсидии!AF395 -> 5763.0337 | E22: =Субсидии!AG395 -> 5763.0337 | F22: =E22/D22*100 -> 100
A23: 2.11. | B23: Субсидия бюджетам муниципальных районов и поселений области на обеспечение развития и укрепления материально-технической базы домов культуры в населенных пунктах с числом жителей до 50 тысяч человек | C23: 000 0801 55A12R4670 521 | D23: =Субсидии!AI395 -> 36826.658 | E23: =Субсидии!AJ395 -> 36826.629 | F23: =E23/D23*100 -> 99.999922
A24: 2.12. | B24: Субсидия бюджетам муниципальных районов и поселений области на поддержку отрасли культуры на государственную поддержку лучших сельских учреждений культуры | C24: 000 0801 55БA255192 523 | D24: =Субсидии!AL395 -> 2346.9389 | E24: =Субсидии!AM395 -> 2346.9389 | F24: =E24/D24*100 -> 100
A25: 2.13. | B25: Субсидия бюджетам муниципальных районов и поселений области на поддержку отрасли культуры на государственную поддержку лучших работников сельских учреждений культуры | C25: 000 0801 55БA255194 523 | D25: =Субсидии!AO395 -> 867.3509 | E25: =Субсидии!AP395 -> 867.34714 | F25: =E25/D25*100 -> 99.999567
A26: 2.14. | B26: Субсидия бюджетам муниципальных районов и поселений области на поддержку отрасли культуры на комплектование книжных фондов муниципальных общедоступных библиотек | C26: 000 0801 55402R5191 523 | D26: =Субсидии!AR395 -> 10898.777 | E26: =Субсидии!AS395 -> 10898.777 | F26: =Субсидии!AT395 -> 100
A27: 2.15. | B27: Субсидия бюджетам муниципальных районов и поселений области на поддержку отрасли культуры на приобретение музыкальных инструментов, оборудования и материалов для детских школ искусств по видам искусств | C27: 000 0703 55AA155199 523 | D27: =Субсидии!AU395 -> 1503.591 | E27: =Субсидии!AV395 -> 1503.591 | F27: =E27/D27*100 -> 100
A28: 2.16. | B28: Субсидия бюджетам муниципальных районов и поселений области на поддержку отрасли культуры на модернизация региональных и муниципальных детских школ искусств по видам искусств | C28: 000 0703 55AA155195 523 | D28: =Субсидии!AX395 -> 20518.6 | E28: =Субсидии!AY395 -> 15752.55 | F28: =E28/D28*100 -> 76.772051
A29: 2.17. | B29: Субсидия бюджетам муниципальных районов области на обеспечение деятельности муниципальных бизнес-инкубаторов | C29: 000 0412 5830171100 521 | D29: =Субсидии!BA395 -> 5300 | E29: =Субсидии!BB395 -> 3975 | F29: =E29/D29*100 -> 75
A30: 2.18. | B30: Субсидия бюджетам городских округов, городских и сельских поселений области на реализацию инициативных проектов 6* | C30: 000 0113 6640572100 523 | D30: =Субсидии!BD395 -> 140000 | E30: =Субсидии!BE395 -> 81098.432 | F30: =E30/D30*100 -> 57.927452
A31: 2.19. | B31: Субсидия бюджетам городских округов и поселений области на поддержку муниципальных программ формирования современной городской среды | C31: 000 0503 691F255550 523 | D31: =Субсидии!BG395 -> 693373.06 | E31: =Субсидии!BH395 -> 674150.85 | F31: =E31/D31*100 -> 97.227724
A32: 2.20. | B32: Субсидия бюджетам муниципальных районов и городских округов области на обеспечение сохранения достигнутых показателей повышения оплаты труда отдельных категорий работников бюджетной сферы | C32: 000 1403 6640172500 521 | D32: =Субсидии!BJ395 -> 1332228.3 | E32: =Субсидии!BK395 -> 831389.51 | F32: =E32/D32*100 -> 62.405934
A33: 2.21. | B33: Субсидия бюджетам муниципальных районов области на развитие сети учреждений культурно-досугового типа (создание и модернизация учреждений культурно-досугового типа) | C33: 000 0801 55AA155131 523 | D33: =Субсидии!BM395 -> 33126.4 | E33: =Субсидии!BN395 -> 33126.4 | F33: =E33/D33*100 -> 100
A34: 2.22. | B34: Субсидия бюджетам поселений области на развитие сети учреждений культурно-досугового типа (создание центров культурного развития) | C34: 000 0801 55AA155132 522 | D34: =Субсидии!BP395 -> 48011.2 | E34: =Субсидии!BQ395 -> 24005.6 | F34: =E34/D34*100 -> 50
A35: 2.23. | B35: Субсидия бюджетам муниципальных районов и городских округов области на обеспечение условий для создания центров образования цифрового и гуманитарного профилей (в рамках достижения соответствующих результатов федерального проекта) в части расходов на оплату труда с начислениями | C35: 000 0702 5A2E1U1137 521 | D35: =Субсидии!BS395 -> 143049.43 | E35: =Субсидии!BT395 -> 101560.65 | F35: =E35/D35*100 -> 70.996893
A36: 2.24. | B36: Субсидия бюджетам муниципальных районов и городских округов области на обеспечение условий для создания центров образования цифрового и гуманитарного профилей (в рамках достижения соответствующих результатов федерального проекта) | C36: 000 0702 5A2E1U1130 521 | D36: =Субсидии!BV395 -> 23655.07 | E36: =Субсидии!BW395 -> 2243.2541 | F36: =E36/D36*100 -> 9.4831853
A37: 2.25. | B37: Субсидия бюджетам муниципальных районов и городских округов области на обеспечение условий для создания центров образования цифрового и гуманитарного профилей (в рамках достижения соответствующих результатов федерального проекта) за исключением расходов на оплату труда с начислениями | C37: 000 0702 5A2E1U1131 521 | D37: =Субсидии!BY395 -> 29960 | E37: =Субсидии!BZ395 -> 3744.156 | F37: =E37/D37*100 -> 12.497183
A38: 2.26. | B38: Субсидия бюджетам городских округов и поселений области на реализацию мероприятий по строительству и реконструкции (модернизации) объектов питьевого водоснабжения 3* | C38: 000 0502 5E8F552430 522 | D38: =Субсидии!CB395 -> 397117.34 | E38: =Субсидии!CC395 -> 187743.2 | F38: =E38/D38*100 -> 47.276506
A39: 2.27. | B39: Субсидия бюджетам поселений области на реализацию мероприятий по сокращению доли загрязненных сточных вод | C39: 000 0602 5E8G650130 522 | D39: =Субсидии!CE395 -> 44510.9 | E39: =Субсидии!CF395 -> 44126.611 | F39: =E39/D39*100 -> 99.13664
A40: 2.28. | B40: Субсидия бюджетам поселений области на реализацию мероприятий по сокращению доли загрязненных сточных вод за счет средств резервного фонда Правительства Российской Федерации 7* | C40: 000 0602 5E8G65013F 522 | D40: =Субсидии!CH395 -> 25855.41 | E40: =Субсидии!CI395 -> 22625.133 | F40: =E40/D40*100 -> 87.50638
A41: 2.29. | B41: Субсидия бюджетам муниципальных районов, городских округов и поселений области на обустройство и восстановление воинских захоронений, находящихся в государственной (муниципальной) собственности | C41: 000 0503 66105R2990 521 | D41: =Субсидии!CK395 -> 7478.3146 | E41: =Субсидии!CL395 -> 7478.3146 | F41: =E41/D41*100 -> 100
...

Sheet Всего (с выдел. нераспред)
A1: Сведения о предоставленных из бюджета Саратовской области межбюджетных трансфертах бюджетам муниципальных образований за 9 месяцев 2022 года
O2: тыс.рублей
A3: Наименование муниципальных образований | B3: Всего
E4: Дотации | H4: Субсидии | K4: Субвенции | N4: Иные межбюджетные трансферты
B6: утвержденные бюджетные назначения 2* | C6: исполнено | D6: % исполнения | E6: утвержденные бюджетные назначения* | F6: исполнено | G6: % исполнения | H6: утвержденные бюджетные назначения 2* | I6: исполнено | J6: % исполнения | K6: утвержденные бюджетные назначения* | L6: исполнено | M6: % исполнения | N6: утвержденные бюджетные назначения 2* | O6: исполнено | P6: % исполнения
A7: Муниципальные районы области (консолидированный) | B7: =E7+H7+K7+N7 -> 31073206 | C7: =F7+I7+L7+O7 -> 20667890 | D7: =C7/B7*100 -> 66.513541 | E7: =E10+E14+E23+E37+E52+E57+E75+E81+E98+E103+E115+E124+E138+E151+E162+E175+E188+E202+E206+E218+E227+E234+E247+E260+E274+E282+E292+E303+E313+E322+E331+E341+E352+E361+E370+E383+E392 -> 4116888 | F7: =F10+F14+F23+F37+F52+F57+F75+F81+F98+F103+F115+F124+F138+F151+F162+F175+F188+F202+F206+F218+F227+F234+F247+F260+F274+F282+F292+F303+F313+F322+F331+F341+F352+F361+F370+F383+F392 -> 2873778.1 | G7: =F7/E7*100 -> 69.804622 | H7: =H10+H14+H23+H37+H52+H57+H75+H81+H98+H103+H115+H124+H138+H151+H162+H175+H188+H202+H206+H218+H227+H234+H247+H260+H274+H282+H292+H303+H313+H322+H331+H341+H352+H361+H370+H383+H392 -> 7900427.6 | I7: =I10+I14+I23+I37+I52+I57+I75+I81+I98+I103+I115+I124+I138+I151+I162+I175+I188+I202+I206+I218+I227+I234+I247+I260+I274+I282+I292+I303+I313+I322+I331+I341+I352+I361+I370+I383+I392 -> 5585090.1 | J7: =I7/H7*100 -> 70.693516 | K7: =K10+K14+K23+K37+K52+K57+K75+K81+K98+K103+K115+K124+K138+K151+K162+K175+K188+K202+K206+K218+K227+K234+K247+K260+K274+K282+K292+K303+K313+K322+K331+K341+K352+K361+K370+K383+K392 -> 16376085 | L7: =L10+L14+L23+L37+L52+L57+L75+L81+L98+L103+L115+L124+L138+L151+L162+L175+L188+L202+L206+L218+L227+L234+L247+L260+L274+L282+L292+L303+L313+L322+L331+L341+L352+L361+L370+L383+L392 -> 11097257 | M7: =L7/K7*100 -> 67.765018 | N7: =N10+N14+N23+N37+N52+N57+N75+N81+N98+N103+N115+N124+N138+N151+N162+N175+N188+N202+N206+N218+N227+N234+N247+N260+N274+N282+N292+N303+N313+N322+N331+N341+N352+N361+N370+N383+N392 -> 2679805.2 | O7: =O10+O14+O23+O37+O52+O57+O75+O81+O98+O103+O115+O124+O138+O151+O162+O175+O188+O202+O206+O218+O227+O234+O247+O260+O274+O282+O292+O303+O313+O322+O331+O341+O352+O361+O370+O383+O392 -> 1111764.3 | P7: =O7/N7*100 -> 41.48676
A8: Муниципальные районы области (собственный): | B8: =E8+H8+K8+N8 -> 25800138 | C8: =F8+I8+L8+O8 -> 17128295 | D8: =C8/B8*100 -> 66.388387 | E8: =E11+E15+E24+E38+E53+E58+E76+E82+E99+E104+E116+E125+E139+E152+E163+E176+E189+E203+E207+E219+E228+E235+E248+E261+E275+E283+E293+E304+E314+E323+E332+E342+E353+E362+E371+E384+E393 -> 4116888 | F8: =F11+F15+F24+F38+F53+F58+F76+F82+F99+F104+F116+F125+F139+F152+F163+F176+F189+F203+F207+F219+F228+F235+F248+F261+F275+F283+F293+F304+F314+F323+F332+F342+F353+F362+F371+F384+F393 -> 2873778.1 | G8: =F8/E8*100 -> 69.804622 | H8: =H11+H15+H24+H38+H53+H58+H76+H82+H99+H104+H116+H125+H139+H152+H163+H176+H189+H203+H207+H219+H228+H235+H248+H261+H275+H283+H293+H304+H314+H323+H332+H342+H353+H362+H371+H384+H393 -> 4134636.1 | I8: =I11+I15+I24+I38+I53+I58+I76+I82+I99+I104+I116+I125+I139+I152+I163+I176+I189+I203+I207+I219+I228+I235+I248+I261+I275+I283+I293+I304+I314+I323+I332+I342+I353+I362+I371+I384+I393 -> 2607644.4 | J8: =I8/H8*100 -> 63.068292 | K8: =K11+K15+K24+K38+K53+K58+K76+K82+K99+K104+K116+K125+K139+K152+K163+K176+K189+K203+K207+K219+K228+K235+K248+K261+K275+K283+K293+K304+K314+K323+K332+K342+K353+K362+K371+K384+K393 -> 16322253 | L8: =L11+L15+L24+L38+L53+L58+L76+L82+L99+L104+L116+L125+L139+L152+L163+L176+L189+L203+L207+L219+L228+L235+L248+L261+L275+L283+L293+L304+L314+L323+L332+L342+L353+L362+L371+L384+L393 -> 11064172 | M8: =L8/K8*100 -> 67.785813 | N8: =N11+N15+N24+N38+N53+N58+N76+N82+N99+N104+N116+N125+N139+N152+N163+N176+N189+N203+N207+N219+N228+N235+N248+N261+N275+N283+N293+N304+N314+N323+N332+N342+N353+N362+N371+N384+N393 -> 1226360.7 | O8: =O11+O15+O24+O38+O53+O58+O76+O82+O99+O104+O116+O125+O139+O152+O163+O176+O189+O203+O207+O219+O228+O235+O248+O261+O275+O283+O293+O304+O314+O323+O332+O342+O353+O362+O371+O384+O393 -> 582701 | P8: =O8/N8*100 -> 47.514649
A9: Поселения: | B9: =E9+H9+K9+N9 -> 5273068.4 | C9: =F9+I9+L9+O9 -> 3539594.5 | D9: =C9/B9*100 -> 67.125898 | E9: =SUM(E12:E13)+SUM(E16:E22)+SUM(E25:E36)+SUM(E39:E51)+SUM(E54:E56)+SUM(E59:E74)+SUM(E77:E80)+SUM(E83:E97)+SUM(E100:E102)+SUM(E105:E114)+SUM(E117:E123)+SUM(E126:E137)+SUM(E140:E150)+SUM(E153:E161)+SUM(E164:E174)+SUM(E177:E187)+SUM(E190:E201)+SUM(E204:E205)+SUM(E208:E217)+SUM(E220:E226)+SUM(E229:E233)+SUM(E236:E246)+SUM(E249:E259)+SUM(E262:E273)+SUM(E276:E281)+SUM(E284:E291)+SUM(E294:E302)+SUM(E305:E312)+SUM(E315:E321)+SUM(E324:E330)+SUM(E333:E340)+SUM(E343:E351)+SUM(E354:E360)+SUM(E363:E369)+SUM(E372:E382)+SUM(E385:E391)+SUM(E394:E398) -> 0 | F9: =SUM(F12:F13)+SUM(F16:F22)+SUM(F25:F36)+SUM(F39:F51)+SUM(F54:F56)+SUM(F59:F74)+SUM(F77:F80)+SUM(F83:F97)+SUM(F100:F102)+SUM(F105:F114)+SUM(F117:F123)+SUM(F126:F137)+SUM(F140:F150)+SUM(F153:F161)+SUM(F164:F174)+SUM(F177:F187)+SUM(F190:F201)+SUM(F204:F205)+SUM(F208:F217)+SUM(F220:F226)+SUM(F229:F233)+SUM(F236:F246)+SUM(F249:F259)+SUM(F262:F273)+SUM(F276:F281)+SUM(F284:F291)+SUM(F294:F302)+SUM(F305:F312)+SUM(F315:F321)+SUM(F324:F330)+SUM(F333:F340)+SUM(F343:F351)+SUM(F354:F360)+SUM(F363:F369)+SUM(F372:F382)+SUM(F385:F391)+SUM(F394:F398) -> 0 | H9: =SUM(H12:H13)+SUM(H16:H22)+SUM(H25:H36)+SUM(H39:H51)+SUM(H54:H56)+SUM(H59:H74)+SUM(H77:H80)+SUM(H83:H97)+SUM(H100:H102)+SUM(H105:H114)+SUM(H117:H123)+SUM(H126:H137)+SUM(H140:H150)+SUM(H153:H161)+SUM(H164:H174)+SUM(H177:H187)+SUM(H190:H201)+SUM(H204:H205)+SUM(H208:H217)+SUM(H220:H226)+SUM(H229:H233)+SUM(H236:H246)+SUM(H249:H259)+SUM(H262:H273)+SUM(H276:H281)+SUM(H284:H291)+SUM(H294:H302)+SUM(H305:H312)+SUM(H315:H321)+SUM(H324:H330)+SUM(H333:H340)+SUM(H343:H351)+SUM(H354:H360)+SUM(H363:H369)+SUM(H372:H382)+SUM(H385:H391)+SUM(H394:H398) -> 3765791.5 | I9: =SUM(I12:I13)+SUM(I16:I22)+SUM(I25:I36)+SUM(I39:I51)+SUM(I54:I56)+SUM(I59:I74)+SUM(I77:I80)+SUM(I83:I97)+SUM(I100:I102)+SUM(I105:I114)+SUM(I117:I123)+SUM(I126:I137)+SUM(I140:I150)+SUM(I153:I161)+SUM(I164:I174)+SUM(I177:I187)+SUM(I190:I201)+SUM(I204:I205)+SUM(I208:I217)+SUM(I220:I226)+SUM(I229:I233)+SUM(I236:I246)+SUM(I249:I259)+SUM(I262:I273)+SUM(I276:I281)+SUM(I284:I291)+SUM(I294:I302)+SUM(I305:I312)+SUM(I315:I321)+SUM(I324:I330)+SUM(I333:I340)+SUM(I343:I351)+SUM(I354:I360)+SUM(I363:I369)+SUM(I372:I382)+SUM(I385:I391)+SUM(I394:I398) -> 2977445.7 | J9: =I9/H9*100 -> 79.065602 | K9: =SUM(K12:K13)+SUM(K16:K22)+SUM(K25:K36)+SUM(K39:K51)+SUM(K54:K56)+SUM(K59:K74)+SUM(K77:K80)+SUM(K83:K97)+SUM(K100:K102)+SUM(K105:K114)+SUM(K117:K123)+SUM(K126:K137)+SUM(K140:K150)+SUM(K153:K161)+SUM(K164:K174)+SUM(K177:K187)+SUM(K190:K201)+SUM(K204:K205)+SUM(K208:K217)+SUM(K220:K226)+SUM(K229:K233)+SUM(K236:K246)+SUM(K249:K259)+SUM(K262:K273)+SUM(K276:K281)+SUM(K284:K291)+SUM(K294:K302)+SUM(K305:K312)+SUM(K315:K321)+SUM(K324:K330)+SUM(K333:K340)+SUM(K343:K351)+SUM(K354:K360)+SUM(K363:K369)+SUM(K372:K382)+SUM(K385:K391)+SUM(K394:K398) -> 53832.5 | L9: =SUM(L12:L13)+SUM(L16:L22)+SUM(L25:L36)+SUM(L39:L51)+SUM(L54:L56)+SUM(L59:L74)+SUM(L77:L80)+SUM(L83:L97)+SUM(L100:L102)+SUM(L105:L114)+SUM(L117:L123)+SUM(L126:L137)+SUM(L140:L150)+SUM(L153:L161)+SUM(L164:L174)+SUM(L177:L187)+SUM(L190:L201)+SUM(L204:L205)+SUM(L208:L217)+SUM(L220:L226)+SUM(L229:L233)+SUM(L236:L246)+SUM(L249:L259)+SUM(L262:L273)+SUM(L276:L281)+SUM(L284:L291)+SUM(L294:L302)+SUM(L305:L312)+SUM(L315:L321)+SUM(L324:L330)+SUM(L333:L340)+SUM(L343:L351)+SUM(L354:L360)+SUM(L363:L369)+SUM(L372:L382)+SUM(L385:L391)+SUM(L394:L398) -> 33085.473 | M9: =L9/K9*100 -> 61.460035 | N9: =SUM(N12:N13)+SUM(N16:N22)+SUM(N25:N36)+SUM(N39:N51)+SUM(N54:N56)+SUM(N59:N74)+SUM(N77:N80)+SUM(N83:N97)+SUM(N100:N102)+SUM(N105:N114)+SUM(N117:N123)+SUM(N126:N137)+SUM(N140:N150)+SUM(N153:N161)+SUM(N164:N174)+SUM(N177:N187)+SUM(N190:N201)+SUM(N204:N205)+SUM(N208:N217)+SUM(N220:N226)+SUM(N229:N233)+SUM(N236:N246)+SUM(N249:N259)+SUM(N262:N273)+SUM(N276:N281)+SUM(N284:N291)+SUM(N294:N302)+SUM(N305:N312)+SUM(N315:N321)+SUM(N324:N330)+SUM(N333:N340)+SUM(N343:N351)+SUM(N354:N360)+SUM(N363:N369)+SUM(N372:N382)+SUM(N385:N391)+SUM(N394:N398) -> 1453444.4 | O9: =SUM(O12:O13)+SUM(O16:O22)+SUM(O25:O36)+SUM(O39:O51)+SUM(O54:O56)+SUM(O59:O74)+SUM(O77:O80)+SUM(O83:O97)+SUM(O100:O102)+SUM(O105:O114)+SUM(O117:O123)+SUM(O126:O137)+SUM(O140:O150)+SUM(O153:O161)+SUM(O164:O174)+SUM(O177:O187)+SUM(O190:O201)+SUM(O204:O205)+SUM(O208:O217)+SUM(O220:O226)+SUM(O229:O233)+SUM(O236:O246)+SUM(O249:O259)+SUM(O262:O273)+SUM(O276:O281)+SUM(O284:O291)+SUM(O294:O302)+SUM(O305:O312)+SUM(O315:O321)+SUM(O324:O330)+SUM(O333:O340)+SUM(O343:O351)+SUM(O354:O360)+SUM(O363:O369)+SUM(O372:O382)+SUM(O385:O391)+SUM(O394:O398) -> 529063.34 | P9: =O9/N9*100 -> 36.400658
A10: Александрово-Гайский район (консолидированный) | B10: =E10+H10+K10+N10 -> 532013.16 | C10: =F10+I10+L10+O10 -> 373879.85 | D10: =C10/B10*100 -> 70.276429 | E10: =E11+E12+E13 -> 106833.5 | F10: =F11+F12+F13 -> 80126.1 | G10: =F10/E10*100 -> 75.000913 | H10: =H11+H12+H13 -> 153360.11 | I10: =I11+I12+I13 -> 119618.31 | J10: =I10/H10*100 -> 77.998318 | K10: =K11+K12+K13 -> 241438.8 | L10: =L11+L12+L13 -> 156957.6 | M10: =L10/K10*100 -> 65.00927 | N10: =N11+N12+N13 -> 30380.75 | O10: =O11+O12+O13 -> 17177.841 | P10: =O10/N10*100 -> 56.54186
A11: Александрово-Гайский район (собственный) | B11: =E11+H11+K11+N11 -> 417286.05 | C11: =F11+I11+L11+O11 -> 286957.83 | D11: =C11/B11*100 -> 68.767654 | E11: =Дотации!B8 -> 106833.5 | F11: =Дотации!C8 -> 80126.1 | G11: =F11/E11*100 -> 75.000913 | H11: =Субсидии!B12 -> 49640.502 | I11: =Субсидии!C12 -> 33292.484 | J11: =I11/H11*100 -> 67.067179 | K11: ='Субвенции '!B14 -> 240431.3 | L11: ='Субвенции '!C14 -> 156361.4 | M11: =L11/K11*100 -> 65.033714 | N11: =Иные!B12 -> 20380.75 | O11: =Иные!C12 -> 17177.841 | P11: =O11/N11*100 -> 84.284637
A12: Александрово-Гайское МО | B12: =E12+H12+K12+N12 -> 105750.59 | C12: =F12+I12+L12+O12 -> 82432.35 | D12: =C12/B12*100 -> 77.94978 | H12: =Субсидии!B13 -> 94861.587 | I12: =Субсидии!C13 -> 81905.195 | J12: =I12/H12*100 -> 86.341793 | K12: ='Субвенции '!B15 -> 889 | L12: ='Субвенции '!C15 -> 527.15485 | M12: =L12/K12*100 -> 59.297508 | N12: =Иные!B13 -> 10000 | O12: =Иные!C13 -> 0 | P12: =O12/N12*100 -> 0
A13: Новоалександровское МО | B13: =E13+H13+K13+N13 -> 8976.525 | C13: =F13+I13+L13+O13 -> 4489.6727 | D13: =C13/B13*100 -> 50.01571 | H13: =Субсидии!B14 -> 8858.025 | I13: =Субсидии!C14 -> 4420.63 | J13: =I13/H13*100 -> 49.905368 | K13: ='Субвенции '!B16 -> 118.5 | L13: ='Субвенции '!C16 -> 69.04272 | M13: =L13/K13*100 -> 58.263899
A14: Аркадакский район (консолидированный) | B14: =E14+H14+K14+N14 -> 556168.64 | C14: =F14+I14+L14+O14 -> 452016.72 | D14: =C14/B14*100 -> 81.273321 | E14: =SUM(E15:E22) -> 74863.1 | F14: =SUM(F15:F22) -> 56147.4 | G14: =F14/E14*100 -> 75.0001 | H14: =SUM(H15:H22) -> 124385.44 | I14: =SUM(I15:I22) -> 102543.62 | J14: =I14/H14*100 -> 82.440213 | K14: =SUM(K15:K22) -> 251465.7 | L14: =SUM(L15:L22) -> 196427.71 | M14: =L14/K14*100 -> 78.113122 | N14: =SUM(N15:N22) -> 105454.4 | O14: =SUM(O15:O22) -> 96897.991 | P14: =O14/N14*100 -> 91.886153
A15: Аркадакский район (собственный) | B15: =E15+H15+K15+N15 -> 384808.65 | C15: =F15+I15+L15+O15 -> 293319.26 | D15: =C15/B15*100 -> 76.224707 | E15: =Дотации!B9 -> 74863.1 | F15: =Дотации!C9 -> 56147.4 | G15: =F15/E15*100 -> 75.0001 | H15: =Субсидии!B16 -> 53849.145 | I15: =Субсидии!C16 -> 36605.575 | J15: =I15/H15*100 -> 67.978006 | K15: ='Субвенции '!B18 -> 250042 | L15: ='Субвенции '!C18 -> 195503.92 | M15: =L15/K15*100 -> 78.188431 | N15: =Иные!B15 -> 6054.4 | O15: =Иные!C15 -> 5062.3703 | P15: =O15/N15*100 -> 83.614731
A16: город Аркадак | B16: =E16+H16+K16+N16 -> 140191.3 | C16: =F16+I16+L16+O16 -> 131899.93 | D16: =C16/B16*100 -> 94.085675 | H16: =Субсидии!B17 -> 40000 | I16: =Субсидии!C17 -> 39544.585 | J16: =I16/H16*100 -> 98.861464 | K16: ='Субвенции '!B19 -> 791.3 | L16: ='Субвенции '!C19 -> 519.72488 | M16: =L16/K16*100 -> 65.679879 | N16: =Иные!B16 -> 99400 | O16: =Иные!C16 -> 91835.621 | P16: =O16/N16*100 -> 92.389961
A17: Большежуравское МО | B17: =E17+H17+K17+N17 -> 2985.4 | C17: =F17+I17+L17+O17 -> 2950.7168 | D17: =C17/B17*100 -> 98.838238 | H17: =Субсидии!B18 -> 2880 | I17: =Субсидии!C18 -> 2880 | J17: =I17/H17*100 -> 100 | K17: ='Субвенции '!B20 -> 105.4 | L17: ='Субвенции '!C20 -> 70.71676 | M17: =L17/K17*100 -> 67.0937
A18: Краснознаменское МО | B18: =E18+H18+K18+N18 -> 5356.4 | C18: =F18+I18+L18+O18 -> 5320.3697 | D18: =C18/B18*100 -> 99.327341 | H18: =Субсидии!B19 -> 5251 | I18: =Субсидии!C19 -> 5251 | J18: =I18/H18*100 -> 100 | K18: ='Субвенции '!B21 -> 105.4 | L18: ='Субвенции '!C21 -> 69.36972 | M18: =L18/K18*100 -> 65.815674
A19: Львовское МО | B19: =E19+H19+K19+N19 -> 3710.6952 | C19: =F19+I19+L19+O19 -> 3676.8254 | D19: =C19/B19*100 -> 99.087238 | H19: =Субсидии!B20 -> 3605.2952 | I19: =Субсидии!C20 -> 3605.2952 | J19: =I19/H19*100 -> 100 | K19: ='Субвенции '!B22 -> 105.4 | L19: ='Субвенции '!C22 -> 71.53017 | M19: =L19/K19*100 -> 67.865436
A20: Малиновское МО | B20: =E20+H20+K20+N20 -> 5235.4 | C20: =F20+I20+L20+O20 -> 1062.4901 | D20: =C20/B20*100 -> 20.294344 | H20: =Субсидии!B21 -> 5130 | I20: =Субсидии!C21 -> 992.20432 | J20: =I20/H20*100 -> 19.341215 | K20: ='Субвенции '!B23 -> 105.4 | L20: ='Субвенции '!C23 -> 70.28577 | M20: =L20/K20*100 -> 66.684791
A21: Росташовское МО | B21: =E21+H21+K21+N21 -> 8558.4 | C21: =F21+I21+L21+O21 -> 8502.129 | D21: =C21/B21*100 -> 99.342506 | H21: =Субсидии!B22 -> 8453 | I21: =Субсидии!C22 -> 8447.9624 | J21: =I21/H21*100 -> 99.940405 | K21: ='Субвенции '!B24 -> 105.4 | L21: ='Субвенции '!C24 -> 54.16661 | M21: =L21/K21*100 -> 51.391471
A22: Семеновское МО | B22: =E22+H22+K22+N22 -> 5322.4 | C22: =F22+I22+L22+O22 -> 5284.9988 | D22: =C22/B22*100 -> 99.297286 | H22: =Субсидии!B23 -> 5217 | I22: =Субсидии!C23 -> 5217 | J22: =I22/H22*100 -> 100 | K22: ='Субвенции '!B25 -> 105.4 | L22: ='Субвенции '!C25 -> 67.99876 | M22: =L22/K22*100 -> 64.514953
A23: Аткарский район (консолидированный) | B23: =E23+H23+K23+N23 -> 751849.01 | C23: =F23+I23+L23+O23 -> 514915.59 | D23: =C23/B23*100 -> 68.48657 | E23: =SUM(E24:E36) -> 136631.7 | F23: =SUM(F24:F36) -> 102473.7 | G23: =F23/E23*100 -> 74.999945 | H23: =SUM(H24:H36) -> 128736.91 | I23: =SUM(I24:I36) -> 87805.432 | J23: =I23/H23*100 -> 68.205331 | K23: =SUM(K24:K36) -> 458521 | L23: =SUM(L24:L36) -> 310701.98 | M23: =L23/K23*100 -> 67.761778 | N23: =SUM(N24:N36) -> 27959.4 | O23: =SUM(O24:O36) -> 13934.476 | P23: =O23/N23*100 -> 49.838252
A24: Аткарский район (собственный) | B24: =E24+H24+K24+N24 -> 689176.31 | C24: =F24+I24+L24+O24 -> 487279.85 | D24: =C24/B24*100 -> 70.704673 | E24: =Дотации!B10 -> 136631.7 | F24: =Дотации!C10 -> 102473.7 | G24: =F24/E24*100 -> 74.999945 | H24: =Субсидии!B25 -> 81231.905 | I24: =Субсидии!C25 -> 61625.64 | J24: =I24/H24*100 -> 75.863837 | K24: ='Субвенции '!B27 -> 456253.3 | L24: ='Субвенции '!C27 -> 309246.04 | M24: =L24/K24*100 -> 67.779463 | N24: =Иные!B18 -> 15059.4 | O24: =Иные!C18 -> 13934.476 | P24: =O24/N24*100 -> 92.530089
A25: город Аткарск | B25: =E25+H25+K25+N25 -> 17218.9 | C25: =F25+I25+L25+O25 -> 3835.5693 | D25: =C25/B25*100 -> 22.275345 | H25: =Субсидии!B26 -> 3000 | I25: =Субсидии!C26 -> 3000 | J25: =I25/H25*100 -> 100 | K25: ='Субвенции '!B28 -> 1318.9 | L25: ='Субвенции '!C28 -> 835.56934 | M25: =L25/K25*100 -> 63.353502 | N25: =Иные!B19 -> 12900 | O25: =Иные!C19 -> 0
A26: Барановское МО | B26: =E26+H26+K26+N26 -> 6384.4 | C26: =F26+I26+L26+O26 -> 4350.5794 | D26: =C26/B26*100 -> 68.143904 | H26: =Субсидии!B27 -> 6279 | I26: =Субсидии!C27 -> 4279.784 | J26: =I26/H26*100 -> 68.16028 | K26: ='Субвенции '!B29 -> 105.4 | L26: ='Субвенции '!C29 -> 70.79543 | M26: =L26/K26*100 -> 67.16834 | N26: =Иные!B20 -> 0 | O26: =Иные!C20 -> 0
A27: Большеекатериновское МО | B27: =E27+H27+K27+N27 -> 0 | C27: =F27+I27+L27+O27 -> 0 | H27: =Субсидии!B28 -> 0 | I27: =Субсидии!C28 -> 0 | K27: ='Субвенции '!B30 -> 0 | L27: ='Субвенции '!C30 -> 0
A28: Даниловское МО | B28: =E28+H28+K28+N28 -> 9224.6 | C28: =F28+I28+L28+O28 -> 4696.9867 | D28: =C28/B28*100 -> 50.918053 | H28: =Субсидии!B29 -> 8961 | I28: =Субсидии!C29 -> 4520.7672 | J28: =I28/H28*100 -> 50.44936 | K28: ='Субвенции '!B31 -> 263.6 | L28: ='Субвенции '!C31 -> 176.21952 | M28: =L28/K28*100 -> 66.851108 | N28: =Иные!B21 -> 0 | O28: =Иные!C21 -> 0
A29: Ершовское МО | B29: =E29+H29+K29+N29 -> 7764.4 | C29: =F29+I29+L29+O29 -> 1298.9356 | D29: =C29/B29*100 -> 16.729376 | H29: =Субсидии!B30 -> 7659 | I29: =Субсидии!C30 -> 1230 | J29: =I29/H29*100 -> 16.059538 | K29: ='Субвенции '!B32 -> 105.4 | L29: ='Субвенции '!C32 -> 68.93564 | M29: =L29/K29*100 -> 65.403833
A30: Кочетовское МО | B30: =E30+H30+K30+N30 -> 7851.6 | C30: =F30+I30+L30+O30 -> 7759.8436 | D30: =C30/B30*100 -> 98.831367 | H30: =Субсидии!B31 -> 7588 | I30: =Субсидии!C31 -> 7588 | J30: =I30/H30*100 -> 100 | K30: ='Субвенции '!B33 -> 263.6 | L30: ='Субвенции '!C33 -> 171.84364 | M30: =L30/K30*100 -> 65.191062
A31: Лопуховское МО | B31: =E31+H31+K31+N31 -> 7970.4 | C31: =F31+I31+L31+O31 -> 3871.8928 | D31: =C31/B31*100 -> 48.578401 | H31: =Субсидии!B32 -> 7865 | I31: =Субсидии!C32 -> 3800.2083 | J31: =I31/H31*100 -> 48.31797 | K31: ='Субвенции '!B34 -> 105.4 | L31: ='Субвенции '!C34 -> 71.6845 | M31: =L31/K31*100 -> 68.01186
A32: Озерное МО | B32: =E32+H32+K32+N32 -> 6258.4 | C32: =F32+I32+L32+O32 -> 1821.9302 | D32: =C32/B32*100 -> 29.111757 | H32: =Субсидии!B33 -> 6153 | I32: =Субсидии!C33 -> 1761.0324 | J32: =I32/H32*100 -> 28.620712 | K32: ='Субвенции '!B35 -> 105.4 | L32: ='Субвенции '!C35 -> 60.89779 | M32: =L32/K32*100 -> 57.777789
A33: Песчанское МО | B33: =E33+H33+K33+N33 -> 0 | C33: =F33+I33+L33+O33 -> 0 | H33: =Субсидии!B34 -> 0 | I33: =Субсидии!C34 -> 0 | K33: ='Субвенции '!B36 -> 0 | L33: ='Субвенции '!C36 -> 0
A34: Петровское МО | B34: =E34+H34+K34+N34 -> 0 | C34: =F34+I34+L34+O34 -> 0 | H34: =Субсидии!B35 -> 0 | I34: =Субсидии!C35 -> 0 | K34: ='Субвенции '!B37 -> 0 | L34: ='Субвенции '!C37 -> 0
A35: Тургеневское МО | B35: =E35+H35+K35+N35 -> 0 | C35: =F35+I35+L35+O35 -> 0 | H35: =Субсидии!B36 -> 0 | I35: =Субсидии!C36 -> 0 | K35: ='Субвенции '!B38 -> 0 | L35: ='Субвенции '!C38 -> 0
A36: Языковское МО | B36: =E36+H36+K36+N36 -> 0 | C36: =F36+I36+L36+O36 -> 0 | H36: =Субсидии!B37 -> 0 | I36: =Субсидии!C37 -> 0 | K36: ='Субвенции '!B39 -> 0 | L36: ='Субвенции '!C39 -> 0
A37: Базарно-Карабулакский район (консолидированный) | B37: =E37+H37+K37+N37 -> 772526.15 | C37: =F37+I37+L37+O37 -> 510939.23 | D37: =C37/B37*100 -> 66.138761 | E37: =SUM(E38:E51) -> 114725 | F37: =SUM(F38:F51) -> 86043.9 | G37: =F37/E37*100 -> 75.000131 | H37: =SUM(H38:H51) -> 199331.45 | I37: =SUM(I38:I51) -> 151282.9 | J37: =I37/H37*100 -> 75.895146 | K37: =SUM(K38:K51) -> 340962.9 | L37: =SUM(L38:L51) -> 225889.54 | M37: =L37/K37*100 -> 66.250475 | N37: =SUM(N38:N51) -> 117506.8 | O37: =SUM(O38:O51) -> 47722.89 | P37: =O37/N37*100 -> 40.612875
A38: Базарно-Карабулакский район (собственный) | B38: =E38+H38+K38+N38 -> 649571.57 | C38: =F38+I38+L38+O38 -> 445772.17 | D38: =C38/B38*100 -> 68.625566 | E38: =Дотации!B11 -> 114725 | F38: =Дотации!C11 -> 86043.9 | G38: =F38/E38*100 -> 75.000131 | H38: =Субсидии!B39 -> 141274.67 | I38: =Субсидии!C39 -> 101331.67 | J38: =I38/H38*100 -> 71.726711 | K38: ='Субвенции '!B41 -> 339065.1 | L38: ='Субвенции '!C41 -> 224639.38 | M38: =L38/K38*100 -> 66.25258 | N38: =Иные!B23 -> 54506.8 | O38: =Иные!C23 -> 33757.214 | P38: =O38/N38*100 -> 61.932115
A39: Алексеевское МО | B39: =E39+H39+K39+N39 -> 7931.6408 | C39: =F39+I39+L39+O39 -> 7847.9658 | D39: =C39/B39*100 -> 98.945048 | H39: =Субсидии!B40 -> 7668.0408 | I39: =Субсидии!C40 -> 7668.0408 | J39: =I39/H39*100 -> 100 | K39: ='Субвенции '!B42 -> 263.6 | L39: ='Субвенции '!C42 -> 179.925 | M39: =L39/K39*100 -> 68.256829
A40: Базарно-Карабулакское МО | B40: =E40+H40+K40+N40 -> 75533.756 | C40: =F40+I40+L40+O40 -> 26499.432 | D40: =C40/B40*100 -> 35.0829 | H40: =Субсидии!B41 -> 13533.756 | I40: =Субсидии!C41 -> 13533.756 | J40: =I40/H40*100 -> 100 | N40: =Иные!B24 -> 62000 | O40: =Иные!C24 -> 12965.676 | P40: =Иные!D24 -> 20.912381
A41: Большечечуйское МО | B41: =E41+H41+K41+N41 -> 3593.347 | C41: =F41+I41+L41+O41 -> 2348.2082 | D41: =C41/B41*100 -> 65.348775 | H41: =Субсидии!B42 -> 3487.947 | I41: =Субсидии!C42 -> 2283 | J41: =I41/H41*100 -> 65.453976 | K41: ='Субвенции '!B43 -> 105.4 | L41: ='Субвенции '!C43 -> 65.20824 | M41: =L41/K41*100 -> 61.8674
...

Sheet Дотации
A1: Сведения о предоставлении из бюджета Саратовской области межбюджетных трансфертов местным бюджетам за 9 месяцев 2022 года
P3: тыс.рублей
A4: Наименование муниципальных образований | B4: Дотации, всего | E4: в том числе
E5: бюджетам городских округов области, связанные с особым режимом безопасного функционирования закрытых административно-территориальных образований | H5: на выравнивание бюджетной обеспеченности муниципальных районов (городских округов) области | K5: бюджетам муниципальных районов и городских округов области на поддержку мер по обеспечению сбалансированности местных бюджетов | N5: бюджетам муниципальных районов и городских округов области на компенсацию дополнительных расходов на повышение оплаты труда некоторых категорий работников муниципальных учреждений в связи с увеличением минимального размера оплаты труда
B6: утвержденные бюджетные назначения * | C6: исполнено | D6: % исполнения | E6: утвержденные бюджетные назначения * | F6: исполнено | G6: % исполнения | H6: утвержденные бюджетные назначения * | I6: исполнено | J6: % исполнения | K6: утвержденные бюджетные назначения * | L6: исполнено | M6: % исполнения | N6: утвержденные бюджетные назначения * | O6: исполнено | P6: % исполнения
A7: Муниципальные районы области: | B7: =SUM(B8:B44) -> 4116888 | C7: =SUM(C8:C44) -> 2873778.1 | D7: =C7/B7*100 -> 69.804622 | H7: =SUM(H8:H44) -> 3351327.4 | I7: =SUM(I8:I44) -> 2548646.2 | J7: =I7/H7*100 -> 76.048858 | K7: =SUM(K8:K44) -> 649451.3 | L7: =SUM(L8:L44) -> 238049.1 | M7: =L7/K7*100 -> 36.65388 | N7: =SUM(N8:N44) -> 116109.3 | O7: =SUM(O8:O44) -> 87082.8 | P7: =O7/N7*100 -> 75.000711
A8: Александрово-Гайский | B8: =E8+H8+K8+N8 -> 106833.5 | C8: =F8+I8+L8+O8 -> 80126.1 | D8: =C8/B8*100 -> 75.000913 | H8: 60994.2 | I8: 45746.1 | J8: =I8/H8*100 -> 75.000738 | K8: 44320.2 | L8: 33240.6 | M8: =L8/K8*100 -> 75.001015 | N8: 1519.1 | O8: 1139.4 | P8: =O8/N8*100 -> 75.004937
A9: Аркадакский | B9: =E9+H9+K9+N9 -> 74863.1 | C9: =F9+I9+L9+O9 -> 56147.4 | D9: =C9/B9*100 -> 75.0001 | H9: 72787.3 | I9: 54590.4 | J9: =I9/H9*100 -> 74.999897 | N9: 2075.8 | O9: 1557 | P9: =O9/N9*100 -> 75.007226
A10: Аткарский | B10: =E10+H10+K10+N10 -> 136631.7 | C10: =F10+I10+L10+O10 -> 102473.7 | D10: =C10/B10*100 -> 74.999945 | H10: 135087.7 | I10: 101315.7 | J10: =I10/H10*100 -> 74.999944 | N10: 1544 | O10: 1158 | P10: =O10/N10*100 -> 75
A11: Базарно-Карабулакский | B11: =E11+H11+K11+N11 -> 114725 | C11: =F11+I11+L11+O11 -> 86043.9 | D11: =C11/B11*100 -> 75.000131 | H11: 113541.3 | I11: 85156.2 | J11: =I11/H11*100 -> 75.000198 | N11: 1183.7 | O11: 887.7 | P11: =O11/N11*100 -> 74.993664
A12: Балаковский | B12: =E12+H12+K12+N12 -> 2674.4 | C12: =F12+I12+L12+O12 -> 2005.8 | D12: =C12/B12*100 -> 75 | N12: 2674.4 | O12: 2005.8 | P12: =O12/N12*100 -> 75
A13: Балашовский | B13: =E13+H13+K13+N13 -> 175611.4 | C13: =F13+I13+L13+O13 -> 131708.4 | D13: =C13/B13*100 -> 74.999915 | H13: 163746.2 | I13: 122809.5 | J13: =I13/H13*100 -> 74.999908 | N13: 11865.2 | O13: 8898.9 | P13: =O13/N13*100 -> 75
A14: Балтайский | B14: =E14+H14+K14+N14 -> 76763.8 | C14: =F14+I14+L14+O14 -> 57572.7 | D14: =C14/B14*100 -> 74.999805 | H14: 37590.8 | I14: 28193.4 | J14: =I14/H14*100 -> 75.000798 | K14: 38143.7 | L14: 28607.4 | M14: =L14/K14*100 -> 74.999017 | N14: 1029.3 | O14: 771.9 | P14: =O14/N14*100 -> 74.992713
A15: Вольский | B15: =E15+H15+K15+N15 -> 90606.6 | C15: =F15+I15+L15+O15 -> 67955.4 | D15: =C15/B15*100 -> 75.000497 | H15: 82403.6 | I15: 61803 | J15: =I15/H15*100 -> 75.000364 | N15: 8203 | O15: 6152.4 | P15: =O15/N15*100 -> 75.001829
A16: Воскресенский | B16: =E16+H16+K16+N16 -> 55976.3 | C16: =F16+I16+L16+O16 -> 37482 | D16: =C16/B16*100 -> 66.960481 | H16: 41229.2 | I16: 30922.2 | J16: =I16/H16*100 -> 75.000728 | K16: 14421.2 | L16: 6315.3 | M16: =L16/K16*100 -> 43.791779 | N16: 325.9 | O16: 244.5 | P16: =O16/N16*100 -> 75.023013
A17: Дергачевский | B17: =E17+H17+K17+N17 -> 117868.7 | C17: =F17+I17+L17+O17 -> 88401.9 | D17: =C17/B17*100 -> 75.000318 | H17: 115998.8 | I17: 86999.4 | J17: =I17/H17*100 -> 75.000259 | N17: 1869.9 | O17: 1402.5 | P17: =O17/N17*100 -> 75.004011
A18: Духовницкий | B18: =E18+H18+K18+N18 -> 48410.6 | C18: =F18+I18+L18+O18 -> 26482.7 | D18: =C18/B18*100 -> 54.704342 | H18: 20411.3 | I18: 17108.3 | J18: =I18/H18*100 -> 83.817787 | K18: 25852.5 | L18: 7764.3 | M18: =L18/K18*100 -> 30.033072 | N18: 2146.8 | O18: 1610.1 | P18: =O18/N18*100 -> 75
A19: Екатериновский | B19: =E19+H19+K19+N19 -> 52415.5 | C19: =F19+I19+L19+O19 -> 39311.7 | D19: =C19/B19*100 -> 75.000143 | H19: 22551.7 | I19: 16913.7 | J19: =I19/H19*100 -> 74.999667 | K19: 28783 | L19: 21587.4 | M19: =L19/K19*100 -> 75.000521 | N19: 1080.8 | O19: 810.6 | P19: =O19/N19*100 -> 75
A20: Ершовский | B20: =E20+H20+K20+N20 -> 125056.3 | C20: =F20+I20+L20+O20 -> 86291.7 | D20: =C20/B20*100 -> 69.002281 | H20: 86716.6 | I20: 65037.6 | J20: =I20/H20*100 -> 75.000173 | K20: 35629.2 | L20: 19221.3 | M20: =L20/K20*100 -> 53.948166 | N20: 2710.5 | O20: 2032.8 | P20: =O20/N20*100 -> 74.997233
A21: Ивантеевский | B21: =E21+H21+K21+N21 -> 92118.9 | C21: =F21+I21+L21+O21 -> 64495.8 | D21: =C21/B21*100 -> 70.013645 | H21: 10844.7 | I21: 8133.3 | J21: =I21/H21*100 -> 74.997925 | K21: 79187.3 | L21: 54797.4 | M21: =L21/K21*100 -> 69.199733 | N21: 2086.9 | O21: 1565.1 | P21: =O21/N21*100 -> 74.996406
A22: Калининский | B22: =E22+H22+K22+N22 -> 55839.1 | C22: =F22+I22+L22+O22 -> 41879.4 | D22: =C22/B22*100 -> 75.000134 | H22: 53831.9 | I22: 40374 | J22: =I22/H22*100 -> 75.000139 | N22: 2007.2 | O22: 1505.4 | P22: =O22/N22*100 -> 75
A23: Красноармейский | B23: =E23+H23+K23+N23 -> 191683.9 | C23: =F23+I23+L23+O23 -> 128262 | D23: =C23/B23*100 -> 66.913288 | H23: 167138.1 | I23: 125352.9 | J23: =I23/H23*100 -> 74.999596 | K23: 20667 | N23: 3878.8 | O23: 2909.1 | P23: =O23/N23*100 -> 75
A24: Краснокутский | B24: =E24+H24+K24+N24 -> 108309.2 | C24: =F24+I24+L24+O24 -> 81231.6 | D24: =C24/B24*100 -> 74.999723 | H24: 105062.4 | I24: 78796.8 | J24: =I24/H24*100 -> 75 | K24: 342.4 | L24: 256.5 | M24: =L24/K24*100 -> 74.912383 | N24: 2904.4 | O24: 2178.3 | P24: =O24/N24*100 -> 75
A25: Краснопартизанский | B25: =E25+H25+K25+N25 -> 74287.3 | C25: =F25+I25+L25+O25 -> 48970.8 | D25: =C25/B25*100 -> 65.920824 | H25: 63771.6 | I25: 47828.7 | J25: =I25/H25*100 -> 75 | K25: 8993 | N25: 1522.7 | O25: 1142.1 | P25: =O25/N25*100 -> 75.004925
A26: Лысогорский | B26: =E26+H26+K26+N26 -> 86422.6 | C26: =F26+I26+L26+O26 -> 64817.1 | D26: =C26/B26*100 -> 75.000174 | H26: 85093.1 | I26: 63819.9 | J26: =I26/H26*100 -> 75.000088 | N26: 1329.5 | O26: 997.2 | P26: =O26/N26*100 -> 75.005641
A27: Марксовский | B27: =E27+H27+K27+N27 -> 219246.3 | C27: =F27+I27+L27+O27 -> 167056.3 | D27: =C27/B27*100 -> 76.195721 | H27: 193227 | I27: 164791.9 | J27: =I27/H27*100 -> 85.284096 | K27: 23000 | N27: 3019.3 | O27: 2264.4 | P27: =O27/N27*100 -> 74.997516
A28: Новобурасский | B28: =E28+H28+K28+N28 -> 80000.1 | C28: =F28+I28+L28+O28 -> 59250.3 | D28: =C28/B28*100 -> 74.062782 | H28: 77518.7 | I28: 58139.1 | J28: =I28/H28*100 -> 75.000097 | K28: 1520.7 | L28: 390.6 | M28: 390.6 | N28: 960.7 | O28: 720.6 | P28: =O28/N28*100 -> 75.007807
A29: Новоузенский | B29: =E29+H29+K29+N29 -> 198051.3 | C29: =F29+I29+L29+O29 -> 141038.7 | D29: =C29/B29*100 -> 71.213216 | H29: 182938.7 | I29: 137204.1 | J29: =I29/H29*100 -> 75.000041 | K29: 10000 | N29: 5112.6 | O29: 3834.6 | P29: =O29/N29*100 -> 75.002934
A30: Озинский | B30: =E30+H30+K30+N30 -> 125510.1 | C30: =F30+I30+L30+O30 -> 94132.8 | D30: =C30/B30*100 -> 75.000179 | H30: 103755.4 | I30: 77816.7 | J30: =I30/H30*100 -> 75.000145 | K30: 19179.6 | L30: 14384.7 | M30: =L30/K30*100 -> 75 | N30: 2575.1 | O30: 1931.4 | P30: =O30/N30*100 -> 75.002913
A31: Перелюбский | B31: =E31+H31+K31+N31 -> 39744 | C31: =F31+I31+L31+O31 -> 27557.7 | D31: =C31/B31*100 -> 69.338013 | H31: 35251.5 | I31: 26438.4 | J31: =I31/H31*100 -> 74.999362 | K31: 3000 | N31: 1492.5 | O31: 1119.3 | P31: =O31/N31*100 -> 74.994975
A32: Петровский | B32: =E32+H32+K32+N32 -> 216306.1 | C32: =F32+I32+L32+O32 -> 134204.1 | D32: =C32/B32*100 -> 62.043604 | H32: 175474.6 | I32: 131605.2 | J32: =I32/H32*100 -> 74.999573 | K32: 37366.2 | N32: 3465.3 | O32: 2598.9 | P32: =O32/N32*100 -> 74.997836
A33: Питерский | B33: =E33+H33+K33+N33 -> 121555.9 | C33: =F33+I33+L33+O33 -> 91167.9 | D33: =C33/B33*100 -> 75.000802 | H33: 74951.8 | I33: 56214 | J33: =I33/H33*100 -> 75.0002 | K33: 44253.8 | L33: 33191.1 | M33: =L33/K33*100 -> 75.001695 | N33: 2350.3 | O33: 1762.8 | P33: =O33/N33*100 -> 75.003191
A34: Пугачевский | B34: =E34+H34+K34+N34 -> 199990.1 | C34: =F34+I34+L34+O34 -> 134992.8 | D34: =C34/B34*100 -> 67.499741 | H34: 175050.8 | I34: 131288.4 | J34: =I34/H34*100 -> 75.000171 | K34: 20000 | N34: 4939.3 | O34: 3704.4 | P34: =O34/N34*100 -> 74.998482
A35: Ровенский | B35: =E35+H35+K35+N35 -> 112804.6 | C35: =F35+I35+L35+O35 -> 84603.9 | D35: =C35/B35*100 -> 75.000399 | H35: 112128.8 | I35: 84096.9 | J35: =I35/H35*100 -> 75.000268 | N35: 675.8 | O35: 507 | P35: =O35/N35*100 -> 75.022196
A36: Романовский | B36: =E36+H36+K36+N36 -> 59680.8 | C36: =F36+I36+L36+O36 -> 44760 | D36: =C36/B36*100 -> 74.998995 | H36: 55858.3 | I36: 41893.2 | J36: =I36/H36*100 -> 74.99906 | K36: 3054 | L36: 2290.5 | M36: =L36/K36*100 -> 75 | N36: 768.5 | O36: 576.3 | P36: =O36/N36*100 -> 74.990241
A37: Ртищевский | B37: =E37+H37+K37+N37 -> 134198.6 | C37: =F37+I37+L37+O37 -> 100648.8 | D37: =C37/B37*100 -> 74.999888 | H37: 129392.8 | I37: 97044.3 | J37: =I37/H37*100 -> 74.999768 | N37: 4805.8 | O37: 3604.5 | P37: =O37/N37*100 -> 75.003121
A38: Самойловский | B38: =E38+H38+K38+N38 -> 42097.9 | C38: =F38+I38+L38+O38 -> 26023.5 | D38: =C38/B38*100 -> 61.816623 | H38: 32787.4 | I38: 24590.7 | J38: =I38/H38*100 -> 75.000457 | K38: 7400 | N38: 1910.5 | O38: 1432.8 | P38: =O38/N38*100 -> 74.996074
A39: Советский | B39: =E39+H39+K39+N39 -> 62670.9 | C39: =F39+I39+L39+O39 -> 47430.8 | D39: =C39/B39*100 -> 75.682334 | H39: 53701.5 | I39: 43704.5 | J39: =I39/H39*100 -> 81.384133 | K39: 6895.3 | L39: 2170.8 | M39: =L39/K39*100 -> 31.482314 | N39: 2074.1 | O39: 1555.5 | P39: =O39/N39*100 -> 74.996384
A40: Татищевский | B40: =E40+H40+K40+N40 -> 116889.4 | C40: =F40+I40+L40+O40 -> 65167.5 | D40: =C40/B40*100 -> 55.75142 | H40: 85020.6 | I40: 63765.9 | J40: =I40/H40*100 -> 75.000529 | K40: 30000 | N40: 1868.8 | O40: 1401.6 | P40: =O40/N40*100 -> 75
A41: Турковский | B41: =E41+H41+K41+N41 -> 54295.5 | C41: =F41+I41+L41+O41 -> 36971.7 | D41: =C41/B41*100 -> 68.093488 | H41: 47527.3 | I41: 35645.4 | J41: =I41/H41*100 -> 74.999842 | K41: 5000 | N41: 1768.2 | O41: 1326.3 | P41: =O41/N41*100 -> 75.008483
...

Sheet Субсидии
BH1: Продолжение таблицы | CL1: Продолжение таблицы | DP1: Продолжение таблицы | ET1: Продолжение таблицы | FX1: Продолжение таблицы | HB1: Продолжение таблицы
B2: Сведения о предоставлении из бюджета Саратовской области межбюджетных трансфертов местным бюджетам за 9 месяцев 2022 года | AF2: Сведения о предоставлении из бюджета Саратовской области межбюджетных трансфертов местным бюджетам за 9 месяцев 2022 года | BJ2: Сведения о предоставлении из бюджета Саратовской области межбюджетных трансфертов местным бюджетам за 9 месяцев 2022 года | CN2: Сведения о предоставлении из бюджета Саратовской области межбюджетных трансфертов местным бюджетам за 9 месяцев 2022 года | DR2: Сведения о предоставлении из бюджета Саратовской области межбюджетных трансфертов местным бюджетам за 9 месяцев 2022 года | EV2: Сведения о предоставлении из бюджета Саратовской области межбюджетных трансфертов местным бюджетам за 9 месяцев 2022 года | FZ2: Сведения о предоставлении из бюджета Саратовской области межбюджетных трансфертов местным бюджетам за 9 месяцев 2022 года
AD4: тыс.рублей | BH4: тыс.рублей | CL4: тыс.рублей | DP4: тыс.рублей | DX4: =DX8-DX10 -> 0 | ES4: тыс.рублей | FW4: тыс.рублей | HA4: тыс.рублей
A5: Наименование муниципальных образований | B5: Субсидии, всего | E5: в том числе | AF5: в том числе | BJ5: в том числе | CN5: в том числе | DR5: в том числе | EV5: в том числе | FZ5: в том числе
E6: бюджетам муниципальных районов и городских округов области на создание в общеобразовательных организациях, расположенных в сельской местности и малых городах, условий для занятий физической культурой и спортом | H6: бюджетам муниципальных районов и городских округов области на создание новых мест в образовательных организациях различных типов для реализации дополнительных общеразвивающих программ всех направленностей | K6: бюджетам городских округов области на создание новых мест в общеобразовательных организациях | N6: бюджетам муниципальных районов области на создание новых мест в общеобразовательных организациях, расположенных в сельской местности и поселках городского типа | Q6: бюджетам городских округов области на создание новых мест в общеобразовательных организациях в связи с ростом числа обучающихся, вызванным демографическим фактором | T6: бюджетам городских округов области на создание новых мест в общеобразовательных организациях в связи с ростом числа обучающихся, вызванным демографическим фактором, за счет резервного фонда Правительства Российской Федерации | W6: бюджетам городских округов области на создание новых мест в общеобразовательных организациях в связи с ростом числа обучающихся, вызванным демографическим фактором (в рамках достижения соответствующих результатов федерального проекта) | Z6: бюджетам муниципальных районов и городских округов области на обеспечение жильем молодых семей | AC6: бюджетам городских округов и поселений области на реализацию регионального проекта (программы) в целях выполнения задач федерального проекта «Жилье» (Стимулирование программ развития жилищного строительства) | AF6: бюджетам муниципальных районов и поселений области на поддержку творческой деятельности и укрепление материально-технической базы муниципальных театров в населенных пунктах с численностью населения до 300 тысяч человек | AI6: бюджетам муниципальных районов и поселений области на обеспечение развития и укрепления материально-технической базы домов культуры в населенных пунктах с числом жителей до 50 тысяч человек | AL6: бюджетам муниципальных районов и поселений области на поддержку отрасли культуры на государственную поддержку лучших сельских учреждений культуры | AO6: бюджетам муниципальных районов и поселений области на поддержку отрасли культуры на государственную поддержку лучших работников сельских учреждений культуры | AR6: бюджетам муниципальных районов и поселений области на поддержку отрасли культуры на комплектование книжных фондов муниципальных общедоступных библиотек | AU6: бюджетам муниципальных районов и поселений области на поддержку отрасли культуры на приобретение музыкальных инструментов, оборудования и материалов для детских школ искусств по видам искусств | AX6: бюджетам муниципальных районов и поселений области на поддержку отрасли культуры на модернизация региональных и муниципальных детских школ искусств по видам искусств | BA6: бюджетам муниципальных районов области на обеспечение деятельности муниципальных бизнес-инкубаторов | BD6: бюджетам городских округов, городских и сельских поселений области на реализацию инициативных проектов | BG6: бюджетам городских округов и поселений области на поддержку муниципальных программ формирования современной городской среды | BJ6: бюджетам муниципальных районов и городских округов области на обеспечение сохранения достигнутых показателей повышения оплаты труда отдельных категорий работников бюджетной сферы | BM6: бюджетам муниципальных районов области на развитие сети учреждений культурно-досугового типа (создание и модернизация учреждений культурно-досугового типа) | BP6: бюджетам поселений области на развитие сети учреждений культурно-досугового типа (создание центров культурного развития) | BS6: бюджетам муниципальных районов и городских округов области на обеспечение условий для создания центров образования цифрового и гуманитарного профилей (в рамках достижения соответствующих результатов федерального проекта) в части расходов на оплату труда с начислениями | BV6: бюджетам муниципальных районов и городских округов области на обеспечение условий для создания центров образования цифрового и гуманитарного профилей (в рамках достижения соответствующих результатов федерального проекта) | BY6: бюджетам муниципальных районов и городских округов области на обеспечение условий для создания центров образования цифрового и гуманитарного профилей (в рамках достижения соответствующих результатов федерального проекта) за исключением расходов на оплату труда с начислениями | CB6: бюджетам городских округов и поселений области на реализацию мероприятий по строительству и реконструкции (модернизации) объектов питьевого водоснабжения | CE6: бюджетам поселений области на реализацию мероприятий по сокращению доли загрязненных сточных вод | CH6: бюджетам поселений области на реализацию мероприятий по сокращению доли загрязненных сточных вод за счет средств резервного фонда Правительства Российской Федерации | CK6: бюджетам муниципальных районов, городских округов и поселений области на обустройство и восстановление воинских захоронений, находящихся в государственной (муниципальной) собственности | CN6: бюджетам городских округов области на осуществление дорожной деятельности в отношении автомобильных дорог общего пользования местного значения Саратовской агломерации в границах городских округов области в рамках достижения соответствующих задач национального проекта «Безопасные и качественные автомобильные дороги» за счет средств областного дорожного фонда | CQ6: бюджетам поселений области на осуществление дорожной деятельности в отношении автомобильных дорог общего пользования местного значения Саратовской агломерации в границах городских поселений области в рамках достижения соответствующих задач национального проекта «Безопасные и качественные автомобильные дороги» за счет средств областного дорожного фонда | CT6: бюджетам муниципальных районов и поселений области на развитие транспортной инфраструктуры на сельских территориях | CW6: бюджетам поселений области на обустройство объектами инженерной инфраструктуры и благоустройство площадок, расположенных на сельских территориях, под компактную жилищную застройку | CZ6: бюджетам муниципальных районов области на реализацию мероприятий по благоустройству сельских территорий | DC6: бюджетам муниципальных районов и городских округов области на обеспечение условий для внедрения цифровой образовательной среды в общеобразовательных организациях | DF6: бюджетам муниципальных районов и городских округов области на обеспечение образовательных организаций материально-технической базой для внедрения цифровой образовательной среды | DI6: бюджетам муниципальных районов области на обеспечение функционирования центров цифрового образования детей «IT-куб» (в рамках достижения соответствующих результатов федерального проекта) в части расходов на оплату труда с начислениями | DL6: бюджетам муниципальных районов области на обеспечение функционирования центров цифрового образования детей «IT-куб» (в рамках достижения соответствующих результатов федерального проекта) за исключением расходов на оплату труда с начислениями | DO6: бюджетам муниципальных районов области на мероприятия по устройству основания для создания «умной» спортивной площадки | DR6: бюджетам муниципальных районов области на мероприятия по закупке оборудования для создания «умных» спортивных площадок | DU6: бюджетам муниципальных районов и городских округов области на организацию бесплатного горячего питания обучающихся, получающих начальное общее образование в муниципальных образовательных организациях | DX6: бюджетам поселений области на осуществление дорожной деятельности в отношении автомобильных дорог общего пользования местного значения в границах населенных пунктов сельских поселений за счет средств областного дорожного фонда | EA6: бюджетам муниципальных районов и городских округов области на обеспечение условий для функционирования центров образования естественно-научной и технологической направленностей в общеобразовательных организациях (в рамках достижения соответствующих результатов федерального проекта) в части расходов на оплату труда с начислениями | ED6: бюджетам муниципальных районов и городских округов области на обеспечение условий для функционирования центров образования естественно-научной и технологической направленностей в общеобразовательных организациях (в рамках достижения соответствующих результатов федерального проекта) | EG6: бюджетам муниципальных районов и городских округов области на обеспечение условий для функционирования центров образования естественно-научной и технологической направленностей в общеобразовательных организациях (в рамках достижения соответствующих результатов федерального проекта) за исключением расходов на оплату труда с начислениями | EJ6: бюджетам муниципальных районов и городских округов области на создание и обеспечение функционирования центров образования естественно-научной и технологической направленностей в общеобразовательных организациях, расположенных в сельской местности и малых городах | EM6: бюджетам муниципальных районов области на создание центров цифрового образования детей | EP6: бюджетам муниципальных районов и городских округов области на проведение капитального и текущего ремонтов муниципальных дошкольных образовательных организациях | ES6: бюджетам муниципальных районов и городских округов области на проведение капитального и текущего ремонтов муниципальных общеобразовательных организациях | EV6: бюджетам муниципальных районов области на обеспечение условий для функционирования детских технопарков «Кванториум» в общеобразовательных организациях в части расходов на оплату труда с начислениями | EY6: бюджетам муниципальных районов области на обеспечение условий для функционирования детских технопарков «Кванториум» в общеобразовательных организациях за исключением расходов на оплату труда с начислениями | FB6: бюджетам муниципальных районов области на обеспечение условий для функционирования детских технопарков «Кванториум» в общеобразовательных организациях за исключением расходов на оплату труда с начислениями | FE6: бюджетам муниципальных районов области на техническое оснащение муниципальных музеев | FH6: бюджетам городских округов области на поддержку творческой деятельности и техническое оснащение детских и кукольных театров | FK6: бюджетам муниципальных районов области на проведение комплексных кадастровых работ | FN6: бюджетам городских округов области на государственную поддержку спортивных организаций, осуществляющих подготовку спортивного резерва для спортивных сборных команд, в том числе спортивных сборных команд Российской Федерации | FQ6: бюджетам муниципальных районов, поселений области на оснащение объектов спортивной инфраструктуры спортивно-технологическим оборудованием | FT6: бюджетам поселений области на ремонт и развитие водопроводной сети | FW6: бюджетам муниципальных районов и городских округов области на реализацию мероприятий по модернизации школьных систем образования | FZ6: бюджетам муниципальных районов и городских округов области на обеспечение условий для реализации мероприятий по модернизации школьных систем образования | GC6: бюджетам муниципальных районов, городских округов и поселений области на обеспечение мероприятий по переселению граждан из аварийного жилищного фонда, в том числе переселению граждан из аварийного жилищного фонда с учетом необходимости развития малоэтажного жилищного строительства | GF6: бюджетам поселений области на подготовку проектов межевания земельных участков и на проведение кадастровых работ | GI6: бюджетам муниципальных районов области на закупку оборудования для создания «умных» спортивных площадок | GL6: бюджетам городских округов области на создание дополнительных мест для детей в возрасте от 1,5 до 3 лет в образовательных организациях, осуществляющих образовательную деятельность по образовательным программам дошкольного образования | GO6: бюджетам поселений области на выполнение мероприятий по ремонту автомобильных дорог общего пользования местного значения в границах городских поселений области за счет средств областного дорожного фонда | GR6: бюджетам поселений области на реализацию мероприятий по строительству и реконструкции (модернизации) объектов питьевого водоснабжения за счет средств резервного фонда Правительства Российской Федерации | GU6: бюджетам городских поселений и городских округов области на государственную поддержку закупки контейнеров для раздельного накопления твердых коммунальных отходов | GX6: бюджетам муниципальных районов и городских округов области на финансовое обеспечение мероприятий по обеспечению деятельности советников директора по воспитанию и взаимодействию с детскими общественными объединениями в общеобразовательных организациях Саратовской области | HA6: бюджетам городских округов области на создание новых мест в общеобразовательных организациях за счет средств резервного фонда Правительства Российской Федерации
