Workbook

Sheet Доходы
B1: ОТЧЕТ ОБ ИСПОЛНЕНИИ КОНСОЛИДИРОВАННОГО БЮДЖЕТА СУБЪЕКТА РОССИЙСКОЙ ФЕДЕРАЦИИ И БЮДЖЕТА ТЕРРИТОРИАЛЬНОГО ГОСУДАРСТВЕННОГО ВНЕБЮДЖЕТНОГО ФОНДА
N2: КОДЫ
M3: Форма по ОКУД | N3: 0503317
C4: на 1 июля 2022 г. | M4: Дата | N4: 44743
A6: Наименование финансового органа | B6: Саратовская область | M6: по ОКПО
A7: Наименование бюджета | B7: 60 - Консолидированный бюджет - Саратовская область | M7: по ОКТМО | N7: 63000000
A8: Периодичность: месячная, квартальная, годовая
A9: Единица измерения: руб. | M9: по ОКЕИ | N9: 383
A12: 1. Доходы бюджета | AG12: Форма 0503317 с.2
A13: Наименование показателя | B13: Код строки | C13: Код дохода по бюджетной классификации | D13: Утвержденные бюджетные назначения | R13: Наименование показателя | S13: Код строки | T13: Код дохода по бюджетной классификации | U13: Исполнено
D14: консолидированный бюджет субъекта Российской Федерации и территориального государственного внебюджетного фонда | E14: суммы, подлежащие исключению в рамках консолидированного бюджета субъекта Российской Федерации и бюджета территориального государственного внебюджетного фонда | F14: консолидированный бюджет субъекта Российской Федерации | G14: суммы, подлежащие исключению в рамках консолидированного бюджета субъекта Российской Федерации | H14: бюджет субъекта Российской Федерации | I14: бюджеты внутригородских муниципальных образований городов федерального значения | J14: бюджеты муниципальных округов | K14: бюджеты городских округов | L14: бюджеты городских округов с внутригородским делением | M14: бюджеты внутригородских районов | N14: бюджеты муниципальных районов | O14: бюджеты городских поселений | P14: бюджеты сельских поселений | Q14: бюджет территориального государственного внебюджетного фонда | U14: консолидированный бюджет субъекта Российской Федерации и территориального государственного внебюджетного фонда | V14: суммы, подлежащие исключению в рамках консолидированного бюджета субъекта Российской Федерации и бюджета территориального государственного внебюджетного фонда | W14: консолидированный бюджет субъекта Российской Федерации | X14: суммы, подлежащие исключению в рамках консолидированного бюджета субъекта Российской Федерации | Y14: бюджет субъекта Российской Федерации | Z14: бюджеты внутр городских муниципальных образований городов федерального значения | AA14: бюджеты муниципальных округов | AB14: бюджеты городских округов | AC14: бюджеты городских округов с внутригородским делением | AD14: бюджеты внутригородских районов | AE14: бюджеты муниципальных районов | AF14: бюджеты городских поселений | AG14: бюджеты сельских поселений | AH14: бюджет территориалього государственного внебюджетного фонда
A15: 1 | B15: 2 | C15: 3 | D15: 4 | E15: 5 | F15: 6 | G15: 7 | H15: 8 | I15: 9 | J15: 10 | K15: 11 | L15: 12 | M15: 13 | N15: 14 | O15: 15 | P15: 16 | Q15: 17 | R15: 1 | S15: 2 | T15: 3 | U15: 18 | V15: 19 | W15: 20 | X15: 21 | Y15: 22 | Z15: 23 | AA15: 24 | AB15: 25 | AC15: 26 | AD15: 27 | AE15: 28 | AF15: 29 | AG15: 30 | AH15: 31
A16: Доходы бюджета - всего | B16: 010 | C16: х | D16: 2.0050762e+11 | E16: - | F16: 1.6623036e+11 | G16: 4.5343941e+10 | H16: 1.4213133e+11 | I16: - | J16: - | K16: 2.4517954e+10 | L16: - | M16: - | N16: 3.445984e+10 | O16: 6.4938724e+09 | P16: 3.9713028e+09 | Q16: 34277265100 | R16: Доходы бюджета - всего | S16: 010 | T16: х | U16: 1.0091041e+11 | V16: 99868100 | W16: 8.1874205e+10 | X16: 2.0576835e+10 | Y16: 7.1846633e+10 | Z16: - | AA16: - | AB16: 1.0733214e+10 | AC16: - | AD16: - | AE16: 1.6159908e+10 | AF16: 2.3476847e+09 | AG16: 1.3636004e+09 | AH16: 1.913607e+10
A17: в том числе: | R17: в том числе:
A18: НАЛОГОВЫЕ И НЕНАЛОГОВЫЕ ДОХОДЫ | B18: 010 | C18: 000 1000000000 0000 000 | D18: 1.0487973e+11 | E18: - | F18: 1.0472664e+11 | G18: 656978.02 | H18: 8.0796503e+10 | I18: - | J18: - | K18: 1.0374969e+10 | L18: - | M18: - | N18: 8.7513259e+09 | O18: 3.1861108e+09 | P18: 1.6183916e+09 | Q18: 153086700 | R18: НАЛОГОВЫЕ И НЕНАЛОГОВЫЕ ДОХОДЫ | S18: 010 | T18: 000 1000000000 0000 000 | U18: 5.8740974e+10 | V18: - | W18: 5.8640319e+10 | X18: 149198.36 | Y18: 4.8767181e+10 | Z18: - | AA18: - | AB18: 4.1110016e+09 | AC18: - | AD18: - | AE18: 3.7498135e+09 | AF18: 1.2580516e+09 | AG18: 7.5442057e+08 | AH18: 1.0065408e+08
A19: НАЛОГИ НА ПРИБЫЛЬ, ДОХОДЫ | B19: 010 | C19: 000 1010000000 0000 000 | D19: 6.473079e+10 | E19: - | F19: 6.473079e+10 | G19: - | H19: 5.2346967e+10 | I19: - | J19: - | K19: 6.4788762e+09 | L19: - | M19: - | N19: 4.4174663e+09 | O19: 1.236661e+09 | P19: 2.5081884e+08 | Q19: - | R19: НАЛОГИ НА ПРИБЫЛЬ, ДОХОДЫ | S19: 010 | T19: 000 1010000000 0000 000 | U19: 3.8305985e+10 | V19: - | W19: 3.8305985e+10 | X19: - | Y19: 3.2668373e+10 | Z19: - | AA19: - | AB19: 2.8798216e+09 | AC19: - | AD19: - | AE19: 2.06328e+09 | AF19: 5.740973e+08 | AG19: 1.2041351e+08 | AH19: -
A20: Налог на прибыль организаций | B20: 010 | C20: 000 1010100000 0000 110 | D20: 23477597100 | E20: - | F20: 23477597100 | G20: - | H20: 23477597100 | I20: - | J20: - | K20: - | L20: - | M20: - | N20: - | O20: - | P20: - | Q20: - | R20: Налог на прибыль организаций | S20: 010 | T20: 000 1010100000 0000 110 | U20: 1.9492014e+10 | V20: - | W20: 1.9492014e+10 | X20: - | Y20: 1.9492014e+10 | Z20: - | AA20: - | AB20: - | AC20: - | AD20: - | AE20: - | AF20: - | AG20: - | AH20: -
A21: Налог на прибыль организаций, зачисляемый в бюджеты бюджетной системы Российской Федерации по соответствующим ставкам | B21: 010 | C21: 000 1010101000 0000 110 | D21: 23477597100 | E21: - | F21: 23477597100 | G21: - | H21: 23477597100 | I21: - | J21: - | K21: - | L21: - | M21: - | N21: - | O21: - | P21: - | Q21: - | R21: Налог на прибыль организаций, зачисляемый в бюджеты бюджетной системы Российской Федерации по соответствующим ставкам | S21: 010 | T21: 000 1010101000 0000 110 | U21: 1.9492014e+10 | V21: - | W21: 1.9492014e+10 | X21: - | Y21: 1.9492014e+10 | Z21: - | AA21: - | AB21: - | AC21: - | AD21: - | AE21: - | AF21: - | AG21: - | AH21: -
A22: Налог на прибыль организаций (за исключением консолидированных групп налогоплательщиков), зачисляемый в бюджеты субъектов Российской Федерации | B22: 010 | C22: 000 1010101202 0000 110 | D22: 19139110800 | E22: - | F22: 19139110800 | G22: - | H22: 19139110800 | I22: - | J22: - | K22: - | L22: - | M22: - | N22: - | O22: - | P22: - | Q22: - | R22: Налог на прибыль организаций (за исключением консолидированных групп налогоплательщиков), зачисляемый в бюджеты субъектов Российской Федерации | S22: 010 | T22: 000 1010101202 0000 110 | U22: 1.1078855e+10 | V22: - | W22: 1.1078855e+10 | X22: - | Y22: 1.1078855e+10 | Z22: - | AA22: - | AB22: - | AC22: - | AD22: - | AE22: - | AF22: - | AG22: - | AH22: -
A23: Налог на прибыль организаций консолидированных групп налогоплательщиков, зачисляемый в бюджеты субъектов Российской Федерации | B23: 010 | C23: 000 1010101402 0000 110 | D23: 4338486300 | E23: - | F23: 4338486300 | G23: - | H23: 4338486300 | I23: - | J23: - | K23: - | L23: - | M23: - | N23: - | O23: - | P23: - | Q23: - | R23: Налог на прибыль организаций консолидированных групп налогоплательщиков, зачисляемый в бюджеты субъектов Российской Федерации | S23: 010 | T23: 000 1010101402 0000 110 | U23: 8.4131589e+09 | V23: - | W23: 8.4131589e+09 | X23: - | Y23: 8.4131589e+09 | Z23: - | AA23: - | AB23: - | AC23: - | AD23: - | AE23: - | AF23: - | AG23: - | AH23: -
A24: Налог на доходы физических лиц | B24: 010 | C24: 000 1010200001 0000 110 | D24: 4.1253193e+10 | E24: - | F24: 4.1253193e+10 | G24: - | H24: 2.886937e+10 | I24: - | J24: - | K24: 6.4788762e+09 | L24: - | M24: - | N24: 4.4174663e+09 | O24: 1.236661e+09 | P24: 2.5081884e+08 | Q24: - | R24: Налог на доходы физических лиц | S24: 010 | T24: 000 1010200001 0000 110 | U24: 1.8813971e+10 | V24: - | W24: 1.8813971e+10 | X24: - | Y24: 1.3176359e+10 | Z24: - | AA24: - | AB24: 2.8798216e+09 | AC24: - | AD24: - | AE24: 2.06328e+09 | AF24: 5.740973e+08 | AG24: 1.2041351e+08 | AH24: -
A25: Налог на доходы физических лиц с доходов, источником которых является налоговый агент, за исключением доходов, в отношении которых исчисление и уплата налога осуществляются в соответствии со статьями 227, 227.1 и 228 Налогового кодекса Российской Федерации | B25: 010 | C25: 000 1010201001 0000 110 | D25: 4.0351264e+10 | E25: - | F25: 4.0351264e+10 | G25: - | H25: 2.8443803e+10 | I25: - | J25: - | K25: 6.2483704e+09 | L25: - | M25: - | N25: 4.2335063e+09 | O25: 1.1796486e+09 | P25: 2.4593546e+08 | Q25: - | R25: Налог на доходы физических лиц с доходов, источником которых является налоговый агент, за исключением доходов, в отношении которых исчисление и уплата налога осуществляются в соответствии со статьями 227, 227.1 и 228 Налогового кодекса Российской Федерации | S25: 010 | T25: 000 1010201001 0000 110 | U25: 1.7408502e+10 | V25: - | W25: 1.7408502e+10 | X25: - | Y25: 1.2180621e+10 | Z25: - | AA25: - | AB25: 2.6286698e+09 | AC25: - | AD25: - | AE25: 1.9422068e+09 | AF25: 5.4409367e+08 | AG25: 1.1291081e+08 | AH25: -
A26: Налог на доходы физических лиц с доходов, полученных от осуществления деятельности физическими лицами, зарегистрированными в качестве индивидуальных предпринимателей, нотариусов, занимающихся частной практикой, адвокатов, учредивших адвокатские кабинеты, и других лиц, занимающихся частной практикой в соответствии со статьей 227 Налогового кодекса Российской Федерации | B26: 010 | C26: 000 1010202001 0000 110 | D26: 5.3763338e+08 | E26: - | F26: 5.3763338e+08 | G26: - | H26: 420188800 | I26: - | J26: - | K26: 58535536 | L26: - | M26: - | N26: 39060888 | O26: 19210639 | P26: 637512.32 | Q26: - | R26: Налог на доходы физических лиц с доходов, полученных от осуществления деятельности физическими лицами, зарегистрированными в качестве индивидуальных предпринимателей, нотариусов, занимающихся частной практикой, адвокатов, учредивших адвокатские кабинеты, и других лиц, занимающихся частной практикой в соответствии со статьей 227 Налогового кодекса Российской Федерации | S26: 010 | T26: 000 1010202001 0000 110 | U26: 1.1257066e+08 | V26: - | W26: 1.1257066e+08 | X26: - | Y26: 77893776 | Z26: - | AA26: - | AB26: 13842866 | AC26: - | AD26: - | AE26: 15361589 | AF26: 5061130.5 | AG26: 411294.67 | AH26: -
A27: Налог на доходы физических лиц с доходов, полученных физическими лицами в соответствии со статьей 228 Налогового кодекса Российской Федерации | B27: 010 | C27: 000 1010203001 0000 110 | D27: 73779231 | E27: - | F27: 73779231 | G27: - | H27: 5378600 | I27: - | J27: - | K27: 463571.45 | L27: - | M27: - | N27: 47396403 | O27: 19758576 | P27: 782079.78 | Q27: - | R27: Налог на доходы физических лиц с доходов, полученных физическими лицами в соответствии со статьей 228 Налогового кодекса Российской Федерации | S27: 010 | T27: 000 1010203001 0000 110 | U27: 2.9099548e+08 | V27: - | W27: 2.9099548e+08 | X27: - | Y27: 2.0408072e+08 | Z27: - | AA27: - | AB27: 45653048 | AC27: - | AD27: - | AE27: 30114310 | AF27: 9994598.1 | AG27: 1152806.8 | AH27: -
A28: Налог на доходы физических лиц в виде фиксированных авансовых платежей с доходов, полученных физическими лицами, являющимися иностранными гражданами, осуществляющими трудовую деятельность по найму на основании патента в соответствии со статьей 227.1 Налогового кодекса Российской Федерации | B28: 010 | C28: 000 1010204001 0000 110 | D28: 19121659 | E28: - | F28: 19121659 | G28: - | H28: - | I28: - | J28: - | K28: - | L28: - | M28: - | N28: 19121659 | O28: - | P28: - | Q28: - | R28: Налог на доходы физических лиц в виде фиксированных авансовых платежей с доходов, полученных физическими лицами, являющимися иностранными гражданами, осуществляющими трудовую деятельность по найму на основании патента в соответствии со статьей 227.1 Налогового кодекса Российской Федерации | S28: 010 | T28: 000 1010204001 0000 110 | U28: 1.2936644e+08 | V28: - | W28: 1.2936644e+08 | X28: - | Y28: 1.0920153e+08 | Z28: - | AA28: - | AB28: 7452244.9 | AC28: - | AD28: - | AE28: 12712670 | AF28: - | AG28: - | AH28: -
A29: Налог на доходы физических лиц в части суммы налога, превышающей 650 000 рублей, относящейся к части налоговой базы, превышающей 5 000 000 рублей (за исключением налога на доходы физических лиц с сумм прибыли контролируемой иностранной компании, в том числе фиксированной прибыли контролируемой иностранной компании) | B29: 010 | C29: 000 1010208001 0000 110 | D29: 2.7139479e+08 | E29: - | F29: 2.7139479e+08 | G29: - | H29: - | I29: - | J29: - | K29: 1.7150676e+08 | L29: - | M29: - | N29: 78381009 | O29: 18043229 | P29: 3463788.1 | Q29: - | R29: Налог на доходы физических лиц в части суммы налога, превышающей 650 000 рублей, относящейся к части налоговой базы, превышающей 5 000 000 рублей (за исключением налога на доходы физических лиц с сумм прибыли контролируемой иностранной компании, в том числе фиксированной прибыли контролируемой иностранной компании) | S29: 010 | T29: 000 1010208001 0000 110 | U29: 8.7253055e+08 | V29: - | W29: 8.7253055e+08 | X29: - | Y29: 6.0455746e+08 | Z29: - | AA29: - | AB29: 1.84202e+08 | AC29: - | AD29: - | AE29: 62884584 | AF29: 14947901 | AG29: 5938601.3 | AH29: -
A30: Налог на доходы физических лиц с сумм прибыли контролируемой иностранной компании, полученной физическими лицами, признаваемыми контролирующими лицами этой компании, за исключением уплачиваемого в связи с переходом на особый порядок уплаты на основании подачи в налоговый орган соответствующего уведомления (в части суммы налога, превышающей 650 000 рублей) | B30: 010 | C30: 000 1010210001 0000 110 | D30: - | E30: - | F30: - | G30: - | H30: - | I30: - | J30: - | K30: - | L30: - | M30: - | N30: - | O30: - | P30: - | Q30: - | R30: Налог на доходы физических лиц с сумм прибыли контролируемой иностранной компании, полученной физическими лицами, признаваемыми контролирующими лицами этой компании, за исключением уплачиваемого в связи с переходом на особый порядок уплаты на основании подачи в налоговый орган соответствующего уведомления (в части суммы налога, превышающей 650 000 рублей) | S30: 010 | T30: 000 1010210001 0000 110 | U30: 5779.41 | V30: - | W30: 5779.41 | X30: - | Y30: 4131.95 | Z30: - | AA30: - | AB30: 1647.46 | AC30: - | AD30: - | AE30: - | AF30: - | AG30: - | AH30: -
A31: НАЛОГИ НА ТОВАРЫ (РАБОТЫ, УСЛУГИ), РЕАЛИЗУЕМЫЕ НА ТЕРРИТОРИИ РОССИЙСКОЙ ФЕДЕРАЦИИ | B31: 010 | C31: 000 1030000000 0000 000 | D31: 1.2663734e+10 | E31: - | F31: 1.2663734e+10 | G31: - | H31: 11621013000 | I31: - | J31: - | K31: 90805444 | L31: - | M31: - | N31: 2.7272032e+08 | O31: 2.0820839e+08 | P31: 4.7098649e+08 | Q31: - | R31: НАЛОГИ НА ТОВАРЫ (РАБОТЫ, УСЛУГИ), РЕАЛИЗУЕМЫЕ НА ТЕРРИТОРИИ РОССИЙСКОЙ ФЕДЕРАЦИИ | S31: 010 | T31: 000 1030000000 0000 000 | U31: 6.7917416e+09 | V31: - | W31: 6.7917416e+09 | X31: - | Y31: 6.208928e+09 | Z31: - | AA31: - | AB31: 49391510 | AC31: - | AD31: - | AE31: 1.5519938e+08 | AF31: 1.1559914e+08 | AG31: 2.6262358e+08 | AH31: -
A32: Акцизы по подакцизным товарам (продукции), производимым на территории Российской Федерации | B32: 010 | C32: 000 1030200001 0000 110 | D32: 1.2663734e+10 | E32: - | F32: 1.2663734e+10 | G32: - | H32: 11621013000 | I32: - | J32: - | K32: 90805444 | L32: - | M32: - | N32: 2.7272032e+08 | O32: 2.0820839e+08 | P32: 4.7098649e+08 | Q32: - | R32: Акцизы по подакцизным товарам (продукции), производимым на территории Российской Федерации | S32: 010 | T32: 000 1030200001 0000 110 | U32: 6.7917416e+09 | V32: - | W32: 6.7917416e+09 | X32: - | Y32: 6.208928e+09 | Z32: - | AA32: - | AB32: 49391510 | AC32: - | AD32: - | AE32: 1.5519938e+08 | AF32: 1.1559914e+08 | AG32: 2.6262358e+08 | AH32: -
A33: Акцизы на пиво, напитки, изготавливаемые на основе пива, производимые на территории Российской Федерации | B33: 010 | C33: 000 1030210001 0000 110 | D33: 623520000 | E33: - | F33: 623520000 | G33: - | H33: 623520000 | I33: - | J33: - | K33: - | L33: - | M33: - | N33: - | O33: - | P33: - | Q33: - | R33: Акцизы на пиво, напитки, изготавливаемые на основе пива, производимые на территории Российской Федерации | S33: 010 | T33: 000 1030210001 0000 110 | U33: 2.0816212e+08 | V33: - | W33: 2.0816212e+08 | X33: - | Y33: 2.0816212e+08 | Z33: - | AA33: - | AB33: - | AC33: - | AD33: - | AE33: - | AF33: - | AG33: - | AH33: -
A34: Акцизы на сидр, пуаре, медовуху, производимые на территории Российской Федерации | B34: 010 | C34: 000 1030212001 0000 110 | D34: - | E34: - | F34: - | G34: - | H34: - | I34: - | J34: - | K34: - | L34: - | M34: - | N34: - | O34: - | P34: - | Q34: - | R34: Акцизы на сидр, пуаре, медовуху, производимые на территории Российской Федерации | S34: 010 | T34: 000 1030212001 0000 110 | U34: 268918.93 | V34: - | W34: 268918.93 | X34: - | Y34: 268918.93 | Z34: - | AA34: - | AB34: - | AC34: - | AD34: - | AE34: - | AF34: - | AG34: - | AH34: -
A35: Доходы от уплаты акцизов на алкогольную продукцию с объемной долей этилового спирта свыше 9 процентов (за исключением пива, вин (кроме крепленого (ликерного) вина), вин наливом, плодовой алкогольной продукции, игристых вин, включая российское шампанское, а также за исключением виноградосодержащих напитков, плодовых алкогольных напитков, изготавливаемых без добавления ректификованного этилового спирта, произведенного из пищевого сырья, и (или) без добавления спиртованных виноградного или иного плодового сусла, и (или) без добавления дистиллятов, и (или) без добавления крепленого (ликерного) вина), подлежащие распределению в бюджеты субъектов Российской Федерации | B35: 010 | C35: 000 1030214001 0000 110 | D35: 1687568300 | E35: - | F35: 1687568300 | G35: - | H35: 1687568300 | I35: - | J35: - | K35: - | L35: - | M35: - | N35: - | O35: - | P35: - | Q35: - | R35: Доходы от уплаты акцизов на алкогольную продукцию с объемной долей этилового спирта свыше 9 процентов (за исключением пива, вин (кроме крепленого (ликерного) вина), вин наливом, плодовой алкогольной продукции, игристых вин, включая российское шампанское, а также за исключением виноградосодержащих напитков, плодовых алкогольных напитков, изготавливаемых без добавления ректификованного этилового спирта, произведенного из пищевого сырья, и (или) без добавления спиртованных виноградного или иного плодового сусла, и (или) без добавления дистиллятов, и (или) без добавления крепленого (ликерного) вина), подлежащие распределению в бюджеты субъектов Российской Федерации | S35: 010 | T35: 000 1030214001 0000 110 | U35: 8.4145706e+08 | V35: - | W35: 8.4145706e+08 | X35: - | Y35: 8.4145706e+08 | Z35: - | AA35: - | AB35: - | AC35: - | AD35: - | AE35: - | AF35: - | AG35: - | AH35: -
A36: Доходы от уплаты акцизов на алкогольную продукцию с объемной долей этилового спирта свыше 9 процентов (за исключением пива, вин (кроме крепленого (ликерного) вина), вин наливом, плодовой алкогольной продукции, игристых вин, включая российское шампанское, а также за исключением виноградосодержащих напитков, плодовых алкогольных напитков, изготавливаемых без добавления ректификованного этилового спирта, произведенного из пищевого сырья, и (или) без добавления спиртованных виноградного или иного плодового сусла, и (или) без добавления дистиллятов, и (или) без добавления крепленого (ликерного) вина), подлежащие распределению в бюджеты субъектов Российской Федерации (в порядке, установленном Министерством финансов Российской Федерации) | B36: 010 | C36: 000 1030214201 0000 110 | D36: 957540800 | E36: - | F36: 957540800 | G36: - | H36: 957540800 | I36: - | J36: - | K36: - | L36: - | M36: - | N36: - | O36: - | P36: - | Q36: - | R36: Доходы от уплаты акцизов на алкогольную продукцию с объемной долей этилового спирта свыше 9 процентов (за исключением пива, вин (кроме крепленого (ликерного) вина), вин наливом, плодовой алкогольной продукции, игристых вин, включая российское шампанское, а также за исключением виноградосодержащих напитков, плодовых алкогольных напитков, изготавливаемых без добавления ректификованного этилового спирта, произведенного из пищевого сырья, и (или) без добавления спиртованных виноградного или иного плодового сусла, и (или) без добавления дистиллятов, и (или) без добавления крепленого (ликерного) вина), подлежащие распределению в бюджеты субъектов Российской Федерации (в порядке, установленном Министерством финансов Российской Федерации) | S36: 010 | T36: 000 1030214201 0000 110 | U36: 4.8905552e+08 | V36: - | W36: 4.8905552e+08 | X36: - | Y36: 4.8905552e+08 | Z36: - | AA36: - | AB36: - | AC36: - | AD36: - | AE36: - | AF36: - | AG36: - | AH36: -
A37: Доходы от уплаты акцизов на алкогольную продукцию с объемной долей этилового спирта свыше 9 процентов (за исключением пива, вин (кроме крепленого (ликерного) вина), вин наливом, плодовой алкогольной продукции, игристых вин, включая российское шампанское, а также за исключением виноградосодержащих напитков, плодовых алкогольных напитков, изготавливаемых без добавления ректификованного этилового спирта, произведенного из пищевого сырья, и (или) без добавления спиртованных виноградного или иного плодового сусла, и (или) без добавления дистиллятов, и (или) без добавления крепленого (ликерного) вина), подлежащие распределению в бюджеты субъектов Российской Федерации (по нормативам, установленным федеральным законом о федеральном бюджете в целях компенсации снижения доходов бюджетов субъектов Российской Федерации в связи с исключением движимого имущества из объектов налогообложения по налогу на имущество организаций) | B37: 010 | C37: 000 1030214301 0000 110 | D37: 730027500 | E37: - | F37: 730027500 | G37: - | H37: 730027500 | I37: - | J37: - | K37: - | L37: - | M37: - | N37: - | O37: - | P37: - | Q37: - | R37: Доходы от уплаты акцизов на алкогольную продукцию с объемной долей этилового спирта свыше 9 процентов (за исключением пива, вин (кроме крепленого (ликерного) вина), вин наливом, плодовой алкогольной продукции, игристых вин, включая российское шампанское, а также за исключением виноградосодержащих напитков, плодовых алкогольных напитков, изготавливаемых без добавления ректификованного этилового спирта, произведенного из пищевого сырья, и (или) без добавления спиртованных виноградного или иного плодового сусла, и (или) без добавления дистиллятов, и (или) без добавления крепленого (ликерного) вина), подлежащие распределению в бюджеты субъектов Российской Федерации (по нормативам, установленным федеральным законом о федеральном бюджете в целях компенсации снижения доходов бюджетов субъектов Российской Федерации в связи с исключением движимого имущества из объектов налогообложения по налогу на имущество организаций) | S37: 010 | T37: 000 1030214301 0000 110 | U37: 3.5240153e+08 | V37: - | W37: 3.5240153e+08 | X37: - | Y37: 3.5240153e+08 | Z37: - | AA37: - | AB37: - | AC37: - | AD37: - | AE37: - | AF37: - | AG37: - | AH37: -
A38: Доходы от уплаты акцизов на этиловый спирт из пищевого сырья, винный спирт, виноградный спирт (за исключением дистиллятов винного, виноградного, плодового, коньячного, кальвадосного, вискового), производимый на территории Российской Федерации, направляемые в уполномоченный территориальный орган Федерального казначейства для распределения между бюджетами субъектов Российской Федерации (по нормативам, установленным федеральным законом о федеральном бюджете) | B38: 010 | C38: 000 1030219001 0000 110 | D38: 3337900 | E38: - | F38: 3337900 | G38: - | H38: 3337900 | I38: - | J38: - | K38: - | L38: - | M38: - | N38: - | O38: - | P38: - | Q38: - | R38: Доходы от уплаты акцизов на этиловый спирт из пищевого сырья, винный спирт, виноградный спирт (за исключением дистиллятов винного, виноградного, плодового, коньячного, кальвадосного, вискового), производимый на территории Российской Федерации, направляемые в уполномоченный территориальный орган Федерального казначейства для распределения между бюджетами субъектов Российской Федерации (по нормативам, установленным федеральным законом о федеральном бюджете) | S38: 010 | T38: 000 1030219001 0000 110 | U38: 1194846.4 | V38: - | W38: 1194846.4 | X38: - | Y38: 1194846.4 | Z38: - | AA38: - | AB38: - | AC38: - | AD38: - | AE38: - | AF38: - | AG38: - | AH38: -
A39: Доходы от уплаты акцизов на этиловый спирт из пищевого сырья (дистилляты винный, виноградный, плодовый, коньячный, кальвадосный, висковый), производимый на территории Российской Федерации, направляемые в уполномоченный территориальный орган Федерального казначейства для распределения между бюджетами субъектов Российской Федерации (по нормативам, установленным федеральным законом о федеральном бюджете) | B39: 010 | C39: 000 1030220001 0000 110 | D39: - | E39: - | F39: - | G39: - | H39: - | I39: - | J39: - | K39: - | L39: - | M39: - | N39: - | O39: - | P39: - | Q39: - | R39: Доходы от уплаты акцизов на этиловый спирт из пищевого сырья (дистилляты винный, виноградный, плодовый, коньячный, кальвадосный, висковый), производимый на территории Российской Федерации, направляемые в уполномоченный территориальный орган Федерального казначейства для распределения между бюджетами субъектов Российской Федерации (по нормативам, установленным федеральным законом о федеральном бюджете) | S39: 010 | T39: 000 1030220001 0000 110 | U39: -4406.84 | V39: - | W39: -4406.84 | X39: - | Y39: -4406.84 | Z39: - | AA39: - | AB39: - | AC39: - | AD39: - | AE39: - | AF39: - | AG39: - | AH39: -
A40: Доходы от уплаты акцизов на спиртосодержащую продукцию, производимую на территории Российской Федерации, направляемые в уполномоченный территориальный орган Федерального казначейства для распределения между бюджетами субъектов Российской Федерации (по нормативам, установленным федеральным законом о федеральном бюджете) | B40: 010 | C40: 000 1030221001 0000 110 | D40: 161400 | E40: - | F40: 161400 | G40: - | H40: 161400 | I40: - | J40: - | K40: - | L40: - | M40: - | N40: - | O40: - | P40: - | Q40: - | R40: Доходы от уплаты акцизов на спиртосодержащую продукцию, производимую на территории Российской Федерации, направляемые в уполномоченный территориальный орган Федерального казначейства для распределения между бюджетами субъектов Российской Федерации (по нормативам, установленным федеральным законом о федеральном бюджете) | S40: 010 | T40: 000 1030221001 0000 110 | U40: 110386.77 | V40: - | W40: 110386.77 | X40: - | Y40: 110386.77 | Z40: - | AA40: - | AB40: - | AC40: - | AD40: - | AE40: - | AF40: - | AG40: - | AH40: -
A41: Доходы от уплаты акцизов на этиловый спирт из непищевого сырья, производимый на территории Российской Федерации, направляемые в уполномоченный территориальный орган Федерального казначейства для распределения между бюджетами субъектов Российской Федерации (по нормативам, установленным федеральным законом о федеральном бюджете) | B41: 010 | C41: 000 1030222001 0000 110 | D41: 1486700 | E41: - | F41: 1486700 | G41: - | H41: 1486700 | I41: - | J41: - | K41: - | L41: - | M41: - | N41: - | O41: - | P41: - | Q41: - | R41: Доходы от уплаты акцизов на этиловый спирт из непищевого сырья, производимый на территории Российской Федерации, направляемые в уполномоченный территориальный орган Федерального казначейства для распределения между бюджетами субъектов Российской Федерации (по нормативам, установленным федеральным законом о федеральном бюджете) | S41: 010 | T41: 000 1030222001 0000 110 | U41: 614399.73 | V41: - | W41: 614399.73 | X41: - | Y41: 614399.73 | Z41: - | AA41: - | AB41: - | AC41: - | AD41: - | AE41: - | AF41: - | AG41: - | AH41: -
A42: Доходы от уплаты акцизов на дизельное топливо, подлежащие распределению между бюджетами субъектов Российской Федерации и местными бюджетами с учетом установленных дифференцированных нормативов отчислений в местные бюджеты | B42: 010 | C42: 000 1030223001 0000 110 | D42: 4.7515297e+09 | E42: - | F42: 4.7515297e+09 | G42: - | H42: 4277653700 | I42: - | J42: - | K42: 41132950 | L42: - | M42: - | N42: 1.2573684e+08 | O42: 94774393 | P42: 2.1223183e+08 | Q42: - | R42: Доходы от уплаты акцизов на дизельное топливо, подлежащие распределению между бюджетами субъектов Российской Федерации и местными бюджетами с учетом установленных дифференцированных нормативов отчислений в местные бюджеты | S42: 010 | T42: 000 1030223001 0000 110 | U42: 2.7901368e+09 | V42: - | W42: 2.7901368e+09 | X42: - | Y42: 2.5032633e+09 | Z42: - | AA42: - | AB42: 24311571 | AC42: - | AD42: - | AE42: 76392493 | AF42: 56900397 | AG42: 1.2926901e+08 | AH42: -
A43: Доходы от уплаты акцизов на дизельное топливо, подлежащие распределению между бюджетами субъектов Российской Федерации и местными бюджетами с учетом установленных дифференцированных нормативов отчислений в местные бюджеты (по нормативам, установленным федеральным законом о федеральном бюджете в целях формирования дорожных фондов субъектов Российской Федерации) | B43: 010 | C43: 000 1030223101 0000 110 | D43: 3.2535934e+09 | E43: - | F43: 3.2535934e+09 | G43: - | H43: 2779717400 | I43: - | J43: - | K43: 41132950 | L43: - | M43: - | N43: 1.2573684e+08 | O43: 94774393 | P43: 2.1223183e+08 | Q43: - | R43: Доходы от уплаты акцизов на дизельное топливо, подлежащие распределению между бюджетами субъектов Российской Федерации и местными бюджетами с учетом установленных дифференцированных нормативов отчислений в местные бюджеты (по нормативам, установленным федеральным законом о федеральном бюджете в целях формирования дорожных фондов субъектов Российской Федерации) | S43: 010 | T43: 000 1030223101 0000 110 | U43: 1.9124898e+09 | V43: - | W43: 1.9124898e+09 | X43: - | Y43: 1.6256163e+09 | Z43: - | AA43: - | AB43: 24311571 | AC43: - | AD43: - | AE43: 76392493 | AF43: 56900397 | AG43: 1.2926901e+08 | AH43: -
...

Sheet Расходы
A2: 2. Расходы бюджета | P2: Форма 0503317 с.3 | AG2: Форма 0503317 с.4
A4: Наименование показателя | B4: Код строки | C4: Код расхода по бюджетной классификации | D4: Утвержденные бюджетные назначения | R4: Наименование показателя | S4: Код строки | T4: Код расхода по бюджетной классификации | U4: Исполнено
D5: консолидированный бюджет субъекта Российской Федерации и территориального государственного внебюджетного фонда | E5: суммы, подлежащие исключению в рамках консолидированного бюджета субъекта Российской Федерации и бюджета территориального государственного внебюджетного фонда | F5: консолидированный бюджет субъекта Российской Федерации | G5: суммы, подлежащие исключению в рамках консолидированного бюджета субъекта Российской Федерации | H5: бюджет субъекта Российской Федерации | I5: бюджеты внутригородских муниципальных образований городов федерального значения | J5: бюджеты муниципальных округов | K5: бюджеты городских округов | L5: бюджеты городских округов с внутригородским делением | M5: бюджеты внутригородских районов | N5: бюджеты муниципальных районов | O5: бюджеты городских поселений | P5: бюджеты сельских поселений | Q5: бюджет территориального государственного внебюджетного фонда | U5: консолидированный бюджет субъекта Российской Федерации и территориального государственного внебюджетного фонда | V5: суммы, подлежащие исключению в рамках консолидированного бюджета субъекта Российской Федерации и бюджета территориального государственного внебюджетного фонда | W5: консолидированный бюджет субъекта Российской Федерации | X5: суммы, подлежащие исключению в рамках консолидированного бюджета субъекта Российской Федерации | Y5: бюджет субъекта Российской Федерации | Z5: бюджеты внутригородских муниципальных образований городов федерального значения | AA5: бюджеты муниципальных округов | AB5: бюджеты городских округов | AC5: бюджеты городских округов с внутри- городским делением | AD5: бюджеты внутригородских районов | AE5: бюджеты муниципальных районов | AF5: бюджеты городских поселений | AG5: бюджеты сельских поселений | AH5: бюджет территориального государственного внебюджетного фонда
A6: 1 | B6: 2 | C6: 3 | D6: 4 | E6: 5 | F6: 6 | G6: 7 | H6: 8 | I6: 9 | J6: 10 | K6: 11 | L6: 12 | M6: 13 | N6: 14 | O6: 15 | P6: 16 | Q6: 17 | R6: 1 | S6: 2 | T6: 3 | U6: 18 | V6: 19 | W6: 20 | X6: 21 | Y6: 22 | Z6: 23 | AA6: 24 | AB6: 25 | AC6: 26 | AD6: 27 | AE6: 28 | AF6: 29 | AG6: 30 | AH6: 31
A7: Расходы бюджета - всего | B7: 200 | C7: х | D7: 2.1664878e+11 | E7: - | F7: 1.8076594e+11 | G7: 4.5343941e+10 | H7: 1.5425187e+11 | I7: - | J7: - | K7: 2.5647477e+10 | L7: - | M7: - | N7: 3.5192433e+10 | O7: 6.7784623e+09 | P7: 4.2396378e+09 | Q7: 3.5882843e+10 | R7: Расходы бюджета - всего | S7: 200 | T7: х | U7: 9.6135e+10 | V7: 99868100 | W7: 7.853885e+10 | X7: 2.0576835e+10 | Y7: 6.6979027e+10 | Z7: - | AA7: - | AB7: 1.2041405e+10 | AC7: - | AD7: - | AE7: 1.6504019e+10 | AF7: 2.3355196e+09 | AG7: 1.2557149e+09 | AH7: 1.7696018e+10
A8: в том числе: | R8: в том числе:
A9: ОБЩЕГОСУДАРСТВЕННЫЕ ВОПРОСЫ | B9: 200 | C9: 000 0100 0000000000 000 | D9: 1.1044517e+10 | E9: - | F9: 1.0880067e+10 | G9: 2.7426892e+08 | H9: 5.1080418e+09 | I9: - | J9: - | K9: 2.3019549e+09 | L9: - | M9: - | N9: 2.6310342e+09 | O9: 1.6901612e+08 | P9: 9.4428847e+08 | Q9: 164450000 | R9: ОБЩЕГОСУДАРСТВЕННЫЕ ВОПРОСЫ | S9: 200 | T9: 000 0100 0000000000 000 | U9: 4.5210792e+09 | V9: - | W9: 4.4542843e+09 | X9: 60364630 | Y9: 1.7126024e+09 | Z9: - | AA9: - | AB9: 1.0184056e+09 | AC9: - | AD9: - | AE9: 1.326974e+09 | AF9: 68502282 | AG9: 3.8816471e+08 | AH9: 66794875
A10: Функционирование высшего должностного лица субъекта Российской Федерации и муниципального образования | B10: 200 | C10: 000 0102 0000000000 000 | D10: 5.2737189e+08 | E10: - | F10: 5.2737189e+08 | G10: - | H10: 231295100 | I10: - | J10: - | K10: 14322721 | L10: - | M10: - | N10: 86060547 | O10: 3549800 | P10: 1.9214372e+08 | Q10: - | R10: Функционирование высшего должностного лица субъекта Российской Федерации и муниципального образования | S10: 200 | T10: 000 0102 0000000000 000 | U10: 2.4001158e+08 | V10: - | W10: 2.4001158e+08 | X10: - | Y10: 1.0936877e+08 | Z10: - | AA10: - | AB10: 6942301.1 | AC10: - | AD10: - | AE10: 44048827 | AF10: 1538068.8 | AG10: 78113608 | AH10: -
A11: Расходы на выплаты персоналу в целях обеспечения выполнения функций государственными (муниципальными) органами, казенными учреждениями, органами управления государственными внебюджетными фондами | B11: 200 | C11: 000 0102 0000000000 100 | D11: 5.2534703e+08 | E11: - | F11: 5.2534703e+08 | G11: - | H11: 229319800 | I11: - | J11: - | K11: 14322721 | L11: - | M11: - | N11: 86059547 | O11: 3549800 | P11: 1.9209516e+08 | Q11: - | R11: Расходы на выплаты персоналу в целях обеспечения выполнения функций государственными (муниципальными) органами, казенными учреждениями, органами управления государственными внебюджетными фондами | S11: 200 | T11: 000 0102 0000000000 100 | U11: 2.3995812e+08 | V11: - | W11: 2.3995812e+08 | X11: - | Y11: 1.093539e+08 | Z11: - | AA11: - | AB11: 6942301.1 | AC11: - | AD11: - | AE11: 44047827 | AF11: 1538068.8 | AG11: 78076014 | AH11: -
A12: Расходы на выплаты персоналу государственных (муниципальных) органов | B12: 200 | C12: 000 0102 0000000000 120 | D12: 5.2534703e+08 | E12: - | F12: 5.2534703e+08 | G12: - | H12: 229319800 | I12: - | J12: - | K12: 14322721 | L12: - | M12: - | N12: 86059547 | O12: 3549800 | P12: 1.9209516e+08 | Q12: - | R12: Расходы на выплаты персоналу государственных (муниципальных) органов | S12: 200 | T12: 000 0102 0000000000 120 | U12: 2.3995812e+08 | V12: - | W12: 2.3995812e+08 | X12: - | Y12: 1.093539e+08 | Z12: - | AA12: - | AB12: 6942301.1 | AC12: - | AD12: - | AE12: 44047827 | AF12: 1538068.8 | AG12: 78076014 | AH12: -
A13: Фонд оплаты труда государственных (муниципальных) органов | B13: 200 | C13: 000 0102 0000000000 121 | D13: 3.9429751e+08 | E13: - | F13: 3.9429751e+08 | G13: - | H13: 167385600 | I13: - | J13: - | K13: 11000505 | L13: - | M13: - | N13: 65742525 | O13: 2726400 | P13: 1.4744248e+08 | Q13: - | R13: Фонд оплаты труда государственных (муниципальных) органов | S13: 200 | T13: 000 0102 0000000000 121 | U13: 1.8656762e+08 | V13: - | W13: 1.8656762e+08 | X13: - | Y13: 79972710 | Z13: - | AA13: - | AB13: 5655500.9 | AC13: - | AD13: - | AE13: 35878643 | AF13: 1187717.7 | AG13: 63873051 | AH13: -
A14: Иные выплаты персоналу государственных (муниципальных) органов, за исключением фонда оплаты труда | B14: 200 | C14: 000 0102 0000000000 122 | D14: 9415141 | E14: - | F14: 9415141 | G14: - | H14: 9168200 | I14: - | J14: - | K14: - | L14: - | M14: - | N14: 217141 | O14: - | P14: 29800 | Q14: - | R14: Иные выплаты персоналу государственных (муниципальных) органов, за исключением фонда оплаты труда | S14: 200 | T14: 000 0102 0000000000 122 | U14: 6618839 | V14: - | W14: 6618839 | X14: - | Y14: 6545918 | Z14: - | AA14: - | AB14: - | AC14: - | AD14: - | AE14: 62121 | AF14: - | AG14: 10800 | AH14: -
A15: Взносы по обязательному социальному страхованию на выплаты денежного содержания и иные выплаты работникам государственных (муниципальных) органов | B15: 200 | C15: 000 0102 0000000000 129 | D15: 1.2163437e+08 | E15: - | F15: 1.2163437e+08 | G15: - | H15: 52766000 | I15: - | J15: - | K15: 3322216.4 | L15: - | M15: - | N15: 20099881 | O15: 823400 | P15: 44622878 | Q15: - | R15: Взносы по обязательному социальному страхованию на выплаты денежного содержания и иные выплаты работникам государственных (муниципальных) органов | S15: 200 | T15: 000 0102 0000000000 129 | U15: 46771654 | V15: - | W15: 46771654 | X15: - | Y15: 22835277 | Z15: - | AA15: - | AB15: 1286800.2 | AC15: - | AD15: - | AE15: 8107062.5 | AF15: 350351.11 | AG15: 14192163 | AH15: -
A16: Закупка товаров, работ и услуг для обеспечения государственных (муниципальных) нужд | B16: 200 | C16: 000 0102 0000000000 200 | D16: 2014400 | E16: - | F16: 2014400 | G16: - | H16: 1975300 | I16: - | J16: - | K16: - | L16: - | M16: - | N16: 1000 | O16: - | P16: 38100 | Q16: - | R16: Закупка товаров, работ и услуг для обеспечения государственных (муниципальных) нужд | S16: 200 | T16: 000 0102 0000000000 200 | U16: 52852.84 | V16: - | W16: 52852.84 | X16: - | Y16: 14867.84 | Z16: - | AA16: - | AB16: - | AC16: - | AD16: - | AE16: 1000 | AF16: - | AG16: 36985 | AH16: -
A17: Иные закупки товаров, работ и услуг для обеспечения государственных (муниципальных) нужд | B17: 200 | C17: 000 0102 0000000000 240 | D17: 2014400 | E17: - | F17: 2014400 | G17: - | H17: 1975300 | I17: - | J17: - | K17: - | L17: - | M17: - | N17: 1000 | O17: - | P17: 38100 | Q17: - | R17: Иные закупки товаров, работ и услуг для обеспечения государственных (муниципальных) нужд | S17: 200 | T17: 000 0102 0000000000 240 | U17: 52852.84 | V17: - | W17: 52852.84 | X17: - | Y17: 14867.84 | Z17: - | AA17: - | AB17: - | AC17: - | AD17: - | AE17: 1000 | AF17: - | AG17: 36985 | AH17: -
A18: Прочая закупка товаров, работ и услуг | B18: 200 | C18: 000 0102 0000000000 244 | D18: 2014400 | E18: - | F18: 2014400 | G18: - | H18: 1975300 | I18: - | J18: - | K18: - | L18: - | M18: - | N18: 1000 | O18: - | P18: 38100 | Q18: - | R18: Прочая закупка товаров, работ и услуг | S18: 200 | T18: 000 0102 0000000000 244 | U18: 52852.84 | V18: - | W18: 52852.84 | X18: - | Y18: 14867.84 | Z18: - | AA18: - | AB18: - | AC18: - | AD18: - | AE18: 1000 | AF18: - | AG18: 36985 | AH18: -
A19: Иные бюджетные ассигнования | B19: 200 | C19: 000 0102 0000000000 800 | D19: 10460.78 | E19: - | F19: 10460.78 | G19: - | H19: - | I19: - | J19: - | K19: - | L19: - | M19: - | N19: - | O19: - | P19: 10460.78 | Q19: - | R19: Иные бюджетные ассигнования | S19: 200 | T19: 000 0102 0000000000 800 | U19: 609.16 | V19: - | W19: 609.16 | X19: - | Y19: - | Z19: - | AA19: - | AB19: - | AC19: - | AD19: - | AE19: - | AF19: - | AG19: 609.16 | AH19: -
A20: Уплата налогов, сборов и иных платежей | B20: 200 | C20: 000 0102 0000000000 850 | D20: 10460.78 | E20: - | F20: 10460.78 | G20: - | H20: - | I20: - | J20: - | K20: - | L20: - | M20: - | N20: - | O20: - | P20: 10460.78 | Q20: - | R20: Уплата налогов, сборов и иных платежей | S20: 200 | T20: 000 0102 0000000000 850 | U20: 609.16 | V20: - | W20: 609.16 | X20: - | Y20: - | Z20: - | AA20: - | AB20: - | AC20: - | AD20: - | AE20: - | AF20: - | AG20: 609.16 | AH20: -
A21: Уплата иных платежей | B21: 200 | C21: 000 0102 0000000000 853 | D21: 10460.78 | E21: - | F21: 10460.78 | G21: - | H21: - | I21: - | J21: - | K21: - | L21: - | M21: - | N21: - | O21: - | P21: 10460.78 | Q21: - | R21: Уплата иных платежей | S21: 200 | T21: 000 0102 0000000000 853 | U21: 609.16 | V21: - | W21: 609.16 | X21: - | Y21: - | Z21: - | AA21: - | AB21: - | AC21: - | AD21: - | AE21: - | AF21: - | AG21: 609.16 | AH21: -
A22: Функционирование законодательных (представительных) органов государственной власти и представительных органов муниципальных образований | B22: 200 | C22: 000 0103 0000000000 000 | D22: 4.9310601e+08 | E22: - | F22: 4.9310601e+08 | G22: 89000 | H22: 275588900 | I22: - | J22: - | K22: 1.4510719e+08 | L22: - | M22: - | N22: 47088872 | O22: 25405875 | P22: 4172.66 | Q22: - | R22: Функционирование законодательных (представительных) органов государственной власти и представительных органов муниципальных образований | S22: 200 | T22: 000 0103 0000000000 000 | U22: 2.2785822e+08 | V22: - | W22: 2.2785822e+08 | X22: 49914.2 | Y22: 1.1913742e+08 | Z22: - | AA22: - | AB22: 71735008 | AC22: - | AD22: - | AE22: 25643781 | AF22: 11388124 | AG22: 3800 | AH22: -
A23: Расходы на выплаты персоналу в целях обеспечения выполнения функций государственными (муниципальными) органами, казенными учреждениями, органами управления государственными внебюджетными фондами | B23: 200 | C23: 000 0103 0000000000 100 | D23: 4.3275231e+08 | E23: - | F23: 4.3275231e+08 | G23: - | H23: 243024600 | I23: - | J23: - | K23: 1.2819439e+08 | L23: - | M23: - | N23: 42266852 | O23: 19266460 | P23: - | Q23: - | R23: Расходы на выплаты персоналу в целях обеспечения выполнения функций государственными (муниципальными) органами, казенными учреждениями, органами управления государственными внебюджетными фондами | S23: 200 | T23: 000 0103 0000000000 100 | U23: 2.0936961e+08 | V23: - | W23: 2.0936961e+08 | X23: - | Y23: 1.0890711e+08 | Z23: - | AA23: - | AB23: 67031023 | AC23: - | AD23: - | AE23: 24064529 | AF23: 9366946.6 | AG23: - | AH23: -
A24: Расходы на выплаты персоналу государственных (муниципальных) органов | B24: 200 | C24: 000 0103 0000000000 120 | D24: 4.3275231e+08 | E24: - | F24: 4.3275231e+08 | G24: - | H24: 243024600 | I24: - | J24: - | K24: 1.2819439e+08 | L24: - | M24: - | N24: 42266852 | O24: 19266460 | P24: - | Q24: - | R24: Расходы на выплаты персоналу государственных (муниципальных) органов | S24: 200 | T24: 000 0103 0000000000 120 | U24: 2.0936961e+08 | V24: - | W24: 2.0936961e+08 | X24: - | Y24: 1.0890711e+08 | Z24: - | AA24: - | AB24: 67031023 | AC24: - | AD24: - | AE24: 24064529 | AF24: 9366946.6 | AG24: - | AH24: -
A25: Фонд оплаты труда государственных (муниципальных) органов | B25: 200 | C25: 000 0103 0000000000 121 | D25: 3.2683837e+08 | E25: - | F25: 3.2683837e+08 | G25: - | H25: 182239300 | I25: - | J25: - | K25: 98135786 | L25: - | M25: - | N25: 31945085 | O25: 14518197 | P25: - | Q25: - | R25: Фонд оплаты труда государственных (муниципальных) органов | S25: 200 | T25: 000 0103 0000000000 121 | U25: 1.6375803e+08 | V25: - | W25: 1.6375803e+08 | X25: - | Y25: 82763144 | Z25: - | AA25: - | AB25: 53342868 | AC25: - | AD25: - | AE25: 20183669 | AF25: 7468345.6 | AG25: - | AH25: -
A26: Иные выплаты персоналу государственных (муниципальных) органов, за исключением фонда оплаты труда | B26: 200 | C26: 000 0103 0000000000 122 | D26: 6418403 | E26: - | F26: 6418403 | G26: - | H26: 5607800 | I26: - | J26: - | K26: 340500 | L26: - | M26: - | N26: 100200 | O26: 369902.96 | P26: - | Q26: - | R26: Иные выплаты персоналу государственных (муниципальных) органов, за исключением фонда оплаты труда | S26: 200 | T26: 000 0103 0000000000 122 | U26: 3355247.8 | V26: - | W26: 3355247.8 | X26: - | Y26: 3258405.8 | Z26: - | AA26: - | AB26: 96842 | AC26: - | AD26: - | AE26: - | AF26: - | AG26: - | AH26: -
A27: Взносы по обязательному социальному страхованию на выплаты денежного содержания и иные выплаты работникам государственных (муниципальных) органов | B27: 200 | C27: 000 0103 0000000000 129 | D27: 99495535 | E27: - | F27: 99495535 | G27: - | H27: 55177500 | I27: - | J27: - | K27: 29718108 | L27: - | M27: - | N27: 10221567 | O27: 4378360.2 | P27: - | Q27: - | R27: Взносы по обязательному социальному страхованию на выплаты денежного содержания и иные выплаты работникам государственных (муниципальных) органов | S27: 200 | T27: 000 0103 0000000000 129 | U27: 42256337 | V27: - | W27: 42256337 | X27: - | Y27: 22885562 | Z27: - | AA27: - | AB27: 13591313 | AC27: - | AD27: - | AE27: 3880860.6 | AF27: 1898601 | AG27: - | AH27: -
A28: Закупка товаров, работ и услуг для обеспечения государственных (муниципальных) нужд | B28: 200 | C28: 000 0103 0000000000 200 | D28: 56021288 | E28: - | F28: 56021288 | G28: - | H28: 28847800 | I28: - | J28: - | K28: 16615400 | L28: - | M28: - | N28: 4622226.8 | O28: 5935861 | P28: - | Q28: - | R28: Закупка товаров, работ и услуг для обеспечения государственных (муниципальных) нужд | S28: 200 | T28: 000 0103 0000000000 200 | U28: 17701998 | V28: - | W28: 17701998 | X28: - | Y28: 9731910 | Z28: - | AA28: - | AB28: 4590923.2 | AC28: - | AD28: - | AE28: 1467192.6 | AF28: 1911972.6 | AG28: - | AH28: -
A29: Иные закупки товаров, работ и услуг для обеспечения государственных (муниципальных) нужд | B29: 200 | C29: 000 0103 0000000000 240 | D29: 56021288 | E29: - | F29: 56021288 | G29: - | H29: 28847800 | I29: - | J29: - | K29: 16615400 | L29: - | M29: - | N29: 4622226.8 | O29: 5935861 | P29: - | Q29: - | R29: Иные закупки товаров, работ и услуг для обеспечения государственных (муниципальных) нужд | S29: 200 | T29: 000 0103 0000000000 240 | U29: 17701998 | V29: - | W29: 17701998 | X29: - | Y29: 9731910 | Z29: - | AA29: - | AB29: 4590923.2 | AC29: - | AD29: - | AE29: 1467192.6 | AF29: 1911972.6 | AG29: - | AH29: -
A30: Закупка товаров, работ, услуг в сфере информационно-коммуникационных технологий | B30: 200 | C30: 000 0103 0000000000 242 | D30: 680860 | E30: - | F30: 680860 | G30: - | H30: - | I30: - | J30: - | K30: - | L30: - | M30: - | N30: 545100 | O30: 135760 | P30: - | Q30: - | R30: Закупка товаров, работ, услуг в сфере информационно-коммуникационных технологий | S30: 200 | T30: 000 0103 0000000000 242 | U30: 282604.14 | V30: - | W30: 282604.14 | X30: - | Y30: - | Z30: - | AA30: - | AB30: - | AC30: - | AD30: - | AE30: 229775.61 | AF30: 52828.53 | AG30: - | AH30: -
A31: Прочая закупка товаров, работ и услуг | B31: 200 | C31: 000 0103 0000000000 244 | D31: 48124428 | E31: - | F31: 48124428 | G31: - | H31: 23133400 | I31: - | J31: - | K31: 15769500 | L31: - | M31: - | N31: 4059126.8 | O31: 5162401 | P31: - | Q31: - | R31: Прочая закупка товаров, работ и услуг | S31: 200 | T31: 000 0103 0000000000 244 | U31: 15154307 | V31: - | W31: 15154307 | X31: - | Y31: 8151513.6 | Z31: - | AA31: - | AB31: 4162876 | AC31: - | AD31: - | AE31: 1225881.2 | AF31: 1614036 | AG31: - | AH31: -
A32: Закупка энергетических ресурсов | B32: 200 | C32: 000 0103 0000000000 247 | D32: 7216000 | E32: - | F32: 7216000 | G32: - | H32: 5714400 | I32: - | J32: - | K32: 845900 | L32: - | M32: - | N32: 18000 | O32: 637700 | P32: - | Q32: - | R32: Закупка энергетических ресурсов | S32: 200 | T32: 000 0103 0000000000 247 | U32: 2265087.6 | V32: - | W32: 2265087.6 | X32: - | Y32: 1580396.4 | Z32: - | AA32: - | AB32: 428047.25 | AC32: - | AD32: - | AE32: 11535.84 | AF32: 245108.1 | AG32: - | AH32: -
A33: Социальное обеспечение и иные выплаты населению | B33: 200 | C33: 000 0103 0000000000 300 | D33: 282400 | E33: - | F33: 282400 | G33: - | H33: - | I33: - | J33: - | K33: 222400 | L33: - | M33: - | N33: 60000 | O33: - | P33: - | Q33: - | R33: Социальное обеспечение и иные выплаты населению | S33: 200 | T33: 000 0103 0000000000 300 | U33: 111809.17 | V33: - | W33: 111809.17 | X33: - | Y33: - | Z33: - | AA33: - | AB33: 101809.17 | AC33: - | AD33: - | AE33: 10000 | AF33: - | AG33: - | AH33: -
A34: Социальные выплаты гражданам, кроме публичных нормативных социальных выплат | B34: 200 | C34: 000 0103 0000000000 320 | D34: 222400 | E34: - | F34: 222400 | G34: - | H34: - | I34: - | J34: - | K34: 222400 | L34: - | M34: - | N34: - | O34: - | P34: - | Q34: - | R34: Социальные выплаты гражданам, кроме публичных нормативных социальных выплат | S34: 200 | T34: 000 0103 0000000000 320 | U34: 101809.17 | V34: - | W34: 101809.17 | X34: - | Y34: - | Z34: - | AA34: - | AB34: 101809.17 | AC34: - | AD34: - | AE34: - | AF34: - | AG34: - | AH34: -
A35: Пособия, компенсации и иные социальные выплаты гражданам, кроме публичных нормативных обязательств | B35: 200 | C35: 000 0103 0000000000 321 | D35: 222400 | E35: - | F35: 222400 | G35: - | H35: - | I35: - | J35: - | K35: 222400 | L35: - | M35: - | N35: - | O35: - | P35: - | Q35: - | R35: Пособия, компенсации и иные социальные выплаты гражданам, кроме публичных нормативных обязательств | S35: 200 | T35: 000 0103 0000000000 321 | U35: 101809.17 | V35: - | W35: 101809.17 | X35: - | Y35: - | Z35: - | AA35: - | AB35: 101809.17 | AC35: - | AD35: - | AE35: - | AF35: - | AG35: - | AH35: -
A36: Публичные нормативные выплаты гражданам несоциального характера | B36: 200 | C36: 000 0103 0000000000 330 | D36: 60000 | E36: - | F36: 60000 | G36: - | H36: - | I36: - | J36: - | K36: - | L36: - | M36: - | N36: 60000 | O36: - | P36: - | Q36: - | R36: Публичные нормативные выплаты гражданам несоциального характера | S36: 200 | T36: 000 0103 0000000000 330 | U36: 10000 | V36: - | W36: 10000 | X36: - | Y36: - | Z36: - | AA36: - | AB36: - | AC36: - | AD36: - | AE36: 10000 | AF36: - | AG36: - | AH36: -
A37: Межбюджетные трансферты | B37: 200 | C37: 000 0103 0000000000 500 | D37: - | E37: - | F37: - | G37: 89000 | H37: - | I37: - | J37: - | K37: - | L37: - | M37: - | N37: - | O37: 85200 | P37: 3800 | Q37: - | R37: Межбюджетные трансферты | S37: 200 | T37: 000 0103 0000000000 500 | U37: - | V37: - | W37: - | X37: 49914.2 | Y37: - | Z37: - | AA37: - | AB37: - | AC37: - | AD37: - | AE37: - | AF37: 46114.2 | AG37: 3800 | AH37: -
A38: Иные межбюджетные трансферты | B38: 200 | C38: 000 0103 0000000000 540 | D38: - | E38: - | F38: - | G38: 89000 | H38: - | I38: - | J38: - | K38: - | L38: - | M38: - | N38: - | O38: 85200 | P38: 3800 | Q38: - | R38: Иные межбюджетные трансферты | S38: 200 | T38: 000 0103 0000000000 540 | U38: - | V38: - | W38: - | X38: 49914.2 | Y38: - | Z38: - | AA38: - | AB38: - | AC38: - | AD38: - | AE38: - | AF38: 46114.2 | AG38: 3800 | AH38: -
A39: Предоставление субсидий бюджетным, автономным учреждениям и иным некоммерческим организациям | B39: 200 | C39: 000 0103 0000000000 600 | D39: 3000000 | E39: - | F39: 3000000 | G39: - | H39: 3000000 | I39: - | J39: - | K39: - | L39: - | M39: - | N39: - | O39: - | P39: - | Q39: - | R39: Предоставление субсидий бюджетным, автономным учреждениям и иным некоммерческим организациям | S39: 200 | T39: 000 0103 0000000000 600 | U39: 323595.91 | V39: - | W39: 323595.91 | X39: - | Y39: 323595.91 | Z39: - | AA39: - | AB39: - | AC39: - | AD39: - | AE39: - | AF39: - | AG39: - | AH39: -
A40: Субсидии бюджетным учреждениям | B40: 200 | C40: 000 0103 0000000000 610 | D40: 3000000 | E40: - | F40: 3000000 | G40: - | H40: 3000000 | I40: - | J40: - | K40: - | L40: - | M40: - | N40: - | O40: - | P40: - | Q40: - | R40: Субсидии бюджетным учреждениям | S40: 200 | T40: 000 0103 0000000000 610 | U40: 323595.91 | V40: - | W40: 323595.91 | X40: - | Y40: 323595.91 | Z40: - | AA40: - | AB40: - | AC40: - | AD40: - | AE40: - | AF40: - | AG40: - | AH40: -
A41: Субсидии бюджетным учреждениям на иные цели | B41: 200 | C41: 000 0103 0000000000 612 | D41: 3000000 | E41: - | F41: 3000000 | G41: - | H41: 3000000 | I41: - | J41: - | K41: - | L41: - | M41: - | N41: - | O41: - | P41: - | Q41: - | R41: Субсидии бюджетным учреждениям на иные цели | S41: 200 | T41: 000 0103 0000000000 612 | U41: 323595.91 | V41: - | W41: 323595.91 | X41: - | Y41: 323595.91 | Z41: - | AA41: - | AB41: - | AC41: - | AD41: - | AE41: - | AF41: - | AG41: - | AH41: -
A42: Иные бюджетные ассигнования | B42: 200 | C42: 000 0103 0000000000 800 | D42: 1050019.9 | E42: - | F42: 1050019.9 | G42: - | H42: 716500 | I42: - | J42: - | K42: 75000 | L42: - | M42: - | N42: 139792.72 | O42: 118354.48 | P42: 372.66 | Q42: - | R42: Иные бюджетные ассигнования | S42: 200 | T42: 000 0103 0000000000 800 | U42: 351202.49 | V42: - | W42: 351202.49 | X42: - | Y42: 174800 | Z42: - | AA42: - | AB42: 11253.16 | AC42: - | AD42: - | AE42: 102058.59 | AF42: 63090.74 | AG42: - | AH42: -
...

Sheet Источники
A2: 3. Источники финансирования дефицита бюджета | P2: Форма 0503317 с.5 | AG2: Форма 0503317 с.6
A4: Наименование показателя | B4: Код строки | C4: Код источника по бюджетной классификации | D4: Утвержденные бюджетные назначения | R4: Наименование показателя | S4: Код строки | T4: Код источника по бюджетной классификации | U4: Исполнено
D5: консолидированный бюджет субъекта Российской Федерации и территориального государственного внебюджетного фонда | E5: суммы, подлежащие исключению в рамках консолидированного бюджета субъекта Российской Федерации и бюджета территориального государственного внебюджетного фонда | F5: консолидированный бюджет субъекта Российской Федерации | G5: суммы, подлежащие исключению в рамках консолидированного бюджета субъекта Российской Федерации | H5: бюджет субъекта Российской Федерации | I5: бюджеты внутригородских муниципальных образований городов федерального значения | J5: бюджеты муниципальных округов | K5: бюджеты городских округов | L5: бюджеты городских округов с внутригородским делением | M5: бюджеты внутригородских районов | N5: бюджеты муниципальных районов | O5: бюджеты городских поселений | P5: бюджеты сельских поселений | Q5: бюджет территориального государственного внебюджетного фонда | U5: консолидированный бюджет субъекта Российской Федерации и территориального государственного внебюджетного фонда | V5: суммы, подлежащие исключению в рамках консолидированного бюджета субъекта Российской Федерации и бюджета территориального государственного внебюджетного фонда | W5: консолидированный бюджет субъекта Российской Федерации | X5: суммы, подлежащие исключению в рамках консолидированного бюджета субъекта Российской Федерации | Y5: бюджет субъекта Российской Федерации | Z5: бюджеты внутригородских муниципальных образований городов федерального значения | AA5: бюджеты муниципальных округов | AB5: бюджеты городских округов | AC5: бюджеты городских округов с внутригородским делением | AD5: бюджеты внутригородских районов | AE5: бюджеты муниципальных районов | AF5: бюджеты городских поселений | AG5: бюджеты сельских поселений | AH5: бюджет территориального государственного внебюджетного фонда
A6: 1 | B6: 2 | C6: 3 | D6: 4 | E6: 5 | F6: 6 | G6: 7 | H6: 8 | I6: 9 | J6: 10 | K6: 11 | L6: 12 | M6: 13 | N6: 14 | O6: 15 | P6: 16 | Q6: 17 | R6: 1 | S6: 2 | T6: 3 | U6: 18 | V6: 19 | W6: 20 | X6: 21 | Y6: 22 | Z6: 23 | AA6: 24 | AB6: 25 | AC6: 26 | AD6: 27 | AE6: 28 | AF6: 29 | AG6: 30 | AH6: 31
A7: Источники финансирования дефицита бюджетов - всего | B7: 500 | C7: х | D7: 1.6141162e+10 | E7: - | F7: 1.4535585e+10 | G7: - | H7: 1.2120544e+10 | I7: - | J7: - | K7: 1.1295228e+09 | L7: - | M7: - | N7: 7.3259294e+08 | O7: 2.8458996e+08 | P7: 2.6833499e+08 | Q7: 1.6055775e+09 | R7: Источники финансирования дефицита бюджетов - всего | S7: 500 | T7: х | U7: -4.7754064e+09 | V7: - | W7: -3.3353546e+09 | X7: - | Y7: -4.8676059e+09 | Z7: - | AA7: - | AB7: 1.308191e+09 | AC7: - | AD7: - | AE7: 3.4411083e+08 | AF7: -12165064 | AG7: -1.0788549e+08 | AH7: -1.4400518e+09
A8: в том числе: | R8: в том числе:
A9: источники внутреннего финансирования | B9: 520 | C9: х | D9: 9.3408014e+09 | E9: - | F9: 9.3408014e+09 | G9: - | H9: 8041769200 | I9: - | J9: - | K9: 927252300 | L9: - | M9: - | N9: 2.4227706e+08 | O9: 119228783 | P9: 10274087 | Q9: - | R9: источники внутреннего финансирования | S9: 520 | T9: х | U9: 3.6795195e+09 | V9: - | W9: 3.6795195e+09 | X9: - | Y9: 2.2894104e+09 | Z9: - | AA9: - | AB9: 1180000000 | AC9: - | AD9: - | AE9: 162661000 | AF9: 46448100 | AG9: 1000000 | AH9: -
A10: из них: | R10: из них:
A11: Государственные (муниципальные) ценные бумаги, номинальная стоимость которых указана в валюте Российской Федерации | B11: 520 | C11: 000 0101000000 0000 000 | D11: -1500000000 | E11: - | F11: -1500000000 | G11: - | H11: -1500000000 | I11: - | J11: - | K11: - | L11: - | M11: - | N11: - | O11: - | P11: - | Q11: - | R11: Государственные (муниципальные) ценные бумаги, номинальная стоимость которых указана в валюте Российской Федерации | S11: 520 | T11: 000 0101000000 0000 000 | U11: - | V11: - | W11: - | X11: - | Y11: - | Z11: - | AA11: - | AB11: - | AC11: - | AD11: - | AE11: - | AF11: - | AG11: - | AH11: -
A12: Погашение государственных (муниципальных) ценных бумаг, номинальная стоимость которых указана в валюте Российской Федерации | B12: 520 | C12: 000 0101000000 0000 800 | D12: -1500000000 | E12: - | F12: -1500000000 | G12: - | H12: -1500000000 | I12: - | J12: - | K12: - | L12: - | M12: - | N12: - | O12: - | P12: - | Q12: - | R12: Погашение государственных (муниципальных) ценных бумаг, номинальная стоимость которых указана в валюте Российской Федерации | S12: 520 | T12: 000 0101000000 0000 800 | U12: - | V12: - | W12: - | X12: - | Y12: - | Z12: - | AA12: - | AB12: - | AC12: - | AD12: - | AE12: - | AF12: - | AG12: - | AH12: -
A13: Погашение государственных ценных бумаг субъектов Российской Федерации, номинальная стоимость которых указана в валюте Российской Федерации | B13: 520 | C13: 000 0101000002 0000 810 | D13: -1500000000 | E13: - | F13: -1500000000 | G13: - | H13: -1500000000 | I13: - | J13: - | K13: - | L13: - | M13: - | N13: - | O13: - | P13: - | Q13: - | R13: Погашение государственных ценных бумаг субъектов Российской Федерации, номинальная стоимость которых указана в валюте Российской Федерации | S13: 520 | T13: 000 0101000002 0000 810 | U13: - | V13: - | W13: - | X13: - | Y13: - | Z13: - | AA13: - | AB13: - | AC13: - | AD13: - | AE13: - | AF13: - | AG13: - | AH13: -
A14: Кредиты кредитных организаций в валюте Российской Федерации | B14: 520 | C14: 000 0102000000 0000 000 | D14: -4.1146912e+09 | E14: - | F14: -4.1146912e+09 | G14: - | H14: -5.6637219e+09 | I14: - | J14: - | K14: 709252300 | L14: - | M14: - | N14: 7.0362556e+08 | O14: 125728783 | P14: 10424087 | Q14: - | R14: Кредиты кредитных организаций в валюте Российской Федерации | S14: 520 | T14: 000 0102000000 0000 000 | U14: -1.0932546e+10 | V14: - | W14: -1.0932546e+10 | X14: - | Y14: -1.0922003e+10 | Z14: - | AA14: - | AB14: 192000000 | AC14: - | AD14: - | AE14: -176540800 | AF14: -26001900 | AG14: - | AH14: -
A15: Привлечение кредитов от кредитных организаций в валюте Российской Федерации | B15: 520 | C15: 000 0102000000 0000 700 | D15: 1.1380601e+10 | E15: - | F15: 1.1380601e+10 | G15: - | H15: 5.2582814e+09 | I15: - | J15: - | K15: 3061074400 | L15: - | M15: - | N15: 2.4269532e+09 | O15: 623867483 | P15: 10424087 | Q15: - | R15: Привлечение кредитов от кредитных организаций в валюте Российской Федерации | S15: 520 | T15: 000 0102000000 0000 700 | U15: 1722811800 | V15: - | W15: 1722811800 | X15: - | Y15: - | Z15: - | AA15: - | AB15: 950000000 | AC15: - | AD15: - | AE15: 723011800 | AF15: 49800000 | AG15: - | AH15: -
A16: Привлечение субъектами Российской Федерации кредитов от кредитных организаций в валюте Российской Федерации | B16: 520 | C16: 000 0102000002 0000 710 | D16: 5.2582814e+09 | E16: - | F16: 5.2582814e+09 | G16: - | H16: 5.2582814e+09 | I16: - | J16: - | K16: - | L16: - | M16: - | N16: - | O16: - | P16: - | Q16: - | R16: Привлечение субъектами Российской Федерации кредитов от кредитных организаций в валюте Российской Федерации | S16: 520 | T16: 000 0102000002 0000 710 | U16: - | V16: - | W16: - | X16: - | Y16: - | Z16: - | AA16: - | AB16: - | AC16: - | AD16: - | AE16: - | AF16: - | AG16: - | AH16: -
