Workbook

Sheet Итого по видам(с учет нераспр.)
A1: Сведения о предоставлении из бюджета Саратовской области межбюджетных трансфертов местным бюджетам
A2: за 2021 год
G3: тыс. рублей
A4: № п/п | B4: Наименование | C4: Код бюджетной классификации | D4: Закон Саратовской области «Об областном бюджете на 2021 год и на плановый период 2022 и 2023 годов» | F4: Исполнение | G4: % исполнения
D5: первоначальный бюджет (ред. 141-ЗСО от 01.12.2020) | E5: уточненный бюджет (ред. 154-ЗСО от 23.12.2021) + бюджетная роспись
A7: 1 | B7: 2 | C7: 3 | D7: 4 | E7: 5 | F7: 6 | G7: 7
A8: 1. | B8: Дотация - всего | D8: =SUM(D9:D14) -> 4288219.6 | E8: =SUM(E9:E14) -> 4343391.9 | F8: =SUM(F9:F14) -> 4343391.9 | G8: =F8/E8*100 -> 100
A9: 1.1. | B9: Дотация бюджетам городских округов области, связанные с особым режимом безопасного функционирования закрытых административно-территориальных образований | C9: 000 1402 6640150100 512 | D9: =Дотации!F94 -> 41928 | E9: =Дотации!G94 -> 41928 | F9: =Дотации!H94 -> 41928 | G9: =F9/E9*100 -> 100
A10: 1.2. | B10: Дотация на выравнивание бюджетной обеспеченности муниципальных районов (городских округов) области | C10: 000 1401 6640170200 511 | D10: =Дотации!J94 -> 3430574.3 | E10: =Дотации!K94 -> 3427282.1 | F10: =Дотации!L94 -> 3427282.1 | G10: =F10/E10*100 -> 100
A11: 1.3. | B11: Дотация на поддержку мер по обеспечению сбалансированности бюджетов | C11: 000 1402 6640170300 512 | D11: =Дотации!N94 -> 815717.3 | E11: =Дотации!O94 -> 382237.9 | F11: =Дотации!P94 -> 382237.9 | G11: =F11/E11*100 -> 100
A12: 1.4. | B12: Дотации бюджетам муниципальных районов области на обеспечение финансовой устойчивости местных бюджетов в условиях нестабильной ситуации, связанной с пандемией новой коронавирусной инфекции | C12: 000 1402 664017080К 512 | D12: =Дотации!R94 -> 0 | E12: =Дотации!S94 -> 375856.86 | F12: =Дотации!T94 -> 375856.86 | G12: =F12/E12*100 -> 100
A13: 1.5. | B13: Дотации бюджетам муниципальных районов и городских округов области на компенсацию дополнительных расходов на повышение оплаты труда некоторых категорий работников муниципальных учреждений в связи с увеличением минимального размера оплаты труда с 1 января 2021 года | C13: 000 1402 6640170700 512 | D13: =Дотации!V94 -> 0 | E13: =Дотации!W94 -> 103087 | F13: =Дотации!X94 -> 103087 | G13: =F13/E13*100 -> 100
A14: 1.6. | B14: Дотации бюджетам поселений области на премирование победителей Всероссийского конкурса «Лучшая муниципальная практика» | C14: 000 1402 9610053990 512 | D14: =Дотации!Z94 -> 0 | E14: =Дотации!AA94 -> 13000 | F14: =Дотации!AB94 -> 13000 | G14: =F14/E14*100 -> 100
A15: 2. | B15: Субсидии - всего | D15: =SUM(D16:D62) -> 7174871.4 | E15: =SUM(E16:E62) -> 11121007 | F15: =SUM(F16:F62) -> 10503428 | G15: =F15/E15*100 -> 94.446735
A16: 2.1. | B16: Субсидия бюджетам муниципальных районов области на создание в общеобразователь-ных организациях, расположенных в сельской местности и малых городах, условий для занятий физической культурой и спортом | C16: 000 0702 5A2E250970 521 | D16: =Субсидии!F400 -> 14916.7 | E16: =Субсидии!G400 -> 16624.9 | F16: =Субсидии!H400 -> 16624.86 | G16: =F16/E16*100 -> 99.999762
A17: 2.2. | B17: Субсидия бюджетам муниципальных районов и городских округов области на создание новых мест в общеобразовательных организациях | C17: 000 0702 5A2E155200 523 | D17: =Субсидии!J400 -> 366279.5 | E17: =Субсидии!K400 -> 340474.3 | F17: =Субсидии!L400 -> 243059.82 | G17: =F17/E17*100 -> 71.388594
A18: 2.3. | B18: Субсидия бюджетам муниципальных районов и городских округов области на обеспечение жильем молодых семей | C18: 000 1004 5E301R4970 521 | D18: =Субсидии!N400 -> 62391.5 | E18: =Субсидии!O400 -> 62391.5 | F18: =Субсидии!P400 -> 61247.931 | G18: =F18/E18*100 -> 98.167108
A19: 2.4. | B19: Субсидия бюджетам городских округов и поселений области на реализацию регионального проекта (программы) в целях выполнения задач федерального проекта «Жилье» (Стимулирование программ развития жилищного строительства) | C19: 000 1403 5E1F150210 523 | D19: =Субсидии!R400 -> 86883.7 | E19: =Субсидии!S400 -> 86883.7 | F19: =Субсидии!T400 -> 86883.663 | G19: =F19/E19*100 -> 99.999958
A20: 2.5. | B20: Субсидия бюджетам муниципальных районов и поселений области на поддержку творческой деятельности и укрепление материально-технической базы муниципальных театров в населенных пунктах с численностью населения до 300 тысяч человек | C20: 000 0801 55206R4660 521 | D20: =Субсидии!V400 -> 10058.4 | E20: =Субсидии!W400 -> 10058.4 | F20: =Субсидии!X400 -> 10058.4 | G20: =F20/E20*100 -> 100
A21: 2.6. | B21: Субсидия бюджетам муниципальных районов и поселений области на обеспечение развития и укрепления материально-технической базы домов культуры в населенных пунктах с числом жителей до 50 тысяч человек | C21: 000 0801 55A12R4670 521 | D21: =Субсидии!Z400 -> 40836.1 | E21: =Субсидии!AA400 -> 40836.1 | F21: =Субсидии!AB400 -> 40836.1 | G21: =F21/E21*100 -> 100
A22: 2.7. | B22: Субсидия бюджетам муниципальных районов и поселений области на поддержку отрасли культуры на государственную поддержку лучших сельских учреждений культуры | C22: 000 0703 55БA255192 523 000 0801 55БA255192 523 | D22: =Субсидии!AD400 -> 2689.39 | E22: =Субсидии!AE400 -> 2346.9389 | F22: =Субсидии!AF400 -> 2346.939 | G22: =F22/E22*100 -> 100.00001
A23: 2.8. | B23: Субсидия бюджетам муниципальных районов и поселений области на поддержку отрасли культуры на государственную поддержку лучших работников сельских учреждений культуры | C23: 000 0801 55БA255194 523 | D23: =Субсидии!AH400 -> 850 | E23: =Субсидии!AI400 -> 867.4 | F23: =Субсидии!AJ400 -> 867.4 | G23: =F23/E23*100 -> 100
A24: 2.9. | B24: Субсидия бюджетам муниципальных районов области на обеспечение деятельности муниципальных бизнес-инкубаторов | C24: 000 0412 5830171100 521 | D24: =Субсидии!AL400 -> 5300 | E24: =Субсидии!AM400 -> 5300 | F24: =Субсидии!AN400 -> 5300 | G24: =F24/E24*100 -> 100
A25: 2.10. | B25: Субсидия бюджетам городских округов, городских и сельских поселений области на реализацию инициативных проектов 3* | C25: 000 0113 6640572100 523 | D25: =Субсидии!AP400 -> 120000 | E25: =Субсидии!AQ400 -> 120000 | F25: =Субсидии!AR400 -> 118799.56 | G25: =F25/E25*100 -> 98.999637
A26: 2.11. | B26: Субсидия бюджетам городских округов и поселений области на поддержку муниципальных программ формирования современной городской среды | C26: 000 0503 691F255550 523 | D26: =Субсидии!AT400 -> 668801.7 | E26: =Субсидии!AU400 -> 707405 | F26: =Субсидии!AV400 -> 707405.04 | G26: =F26/E26*100 -> 100.00001
A27: 2.12. | B27: Субсидия бюджетам муниципальных районов и городских округов области на обеспечение сохранения достигнутых показателей повышения оплаты труда отдельных категорий работников бюджетной сферы на обеспечение сохранения достигнутых показателей повышения оплаты труда отдельных категорий работников бюджетной сферы | C27: 000 1403 6640172500 521 | D27: =Субсидии!AX400 -> 1052020.6 | E27: =Субсидии!AY400 -> 1052020.6 | F27: =Субсидии!AZ400 -> 1013317.2 | G27: =F27/E27*100 -> 96.321042
A28: 2.13. | B28: Субсидия бюджетам муниципальных районов и городских округов области на обеспечение сохранения достигнутых показателей повышения оплаты труда отдельных категорий работников бюджетной сферы на повышение оплаты труда отдельным категориям работников бюджетной сферы | C28: 000 1403 664017251Д 521 | D28: =Субсидии!BB400 -> 0 | E28: =Субсидии!BC400 -> 157762.5 | F28: =Субсидии!BD400 -> 130511.25 | G28: =F28/E28*100 -> 82.726408
A29: 2.14. | B29: Субсидия бюджетам муниципальных районов и городских округов области на создание дополнительных мест для детей в возрасте от 1,5 до 3 лет в образовательных организациях, осуществляющих образовательную деятельность по образовательным программам дошкольного образования | C29: 000 0701 5A1P252320 523 | D29: =Субсидии!BF400 -> 1014150.5 | E29: =Субсидии!BG400 -> 1014156.1 | F29: =Субсидии!BH400 -> 957879.62 | G29: =F29/E29*100 -> 94.450906
A30: 2.15. | B30: Субсидия бюджетам муниципальных районов и городских округов области на проведение капитального и текущего ремонтов муниципальных образовательных организаций | C30: 000 0701 5A10772Г00 521 | D30: =Субсидии!BJ400 -> 80000 | E30: =Субсидии!BK400 -> 0 | F30: =Субсидии!BL400 -> 0
A31: 2.16. | B31: Субсидия бюджетам муниципальных районов области на государственную поддержку отрасли культуры (создание и модернизация учреждений культурно-досугового типа в сельской местности) 2* | C31: 000 0801 55AA155197 523 | D31: =Субсидии!BN400 -> 30468 | E31: =Субсидии!BO400 -> 30468 | F31: =Субсидии!BP400 -> 30468 | G31: =F31/E31*100 -> 100
A32: 2.17. | B32: Субсидия бюджетам муниципальных районов, городских округов и поселений области на обеспечение мероприятий по переселению граждан из аварийного жилищного фонда, в том числе переселению граждан из аварийного жилищного фонда с учетом необходимости развития малоэтажного жилищного строительства (за счет средств Фонда содействия реформированию жилищно-коммунального хозяйства) | C32: 000 0501 5EAF367483 523 | D32: =Субсидии!BR400 -> 391347.6 | E32: =Субсидии!BS400 -> 2808406 | F32: =Субсидии!BT400 -> 2610707.7 | G32: =F32/E32*100 -> 92.96048
A33: 2.18. | B33: Субсидия бюджетам муниципальных районов, городских округов и поселений области на обеспечение мероприятий по переселению граждан из аварийного жилищного фонда, в том числе переселению граждан из аварийного жилищного фонда с учетом необходимости развития малоэтажного жилищного строительства (за счет средств областного бюджета) | C33: 000 0501 5EAF367484 523 | D33: =Субсидии!BV400 -> 7973.3 | E33: =Субсидии!BW400 -> 59092.6 | F33: =Субсидии!BX400 -> 54674.007 | G33: =F33/E33*100 -> 92.522594
A34: 2.19. | B34: Субсидия бюджетам муниципальных районов и городских округов области на обеспечение условий для создания центров образования цифрового и гуманитарного профиле | C34: 000 0702 5A2E1U1130 521 | D34: =Субсидии!BZ400 -> 181511.6 | E34: =Субсидии!CA400 -> 149771.9 | F34: =Субсидии!CB400 -> 143214.73 | G34: =F34/E34*100 -> 95.621898
A35: 2.20. | B35: Субсидия бюджетам городских округов и поселений области на реализацию мероприятий по строительству и реконструкции (модернизации) объектов питьевого водоснабжения | C35: 000 0502 5E8F552430 522 | D35: =Субсидии!CD400 -> 427354.35 | E35: =Субсидии!CE400 -> 378150.5 | F35: =Субсидии!CF400 -> 373834.21 | G35: =F35/E35*100 -> 98.858578
A36: 2.21. | B36: Субсидия бюджетам поселений области на реализацию мероприятий по сокращению доли загрязненных сточных вод | C36: 000 0602 5E8G650130 522 | D36: =Субсидии!CH400 -> 34078.7 | E36: =Субсидии!CI400 -> 34078.7 | F36: =Субсидии!CJ400 -> 34078.7 | G36: =F36/E36*100 -> 100
A37: 2.22. | B37: Субсидия бюджетам городских округов и поселений области на обустройство и восстановление воинских захоронений, находящихся в государственной (муниципальной) собственности | C37: 000 0503 66105R2990 521 | D37: =Субсидии!CL400 -> 16769.4 | E37: =Субсидии!CM400 -> 16769.4 | F37: =Субсидии!CN400 -> 16769.399 | G37: =F37/E37*100 -> 99.999995
A38: 2.23. | B38: Субсидия бюджетам городских округов области на осуществление дорожной деятельности в отношении автомобильных дорог общего пользования местного значения Саратовской агломерации в границах городских округов области в рамках достижения соответствующих задач национального проекта «Безопасные и качественные автомобильные дороги» за счет средств областного дорожного фонда | C38: 000 0409 5Ж2R1U7190 521 | D38: =Субсидии!CP400 -> 592800 | E38: =Субсидии!CQ400 -> 592800 | F38: =Субсидии!CR400 -> 471596.85 | G38: =F38/E38*100 -> 79.554124
A39: 2.24. | B39: Субсидия бюджетам муниципальных районов и поселений области на развитие инженерной инфраструктуры на сельских территориях (развитие водоснабжения (локальные водопроводы) на сельских территориях) | C39: 000 0502 70301R5765 522 | D39: =Субсидии!CT400 -> 82719.8 | E39: =Субсидии!CU400 -> 73743.2 | F39: =Субсидии!CV400 -> 73743.116 | G39: =F39/E39*100 -> 99.999886
A40: 2.25. | B40: Субсидия бюджетам поселений области на обустройство объектами инженерной инфраструктуры и благоустройство площадок, расположенных на сельских территориях, под компактную жилищную застройку | C40: 000 0505 70101R5762 522 | D40: =Субсидии!CX400 -> 65541.5 | E40: =Субсидии!CY400 -> 65541.5 | F40: =Субсидии!CZ400 -> 65541.531 | G40: =F40/E40*100 -> 100.00005
A41: 2.26. | B41: Субсидия бюджетам муниципальных районов области на реализацию мероприятий по благоустройству сельских территорий * | C41: 000 0503 70302R5766 521 | D41: =Субсидии!DB400 -> 24694.1 | E41: =Субсидии!DC400 -> 24694.1 | F41: =Субсидии!DD400 -> 24651.263 | G41: =F41/E41*100 -> 99.82653
...

Sheet Всего (с выдел. нераспред)
A1: Сведения о предоставленных из бюджета Саратовской области межбюджетных трансфертах бюджетам муниципальных образований за 2021 год
T2: тыс.рублей
A3: Наименование муниципальных образований | B3: Всего
F4: Дотации | J4: Субсидии | N4: Субвенции | R4: Иные межбюджетные трансферты
B6: первоначаль-ный бюджет* | C6: утвержденные бюджетные назначения 3* | D6: исполнено | E6: % исполнения | F6: первоначаль-ный бюджет* | G6: утвержденные бюджетные назначения 2* | H6: исполнено | I6: % исполнения | J6: первоначаль-ный бюджет* | K6: утвержденные бюджетные назначения 3* | L6: исполнено | M6: % исполнения | N6: первоначаль-ный бюджет* | O6: утвержденные бюджетные назначения 2* | P6: исполнено | Q6: % исполнения | R6: первоначаль-ный бюджет* | S6: утвержденные бюджетные назначения 3* | T6: исполнено | U6: % исполнения
A7: Муниципальные районы области (консолидированный) | B7: =F7+J7+N7+R7 -> 23456693 | C7: =G7+K7+O7+S7 -> 28473921 | D7: =H7+L7+P7+T7 -> 27919165 | E7: =D7/C7*100 -> 98.051704 | F7: =F10+F14+F23+F37+F52+F57+F75+F81+F98+F103+F115+F124+F138+F151+F162+F175+F188+F202+F206+F218+F227+F234+F247+F260+F274+F282+F292+F303+F313+F322+F331+F341+F355+F366+F375+F384+F397+F406 -> 4088568.1 | G7: =G10+G14+G23+G37+G52+G57+G75+G81+G98+G103+G115+G124+G138+G151+G162+G175+G188+G202+G206+G218+G227+G234+G247+G260+G274+G282+G292+G303+G313+G322+G331+G341+G355+G366+G375+G384+G397+G406 -> 4095728.6 | H7: =H10+H14+H23+H37+H52+H57+H75+H81+H98+H103+H115+H124+H138+H151+H162+H175+H188+H202+H206+H218+H227+H234+H247+H260+H274+H282+H292+H303+H313+H322+H331+H341+H355+H366+H375+H384+H397+H406 -> 4095728.6 | I7: =H7/G7*100 -> 100 | J7: =J10+J14+J23+J37+J52+J57+J75+J81+J98+J103+J115+J124+J138+J151+J162+J175+J188+J202+J206+J218+J227+J234+J247+J260+J274+J282+J292+J303+J313+J322+J331+J341+J355+J366+J375+J384+J397+J406 -> 3925981.9 | K7: =K10+K14+K23+K37+K52+K57+K75+K81+K98+K103+K115+K124+K138+K151+K162+K175+K188+K202+K206+K218+K227+K234+K247+K260+K274+K282+K292+K303+K313+K322+K331+K341+K355+K366+K375+K384+K397+K406 -> 4745242.6 | L7: =L10+L14+L23+L37+L52+L57+L75+L81+L98+L103+L115+L124+L138+L151+L162+L175+L188+L202+L206+L218+L227+L234+L247+L260+L274+L282+L292+L303+L313+L322+L331+L341+L355+L366+L375+L384+L397+L406 -> 4654703.8 | M7: =L7/K7*100 -> 98.09201 | N7: =N10+N14+N23+N37+N52+N57+N75+N81+N98+N103+N115+N124+N138+N151+N162+N175+N188+N202+N206+N218+N227+N234+N247+N260+N274+N282+N292+N303+N313+N322+N331+N341+N355+N366+N375+N384+N397+N406 -> 14610586 | O7: =O10+O14+O23+O37+O52+O57+O75+O81+O98+O103+O115+O124+O138+O151+O162+O175+O188+O202+O206+O218+O227+O234+O247+O260+O274+O282+O292+O303+O313+O322+O331+O341+O355+O366+O375+O384+O397+O406 -> 15947567 | P7: =P10+P14+P23+P37+P52+P57+P75+P81+P98+P103+P115+P124+P138+P151+P162+P175+P188+P202+P206+P218+P227+P234+P247+P260+P274+P282+P292+P303+P313+P322+P331+P341+P355+P366+P375+P384+P397+P406 -> 15818413 | Q7: =P7/O7*100 -> 99.190135 | R7: =R10+R14+R23+R37+R52+R57+R75+R81+R98+R103+R115+R124+R138+R151+R162+R175+R188+R202+R206+R218+R227+R234+R247+R260+R274+R282+R292+R303+R313+R322+R331+R341+R355+R366+R375+R384+R397+R406 -> 831556.3 | S7: =S10+S14+S23+S37+S52+S57+S75+S81+S98+S103+S115+S124+S138+S151+S162+S175+S188+S202+S206+S218+S227+S234+S247+S260+S274+S282+S292+S303+S313+S322+S331+S341+S355+S366+S375+S384+S397+S406 -> 3685383.7 | T7: =T10+T14+T23+T37+T52+T57+T75+T81+T98+T103+T115+T124+T138+T151+T162+T175+T188+T202+T206+T218+T227+T234+T247+T260+T274+T282+T292+T303+T313+T322+T331+T341+T355+T366+T375+T384+T397+T406 -> 3350320 | U7: =T7/S7*100 -> 90.908308
A8: Муниципальные районы области (собственный): | B8: =F8+J8+N8+R8 -> 21875210 | C8: =G8+K8+O8+S8 -> 25274046 | D8: =H8+L8+P8+T8 -> 24753821 | E8: =D8/C8*100 -> 97.941664 | F8: =F11+F15+F24+F38+F53+F58+F76+F82+F99+F104+F116+F125+F139+F152+F163+F176+F189+F203+F207+F219+F228+F235+F248+F261+F275+F283+F293+F304+F314+F323+F332+F342+F356+F367+F376+F385+F398+F407 -> 4088568.1 | G8: =G11+G15+G24+G38+G53+G58+G76+G82+G99+G104+G116+G125+G139+G152+G163+G176+G189+G203+G207+G219+G228+G235+G248+G261+G275+G283+G293+G304+G314+G323+G332+G342+G356+G367+G376+G385+G398+G407 -> 4082728.6 | H8: =H11+H15+H24+H38+H53+H58+H76+H82+H99+H104+H116+H125+H139+H152+H163+H176+H189+H203+H207+H219+H228+H235+H248+H261+H275+H283+H293+H304+H314+H323+H332+H342+H356+H367+H376+H385+H398+H407 -> 4082728.6 | I8: =H8/G8*100 -> 100 | J8: =J11+J15+J24+J38+J53+J58+J76+J82+J99+J104+J116+J125+J139+J152+J163+J176+J189+J203+J207+J219+J228+J235+J248+J261+J275+J283+J293+J304+J314+J323+J332+J342+J356+J367+J376+J385+J398+J407 -> 3086993.7 | K8: =K11+K15+K24+K38+K53+K58+K76+K82+K99+K104+K116+K125+K139+K152+K163+K176+K189+K203+K207+K219+K228+K235+K248+K261+K275+K283+K293+K304+K314+K323+K332+K342+K356+K367+K376+K385+K398+K407 -> 3574282.7 | L8: =L11+L15+L24+L38+L53+L58+L76+L82+L99+L104+L116+L125+L139+L152+L163+L176+L189+L203+L207+L219+L228+L235+L248+L261+L275+L283+L293+L304+L314+L323+L332+L342+L356+L367+L376+L385+L398+L407 -> 3493589.5 | M8: =L8/K8*100 -> 97.742395 | N8: =N11+N15+N24+N38+N53+N58+N76+N82+N99+N104+N116+N125+N139+N152+N163+N176+N189+N203+N207+N219+N228+N235+N248+N261+N275+N283+N293+N304+N314+N323+N332+N342+N356+N367+N376+N385+N398+N407 -> 14559522 | O8: =O11+O15+O24+O38+O53+O58+O76+O82+O99+O104+O116+O125+O139+O152+O163+O176+O189+O203+O207+O219+O228+O235+O248+O261+O275+O283+O293+O304+O314+O323+O332+O342+O356+O367+O376+O385+O398+O407 -> 15896502 | P8: =P11+P15+P24+P38+P53+P58+P76+P82+P99+P104+P116+P125+P139+P152+P163+P176+P189+P203+P207+P219+P228+P235+P248+P261+P275+P283+P293+P304+P314+P323+P332+P342+P356+P367+P376+P385+P398+P407 -> 15767482 | Q8: =P8/O8*100 -> 99.188379 | R8: =R11+R15+R24+R38+R53+R58+R76+R82+R99+R104+R116+R125+R139+R152+R163+R176+R189+R203+R207+R219+R228+R235+R248+R261+R275+R283+R293+R304+R314+R323+R332+R342+R356+R367+R376+R385+R398+R407 -> 140126.5 | S8: =S11+S15+S24+S38+S53+S58+S76+S82+S99+S104+S116+S125+S139+S152+S163+S176+S189+S203+S207+S219+S228+S235+S248+S261+S275+S283+S293+S304+S314+S323+S332+S342+S356+S367+S376+S385+S398+S407 -> 1720532.7 | T8: =T11+T15+T24+T38+T53+T58+T76+T82+T99+T104+T116+T125+T139+T152+T163+T176+T189+T203+T207+T219+T228+T235+T248+T261+T275+T283+T293+T304+T314+T323+T332+T342+T356+T367+T376+T385+T398+T407 -> 1410020.5 | U8: =T8/S8*100 -> 81.952553
A9: Поселения: | B9: =F9+J9+N9+R9 -> 1581482.8 | C9: =G9+K9+O9+S9 -> 3199875.7 | D9: =H9+L9+P9+T9 -> 3165344.2 | E9: =D9/C9*100 -> 98.920848 | G9: =SUM(G12:G13)+SUM(G16:G22)+SUM(G25:G36)+SUM(G39:G51)+SUM(G54:G56)+SUM(G59:G74)+SUM(G77:G80)+SUM(G83:G97)+SUM(G100:G102)+SUM(G105:G114)+SUM(G117:G123)+SUM(G126:G137)+SUM(G140:G150)+SUM(G153:G161)+SUM(G164:G174)+SUM(G177:G187)+SUM(G190:G201)+SUM(G204:G205)+SUM(G208:G217)+SUM(G220:G226)+SUM(G229:G233)+SUM(G236:G246)+SUM(G249:G259)+SUM(G262:G273)+SUM(G276:G281)+SUM(G284:G291)+SUM(G294:G302)+SUM(G305:G312)+SUM(G315:G321)+SUM(G324:G330)+SUM(G333:G340)+SUM(G343:G354)+SUM(G357:G365)+SUM(G368:G374)+SUM(G377:G383)+SUM(G386:G396)+SUM(G399:G405)+SUM(G408:G412) -> 13000 | H9: =SUM(H12:H13)+SUM(H16:H22)+SUM(H25:H36)+SUM(H39:H51)+SUM(H54:H56)+SUM(H59:H74)+SUM(H77:H80)+SUM(H83:H97)+SUM(H100:H102)+SUM(H105:H114)+SUM(H117:H123)+SUM(H126:H137)+SUM(H140:H150)+SUM(H153:H161)+SUM(H164:H174)+SUM(H177:H187)+SUM(H190:H201)+SUM(H204:H205)+SUM(H208:H217)+SUM(H220:H226)+SUM(H229:H233)+SUM(H236:H246)+SUM(H249:H259)+SUM(H262:H273)+SUM(H276:H281)+SUM(H284:H291)+SUM(H294:H302)+SUM(H305:H312)+SUM(H315:H321)+SUM(H324:H330)+SUM(H333:H340)+SUM(H343:H354)+SUM(H357:H365)+SUM(H368:H374)+SUM(H377:H383)+SUM(H386:H396)+SUM(H399:H405)+SUM(H408:H412) -> 13000 | I9: =H9/G9*100 -> 100 | J9: =SUM(J12:J13)+SUM(J16:J22)+SUM(J25:J36)+SUM(J39:J51)+SUM(J54:J56)+SUM(J59:J74)+SUM(J77:J80)+SUM(J83:J97)+SUM(J100:J102)+SUM(J105:J114)+SUM(J117:J123)+SUM(J126:J137)+SUM(J140:J150)+SUM(J153:J161)+SUM(J164:J174)+SUM(J177:J187)+SUM(J190:J201)+SUM(J204:J205)+SUM(J208:J217)+SUM(J220:J226)+SUM(J229:J233)+SUM(J236:J246)+SUM(J249:J259)+SUM(J262:J273)+SUM(J276:J281)+SUM(J284:J291)+SUM(J294:J302)+SUM(J305:J312)+SUM(J315:J321)+SUM(J324:J330)+SUM(J333:J340)+SUM(J343:J354)+SUM(J357:J365)+SUM(J368:J374)+SUM(J377:J383)+SUM(J386:J396)+SUM(J399:J405)+SUM(J408:J412) -> 838988.13 | K9: =SUM(K12:K13)+SUM(K16:K22)+SUM(K25:K36)+SUM(K39:K51)+SUM(K54:K56)+SUM(K59:K74)+SUM(K77:K80)+SUM(K83:K97)+SUM(K100:K102)+SUM(K105:K114)+SUM(K117:K123)+SUM(K126:K137)+SUM(K140:K150)+SUM(K153:K161)+SUM(K164:K174)+SUM(K177:K187)+SUM(K190:K201)+SUM(K204:K205)+SUM(K208:K217)+SUM(K220:K226)+SUM(K229:K233)+SUM(K236:K246)+SUM(K249:K259)+SUM(K262:K273)+SUM(K276:K281)+SUM(K284:K291)+SUM(K294:K302)+SUM(K305:K312)+SUM(K315:K321)+SUM(K324:K330)+SUM(K333:K340)+SUM(K343:K354)+SUM(K357:K365)+SUM(K368:K374)+SUM(K377:K383)+SUM(K386:K396)+SUM(K399:K405)+SUM(K408:K412) -> 1170959.9 | L9: =SUM(L12:L13)+SUM(L16:L22)+SUM(L25:L36)+SUM(L39:L51)+SUM(L54:L56)+SUM(L59:L74)+SUM(L77:L80)+SUM(L83:L97)+SUM(L100:L102)+SUM(L105:L114)+SUM(L117:L123)+SUM(L126:L137)+SUM(L140:L150)+SUM(L153:L161)+SUM(L164:L174)+SUM(L177:L187)+SUM(L190:L201)+SUM(L204:L205)+SUM(L208:L217)+SUM(L220:L226)+SUM(L229:L233)+SUM(L236:L246)+SUM(L249:L259)+SUM(L262:L273)+SUM(L276:L281)+SUM(L284:L291)+SUM(L294:L302)+SUM(L305:L312)+SUM(L315:L321)+SUM(L324:L330)+SUM(L333:L340)+SUM(L343:L354)+SUM(L357:L365)+SUM(L368:L374)+SUM(L377:L383)+SUM(L386:L396)+SUM(L399:L405)+SUM(L408:L412) -> 1161114.3 | M9: =L9/K9*100 -> 99.159188 | N9: =SUM(N12:N13)+SUM(N16:N22)+SUM(N25:N36)+SUM(N39:N51)+SUM(N54:N56)+SUM(N59:N74)+SUM(N77:N80)+SUM(N83:N97)+SUM(N100:N102)+SUM(N105:N114)+SUM(N117:N123)+SUM(N126:N137)+SUM(N140:N150)+SUM(N153:N161)+SUM(N164:N174)+SUM(N177:N187)+SUM(N190:N201)+SUM(N204:N205)+SUM(N208:N217)+SUM(N220:N226)+SUM(N229:N233)+SUM(N236:N246)+SUM(N249:N259)+SUM(N262:N273)+SUM(N276:N281)+SUM(N284:N291)+SUM(N294:N302)+SUM(N305:N312)+SUM(N315:N321)+SUM(N324:N330)+SUM(N333:N340)+SUM(N343:N354)+SUM(N357:N365)+SUM(N368:N374)+SUM(N377:N383)+SUM(N386:N396)+SUM(N399:N405)+SUM(N408:N412) -> 51064.9 | O9: =SUM(O12:O13)+SUM(O16:O22)+SUM(O25:O36)+SUM(O39:O51)+SUM(O54:O56)+SUM(O59:O74)+SUM(O77:O80)+SUM(O83:O97)+SUM(O100:O102)+SUM(O105:O114)+SUM(O117:O123)+SUM(O126:O137)+SUM(O140:O150)+SUM(O153:O161)+SUM(O164:O174)+SUM(O177:O187)+SUM(O190:O201)+SUM(O204:O205)+SUM(O208:O217)+SUM(O220:O226)+SUM(O229:O233)+SUM(O236:O246)+SUM(O249:O259)+SUM(O262:O273)+SUM(O276:O281)+SUM(O284:O291)+SUM(O294:O302)+SUM(O305:O312)+SUM(O315:O321)+SUM(O324:O330)+SUM(O333:O340)+SUM(O343:O354)+SUM(O357:O365)+SUM(O368:O374)+SUM(O377:O383)+SUM(O386:O396)+SUM(O399:O405)+SUM(O408:O412) -> 51064.9 | P9: =SUM(P12:P13)+SUM(P16:P22)+SUM(P25:P36)+SUM(P39:P51)+SUM(P54:P56)+SUM(P59:P74)+SUM(P77:P80)+SUM(P83:P97)+SUM(P100:P102)+SUM(P105:P114)+SUM(P117:P123)+SUM(P126:P137)+SUM(P140:P150)+SUM(P153:P161)+SUM(P164:P174)+SUM(P177:P187)+SUM(P190:P201)+SUM(P204:P205)+SUM(P208:P217)+SUM(P220:P226)+SUM(P229:P233)+SUM(P236:P246)+SUM(P249:P259)+SUM(P262:P273)+SUM(P276:P281)+SUM(P284:P291)+SUM(P294:P302)+SUM(P305:P312)+SUM(P315:P321)+SUM(P324:P330)+SUM(P333:P340)+SUM(P343:P354)+SUM(P357:P365)+SUM(P368:P374)+SUM(P377:P383)+SUM(P386:P396)+SUM(P399:P405)+SUM(P408:P412) -> 50930.461 | Q9: =P9/O9*100 -> 99.73673 | R9: =SUM(R12:R13)+SUM(R16:R22)+SUM(R25:R36)+SUM(R39:R51)+SUM(R54:R56)+SUM(R59:R74)+SUM(R77:R80)+SUM(R83:R97)+SUM(R100:R102)+SUM(R105:R114)+SUM(R117:R123)+SUM(R126:R137)+SUM(R140:R150)+SUM(R153:R161)+SUM(R164:R174)+SUM(R177:R187)+SUM(R190:R201)+SUM(R204:R205)+SUM(R208:R217)+SUM(R220:R226)+SUM(R229:R233)+SUM(R236:R246)+SUM(R249:R259)+SUM(R262:R273)+SUM(R276:R281)+SUM(R284:R291)+SUM(R294:R302)+SUM(R305:R312)+SUM(R315:R321)+SUM(R324:R330)+SUM(R333:R340)+SUM(R343:R354)+SUM(R357:R365)+SUM(R368:R374)+SUM(R377:R383)+SUM(R386:R396)+SUM(R399:R405)+SUM(R408:R412) -> 691429.8 | S9: =SUM(S12:S13)+SUM(S16:S22)+SUM(S25:S36)+SUM(S39:S51)+SUM(S54:S56)+SUM(S59:S74)+SUM(S77:S80)+SUM(S83:S97)+SUM(S100:S102)+SUM(S105:S114)+SUM(S117:S123)+SUM(S126:S137)+SUM(S140:S150)+SUM(S153:S161)+SUM(S164:S174)+SUM(S177:S187)+SUM(S190:S201)+SUM(S204:S205)+SUM(S208:S217)+SUM(S220:S226)+SUM(S229:S233)+SUM(S236:S246)+SUM(S249:S259)+SUM(S262:S273)+SUM(S276:S281)+SUM(S284:S291)+SUM(S294:S302)+SUM(S305:S312)+SUM(S315:S321)+SUM(S324:S330)+SUM(S333:S340)+SUM(S343:S354)+SUM(S357:S365)+SUM(S368:S374)+SUM(S377:S383)+SUM(S386:S396)+SUM(S399:S405)+SUM(S408:S412) -> 1964851 | T9: =SUM(T12:T13)+SUM(T16:T22)+SUM(T25:T36)+SUM(T39:T51)+SUM(T54:T56)+SUM(T59:T74)+SUM(T77:T80)+SUM(T83:T97)+SUM(T100:T102)+SUM(T105:T114)+SUM(T117:T123)+SUM(T126:T137)+SUM(T140:T150)+SUM(T153:T161)+SUM(T164:T174)+SUM(T177:T187)+SUM(T190:T201)+SUM(T204:T205)+SUM(T208:T217)+SUM(T220:T226)+SUM(T229:T233)+SUM(T236:T246)+SUM(T249:T259)+SUM(T262:T273)+SUM(T276:T281)+SUM(T284:T291)+SUM(T294:T302)+SUM(T305:T312)+SUM(T315:T321)+SUM(T324:T330)+SUM(T333:T340)+SUM(T343:T354)+SUM(T357:T365)+SUM(T368:T374)+SUM(T377:T383)+SUM(T386:T396)+SUM(T399:T405)+SUM(T408:T412) -> 1940299.5 | U9: =T9/S9*100 -> 98.750464
A10: Александрово-Гайский район (консолидированный) | B10: =F10+J10+N10+R10 -> 439797.33 | C10: =G10+K10+O10+S10 -> 528097.9 | D10: =H10+L10+P10+T10 -> 523050.03 | E10: =D10/C10*100 -> 99.044141 | F10: =F11+F12+F13 -> 133386.3 | G10: =G11+G12+G13 -> 118907.47 | H10: =H11+H12+H13 -> 118907.47 | I10: =H10/G10*100 -> 100 | J10: =J11+J12+J13 -> 136198.43 | K10: =K11+K12+K13 -> 164690.75 | L10: =L11+L12+L13 -> 163455.27 | M10: =L10/K10*100 -> 99.249819 | N10: =N11+N12+N13 -> 165713.8 | O10: =O11+O12+O13 -> 214245.4 | P10: =P11+P12+P13 -> 211358.05 | Q10: =P10/O10*100 -> 98.652318 | R10: =R11+R12+R13 -> 4498.8 | S10: =S11+S12+S13 -> 30254.282 | T10: =T11+T12+T13 -> 29329.237 | U10: =T10/S10*100 -> 96.942433
A11: Александрово-Гайский район (собственный) | B11: =F11+J11+N11+R11 -> 437859.73 | C11: =G11+K11+O11+S11 -> 521956.48 | D11: =H11+L11+P11+T11 -> 516985.4 | E11: =D11/C11*100 -> 99.047607 | F11: =Дотации!B11 -> 133386.3 | G11: =Дотации!C11 -> 118907.47 | H11: =Дотации!D11 -> 118907.47 | I11: =H11/G11*100 -> 100 | J11: =Субсидии!B12 -> 135156.53 | K11: =Субсидии!C12 -> 159625.83 | L11: =Субсидии!D12 -> 158390.35 | M11: =L11/K11*100 -> 99.226014 | N11: ='Субвенции '!B14 -> 164818.1 | O11: ='Субвенции '!C14 -> 213349.7 | P11: ='Субвенции '!D14 -> 210462.35 | Q11: =P11/O11*100 -> 98.64666 | R11: =Иные!B12 -> 4498.8 | S11: =Иные!C12 -> 30073.482 | T11: =Иные!D12 -> 29225.232 | U11: =T11/S11*100 -> 97.179409
A12: Александрово-Гайское МО | B12: =F12+J12+N12+R12 -> 1832.2 | C12: =G12+K12+O12+S12 -> 3879.087 | D12: =H12+L12+P12+T12 -> 3879.0903 | E12: =D12/C12*100 -> 100.00009 | J12: =Субсидии!B13 -> 1041.9 | K12: =Субсидии!C13 -> 3088.787 | L12: =Субсидии!D13 -> 3088.7903 | M12: =L12/K12*100 -> 100.00011 | N12: ='Субвенции '!B15 -> 790.3 | O12: ='Субвенции '!C15 -> 790.3 | P12: ='Субвенции '!D15 -> 790.3 | Q12: =P12/O12*100 -> 100
A13: Новоалександровское МО | B13: =F13+J13+N13+R13 -> 105.4 | C13: =G13+K13+O13+S13 -> 2262.33 | D13: =H13+L13+P13+T13 -> 2185.535 | E13: =D13/C13*100 -> 96.60549 | J13: =Субсидии!B14 -> 0 | K13: =Субсидии!C14 -> 1976.13 | L13: =Субсидии!D14 -> 1976.13 | M13: =L13/K13*100 -> 100 | N13: ='Субвенции '!B16 -> 105.4 | O13: ='Субвенции '!C16 -> 105.4 | P13: ='Субвенции '!D16 -> 105.4 | Q13: =P13/O13*100 -> 100 | R13: =Иные!B14 -> 0 | S13: =Иные!C14 -> 180.8 | T13: =Иные!D14 -> 104.00498 | U13: =T13/S13*100 -> 57.524878
A14: Аркадакский район (консолидированный) | B14: =F14+J14+N14+R14 -> 336448.5 | C14: =G14+K14+O14+S14 -> 614769.48 | D14: =H14+L14+P14+T14 -> 610918.15 | E14: =D14/C14*100 -> 99.373531 | F14: =SUM(F15:F22) -> 81918.3 | G14: =SUM(G15:G22) -> 83149.1 | H14: =SUM(H15:H22) -> 83149.1 | I14: =H14/G14*100 -> 100 | J14: =SUM(J15:J22) -> 40140.5 | K14: =SUM(K15:K22) -> 38343.684 | L14: =SUM(L15:L22) -> 37946.04 | M14: =L14/K14*100 -> 98.962946 | N14: =SUM(N15:N22) -> 213808.3 | O14: =SUM(O15:O22) -> 287010 | P14: =SUM(P15:P22) -> 283824.01 | Q14: =P14/O14*100 -> 98.889939 | R14: =SUM(R15:R22) -> 581.4 | S14: =SUM(S15:S22) -> 206266.7 | T14: =SUM(T15:T22) -> 205998.99 | U14: =T14/S14*100 -> 99.870213
A15: Аркадакский район (собственный) | B15: =F15+J15+N15+R15 -> 332800.5 | C15: =G15+K15+O15+S15 -> 575313.78 | D15: =H15+L15+P15+T15 -> 571632.62 | E15: =D15/C15*100 -> 99.360148 | F15: =Дотации!B13 -> 81918.3 | G15: =Дотации!C13 -> 83149.1 | H15: =Дотации!D13 -> 83149.1 | I15: =H15/G15*100 -> 100 | J15: =Субсидии!B16 -> 37757.3 | K15: =Субсидии!C16 -> 34901.484 | L15: =Субсидии!D16 -> 34503.84 | M15: =L15/K15*100 -> 98.860666 | N15: ='Субвенции '!B18 -> 212543.5 | O15: ='Субвенции '!C18 -> 285745.2 | P15: ='Субвенции '!D18 -> 282559.21 | Q15: =P15/O15*100 -> 98.885025 | R15: =Иные!B16 -> 581.4 | S15: =Иные!C16 -> 171518 | T15: =Иные!D16 -> 171420.47 | U15: =T15/S15*100 -> 99.943138
A16: город Аркадак | B16: =F16+J16+N16+R16 -> 3085.8 | C16: =G16+K16+O16+S16 -> 37085.8 | D16: =H16+L16+P16+T16 -> 36915.621 | E16: =D16/C16*100 -> 99.541121 | J16: =Субсидии!B17 -> 2383.2 | K16: =Субсидии!C17 -> 2383.2 | L16: =Субсидии!D17 -> 2383.2 | M16: =L16/K16*100 -> 100 | N16: ='Субвенции '!B19 -> 702.6 | O16: ='Субвенции '!C19 -> 702.6 | P16: ='Субвенции '!D19 -> 702.6 | Q16: =P16/O16*100 -> 100 | R16: =Иные!B17 -> 0 | S16: =Иные!C17 -> 34000 | T16: =Иные!D17 -> 33829.821 | U16: =T16/S16*100 -> 99.499473
A17: Большежуравское МО | B17: =F17+J17+N17+R17 -> 93.7 | C17: =G17+K17+O17+S17 -> 166.1 | D17: =H17+L17+P17+T17 -> 166.1 | E17: =D17/C17*100 -> 100 | J17: =Субсидии!B18 -> 0 | K17: =Субсидии!C18 -> 0 | L17: =Субсидии!D18 -> 0 | N17: ='Субвенции '!B20 -> 93.7 | O17: ='Субвенции '!C20 -> 93.7 | P17: ='Субвенции '!D20 -> 93.7 | Q17: =P17/O17*100 -> 100 | R17: =Иные!B18 -> 0 | S17: =Иные!C18 -> 72.4 | T17: =Иные!D18 -> 72.4 | U17: =T17/S17*100 -> 100
A18: Краснознаменское МО | B18: =F18+J18+N18+R18 -> 93.7 | C18: =G18+K18+O18+S18 -> 911 | D18: =H18+L18+P18+T18 -> 911 | E18: =D18/C18*100 -> 100 | J18: =Субсидии!B19 -> 0 | K18: =Субсидии!C19 -> 700 | L18: =Субсидии!D19 -> 700 | M18: =L18/K18*100 -> 100 | N18: ='Субвенции '!B21 -> 93.7 | O18: ='Субвенции '!C21 -> 93.7 | P18: ='Субвенции '!D21 -> 93.7 | Q18: =P18/O18*100 -> 100 | R18: =Иные!B19 -> 0 | S18: =Иные!C19 -> 117.3 | T18: =Иные!D19 -> 117.3 | U18: =T18/S18*100 -> 100
A19: Львовское МО | B19: =F19+J19+N19+R19 -> 93.7 | C19: =G19+K19+O19+S19 -> 411 | D19: =H19+L19+P19+T19 -> 411 | E19: =D19/C19*100 -> 100 | J19: =Субсидии!B20 -> 0 | K19: =Субсидии!C20 -> 200 | L19: =Субсидии!D20 -> 200 | M19: =L19/K19*100 -> 100 | N19: ='Субвенции '!B22 -> 93.7 | O19: ='Субвенции '!C22 -> 93.7 | P19: ='Субвенции '!D22 -> 93.7 | Q19: =P19/O19*100 -> 100 | R19: =Иные!B20 -> 0 | S19: =Иные!C20 -> 117.3 | T19: =Иные!D20 -> 117.3 | U19: =T19/S19*100 -> 100
A20: Малиновское МО | B20: =F20+J20+N20+R20 -> 93.7 | C20: =G20+K20+O20+S20 -> 370 | D20: =H20+L20+P20+T20 -> 370 | E20: =D20/C20*100 -> 100 | J20: =Субсидии!B21 -> 0 | K20: =Субсидии!C21 -> 159 | L20: =Субсидии!D21 -> 159 | M20: =L20/K20*100 -> 100 | N20: ='Субвенции '!B23 -> 93.7 | O20: ='Субвенции '!C23 -> 93.7 | P20: ='Субвенции '!D23 -> 93.7 | Q20: =P20/O20*100 -> 100 | R20: =Иные!B21 -> 0 | S20: =Иные!C21 -> 117.3 | T20: =Иные!D21 -> 117.3 | U20: =T20/S20*100 -> 100
A21: Росташовское МО | B21: =F21+J21+N21+R21 -> 93.7 | C21: =G21+K21+O21+S21 -> 300.8 | D21: =H21+L21+P21+T21 -> 300.8 | E21: =D21/C21*100 -> 100 | J21: =Субсидии!B22 -> 0 | K21: =Субсидии!C22 -> 0 | L21: =Субсидии!D22 -> 0 | N21: ='Субвенции '!B24 -> 93.7 | O21: ='Субвенции '!C24 -> 93.7 | P21: ='Субвенции '!D24 -> 93.7 | Q21: =P21/O21*100 -> 100 | R21: =Иные!B22 -> 0 | S21: =Иные!C22 -> 207.1 | T21: =Иные!D22 -> 207.1 | U21: =T21/S21*100 -> 100
A22: Семеновское МО | B22: =F22+J22+N22+R22 -> 93.7 | C22: =G22+K22+O22+S22 -> 211 | D22: =H22+L22+P22+T22 -> 211 | E22: =D22/C22*100 -> 100 | J22: =Субсидии!B23 -> 0 | K22: =Субсидии!C23 -> 0 | L22: =Субсидии!D23 -> 0 | N22: ='Субвенции '!B25 -> 93.7 | O22: ='Субвенции '!C25 -> 93.7 | P22: ='Субвенции '!D25 -> 93.7 | Q22: =P22/O22*100 -> 100 | R22: =Иные!B23 -> 0 | S22: =Иные!C23 -> 117.3 | T22: =Иные!D23 -> 117.3 | U22: =T22/S22*100 -> 100
A23: Аткарский район (консолидированный) | B23: =F23+J23+N23+R23 -> 587617.33 | C23: =G23+K23+O23+S23 -> 680296.12 | D23: =H23+L23+P23+T23 -> 676728.52 | E23: =D23/C23*100 -> 99.475582 | F23: =SUM(F24:F36) -> 126936 | G23: =SUM(G24:G36) -> 138177.2 | H23: =SUM(H24:H36) -> 138177.2 | I23: =H23/G23*100 -> 100 | J23: =SUM(J24:J36) -> 66067.43 | K23: =SUM(K24:K36) -> 55343.268 | L23: =SUM(L24:L36) -> 54813.092 | M23: =L23/K23*100 -> 99.042023 | N23: =SUM(N24:N36) -> 393898.4 | O23: =SUM(O24:O36) -> 421165.9 | P23: =SUM(P24:P36) -> 418128.48 | Q23: =P23/O23*100 -> 99.278806 | R23: =SUM(R24:R36) -> 715.5 | S23: =SUM(S24:S36) -> 65609.752 | T23: =SUM(T24:T36) -> 65609.752 | U23: =T23/S23*100 -> 100
A24: Аткарский район (собственный) | B24: =F24+J24+N24+R24 -> 582257.33 | C24: =G24+K24+O24+S24 -> 607866.88 | D24: =H24+L24+P24+T24 -> 604299.33 | E24: =D24/C24*100 -> 99.413104 | F24: =Дотации!B15 -> 126936 | G24: =Дотации!C15 -> 128177.2 | H24: =Дотации!D15 -> 128177.2 | I24: =H24/G24*100 -> 100 | J24: =Субсидии!B25 -> 62721.73 | K24: =Субсидии!C25 -> 48048.318 | L24: =Субсидии!D25 -> 47518.192 | M24: =L24/K24*100 -> 98.896682 | N24: ='Субвенции '!B27 -> 391884.1 | O24: ='Субвенции '!C27 -> 419151.6 | P24: ='Субвенции '!D27 -> 416114.18 | Q24: =P24/O24*100 -> 99.27534 | R24: =Иные!B25 -> 715.5 | S24: =Иные!C25 -> 12489.76 | T24: =Иные!D25 -> 12489.76 | U24: =T24/S24*100 -> 100
A25: город Аткарск | B25: =F25+J25+N25+R25 -> 4516.8 | C25: =G25+K25+O25+S25 -> 66670.192 | D25: =H25+L25+P25+T25 -> 66670.142 | E25: =D25/C25*100 -> 99.999925 | F25: =Дотации!B16 -> 0 | G25: =Дотации!C16 -> 10000 | H25: =Дотации!D16 -> 10000 | I25: =H25/G25*100 -> 100 | J25: =Субсидии!B26 -> 3345.7 | K25: =Субсидии!C26 -> 3345.7 | L25: =Субсидии!D26 -> 3345.65 | M25: =L25/K25*100 -> 99.998506 | N25: ='Субвенции '!B28 -> 1171.1 | O25: ='Субвенции '!C28 -> 1171.1 | P25: ='Субвенции '!D28 -> 1171.1 | R25: =Иные!B26 -> 0 | S25: =Иные!C26 -> 52153.392 | T25: =Иные!D26 -> 52153.392
A26: Барановское МО | B26: =F26+J26+N26+R26 -> 93.7 | C26: =G26+K26+O26+S26 -> 586.2 | D26: =H26+L26+P26+T26 -> 586.2192 | E26: =D26/C26*100 -> 100.00328 | J26: =Субсидии!B27 -> 0 | K26: =Субсидии!C27 -> 331.4 | L26: =Субсидии!D27 -> 331.4192 | M26: =L26/K26*100 -> 100.00579 | N26: ='Субвенции '!B29 -> 93.7 | O26: ='Субвенции '!C29 -> 93.7 | P26: ='Субвенции '!D29 -> 93.7 | Q26: =P26/O26*100 -> 100 | R26: =Иные!B27 -> 0 | S26: =Иные!C27 -> 161.1 | T26: =Иные!D27 -> 161.1 | U26: =T26/S26*100 -> 100
A27: Большеекатериновское МО | B27: =F27+J27+N27+R27 -> 0 | C27: =G27+K27+O27+S27 -> 0 | D27: =H27+L27+P27+T27 -> 0 | J27: =Субсидии!B28 -> 0 | K27: =Субсидии!C28 -> 0 | L27: =Субсидии!D28 -> 0 | N27: ='Субвенции '!B30 -> 0 | O27: ='Субвенции '!C30 -> 0 | P27: ='Субвенции '!D30 -> 0
A28: Даниловское МО | B28: =F28+J28+N28+R28 -> 234.2 | C28: =G28+K28+O28+S28 -> 1395.3 | D28: =H28+L28+P28+T28 -> 1395.3 | E28: =D28/C28*100 -> 100 | J28: =Субсидии!B29 -> 0 | K28: =Субсидии!C29 -> 1000 | L28: =Субсидии!D29 -> 1000 | M28: =L28/K28*100 -> 100 | N28: ='Субвенции '!B31 -> 234.2 | O28: ='Субвенции '!C31 -> 234.2 | P28: ='Субвенции '!D31 -> 234.2 | Q28: =P28/O28*100 -> 100 | R28: =Иные!B28 -> 0 | S28: =Иные!C28 -> 161.1 | T28: =Иные!D28 -> 161.1 | U28: =T28/S28*100 -> 100
A29: Ершовское МО | B29: =F29+J29+N29+R29 -> 93.7 | C29: =G29+K29+O29+S29 -> 1131.7 | D29: =H29+L29+P29+T29 -> 1131.6808 | E29: =D29/C29*100 -> 99.998303 | J29: =Субсидии!B30 -> 0 | K29: =Субсидии!C30 -> 876.9 | L29: =Субсидии!D30 -> 876.8808 | M29: =L29/K29*100 -> 99.99781 | N29: ='Субвенции '!B32 -> 93.7 | O29: ='Субвенции '!C32 -> 93.7 | P29: ='Субвенции '!D32 -> 93.7 | Q29: =P29/O29*100 -> 100 | R29: =Иные!B29 -> 0 | S29: =Иные!C29 -> 161.1 | T29: =Иные!D29 -> 161.1 | U29: =T29/S29*100 -> 100
A30: Кочетовское МО | B30: =F30+J30+N30+R30 -> 234.2 | C30: =G30+K30+O30+S30 -> 1338.824 | D30: =H30+L30+P30+T30 -> 1338.824 | E30: =D30/C30*100 -> 100 | J30: =Субсидии!B31 -> 0 | K30: =Субсидии!C31 -> 943.524 | L30: =Субсидии!D31 -> 943.524 | M30: =L30/K30*100 -> 100 | N30: ='Субвенции '!B33 -> 234.2 | O30: ='Субвенции '!C33 -> 234.2 | P30: ='Субвенции '!D33 -> 234.2 | Q30: =P30/O30*100 -> 100 | R30: =Иные!B30 -> 0 | S30: =Иные!C30 -> 161.1 | T30: =Иные!D30 -> 161.1 | U30: =T30/S30*100 -> 100
A31: Лопуховское МО | B31: =F31+J31+N31+R31 -> 93.7 | C31: =G31+K31+O31+S31 -> 254.8 | D31: =H31+L31+P31+T31 -> 254.8 | E31: =D31/C31*100 -> 100 | J31: =Субсидии!B32 -> 0 | K31: =Субсидии!C32 -> 0 | L31: =Субсидии!D32 -> 0 | N31: ='Субвенции '!B34 -> 93.7 | O31: ='Субвенции '!C34 -> 93.7 | P31: ='Субвенции '!D34 -> 93.7 | Q31: =P31/O31*100 -> 100 | R31: =Иные!B31 -> 0 | S31: =Иные!C31 -> 161.1 | T31: =Иные!D31 -> 161.1 | U31: =T31/S31*100 -> 100
A32: Озерное МО | B32: =F32+J32+N32+R32 -> 93.7 | C32: =G32+K32+O32+S32 -> 1052.226 | D32: =H32+L32+P32+T32 -> 1052.226 | E32: =D32/C32*100 -> 100 | J32: =Субсидии!B33 -> 0 | K32: =Субсидии!C33 -> 797.426 | L32: =Субсидии!D33 -> 797.426 | M32: =L32/K32*100 -> 100 | N32: ='Субвенции '!B35 -> 93.7 | O32: ='Субвенции '!C35 -> 93.7 | P32: ='Субвенции '!D35 -> 93.7 | Q32: =P32/O32*100 -> 100 | R32: =Иные!B32 -> 0 | S32: =Иные!C32 -> 161.1 | T32: =Иные!D32 -> 161.1 | U32: =T32/S32*100 -> 100
A33: Песчанское МО | B33: =F33+J33+N33+R33 -> 0 | C33: =G33+K33+O33+S33 -> 0 | D33: =H33+L33+P33+T33 -> 0 | J33: =Субсидии!B34 -> 0 | K33: =Субсидии!C34 -> 0 | L33: =Субсидии!D34 -> 0 | N33: ='Субвенции '!B36 -> 0 | O33: ='Субвенции '!C36 -> 0 | P33: ='Субвенции '!D36 -> 0
A34: Петровское МО | B34: =F34+J34+N34+R34 -> 0 | C34: =G34+K34+O34+S34 -> 0 | D34: =H34+L34+P34+T34 -> 0 | J34: =Субсидии!B35 -> 0 | K34: =Субсидии!C35 -> 0 | L34: =Субсидии!D35 -> 0 | N34: ='Субвенции '!B37 -> 0 | O34: ='Субвенции '!C37 -> 0 | P34: ='Субвенции '!D37 -> 0
A35: Тургеневское МО | B35: =F35+J35+N35+R35 -> 0 | C35: =G35+K35+O35+S35 -> 0 | D35: =H35+L35+P35+T35 -> 0 | J35: =Субсидии!B36 -> 0 | K35: =Субсидии!C36 -> 0 | L35: =Субсидии!D36 -> 0 | N35: ='Субвенции '!B38 -> 0 | O35: ='Субвенции '!C38 -> 0 | P35: ='Субвенции '!D38 -> 0
A36: Языковское МО | B36: =F36+J36+N36+R36 -> 0 | C36: =G36+K36+O36+S36 -> 0 | D36: =H36+L36+P36+T36 -> 0 | J36: =Субсидии!B37 -> 0 | K36: =Субсидии!C37 -> 0 | L36: =Субсидии!D37 -> 0 | N36: ='Субвенции '!B39 -> 0 | O36: ='Субвенции '!C39 -> 0 | P36: ='Субвенции '!D39 -> 0
A37: Базарно-Карабулакский район (консолидированный) | B37: =F37+J37+N37+R37 -> 456916.83 | C37: =G37+K37+O37+S37 -> 537892.6 | D37: =H37+L37+P37+T37 -> 524781.62 | E37: =D37/C37*100 -> 97.562528 | F37: =SUM(F38:F51) -> 113741.5 | G37: =SUM(G38:G51) -> 113762.2 | H37: =SUM(H38:H51) -> 113762.2 | I37: =H37/G37*100 -> 100 | J37: =SUM(J38:J51) -> 51370.53 | K37: =SUM(K38:K51) -> 48736.982 | L37: =SUM(L38:L51) -> 43670.635 | M37: =L37/K37*100 -> 89.604718 | N37: =SUM(N38:N51) -> 291204 | O37: =SUM(O38:O51) -> 314950.8 | P37: =SUM(P38:P51) -> 313138.91 | Q37: =P37/O37*100 -> 99.424708 | R37: =SUM(R38:R51) -> 600.8 | S37: =SUM(S38:S51) -> 60442.62 | T37: =SUM(T38:T51) -> 54209.868 | U37: =T37/S37*100 -> 89.688151
A38: Базарно-Карабулакский район (собственный) | B38: =F38+J38+N38+R38 -> 453236.93 | C38: =G38+K38+O38+S38 -> 496877.31 | D38: =H38+L38+P38+T38 -> 489999.03 | E38: =D38/C38*100 -> 98.6157 | F38: =Дотации!B18 -> 113741.5 | G38: =Дотации!C18 -> 113762.2 | H38: =Дотации!D18 -> 113762.2 | I38: =H38/G38*100 -> 100 | J38: =Субсидии!B39 -> 49376.93 | K38: =Субсидии!C39 -> 40963.886 | L38: =Субсидии!D39 -> 35897.499 | M38: =L38/K38*100 -> 87.632065 | N38: ='Субвенции '!B41 -> 289517.7 | O38: ='Субвенции '!C41 -> 313264.5 | P38: ='Субвенции '!D41 -> 311452.61 | Q38: =P38/O38*100 -> 99.421612 | R38: =Иные!B34 -> 600.8 | S38: =Иные!C34 -> 28886.72 | T38: =Иные!D34 -> 28886.72 | U38: =T38/S38*100 -> 100
A39: Алексеевское МО | B39: =F39+J39+N39+R39 -> 234.2 | C39: =G39+K39+O39+S39 -> 1113.8323 | D39: =H39+L39+P39+T39 -> 1113.8323 | E39: =D39/C39*100 -> 100 | J39: =Субсидии!B40 -> 0 | K39: =Субсидии!C40 -> 644.63232 | L39: =Субсидии!D40 -> 644.63232 | M39: =L39/K39*100 -> 100 | N39: ='Субвенции '!B42 -> 234.2 | O39: ='Субвенции '!C42 -> 234.2 | P39: ='Субвенции '!D42 -> 234.2 | Q39: =P39/O39*100 -> 100 | R39: =Иные!B35 -> 0 | S39: =Иные!C35 -> 235 | T39: =Иные!D35 -> 235 | U39: =T39/S39*100 -> 100
A40: Базарно-Карабулакское МО | B40: =F40+J40+N40+R40 -> 1993.6 | C40: =G40+K40+O40+S40 -> 31993.6 | D40: =H40+L40+P40+T40 -> 25760.888 | E40: =D40/C40*100 -> 80.518879 | J40: =Субсидии!B41 -> 1993.6 | K40: =Субсидии!C41 -> 1993.6 | L40: =Субсидии!D41 -> 1993.64 | M40: =L40/K40*100 -> 100.00201 | R40: =Иные!B36 -> 0 | S40: =Иные!C36 -> 30000 | T40: =Иные!D36 -> 23767.248 | U40: =T40/S40*100 -> 79.22416
A41: Большечечуйское МО | B41: =F41+J41+N41+R41 -> 93.7 | C41: =G41+K41+O41+S41 -> 894.3 | D41: =H41+L41+P41+T41 -> 894.3 | E41: =D41/C41*100 -> 100 | J41: =Субсидии!B42 -> 0 | K41: =Субсидии!C42 -> 705.2 | L41: =Субсидии!D42 -> 705.2 | M41: =L41/K41*100 -> 100 | N41: ='Субвенции '!B43 -> 93.7 | O41: ='Субвенции '!C43 -> 93.7 | P41: ='Субвенции '!D43 -> 93.7 | Q41: =P41/O41*100 -> 100 | R41: =Иные!B37 -> 0 | S41: =Иные!C37 -> 95.4 | T41: =Иные!D37 -> 95.4 | U41: =T41/S41*100 -> 100
...

Sheet Дотации
A1: Сведения о предоставлении из бюджета Саратовской области межбюджетных трансфертов местным бюджетам за 2021 год
AC3: тыс.рублей
A4: Наименование муниципальных образований | B4: Дотации, всего | F4: в том числе
F5: бюджетам городских округов области, связанные с особым режимом безопасного функционирования закрытых административно-территориальных образований | J5: на выравнивание бюджетной обеспеченности муниципальных районов (городских округов) области | N5: на поддержку мер по обеспечению сбалансированности бюджетов | R5: бюджетам муниципальных районов области на обеспечение финансовой устойчивости местных бюджетов в условиях нестабильной ситуации, связанной с пандемией новой коронавирусной инфекции | V5: бюджетам муниципальных районов и городских округов области на компенсацию дополнительных расходов на повышение оплаты труда некоторых категорий работников муниципальных учреждений в связи с увеличением минимального размера оплаты труда с 1 января 2021 года | Z5: бюджетам поселений области на премирование победителей Всероссийского конкурса «Лучшая муниципальная практика»
B6: первоначаль-ный бюджет* | C6: утвержденные бюджетные назначения 2* | D6: исполнено | E6: % исполнения | F6: первоначаль-ный бюджет* | G6: утвержденные бюджетные назначения 2* | H6: исполнено | I6: % исполнения | J6: первоначаль-ный бюджет* | K6: утвержденные бюджетные назначения 2* | L6: исполнено | M6: % исполнения | N6: первоначаль-ный бюджет* | O6: утвержденные бюджетные назначения 2* | P6: исполнено | Q6: % исполнения | R6: первоначаль-ный бюджет* | S6: утвержденные бюджетные назначения 2* | T6: исполнено | U6: % исполнения | V6: первоначаль-ный бюджет* | W6: утвержденные бюджетные назначения 2* | X6: исполнено | Y6: % исполнения | Z6: первоначаль-ный бюджет* | AA6: утвержденные бюджетные назначения 2* | AB6: исполнено | AC6: % исполнения
A7: Муниципальные районы области (консолидированный) | B7: =F7+J7+N7+R7+V7+Z7 -> 4088568.1 | C7: =G7+K7+O7+S7+W7+AA7 -> 4095728.6 | D7: =H7+L7+P7+T7+X7+AB7 -> 4095728.6 | E7: =D7/C7*100 -> 100 | J7: =J10+J12+J14+J17+J19+J21+J23+J25+J27+J29+J31+J33+J35+J37+J40+J42+J44+J46+J48+J50+J52+J54+J56+J58+J60+J62+J64+J66+J68+J70+J72+J74+J76+J78+J80+J82+J84+J86 -> 3291115.5 | K7: =K10+K12+K14+K17+K19+K21+K23+K25+K27+K29+K31+K33+K35+K37+K40+K42+K44+K46+K48+K50+K52+K54+K56+K58+K60+K62+K64+K66+K68+K70+K72+K74+K76+K78+K80+K82+K84+K86 -> 3288222.8 | L7: =L10+L12+L14+L17+L19+L21+L23+L25+L27+L29+L31+L33+L35+L37+L40+L42+L44+L46+L48+L50+L52+L54+L56+L58+L60+L62+L64+L66+L68+L70+L72+L74+L76+L78+L80+L82+L84+L86 -> 3288222.8 | M7: =L7/K7*100 -> 100 | N7: =N10+N12+N14+N17+N19+N21+N23+N25+N27+N29+N31+N33+N35+N37+N40+N42+N44+N46+N48+N50+N52+N54+N56+N58+N60+N62+N64+N66+N68+N70+N72+N74+N76+N78+N80+N82+N84+N86 -> 797452.6 | O7: =O10+O12+O14+O17+O19+O21+O23+O25+O27+O29+O31+O33+O35+O37+O40+O42+O44+O46+O48+O50+O52+O54+O56+O58+O60+O62+O64+O66+O68+O70+O72+O74+O76+O78+O80+O82+O84+O86 -> 352094.2 | P7: =P10+P12+P14+P17+P19+P21+P23+P25+P27+P29+P31+P33+P35+P37+P40+P42+P44+P46+P48+P50+P52+P54+P56+P58+P60+P62+P64+P66+P68+P70+P72+P74+P76+P78+P80+P82+P84+P86 -> 352094.2 | Q7: =P7/O7*100 -> 100 | R7: =R10+R12+R14+R17+R19+R21+R23+R25+R27+R29+R31+R33+R35+R37+R40+R42+R44+R46+R48+R50+R52+R54+R56+R58+R60+R62+R64+R66+R68+R70+R72+R74+R76+R78+R80+R82+R84+R86 -> 0 | S7: =S10+S12+S14+S17+S19+S21+S23+S25+S27+S29+S31+S33+S35+S37+S40+S42+S44+S46+S48+S50+S52+S54+S56+S58+S60+S62+S64+S66+S68+S70+S72+S74+S76+S78+S80+S82+S84+S86 -> 375856.86 | T7: =T10+T12+T14+T17+T19+T21+T23+T25+T27+T29+T31+T33+T35+T37+T40+T42+T44+T46+T48+T50+T52+T54+T56+T58+T60+T62+T64+T66+T68+T70+T72+T74+T76+T78+T80+T82+T84+T86 -> 375856.86 | U7: =T7/S7*100 -> 100 | V7: =V10+V12+V14+V17+V19+V21+V23+V25+V27+V29+V31+V33+V35+V37+V40+V42+V44+V46+V48+V50+V52+V54+V56+V58+V60+V62+V64+V66+V68+V70+V72+V74+V76+V78+V80+V82+V84+V86 -> 0 | W7: =W10+W12+W14+W17+W19+W21+W23+W25+W27+W29+W31+W33+W35+W37+W40+W42+W44+W46+W48+W50+W52+W54+W56+W58+W60+W62+W64+W66+W68+W70+W72+W74+W76+W78+W80+W82+W84+W86 -> 66554.7 | X7: =X10+X12+X14+X17+X19+X21+X23+X25+X27+X29+X31+X33+X35+X37+X40+X42+X44+X46+X48+X50+X52+X54+X56+X58+X60+X62+X64+X66+X68+X70+X72+X74+X76+X78+X80+X82+X84+X86 -> 66554.7 | Y7: =X7/W7*100 -> 100 | Z7: =Z10+Z12+Z14+Z17+Z19+Z21+Z23+Z25+Z27+Z29+Z31+Z33+Z35+Z37+Z40+Z42+Z44+Z46+Z48+Z50+Z52+Z54+Z56+Z58+Z60+Z62+Z64+Z66+Z68+Z70+Z72+Z74+Z76+Z78+Z80+Z82+Z84+Z86 -> 0 | AA7: =AA10+AA12+AA14+AA17+AA19+AA21+AA23+AA25+AA27+AA29+AA31+AA33+AA35+AA37+AA40+AA42+AA44+AA46+AA48+AA50+AA52+AA54+AA56+AA58+AA60+AA62+AA64+AA66+AA68+AA70+AA72+AA74+AA76+AA78+AA80+AA82+AA84+AA86 -> 13000 | AB7: =AB10+AB12+AB14+AB17+AB19+AB21+AB23+AB25+AB27+AB29+AB31+AB33+AB35+AB37+AB40+AB42+AB44+AB46+AB48+AB50+AB52+AB54+AB56+AB58+AB60+AB62+AB64+AB66+AB68+AB70+AB72+AB74+AB76+AB78+AB80+AB82+AB84+AB86 -> 13000 | AC7: =AB7/AA7*100 -> 100
A8: Муниципальные районы области (собственный): | B8: =F8+J8+N8+R8+V8+Z8 -> 4088568.1 | C8: =G8+K8+O8+S8+W8+AA8 -> 4082728.6 | D8: =H8+L8+P8+T8+X8+AB8 -> 4082728.6 | E8: =D8/C8*100 -> 100 | J8: =J11+J13+J15+J18+J20+J22+J24+J26+J28+J30+J32+J34+J36+J38+J41+J43+J45+J47+J49+J51+J53+J55+J57+J59+J61+J63+J65+J67+J69+J71+J73+J75+J77+J79+J81+J83+J85+J87 -> 3291115.5 | K8: =K11+K13+K15+K18+K20+K22+K24+K26+K28+K30+K32+K34+K36+K38+K41+K43+K45+K47+K49+K51+K53+K55+K57+K59+K61+K63+K65+K67+K69+K71+K73+K75+K77+K79+K81+K83+K85+K87 -> 3288222.8 | L8: =L11+L13+L15+L18+L20+L22+L24+L26+L28+L30+L32+L34+L36+L38+L41+L43+L45+L47+L49+L51+L53+L55+L57+L59+L61+L63+L65+L67+L69+L71+L73+L75+L77+L79+L81+L83+L85+L87 -> 3288222.8 | M8: =L8/K8*100 -> 100 | N8: =N11+N13+N15+N18+N20+N22+N24+N26+N28+N30+N32+N34+N36+N38+N41+N43+N45+N47+N49+N51+N53+N55+N57+N59+N61+N63+N65+N67+N69+N71+N73+N75+N77+N79+N81+N83+N85+N87 -> 797452.6 | O8: =O11+O13+O15+O18+O20+O22+O24+O26+O28+O30+O32+O34+O36+O38+O41+O43+O45+O47+O49+O51+O53+O55+O57+O59+O61+O63+O65+O67+O69+O71+O73+O75+O77+O79+O81+O83+O85+O87 -> 352094.2 | P8: =P11+P13+P15+P18+P20+P22+P24+P26+P28+P30+P32+P34+P36+P38+P41+P43+P45+P47+P49+P51+P53+P55+P57+P59+P61+P63+P65+P67+P69+P71+P73+P75+P77+P79+P81+P83+P85+P87 -> 352094.2 | Q8: =P8/O8*100 -> 100 | R8: =R11+R13+R15+R18+R22+R24+R26+R28+R30+R32+R34+R36+R38+R41+R43+R45+R47+R49+R51+R53+R55+R57+R59+R61+R63+R65+R67+R69+R71+R73+R75+R77+R79+R81+R83+R85+R87 -> 0 | S8: =S11+S13+S15+S18+S20+S22+S24+S26+S28+S30+S32+S34+S36+S38+S41+S43+S45+S47+S49+S51+S53+S55+S57+S59+S61+S63+S65+S67+S69+S71+S73+S75+S77+S79+S81+S83+S85+S87 -> 375856.86 | T8: =T11+T13+T15+T18+T20+T22+T24+T26+T28+T30+T32+T34+T36+T38+T41+T43+T45+T47+T49+T51+T53+T55+T57+T59+T61+T63+T65+T67+T69+T71+T73+T75+T77+T79+T81+T83+T85+T87 -> 375856.86 | U8: =T8/S8*100 -> 100 | V8: =V11+V13+V15+V18+V22+V24+V26+V28+V30+V32+V34+V36+V38+V41+V43+V45+V47+V49+V51+V53+V55+V57+V59+V61+V63+V65+V67+V69+V71+V73+V75+V77+V79+V81+V83+V85+V87 -> 0 | W8: =W11+W13+W15+W18+W20+W22+W24+W26+W28+W30+W32+W34+W36+W38+W41+W43+W45+W47+W49+W51+W53+W55+W57+W59+W61+W63+W65+W67+W69+W71+W73+W75+W77+W79+W81+W83+W85+W87 -> 66554.7 | X8: =X11+X13+X15+X18+X20+X22+X24+X26+X28+X30+X32+X34+X36+X38+X41+X43+X45+X47+X49+X51+X53+X55+X57+X59+X61+X63+X65+X67+X69+X71+X73+X75+X77+X79+X81+X83+X85+X87 -> 66554.7 | Y8: =X8/W8*100 -> 100 | Z8: =Z11+Z13+Z15+Z18+Z22+Z24+Z26+Z28+Z30+Z32+Z34+Z36+Z38+Z41+Z43+Z45+Z47+Z49+Z51+Z53+Z55+Z57+Z59+Z61+Z63+Z65+Z67+Z69+Z71+Z73+Z75+Z77+Z79+Z81+Z83+Z85+Z87 -> 0 | AA8: =AA11+AA13+AA15+AA18+AA22+AA24+AA26+AA28+AA30+AA32+AA34+AA36+AA38+AA41+AA43+AA45+AA47+AA49+AA51+AA53+AA55+AA57+AA59+AA61+AA63+AA65+AA67+AA69+AA71+AA73+AA75+AA77+AA79+AA81+AA83+AA85+AA87 -> 0 | AB8: =AB11+AB13+AB15+AB18+AB22+AB24+AB26+AB28+AB30+AB32+AB34+AB36+AB38+AB41+AB43+AB45+AB47+AB49+AB51+AB53+AB55+AB57+AB59+AB61+AB63+AB65+AB67+AB69+AB71+AB73+AB75+AB77+AB79+AB81+AB83+AB85+AB87 -> 0
A9: Поселения: | B9: =F9+J9+N9+R9+V9+Z9 -> 0 | C9: =G9+K9+O9+S9+W9+AA9 -> 13000 | D9: =H9+L9+P9+T9+X9+AB9 -> 13000 | E9: =D9/C9*100 -> 100 | J9: =J16+J39 -> 0 | K9: =K16+K39 -> 0 | L9: =L16+L39 -> 0 | M9: =M16+M39 -> 0 | N9: =N16+N39 -> 0 | O9: =O16+O39 -> 0 | P9: =P16+P39 -> 0 | Q9: =Q16+Q39 -> 0 | ... AB9: =AB16+AB39 -> 13000 | AC9: =AB9/AA9*100 -> 100
A10: Александрово-Гайский (консолидированный) | B10: =F10+J10+N10+R10+V10+Z10 -> 133386.3 | C10: =G10+K10+O10+S10+W10+AA10 -> 118907.47 | D10: =H10+L10+P10+T10+X10+AB10 -> 118907.47 | E10: =D10/C10*100 -> 100 | J10: =J11 -> 61074.5 | K10: =K11 -> 60463.8 | L10: =L11 -> 60463.8 | M10: =L10/K10*100 -> 100 | N10: =N11 -> 72311.8 | O10: =O11 -> 49583.6 | P10: =P11 -> 49583.6 | Q10: =P10/O10*100 -> 100 | R10: =R11 -> 0 | S10: =S11 -> 8396.17 | T10: =T11 -> 8396.17 | U10: =T10/S10*100 -> 100 | V10: =V11 -> 0 | W10: =W11 -> 463.9 | X10: =X11 -> 463.9 | Y10: =X10/W10*100 -> 100 | Z10: =Z11 -> 0 | AA10: =AA11 -> 0 | AB10: =AB11 -> 0
A11: Александрово-Гайский (собственный) | B11: =F11+J11+N11+R11+V11+Z11 -> 133386.3 | C11: =G11+K11+O11+S11+W11+AA11 -> 118907.47 | D11: =H11+L11+P11+T11+X11+AB11 -> 118907.47 | E11: =D11/C11*100 -> 100 | J11: 61074.5 | K11: 60463.8 | L11: 60463.8 | M11: =L11/K11*100 -> 100 | N11: 72311.8 | O11: 49583.6 | P11: 49583.6 | Q11: =P11/O11*100 -> 100 | S11: 8396.17 | T11: 8396.17 | U11: =T11/S11*100 -> 100 | W11: 463.9 | X11: 463.9 | Y11: =X11/W11*100 -> 100
A12: Аркадакский (консолидированный) | B12: =F12+J12+N12+R12+V12+Z12 -> 81918.3 | C12: =G12+K12+O12+S12+W12+AA12 -> 83149.1 | D12: =H12+L12+P12+T12+X12+AB12 -> 83149.1 | E12: =D12/C12*100 -> 100 | J12: =J13 -> 77073.4 | K12: =K13 -> 77073.4 | L12: =L13 -> 77073.4 | M12: =L12/K12*100 -> 100 | N12: =N13 -> 4844.9 | O12: =O13 -> 4844.9 | P12: =P13 -> 4844.9 | Q12: =P12/O12*100 -> 100 | R12: =R13 -> 0 | S12: =S13 -> 0 | T12: =T13 -> 0 | V12: =V13 -> 0 | W12: =W13 -> 1230.8 | X12: =X13 -> 1230.8 | Y12: =X12/W12*100 -> 100 | Z12: =Z13 -> 0 | AA12: =AA13 -> 0 | AB12: =AB13 -> 0
A13: Аркадакский (собственный) | B13: =F13+J13+N13+R13+V13+Z13 -> 81918.3 | C13: =G13+K13+O13+S13+W13+AA13 -> 83149.1 | D13: =H13+L13+P13+T13+X13+AB13 -> 83149.1 | E13: =D13/C13*100 -> 100 | J13: 77073.4 | K13: 77073.4 | L13: 77073.4 | M13: =L13/K13*100 -> 100 | N13: 4844.9 | O13: 4844.9 | P13: 4844.9 | Q13: =P13/O13*100 -> 100 | W13: 1230.8 | X13: 1230.8 | Y13: =X13/W13*100 -> 100
A14: Аткарский район (консолидированный) | B14: =F14+J14+N14+R14+V14+Z14 -> 126936 | C14: =G14+K14+O14+S14+W14+AA14 -> 138177.2 | D14: =H14+L14+P14+T14+X14+AB14 -> 138177.2 | E14: =D14/C14*100 -> 100 | J14: =J15+J16 -> 126936 | K14: =K15+K16 -> 126936 | L14: =L15+L16 -> 126936 | M14: =L14/K14*100 -> 100 | N14: =N15+N16 -> 0 | O14: =O15+O16 -> 0 | P14: =P15+P16 -> 0 | R14: =R15+R16 -> 0 | S14: =S15+S16 -> 0 | T14: =T15+T16 -> 0 | V14: =V15+V16 -> 0 | W14: =W15+W16 -> 1241.2 | X14: =X15+X16 -> 1241.2 | Y14: =X14/W14*100 -> 100 | Z14: =Z15+Z16 -> 0 | AA14: =AA15+AA16 -> 10000 | AB14: =AB15+AB16 -> 10000 | AC14: =AB14/AA14*100 -> 100
A15: Аткарский район (собственный) | B15: =F15+J15+N15+R15+V15+Z15 -> 126936 | C15: =G15+K15+O15+S15+W15+AA15 -> 128177.2 | D15: =H15+L15+P15+T15+X15+AB15 -> 128177.2 | E15: =D15/C15*100 -> 100 | J15: 126936 | K15: 126936 | L15: 126936 | M15: =L15/K15*100 -> 100 | W15: 1241.2 | X15: 1241.2 | Y15: =X15/W15*100 -> 100
A16: город Аткарск | B16: =F16+J16+N16+R16+V16+Z16 -> 0 | C16: =G16+K16+O16+S16+W16+AA16 -> 10000 | D16: =H16+L16+P16+T16+X16+AB16 -> 10000 | E16: =D16/C16*100 -> 100 | AA16: 10000 | AB16: 10000 | AC16: =AB16/AA16*100 -> 100
A17: Базарно-Карабулакский (консолидированный) | B17: =F17+J17+N17+R17+V17+Z17 -> 113741.5 | C17: =G17+K17+O17+S17+W17+AA17 -> 113762.2 | D17: =H17+L17+P17+T17+X17+AB17 -> 113762.2 | E17: =D17/C17*100 -> 100 | J17: =J18 -> 107702.3 | K17: =K18 -> 107702.3 | L17: =L18 -> 107702.3 | M17: =L17/K17*100 -> 100 | N17: =N18 -> 6039.2 | O17: =O18 -> 6039.2 | P17: =P18 -> 6039.2 | Q17: =P17/O17*100 -> 100 | W17: =W18 -> 20.7 | X17: =X18 -> 20.7 | Y17: =X17/W17*100 -> 100
A18: Базарно-Карабулакский (собственный) | B18: =F18+J18+N18+R18+V18+Z18 -> 113741.5 | C18: =G18+K18+O18+S18+W18+AA18 -> 113762.2 | D18: =H18+L18+P18+T18+X18+AB18 -> 113762.2 | E18: =D18/C18*100 -> 100 | J18: 107702.3 | K18: 107702.3 | L18: 107702.3 | M18: =L18/K18*100 -> 100 | N18: 6039.2 | O18: 6039.2 | P18: 6039.2 | Q18: =P18/O18*100 -> 100 | W18: 20.7 | X18: 20.7 | Y18: =X18/W18*100 -> 100
A19: Балаковский (консолидированный) | B19: =F19+J19+N19+R19+V19+Z19 -> 0 | C19: =G19+K19+O19+S19+W19+AA19 -> 3449 | D19: =H19+L19+P19+T19+X19+AB19 -> 3449 | E19: =D19/C19*100 -> 100 | W19: =W20 -> 3449 | X19: =X20 -> 3449 | Y19: =X19/W19*100 -> 100
A20: Балаковский (собственный) | B20: =F20+J20+N20+R20+V20+Z20 -> 0 | C20: =G20+K20+O20+S20+W20+AA20 -> 3449 | D20: =H20+L20+P20+T20+X20+AB20 -> 3449 | E20: =D20/C20*100 -> 100 | W20: 3449 | X20: 3449
A21: Балашовский (консолидированный) | B21: =F21+J21+N21+R21+V21+Z21 -> 161741 | C21: =G21+K21+O21+S21+W21+AA21 -> 166405.7 | D21: =H21+L21+P21+T21+X21+AB21 -> 166405.7 | E21: =D21/C21*100 -> 100 | J21: =J22 -> 161741 | K21: =K22 -> 161741 | L21: =L22 -> 161741 | M21: =L21/K21*100 -> 100 | W21: =W22 -> 4664.7 | X21: =X22 -> 4664.7 | Y21: =X21/W21*100 -> 100
A22: Балашовский (собственный) | B22: =F22+J22+N22+R22+V22+Z22 -> 161741 | C22: =G22+K22+O22+S22+W22+AA22 -> 166405.7 | D22: =H22+L22+P22+T22+X22+AB22 -> 166405.7 | E22: =D22/C22*100 -> 100 | J22: 161741 | K22: 161741 | L22: 161741 | M22: =L22/K22*100 -> 100 | W22: 4664.7 | X22: 4664.7 | Y22: =X22/W22*100 -> 100
A23: Балтайский (консолидированный) | B23: =F23+J23+N23+R23+V23+Z23 -> 81136.2 | C23: =G23+K23+O23+S23+W23+AA23 -> 64081.5 | D23: =H23+L23+P23+T23+X23+AB23 -> 64081.5 | E23: =D23/C23*100 -> 100 | J23: =J24 -> 38803.1 | K23: =K24 -> 38803.1 | L23: =L24 -> 38803.1 | M23: =L23/K23*100 -> 100 | N23: =N24 -> 42333.1 | O23: =O24 -> 24484.1 | P23: =P24 -> 24484.1 | Q23: =P23/O23*100 -> 100 | W23: =W24 -> 794.3 | X23: =X24 -> 794.3 | Y23: =X23/W23*100 -> 100
A24: Балтайский (собственный) | B24: =F24+J24+N24+R24+V24+Z24 -> 81136.2 | C24: =G24+K24+O24+S24+W24+AA24 -> 64081.5 | D24: =H24+L24+P24+T24+X24+AB24 -> 64081.5 | E24: =D24/C24*100 -> 100 | J24: 38803.1 | K24: 38803.1 | L24: 38803.1 | M24: =L24/K24*100 -> 100 | N24: 42333.1 | O24: 24484.1 | P24: 24484.1 | Q24: =P24/O24*100 -> 100 | W24: 794.3 | X24: 794.3 | Y24: =X24/W24*100 -> 100
A25: Вольский (консолидированный) | B25: =F25+J25+N25+R25+V25+Z25 -> 92184 | C25: =G25+K25+O25+S25+W25+AA25 -> 135212 | D25: =H25+L25+P25+T25+X25+AB25 -> 135212 | E25: =D25/C25*100 -> 100 | J25: =J26 -> 92184 | K25: =K26 -> 92184 | L25: =L26 -> 92184 | M25: =L25/K25*100 -> 100 | S25: =S26 -> 38800 | T25: =T26 -> 38800 | U25: =T25/S25*100 -> 100 | W25: =W26 -> 4228 | X25: =X26 -> 4228 | Y25: =X25/W25*100 -> 100
A26: Вольский (собственный) | B26: =F26+J26+N26+R26+V26+Z26 -> 92184 | C26: =G26+K26+O26+S26+W26+AA26 -> 135212 | D26: =H26+L26+P26+T26+X26+AB26 -> 135212 | E26: =D26/C26*100 -> 100 | J26: 92184 | K26: 92184 | L26: 92184 | M26: =L26/K26*100 -> 100 | S26: 38800 | T26: 38800 | U26: =T26/S26*100 -> 100 | W26: 4228 | X26: 4228 | Y26: =X26/W26*100 -> 100
A27: Воскресенский (консолидированный) | B27: =F27+J27+N27+R27+V27+Z27 -> 59814.3 | C27: =G27+K27+O27+S27+W27+AA27 -> 52984.2 | D27: =H27+L27+P27+T27+X27+AB27 -> 52984.2 | E27: =D27/C27*100 -> 100 | J27: =J28 -> 42234.4 | K27: =K28 -> 42234.4 | L27: =L28 -> 42234.4 | M27: =L27/K27*100 -> 100 | N27: =N28 -> 17579.9 | O27: =O28 -> 5274 | P27: =P28 -> 5274 | Q27: =P27/O27*100 -> 100 | S27: =S28 -> 5000 | T27: =T28 -> 5000 | U27: =T27/S27*100 -> 100 | W27: =W28 -> 475.8 | X27: =X28 -> 475.8 | Y27: =X27/W27*100 -> 100
A28: Воскресенский (собственный) | B28: =F28+J28+N28+R28+V28+Z28 -> 59814.3 | C28: =G28+K28+O28+S28+W28+AA28 -> 52984.2 | D28: =H28+L28+P28+T28+X28+AB28 -> 52984.2 | E28: =D28/C28*100 -> 100 | J28: 42234.4 | K28: 42234.4 | L28: 42234.4 | M28: =L28/K28*100 -> 100 | N28: 17579.9 | O28: 5274 | P28: 5274 | Q28: =P28/O28*100 -> 100 | S28: 5000 | T28: 5000 | U28: =T28/S28*100 -> 100 | W28: 475.8 | X28: 475.8 | Y28: =X28/W28*100 -> 100
A29: Дергачевский (консолидированный) | B29: =F29+J29+N29+R29+V29+Z29 -> 134160.2 | C29: =G29+K29+O29+S29+W29+AA29 -> 118329.2 | D29: =H29+L29+P29+T29+X29+AB29 -> 118329.2 | E29: =D29/C29*100 -> 100 | J29: =J30 -> 108718.5 | K29: =K30 -> 107631.3 | L29: =L30 -> 107631.3 | M29: =L29/K29*100 -> 100 | N29: =N30 -> 25441.7 | O29: =O30 -> 7632.6 | P29: =P30 -> 7632.6 | Q29: =P29/O29*100 -> 100 | S29: =S30 -> 2000 | T29: =T30 -> 2000 | U29: =T29/S29*100 -> 100 | W29: =W30 -> 1065.3 | X29: =X30 -> 1065.3 | Y29: =X29/W29*100 -> 100
A30: Дергачевский (собственный) | B30: =F30+J30+N30+R30+V30+Z30 -> 134160.2 | C30: =G30+K30+O30+S30+W30+AA30 -> 118329.2 | D30: =H30+L30+P30+T30+X30+AB30 -> 118329.2 | E30: =D30/C30*100 -> 100 | J30: 108718.5 | K30: 107631.3 | L30: 107631.3 | M30: =L30/K30*100 -> 100 | N30: 25441.7 | O30: 7632.6 | P30: 7632.6 | Q30: =P30/O30*100 -> 100 | S30: 2000 | T30: 2000 | U30: =T30/S30*100 -> 100 | W30: 1065.3 | X30: 1065.3 | Y30: =X30/W30*100 -> 100
A31: Духовницкий (консолидированный) | B31: =F31+J31+N31+R31+V31+Z31 -> 56177.3 | C31: =G31+K31+O31+S31+W31+AA31 -> 46086.2 | D31: =H31+L31+P31+T31+X31+AB31 -> 46086.2 | E31: =D31/C31*100 -> 100 | J31: =J32 -> 27277.9 | K31: =K32 -> 27277.9 | L31: =L32 -> 27277.9 | M31: =L31/K31*100 -> 100 | N31: =N32 -> 28899.4 | O31: =O32 -> 8670 | P31: =P32 -> 8670 | Q31: =P31/O31*100 -> 100 | S31: =S32 -> 9000 | T31: =T32 -> 9000 | U31: =T31/S31*100 -> 100 | W31: =W32 -> 1138.3 | X31: =X32 -> 1138.3 | Y31: =X31/W31*100 -> 100
A32: Духовницкий (собственный) | B32: =F32+J32+N32+R32+V32+Z32 -> 56177.3 | C32: =G32+K32+O32+S32+W32+AA32 -> 46086.2 | D32: =H32+L32+P32+T32+X32+AB32 -> 46086.2 | E32: =D32/C32*100 -> 100 | J32: 27277.9 | K32: 27277.9 | L32: 27277.9 | M32: =L32/K32*100 -> 100 | N32: 28899.4 | O32: 8670 | P32: 8670 | Q32: =P32/O32*100 -> 100 | S32: 9000 | T32: 9000 | U32: =T32/S32*100 -> 100 | W32: 1138.3 | X32: 1138.3 | Y32: =X32/W32*100 -> 100
A33: Екатериновский (консолидированный) | B33: =F33+J33+N33+R33+V33+Z33 -> 71988.8 | C33: =G33+K33+O33+S33+W33+AA33 -> 53048.6 | D33: =H33+L33+P33+T33+X33+AB33 -> 53048.6 | E33: =D33/C33*100 -> 100 | J33: =J34 -> 24736.9 | K33: =K34 -> 24736.9 | L33: =L34 -> 24736.9 | M33: =L33/K33*100 -> 100 | N33: =N34 -> 47251.9 | O33: =O34 -> 14175.6 | P33: =P34 -> 14175.6 | Q33: =P33/O33*100 -> 100 | S33: =S34 -> 13500 | T33: =T34 -> 13500 | U33: =T33/S33*100 -> 100 | W33: =W34 -> 636.1 | X33: =X34 -> 636.1 | Y33: =X33/W33*100 -> 100
