Workbook

Sheet Итого по видам(с учет нераспр.)
A1: Сведения о предоставлении из бюджета Саратовской области межбюджетных трансфертов местным бюджетам
A2: за 1 полугодие 2021 года
F3: тыс. рублей
A4: № п/п | B4: Наименование | C4: Код бюджетной классификации | D4: Утвержденные бюджетные назначения* | E4: Исполнение | F4: % исполнения
A6: 1 | B6: 2 | C6: 3 | D6: 4 | E6: 5 | F6: 6
A7: 1. | B7: Дотация - всего | D7: =SUM(D8:D12) -> 4767163.5 | E7: =SUM(E8:E12) -> 2247440.4 | F7: =E7/D7*100 -> 47.144185
A8: 1.1. | B8: Дотация бюджетам городских округов области, связанные с особым режимом безопасного функционирования закрытых административно-территориальных образований | C8: 000 1402 6640150100 512 | D8: =Дотации!E52 -> 41928 | E8: =Дотации!F52 -> 20964 | F8: =E8/D8*100 -> 50
A9: 1.2. | B9: Дотация на выравнивание бюджетной обеспеченности муниципальных районов (городских округов) области | C9: 000 1401 6640170200 511 | D9: =Дотации!H52 -> 3430574.3 | E9: =Дотации!I52 -> 1554358.8 | F9: =E9/D9*100 -> 45.308997
A10: 1.3. | B10: Дотация на поддержку мер по обеспечению сбалансированности бюджетов | C10: 000 1402 6640170300 512 | D10: =Дотации!K52 -> 815717.3 | E10: =Дотации!L52 -> 244717.2 | F10: =E10/D10*100 -> 30.000246
A11: 1.4. | B11: Дотации бюджетам муниципальных районов области на обеспечение финансовой устойчивости местных бюджетов в условиях нестабильной ситуации, связанной с пандемией новой коронавирусной инфекции | C11: 000 1402 664017080К 512 | D11: =Дотации!N52 -> 375856.86 | E11: =Дотации!O52 -> 375856.86 | F11: =E11/D11*100 -> 100
A12: 1.5. | B12: Дотации бюджетам муниципальных районов и городских округов области на компенсацию дополнительных расходов на повышение оплаты труда некоторых категорий работников муниципальных учреждений в связи с увеличением минимального размера оплаты труда с 1 января 2021 года | C12: 000 1402 6640170700 512 | D12: =Дотации!Q52 -> 103087 | E12: =Дотации!R52 -> 51543.5 | F12: =E12/D12*100 -> 50
A13: 2. | B13: Субсидии - всего | D13: =SUM(D14:D49) -> 11282257 | E13: =SUM(E14:E49) -> 3208843.4 | F13: =E13/D13*100 -> 28.441503
A14: 2.1. | B14: Субсидия бюджетам муниципальных районов области на создание в общеобразователь-ных организациях, расположенных в сельской местности и малых городах, условий для занятий физической культурой и спортом | C14: 000 0702 5A2E250970 521 | D14: =Субсидии!E399 -> 16624.9 | E14: =Субсидии!F399 -> 4035.1131 | F14: =E14/D14*100 -> 24.271503
A15: 2.2. | B15: Субсидия бюджетам муниципальных районов и городских округов области на создание новых мест в общеобразовательных организациях | C15: 000 0702 5A2E155200 523 | D15: =Субсидии!H399 -> 366156.7 | E15: =Субсидии!I399 -> 35222.086 | F15: =E15/D15*100 -> 9.6194023
A16: 2.3. | B16: Субсидия бюджетам муниципальных районов и городских округов области на обеспечение жильем молодых семей | C16: 000 1004 5E301R4970 521 | D16: =Субсидии!K399 -> 62391.5 | E16: =Субсидии!L399 -> 54398.545 | F16: =E16/D16*100 -> 87.189032
A17: 2.4. | B17: Субсидия бюджетам городских округов и поселений области на реализацию регионального проекта (программы) в целях выполнения задач федерального проекта «Жилье» (Стимулирование программ развития жилищного строительства) | C17: 000 1403 5E1F150210 523 | D17: =Субсидии!N399 -> 86883.7 | E17: =Субсидии!O399 -> 4717.185 | F17: =E17/D17*100 -> 5.4293095
A18: 2.5. | B18: Субсидия бюджетам муниципальных районов и поселений области на поддержку творческой деятельности и укрепление материально-технической базы муниципальных театров в населенных пунктах с численностью населения до 300 тысяч человек | C18: 000 0801 55206R4660 521 | D18: =Субсидии!Q399 -> 10058.4 | E18: =Субсидии!R399 -> 10058.4 | F18: =E18/D18*100 -> 100
A19: 2.6. | B19: Субсидия бюджетам муниципальных районов и поселений области на обеспечение развития и укрепления материально-технической базы домов культуры в населенных пунктах с числом жителей до 50 тысяч человек | C19: 000 0801 55A12R4670 521 | D19: =Субсидии!T399 -> 40836.1 | E19: =Субсидии!U399 -> 21298.963 | F19: =E19/D19*100 -> 52.157191
A20: 2.7. | B20: Субсидия бюджетам муниципальных районов и поселений области на поддержку отрасли культуры на государственную поддержку лучших сельских учреждений культуры | C20: 000 0703 55БA255192 523 000 0801 55БA255192 523 | D20: =Субсидии!W399 -> 2346.9389 | E20: =Субсидии!X399 -> 2142.8573 | F20: =E20/D20*100 -> 91.304353
A21: 2.8. | B21: Субсидия бюджетам муниципальных районов и поселений области на поддержку отрасли культуры на государственную поддержку лучших работников сельских учреждений культуры | C21: 000 0801 55БA255194 523 | D21: =Субсидии!Z399 -> 867.347 | E21: =Субсидии!AA399 -> 867.347 | F21: =E21/D21*100 -> 100
A22: 2.9. | B22: Субсидия бюджетам муниципальных районов области на обеспечение деятельности муниципальных бизнес-инкубаторов | C22: 000 0412 5830171100 521 | D22: =Субсидии!AC399 -> 5300 | E22: =Субсидии!AD399 -> 2650 | F22: =E22/D22*100 -> 50
A23: 2.10. | B23: Субсидия бюджетам городских округов, городских и сельских поселений области на реализацию инициативных проектов 3* | C23: 000 0113 6640572100 523 | D23: =Субсидии!AF399 -> 120000 | E23: =Субсидии!AG399 -> 1347.9051 | F23: =E23/D23*100 -> 1.1232543
A24: 2.11. | B24: Субсидия бюджетам городских округов и поселений области на поддержку муниципальных программ формирования современной городской среды | C24: 000 0503 691F255550 523 | D24: =Субсидии!AI399 -> 707405 | E24: =Субсидии!AJ399 -> 243605.34 | F24: =E24/D24*100 -> 34.436475
A25: 2.12. | B25: Субсидия бюджетам муниципальных районов и городских округов области на обеспечение сохранения достигнутых показателей повышения оплаты труда отдельных категорий работников бюджетной сферы | C25: 000 1403 6640172500 521 | D25: =Субсидии!AL399 -> 1209783.1 | E25: =Субсидии!AM399 -> 414152.47 | F25: =E25/D25*100 -> 34.233614
A26: 2.13. | B26: Субсидия бюджетам муниципальных районов и городских округов области на создание дополнительных мест для детей в возрасте от 1,5 до 3 лет в образовательных организациях, осуществляющих образовательную деятельность по образовательным программам дошкольного образования | C26: 000 0701 5A1P252320 523 | D26: =Субсидии!AO399 -> 1014156.1 | E26: =Субсидии!AP399 -> 176555.42 | F26: =E26/D26*100 -> 17.409098
A27: 2.14. | B27: Субсидия бюджетам муниципальных районов области на государственную поддержку отрасли культуры (создание и модернизация учреждений культурно-досугового типа в сельской местности) | C27: 000 0801 55AA155197 523 | D27: =Субсидии!AR399 -> 30468 | E27: =Субсидии!AS399 -> 11336.387 | F27: =E27/D27*100 -> 37.207518
A28: 2.15. | B28: Субсидия бюджетам муниципальных районов, городских округов и поселений области на обеспечение мероприятий по переселению граждан из аварийного жилищного фонда, в том числе переселению граждан из аварийного жилищного фонда с учетом необходимости развития малоэтажного жилищного строительства (за счет средств Фонда содействия реформированию жилищно-коммунального хозяйства) | C28: 000 0501 5EAF367483 523 | D28: =Субсидии!AU399 -> 3604188.4 | E28: =Субсидии!AV399 -> 1506381.2 | F28: =E28/D28*100 -> 41.795295
A29: 2.16. | B29: Субсидия бюджетам муниципальных районов, городских округов и поселений области на обеспечение мероприятий по переселению граждан из аварийного жилищного фонда, в том числе переселению граждан из аварийного жилищного фонда с учетом необходимости развития малоэтажного жилищного строительства (за счет средств областного бюджета) | C29: 000 0501 5EAF367484 523 | D29: =Субсидии!AX399 -> 85716.3 | E29: =Субсидии!AY399 -> 31639.47 | F29: =E29/D29*100 -> 36.911848
A30: 2.17. | B30: Субсидия бюджетам муниципальных районов и городских округов области на обеспечение условий для создания центров образования цифрового и гуманитарного профиле | C30: 000 0702 5A2E1U1130 521 | D30: =Субсидии!BA399 -> 181511.6 | E30: =Субсидии!BB399 -> 69836.118 | F30: =E30/D30*100 -> 38.474741
A31: 2.18. | B31: Субсидия бюджетам городских округов и поселений области на реализацию мероприятий по строительству и реконструкции (модернизации) объектов питьевого водоснабжения | C31: 000 0502 5E8F552430 522 | D31: =Субсидии!BD399 -> 427354.35 | E31: =Субсидии!BE399 -> 44749.921 | F31: =E31/D31*100 -> 10.471385
A32: 2.19. | B32: Субсидия бюджетам поселений области на реализацию мероприятий по сокращению доли загрязненных сточных вод | C32: 000 0602 5E8G650130 522 | D32: =Субсидии!BG399 -> 34078.7 | E32: =Субсидии!BH399 -> 1109.9273 | F32: =E32/D32*100 -> 3.2569532
A33: 2.20. | B33: Субсидия бюджетам городских округов и поселений области на обустройство и восстановление воинских захоронений, находящихся в государственной (муниципальной) собственности | C33: 000 0503 66105R2990 521 | D33: =Субсидии!BJ399 -> 16769.4 | E33: =Субсидии!BK399 -> 9585.2992 | F33: =E33/D33*100 -> 57.159464
A34: 2.21. | B34: Субсидия бюджетам городских округов области на осуществление дорожной деятельности в отношении автомобильных дорог общего пользования местного значения Саратовской агломерации в границах городских округов области в рамках достижения соответствующих задач национального проекта «Безопасные и качественные автомобильные дороги» за счет средств областного дорожного фонда | C34: 000 0409 5Ж2R1U7190 521 | D34: =Субсидии!BM399 -> 592800 | E34: =Субсидии!BN399 -> 0 | F34: =E34/D34*100 -> 0
A35: 2.22. | B35: Субсидия бюджетам муниципальных районов и поселений области на развитие инженерной инфраструктуры на сельских территориях (развитие водоснабжения (локальные водоводы) на сельских территориях) | C35: 000 0502 70301R5765 522 | D35: =Субсидии!BP399 -> 82719.8 | E35: =Субсидии!BQ399 -> 14158.027 | F35: =E35/D35*100 -> 17.115645
A36: 2.23. | B36: Субсидия бюджетам поселений области на обустройство объектами инженерной инфраструктуры и благоустройство площадок, расположенных на сельских территориях, под компактную жилищную застройку | C36: 000 0505 70101R5762 522 | D36: =Субсидии!BS399 -> 65541.5 | E36: =Субсидии!BT399 -> 5203.31 | F36: =E36/D36*100 -> 7.9389547
A37: 2.24. | B37: Субсидия бюджетам муниципальных районов области на реализацию мероприятий по благоустройству сельских территорий 2* | C37: 000 0503 70302R5766 521 | D37: =Субсидии!BV399 -> 24694.1 | E37: =Субсидии!BW399 -> 2772.4286 | F37: =E37/D37*100 -> 11.227089
A38: 2.25. | B38: Субсидия бюджетам муниципальных районов области на благоустройство зданий муниципальных общеобразовательных организаций в целях соблюдения требований к воздушно-тепловому режиму, водоснабжению и канализации | C38: 000 0702 5A220R2550 521 | D38: =Субсидии!BY399 -> 85511.9 | E38: =Субсидии!BZ399 -> 13713.582 | F38: =E38/D38*100 -> 16.037045
A39: 2.26. | B39: Субсидия бюджетам муниципальных районов и городских округов области на обеспечение условий для внедрения цифровой образовательной среды в общеобразовательных организациях | C39: 000 0702 5A8E4U1330 521 | D39: =Субсидии!CB399 -> 16585 | E39: =Субсидии!CC399 -> 0 | F39: =E39/D39*100 -> 0
A40: 2.27. | B40: Субсидия бюджетам муниципальных районов и городских округов области на обеспечение образовательных организаций материально-технической базой для внедрения цифровой образовательной среды | C40: 000 0702 5A8E452100 521 | D40: =Субсидии!CE399 -> 250017 | E40: =Субсидии!CF399 -> 404.50427 | F40: =E40/D40*100 -> 0.16179071
A41: 2.28. | B41: Субсидия бюджетам муниципальных районов и городских округов области на модернизацию (капитальный ремонт, реконструкция) муниципальных детских школ искусств по видам искусств | C41: 000 0703 55AA155195 523 | D41: =Субсидии!CH399 -> 39582 | E41: =Субсидии!CI399 -> 12596.387 | F41: =E41/D41*100 -> 31.823523
...

Sheet Всего (с выдел. нераспред)
A1: Сведения о предоставленных из бюджета Саратовской области межбюджетных трансфертах бюджетам муниципальных образований за 1 полугодие 2021 года
O2: тыс.рублей
A3: Наименование муниципальных образований | B3: Всего
E4: Дотации | H4: Субсидии | K4: Субвенции | N4: Иные межбюджетные трансферты
B6: утвержденные бюджетные назначения 2* | C6: исполнено | D6: % исполнения | E6: утвержденные бюджетные назначения* | F6: исполнено | G6: % исполнения | H6: утвержденные бюджетные назначения 2* | I6: исполнено | J6: % исполнения | K6: утвержденные бюджетные назначения* | L6: исполнено | M6: % исполнения | N6: утвержденные бюджетные назначения 2* | O6: исполнено | P6: % исполнения
A7: Муниципальные районы области (консолидированный) | B7: =E7+H7+K7+N7 -> 26011695 | C7: =F7+I7+L7+O7 -> 12373025 | D7: =C7/B7*100 -> 47.567161 | E7: =E10+E14+E23+E37+E52+E57+E75+E81+E98+E103+E115+E124+E138+E151+E162+E175+E188+E202+E206+E218+E227+E234+E247+E260+E274+E282+E292+E303+E313+E322+E331+E341+E355+E366+E375+E384+E397+E406 -> 4530979.7 | F7: =F10+F14+F23+F37+F52+F57+F75+F81+F98+F103+F115+F124+F138+F151+F162+F175+F188+F202+F206+F218+F227+F234+F247+F260+F274+F282+F292+F303+F313+F322+F331+F341+F355+F366+F375+F384+F397+F406 -> 2139974 | G7: =F7/E7*100 -> 47.22983 | H7: =H10+H14+H23+H37+H52+H57+H75+H81+H98+H103+H115+H124+H138+H151+H162+H175+H188+H202+H206+H218+H227+H234+H247+H260+H274+H282+H292+H303+H313+H322+H331+H341+H355+H366+H375+H384+H397+H406 -> 4391592.6 | I7: =I10+I14+I23+I37+I52+I57+I75+I81+I98+I103+I115+I124+I138+I151+I162+I175+I188+I202+I206+I218+I227+I234+I247+I260+I274+I282+I292+I303+I313+I322+I331+I341+I355+I366+I375+I384+I397+I406 -> 1092125.8 | J7: =I7/H7*100 -> 24.86856 | K7: =K10+K14+K23+K37+K52+K57+K75+K81+K98+K103+K115+K124+K138+K151+K162+K175+K188+K202+K206+K218+K227+K234+K247+K260+K274+K282+K292+K303+K313+K322+K331+K341+K355+K366+K375+K384+K397+K406 -> 15115758 | L7: =L10+L14+L23+L37+L52+L57+L75+L81+L98+L103+L115+L124+L138+L151+L162+L175+L188+L202+L206+L218+L227+L234+L247+L260+L274+L282+L292+L303+L313+L322+L331+L341+L355+L366+L375+L384+L397+L406 -> 8284584.4 | M7: =L7/K7*100 -> 54.807601 | N7: =N10+N14+N23+N37+N52+N57+N75+N81+N98+N103+N115+N124+N138+N151+N162+N175+N188+N202+N206+N218+N227+N234+N247+N260+N274+N282+N292+N303+N313+N322+N331+N341+N355+N366+N375+N384+N397+N406 -> 1973365.2 | O7: =O10+O14+O23+O37+O52+O57+O75+O81+O98+O103+O115+O124+O138+O151+O162+O175+O188+O202+O206+O218+O227+O234+O247+O260+O274+O282+O292+O303+O313+O322+O331+O341+O355+O366+O375+O384+O397+O406 -> 856340.76 | P7: =O7/N7*100 -> 43.394946
A8: Муниципальные районы области (собственный): | B8: =E8+H8+K8+N8 -> 23798117 | C8: =F8+I8+L8+O8 -> 11820124 | D8: =C8/B8*100 -> 49.668315 | E8: =E11+E15+E24+E38+E53+E58+E76+E82+E99+E104+E116+E125+E139+E152+E163+E176+E189+E203+E207+E219+E228+E235+E248+E261+E275+E283+E293+E304+E314+E323+E332+E342+E356+E367+E376+E385+E398+E407 -> 4530979.7 | F8: =F11+F15+F24+F38+F53+F58+F76+F82+F99+F104+F116+F125+F139+F152+F163+F176+F189+F203+F207+F219+F228+F235+F248+F261+F275+F283+F293+F304+F314+F323+F332+F342+F356+F367+F376+F385+F398+F407 -> 2139974 | G8: =F8/E8*100 -> 47.22983 | H8: =H11+H15+H24+H38+H53+H58+H76+H82+H99+H104+H116+H125+H139+H152+H163+H176+H189+H203+H207+H219+H228+H235+H248+H261+H275+H283+H293+H304+H314+H323+H332+H342+H356+H367+H376+H385+H398+H407 -> 3192792.7 | I8: =I11+I15+I24+I38+I53+I58+I76+I82+I99+I104+I116+I125+I139+I152+I163+I176+I189+I203+I207+I219+I228+I235+I248+I261+I275+I283+I293+I304+I314+I323+I332+I342+I356+I367+I376+I385+I398+I407 -> 889090.48 | J8: =I8/H8*100 -> 27.846797 | K8: =K11+K15+K24+K38+K53+K58+K76+K82+K99+K104+K116+K125+K139+K152+K163+K176+K189+K203+K207+K219+K228+K235+K248+K261+K275+K283+K293+K304+K314+K323+K332+K342+K356+K367+K376+K385+K398+K407 -> 15064693 | L8: =L11+L15+L24+L38+L53+L58+L76+L82+L99+L104+L116+L125+L139+L152+L163+L176+L189+L203+L207+L219+L228+L235+L248+L261+L275+L283+L293+L304+L314+L323+L332+L342+L356+L367+L376+L385+L398+L407 -> 8265091.1 | M8: =L8/K8*100 -> 54.863986 | N8: =N11+N15+N24+N38+N53+N58+N76+N82+N99+N104+N116+N125+N139+N152+N163+N176+N189+N203+N207+N219+N228+N235+N248+N261+N275+N283+N293+N304+N314+N323+N332+N342+N356+N367+N376+N385+N398+N407 -> 1009651.1 | O8: =O11+O15+O24+O38+O53+O58+O76+O82+O99+O104+O116+O125+O139+O152+O163+O176+O189+O203+O207+O219+O228+O235+O248+O261+O275+O283+O293+O304+O314+O323+O332+O342+O356+O367+O376+O385+O398+O407 -> 525967.92 | P8: =O8/N8*100 -> 52.094028
A9: Поселения: | B9: =E9+H9+K9+N9 -> 2213579 | C9: =F9+I9+L9+O9 -> 552901.43 | D9: =C9/B9*100 -> 24.977714 | E9: =SUM(E12:E13)+SUM(E16:E22)+SUM(E25:E36)+SUM(E39:E51)+SUM(E54:E56)+SUM(E59:E74)+SUM(E77:E80)+SUM(E83:E97)+SUM(E100:E102)+SUM(E105:E114)+SUM(E117:E123)+SUM(E126:E137)+SUM(E140:E150)+SUM(E153:E161)+SUM(E164:E174)+SUM(E177:E187)+SUM(E190:E201)+SUM(E204:E205)+SUM(E208:E217)+SUM(E220:E226)+SUM(E229:E233)+SUM(E236:E246)+SUM(E249:E259)+SUM(E262:E273)+SUM(E276:E281)+SUM(E284:E291)+SUM(E294:E302)+SUM(E305:E312)+SUM(E315:E321)+SUM(E324:E330)+SUM(E333:E340)+SUM(E343:E354)+SUM(E357:E365)+SUM(E368:E374)+SUM(E377:E383)+SUM(E386:E396)+SUM(E399:E405)+SUM(E408:E412) -> 0 | F9: =SUM(F12:F13)+SUM(F16:F22)+SUM(F25:F36)+SUM(F39:F51)+SUM(F54:F56)+SUM(F59:F74)+SUM(F77:F80)+SUM(F83:F97)+SUM(F100:F102)+SUM(F105:F114)+SUM(F117:F123)+SUM(F126:F137)+SUM(F140:F150)+SUM(F153:F161)+SUM(F164:F174)+SUM(F177:F187)+SUM(F190:F201)+SUM(F204:F205)+SUM(F208:F217)+SUM(F220:F226)+SUM(F229:F233)+SUM(F236:F246)+SUM(F249:F259)+SUM(F262:F273)+SUM(F276:F281)+SUM(F284:F291)+SUM(F294:F302)+SUM(F305:F312)+SUM(F315:F321)+SUM(F324:F330)+SUM(F333:F340)+SUM(F343:F354)+SUM(F357:F365)+SUM(F368:F374)+SUM(F377:F383)+SUM(F386:F396)+SUM(F399:F405)+SUM(F408:F412) -> 0 | H9: =SUM(H12:H13)+SUM(H16:H22)+SUM(H25:H36)+SUM(H39:H51)+SUM(H54:H56)+SUM(H59:H74)+SUM(H77:H80)+SUM(H83:H97)+SUM(H100:H102)+SUM(H105:H114)+SUM(H117:H123)+SUM(H126:H137)+SUM(H140:H150)+SUM(H153:H161)+SUM(H164:H174)+SUM(H177:H187)+SUM(H190:H201)+SUM(H204:H205)+SUM(H208:H217)+SUM(H220:H226)+SUM(H229:H233)+SUM(H236:H246)+SUM(H249:H259)+SUM(H262:H273)+SUM(H276:H281)+SUM(H284:H291)+SUM(H294:H302)+SUM(H305:H312)+SUM(H315:H321)+SUM(H324:H330)+SUM(H333:H340)+SUM(H343:H354)+SUM(H357:H365)+SUM(H368:H374)+SUM(H377:H383)+SUM(H386:H396)+SUM(H399:H405)+SUM(H408:H412) -> 1198799.9 | I9: =SUM(I12:I13)+SUM(I16:I22)+SUM(I25:I36)+SUM(I39:I51)+SUM(I54:I56)+SUM(I59:I74)+SUM(I77:I80)+SUM(I83:I97)+SUM(I100:I102)+SUM(I105:I114)+SUM(I117:I123)+SUM(I126:I137)+SUM(I140:I150)+SUM(I153:I161)+SUM(I164:I174)+SUM(I177:I187)+SUM(I190:I201)+SUM(I204:I205)+SUM(I208:I217)+SUM(I220:I226)+SUM(I229:I233)+SUM(I236:I246)+SUM(I249:I259)+SUM(I262:I273)+SUM(I276:I281)+SUM(I284:I291)+SUM(I294:I302)+SUM(I305:I312)+SUM(I315:I321)+SUM(I324:I330)+SUM(I333:I340)+SUM(I343:I354)+SUM(I357:I365)+SUM(I368:I374)+SUM(I377:I383)+SUM(I386:I396)+SUM(I399:I405)+SUM(I408:I412) -> 203035.36 | J9: =I9/H9*100 -> 16.936551 | K9: =SUM(K12:K13)+SUM(K16:K22)+SUM(K25:K36)+SUM(K39:K51)+SUM(K54:K56)+SUM(K59:K74)+SUM(K77:K80)+SUM(K83:K97)+SUM(K100:K102)+SUM(K105:K114)+SUM(K117:K123)+SUM(K126:K137)+SUM(K140:K150)+SUM(K153:K161)+SUM(K164:K174)+SUM(K177:K187)+SUM(K190:K201)+SUM(K204:K205)+SUM(K208:K217)+SUM(K220:K226)+SUM(K229:K233)+SUM(K236:K246)+SUM(K249:K259)+SUM(K262:K273)+SUM(K276:K281)+SUM(K284:K291)+SUM(K294:K302)+SUM(K305:K312)+SUM(K315:K321)+SUM(K324:K330)+SUM(K333:K340)+SUM(K343:K354)+SUM(K357:K365)+SUM(K368:K374)+SUM(K377:K383)+SUM(K386:K396)+SUM(K399:K405)+SUM(K408:K412) -> 51064.9 | L9: =SUM(L12:L13)+SUM(L16:L22)+SUM(L25:L36)+SUM(L39:L51)+SUM(L54:L56)+SUM(L59:L74)+SUM(L77:L80)+SUM(L83:L97)+SUM(L100:L102)+SUM(L105:L114)+SUM(L117:L123)+SUM(L126:L137)+SUM(L140:L150)+SUM(L153:L161)+SUM(L164:L174)+SUM(L177:L187)+SUM(L190:L201)+SUM(L204:L205)+SUM(L208:L217)+SUM(L220:L226)+SUM(L229:L233)+SUM(L236:L246)+SUM(L249:L259)+SUM(L262:L273)+SUM(L276:L281)+SUM(L284:L291)+SUM(L294:L302)+SUM(L305:L312)+SUM(L315:L321)+SUM(L324:L330)+SUM(L333:L340)+SUM(L343:L354)+SUM(L357:L365)+SUM(L368:L374)+SUM(L377:L383)+SUM(L386:L396)+SUM(L399:L405)+SUM(L408:L412) -> 19493.231 | M9: =L9/K9*100 -> 38.173444 | N9: =SUM(N12:N13)+SUM(N16:N22)+SUM(N25:N36)+SUM(N39:N51)+SUM(N54:N56)+SUM(N59:N74)+SUM(N77:N80)+SUM(N83:N97)+SUM(N100:N102)+SUM(N105:N114)+SUM(N117:N123)+SUM(N126:N137)+SUM(N140:N150)+SUM(N153:N161)+SUM(N164:N174)+SUM(N177:N187)+SUM(N190:N201)+SUM(N204:N205)+SUM(N208:N217)+SUM(N220:N226)+SUM(N229:N233)+SUM(N236:N246)+SUM(N249:N259)+SUM(N262:N273)+SUM(N276:N281)+SUM(N284:N291)+SUM(N294:N302)+SUM(N305:N312)+SUM(N315:N321)+SUM(N324:N330)+SUM(N333:N340)+SUM(N343:N354)+SUM(N357:N365)+SUM(N368:N374)+SUM(N377:N383)+SUM(N386:N396)+SUM(N399:N405)+SUM(N408:N412) -> 963714.12 | O9: =SUM(O12:O13)+SUM(O16:O22)+SUM(O25:O36)+SUM(O39:O51)+SUM(O54:O56)+SUM(O59:O74)+SUM(O77:O80)+SUM(O83:O97)+SUM(O100:O102)+SUM(O105:O114)+SUM(O117:O123)+SUM(O126:O137)+SUM(O140:O150)+SUM(O153:O161)+SUM(O164:O174)+SUM(O177:O187)+SUM(O190:O201)+SUM(O204:O205)+SUM(O208:O217)+SUM(O220:O226)+SUM(O229:O233)+SUM(O236:O246)+SUM(O249:O259)+SUM(O262:O273)+SUM(O276:O281)+SUM(O284:O291)+SUM(O294:O302)+SUM(O305:O312)+SUM(O315:O321)+SUM(O324:O330)+SUM(O333:O340)+SUM(O343:O354)+SUM(O357:O365)+SUM(O368:O374)+SUM(O377:O383)+SUM(O386:O396)+SUM(O399:O405)+SUM(O408:O412) -> 330372.84 | P9: =O9/N9*100 -> 34.281207
A10: Александрово-Гайский район (консолидированный) | B10: =E10+H10+K10+N10 -> 457155.99 | C10: =F10+I10+L10+O10 -> 220880.7 | D10: =C10/B10*100 -> 48.316265 | E10: =E11+E12+E13 -> 142246.37 | F10: =F11+F12+F13 -> 57805.32 | G10: =F10/E10*100 -> 40.637466 | H10: =H11+H12+H13 -> 130737.86 | I10: =I11+I12+I13 -> 43789.954 | J10: =I10/H10*100 -> 33.494471 | K10: =K11+K12+K13 -> 172646.1 | L10: =L11+L12+L13 -> 111597.91 | M10: =L10/K10*100 -> 64.639693 | N10: =N11+N12+N13 -> 11525.664 | O10: =O11+O12+O13 -> 7687.5186 | P10: =O10/N10*100 -> 66.699139
A11: Александрово-Гайский район (собственный) | B11: =E11+H11+K11+N11 -> 452005.77 | C11: =F11+I11+L11+O11 -> 219466.74 | D11: =C11/B11*100 -> 48.553969 | E11: =Дотации!B8 -> 142246.37 | F11: =Дотации!C8 -> 57805.32 | G11: =F11/E11*100 -> 40.637466 | H11: =Субсидии!B12 -> 126664.14 | I11: =Субсидии!C12 -> 42748.051 | J11: =I11/H11*100 -> 33.749134 | K11: ='Субвенции '!B14 -> 171750.4 | L11: ='Субвенции '!C14 -> 111225.85 | M11: =L11/K11*100 -> 64.760172 | N11: =Иные!B12 -> 11344.864 | O11: =Иные!C12 -> 7687.5186 | P11: =O11/N11*100 -> 67.762105
A12: Александрово-Гайское МО | B12: =E12+H12+K12+N12 -> 4024.087 | C12: =F12+I12+L12+O12 -> 1379.6838 | D12: =C12/B12*100 -> 34.285636 | H12: =Субсидии!B13 -> 3233.787 | I12: =Субсидии!C13 -> 1041.9033 | J12: =I12/H12*100 -> 32.219293 | K12: ='Субвенции '!B15 -> 790.3 | L12: ='Субвенции '!C15 -> 337.78052 | M12: =L12/K12*100 -> 42.740797
A13: Новоалександровское МО | B13: =E13+H13+K13+N13 -> 1126.13 | C13: =F13+I13+L13+O13 -> 34.27455 | D13: =C13/B13*100 -> 3.0435696 | H13: =Субсидии!B14 -> 839.93 | I13: =Субсидии!C14 -> 0 | K13: ='Субвенции '!B16 -> 105.4 | L13: ='Субвенции '!C16 -> 34.27455 | M13: =L13/K13*100 -> 32.518548 | N13: =Иные!B14 -> 180.8 | O13: =Иные!C14 -> 0 | P13: =O13/N13*100 -> 0
A14: Аркадакский район (консолидированный) | B14: =E14+H14+K14+N14 -> 356965.82 | C14: =F14+I14+L14+O14 -> 202981.46 | D14: =C14/B14*100 -> 56.862995 | E14: =SUM(E15:E22) -> 83149.1 | F14: =SUM(F15:F22) -> 36751.6 | G14: =F14/E14*100 -> 44.199637 | H14: =SUM(H15:H22) -> 43081.22 | I14: =SUM(I15:I22) -> 12243.46 | J14: =I14/H14*100 -> 28.419483 | K14: =SUM(K15:K22) -> 223653.9 | L14: =SUM(L15:L22) -> 150511.51 | M14: =L14/K14*100 -> 67.296617 | N14: =SUM(N15:N22) -> 7081.6 | O14: =SUM(O15:O22) -> 3474.889 | P14: =O14/N14*100 -> 49.069264
A15: Аркадакский район (собственный) | B15: =E15+H15+K15+N15 -> 351510.12 | C15: =F15+I15+L15+O15 -> 200347.88 | D15: =C15/B15*100 -> 56.996332 | E15: =Дотации!B9 -> 83149.1 | F15: =Дотации!C9 -> 36751.6 | G15: =F15/E15*100 -> 44.199637 | H15: =Субсидии!B16 -> 39639.02 | I15: =Субсидии!C16 -> 10124.692 | J15: =I15/H15*100 -> 25.542236 | K15: ='Субвенции '!B18 -> 222389.1 | L15: ='Субвенции '!C18 -> 149996.7 | M15: =L15/K15*100 -> 67.447863 | N15: =Иные!B16 -> 6332.9 | O15: =Иные!C16 -> 3474.889 | P15: =O15/N15*100 -> 54.870422
A16: город Аркадак | B16: =E16+H16+K16+N16 -> 3085.8 | C16: =F16+I16+L16+O16 -> 2407.0681 | D16: =C16/B16*100 -> 78.00467 | H16: =Субсидии!B17 -> 2383.2 | I16: =Субсидии!C17 -> 2118.7678 | J16: =I16/H16*100 -> 88.904322 | K16: ='Субвенции '!B19 -> 702.6 | L16: ='Субвенции '!C19 -> 288.3003 | M16: =L16/K16*100 -> 41.033348 | N16: =Иные!B17 -> 0 | O16: =Иные!C17 -> 0 | P16: =O16/N16*100 -> #DIV/0!
A17: Большежуравское МО | B17: =E17+H17+K17+N17 -> 166.1 | C17: =F17+I17+L17+O17 -> 39.97242 | D17: =C17/B17*100 -> 24.065274 | H17: =Субсидии!B18 -> 0 | I17: =Субсидии!C18 -> 0 | K17: ='Субвенции '!B20 -> 93.7 | L17: ='Субвенции '!C20 -> 39.97242 | M17: =L17/K17*100 -> 42.66 | N17: =Иные!B18 -> 72.4 | O17: =Иные!C18 -> 0 | P17: =O17/N17*100 -> 0
A18: Краснознаменское МО | B18: =E18+H18+K18+N18 -> 911 | C18: =F18+I18+L18+O18 -> 33.31036 | D18: =C18/B18*100 -> 3.656461 | H18: =Субсидии!B19 -> 700 | I18: =Субсидии!C19 -> 0 | K18: ='Субвенции '!B21 -> 93.7 | L18: ='Субвенции '!C21 -> 33.31036 | M18: =L18/K18*100 -> 35.550011 | N18: =Иные!B19 -> 117.3 | O18: =Иные!C19 -> 0 | P18: =O18/N18*100 -> 0
A19: Львовское МО | B19: =E19+H19+K19+N19 -> 411 | C19: =F19+I19+L19+O19 -> 39.97241 | D19: =C19/B19*100 -> 9.7256472 | H19: =Субсидии!B20 -> 200 | I19: =Субсидии!C20 -> 0 | K19: ='Субвенции '!B22 -> 93.7 | L19: ='Субвенции '!C22 -> 39.97241 | M19: =L19/K19*100 -> 42.659989 | N19: =Иные!B20 -> 117.3 | O19: =Иные!C20 -> 0 | P19: =O19/N19*100 -> 0
A20: Малиновское МО | B20: =E20+H20+K20+N20 -> 370 | C20: =F20+I20+L20+O20 -> 39.97398 | D20: =C20/B20*100 -> 10.803778 | H20: =Субсидии!B21 -> 159 | I20: =Субсидии!C21 -> 0 | K20: ='Субвенции '!B23 -> 93.7 | L20: ='Субвенции '!C23 -> 39.97398 | M20: =L20/K20*100 -> 42.661665 | N20: =Иные!B21 -> 117.3 | O20: =Иные!C21 -> 0 | P20: =O20/N20*100 -> 0
A21: Росташовское МО | B21: =E21+H21+K21+N21 -> 300.8 | C21: =F21+I21+L21+O21 -> 39.97243 | D21: =C21/B21*100 -> 13.288707 | H21: =Субсидии!B22 -> 0 | I21: =Субсидии!C22 -> 0 | K21: ='Субвенции '!B24 -> 93.7 | L21: ='Субвенции '!C24 -> 39.97243 | M21: =L21/K21*100 -> 42.660011 | N21: =Иные!B22 -> 207.1 | O21: =Иные!C22 -> 0 | P21: =O21/N21*100 -> 0
A22: Семеновское МО | B22: =E22+H22+K22+N22 -> 211 | C22: =F22+I22+L22+O22 -> 33.31035 | D22: =C22/B22*100 -> 15.786896 | H22: =Субсидии!B23 -> 0 | I22: =Субсидии!C23 -> 0 | K22: ='Субвенции '!B25 -> 93.7 | L22: ='Субвенции '!C25 -> 33.31035 | M22: =L22/K22*100 -> 35.55 | N22: =Иные!B23 -> 117.3 | O22: =Иные!C23 -> 0 | P22: =O22/N22*100 -> 0
A23: Аткарский район (консолидированный) | B23: =E23+H23+K23+N23 -> 618570.28 | C23: =F23+I23+L23+O23 -> 307871.61 | D23: =C23/B23*100 -> 49.771485 | E23: =SUM(E24:E36) -> 128177.2 | F23: =SUM(F24:F36) -> 57741.8 | G23: =F23/E23*100 -> 45.048417 | H23: =SUM(H24:H36) -> 71301.791 | I23: =SUM(I24:I36) -> 17898.233 | J23: =I23/H23*100 -> 25.10208 | K23: =SUM(K24:K36) -> 406162.7 | L23: =SUM(L24:L36) -> 223773.39 | M23: =L23/K23*100 -> 55.09452 | N23: =SUM(N24:N36) -> 12928.592 | O23: =SUM(O24:O36) -> 8458.1926 | P23: =O23/N23*100 -> 65.422378
A24: Аткарский район (собственный) | B24: =E24+H24+K24+N24 -> 605441.04 | C24: =F24+I24+L24+O24 -> 302831.47 | D24: =C24/B24*100 -> 50.018325 | E24: =Дотации!B10 -> 128177.2 | F24: =Дотации!C10 -> 57741.8 | G24: =F24/E24*100 -> 45.048417 | H24: =Субсидии!B25 -> 64006.841 | I24: =Субсидии!C25 -> 16221.752 | J24: =I24/H24*100 -> 25.343778 | K24: ='Субвенции '!B27 -> 404148.4 | L24: ='Субвенции '!C27 -> 223263.11 | M24: =L24/K24*100 -> 55.242855 | N24: =Иные!B25 -> 9108.6 | O24: =Иные!C25 -> 5604.8002 | P24: =O24/N24*100 -> 61.533059
A25: город Аткарск | B25: =E25+H25+K25+N25 -> 7370.1924 | C25: =F25+I25+L25+O25 -> 3507.9347 | D25: =C25/B25*100 -> 47.596243 | H25: =Субсидии!B26 -> 3345.7 | I25: =Субсидии!C26 -> 468.181 | J25: =I25/H25*100 -> 13.993514 | K25: ='Субвенции '!B28 -> 1171.1 | L25: ='Субвенции '!C28 -> 186.36126 | N25: =Иные!B26 -> 2853.3924 | O25: =Иные!C26 -> 2853.3924
A26: Барановское МО | B26: =E26+H26+K26+N26 -> 586.2 | C26: =F26+I26+L26+O26 -> 370.47192 | D26: =C26/B26*100 -> 63.198895 | H26: =Субсидии!B27 -> 331.4 | I26: =Субсидии!C27 -> 331.4192 | J26: =I26/H26*100 -> 100.00579 | K26: ='Субвенции '!B29 -> 93.7 | L26: ='Субвенции '!C29 -> 39.05272 | M26: =L26/K26*100 -> 41.678463 | N26: =Иные!B27 -> 161.1 | O26: =Иные!C27 -> 0 | P26: =O26/N26*100 -> 0
A27: Большеекатериновское МО | B27: =E27+H27+K27+N27 -> 0 | C27: =F27+I27+L27+O27 -> 0 | H27: =Субсидии!B28 -> 0 | I27: =Субсидии!C28 -> 0 | K27: ='Субвенции '!B30 -> 0 | L27: ='Субвенции '!C30 -> 0
A28: Даниловское МО | B28: =E28+H28+K28+N28 -> 1395.3 | C28: =F28+I28+L28+O28 -> 96.12321 | D28: =C28/B28*100 -> 6.8890712 | H28: =Субсидии!B29 -> 1000 | I28: =Субсидии!C29 -> 0 | K28: ='Субвенции '!B31 -> 234.2 | L28: ='Субвенции '!C31 -> 96.12321 | M28: =L28/K28*100 -> 41.043215 | N28: =Иные!B28 -> 161.1 | O28: =Иные!C28 -> 0 | P28: =O28/N28*100 -> 0
A29: Ершовское МО | B29: =E29+H29+K29+N29 -> 1131.7 | C29: =F29+I29+L29+O29 -> 911.16374 | D29: =C29/B29*100 -> 80.512834 | H29: =Субсидии!B30 -> 876.9 | I29: =Субсидии!C30 -> 876.8808 | J29: =I29/H29*100 -> 99.99781 | K29: ='Субвенции '!B32 -> 93.7 | L29: ='Субвенции '!C32 -> 34.28294 | M29: =L29/K29*100 -> 36.587983 | N29: =Иные!B29 -> 161.1 | O29: =Иные!C29 -> 0 | P29: =O29/N29*100 -> 0
A30: Кочетовское МО | B30: =E30+H30+K30+N30 -> 1338.824 | C30: =F30+I30+L30+O30 -> 85.728 | D30: =C30/B30*100 -> 6.4032315 | H30: =Субсидии!B31 -> 943.524 | I30: =Субсидии!C31 -> 0 | K30: ='Субвенции '!B33 -> 234.2 | L30: ='Субвенции '!C33 -> 85.728 | M30: =L30/K30*100 -> 36.604611 | N30: =Иные!B30 -> 161.1 | O30: =Иные!C30 -> 0 | P30: =O30/N30*100 -> 0
A31: Лопуховское МО | B31: =E31+H31+K31+N31 -> 254.8 | C31: =F31+I31+L31+O31 -> 34.33094 | D31: =C31/B31*100 -> 13.473681 | H31: =Субсидии!B32 -> 0 | I31: =Субсидии!C32 -> 0 | K31: ='Субвенции '!B34 -> 93.7 | L31: ='Субвенции '!C34 -> 34.33094 | M31: =L31/K31*100 -> 36.63921 | N31: =Иные!B31 -> 161.1 | O31: =Иные!C31 -> 0 | P31: =O31/N31*100 -> 0
A32: Озерное МО | B32: =E32+H32+K32+N32 -> 1052.226 | C32: =F32+I32+L32+O32 -> 34.3958 | D32: =C32/B32*100 -> 3.2688605 | H32: =Субсидии!B33 -> 797.426 | I32: =Субсидии!C33 -> 0 | K32: ='Субвенции '!B35 -> 93.7 | L32: ='Субвенции '!C35 -> 34.3958 | M32: =L32/K32*100 -> 36.708431 | N32: =Иные!B32 -> 161.1 | O32: =Иные!C32 -> 0 | P32: =O32/N32*100 -> 0
A33: Песчанское МО | B33: =E33+H33+K33+N33 -> 0 | C33: =F33+I33+L33+O33 -> 0 | H33: =Субсидии!B34 -> 0 | I33: =Субсидии!C34 -> 0 | K33: ='Субвенции '!B36 -> 0 | L33: ='Субвенции '!C36 -> 0
A34: Петровское МО | B34: =E34+H34+K34+N34 -> 0 | C34: =F34+I34+L34+O34 -> 0 | H34: =Субсидии!B35 -> 0 | I34: =Субсидии!C35 -> 0 | K34: ='Субвенции '!B37 -> 0 | L34: ='Субвенции '!C37 -> 0
A35: Тургеневское МО | B35: =E35+H35+K35+N35 -> 0 | C35: =F35+I35+L35+O35 -> 0 | H35: =Субсидии!B36 -> 0 | I35: =Субсидии!C36 -> 0 | K35: ='Субвенции '!B38 -> 0 | L35: ='Субвенции '!C38 -> 0
A36: Языковское МО | B36: =E36+H36+K36+N36 -> 0 | C36: =F36+I36+L36+O36 -> 0 | H36: =Субсидии!B37 -> 0 | I36: =Субсидии!C37 -> 0 | K36: ='Субвенции '!B39 -> 0 | L36: ='Субвенции '!C39 -> 0
A37: Базарно-Карабулакский район (консолидированный) | B37: =E37+H37+K37+N37 -> 489382.54 | C37: =F37+I37+L37+O37 -> 238484.47 | D37: =C37/B37*100 -> 48.731708 | E37: =SUM(E38:E51) -> 113762.2 | F37: =SUM(F38:F51) -> 50288.55 | G37: =F37/E37*100 -> 44.204973 | H37: =SUM(H38:H51) -> 55970.637 | I37: =SUM(I38:I51) -> 14699.785 | J37: =I37/H37*100 -> 26.263386 | K37: =SUM(K38:K51) -> 301361.7 | L37: =SUM(L38:L51) -> 169209.97 | M37: =L37/K37*100 -> 56.148465 | N37: =SUM(N38:N51) -> 18288 | O37: =SUM(O38:O51) -> 4286.1658 | P37: =O37/N37*100 -> 23.43704
A38: Базарно-Карабулакский район (собственный) | B38: =E38+H38+K38+N38 -> 468896.74 | C38: =F38+I38+L38+O38 -> 234945.15 | D38: =C38/B38*100 -> 50.105946 | E38: =Дотации!B11 -> 113762.2 | F38: =Дотации!C11 -> 50288.55 | G38: =F38/E38*100 -> 44.204973 | H38: =Субсидии!B39 -> 48727.041 | I38: =Субсидии!C39 -> 11822.945 | J38: =I38/H38*100 -> 24.263621 | K38: ='Субвенции '!B41 -> 299675.4 | L38: ='Субвенции '!C41 -> 168547.49 | M38: =L38/K38*100 -> 56.243352 | N38: =Иные!B34 -> 6732.1 | O38: =Иные!C34 -> 4286.1658 | P38: =O38/N38*100 -> 63.66759
A39: Алексеевское МО | B39: =E39+H39+K39+N39 -> 1113.8323 | C39: =F39+I39+L39+O39 -> 94.43159 | D39: =C39/B39*100 -> 8.4780795 | H39: =Субсидии!B40 -> 644.63232 | I39: =Субсидии!C40 -> 0 | K39: ='Субвенции '!B42 -> 234.2 | L39: ='Субвенции '!C42 -> 94.43159 | M39: =L39/K39*100 -> 40.320918 | N39: =Иные!B35 -> 235 | O39: =Иные!C35 -> 0
A40: Базарно-Карабулакское МО | B40: =E40+H40+K40+N40 -> 11993.6 | C40: =F40+I40+L40+O40 -> 1993.64 | D40: =C40/B40*100 -> 16.622532 | H40: =Субсидии!B41 -> 1993.6 | I40: =Субсидии!C41 -> 1993.64 | J40: =I40/H40*100 -> 100.00201 | N40: =Иные!B36 -> 10000 | O40: =Иные!C36 -> 0 | P40: =Иные!D36 -> 0
A41: Большечечуйское МО | B41: =E41+H41+K41+N41 -> 894.3 | C41: =F41+I41+L41+O41 -> 35.74137 | D41: =C41/B41*100 -> 3.996575 | H41: =Субсидии!B42 -> 705.2 | I41: =Субсидии!C42 -> 0 | K41: ='Субвенции '!B43 -> 93.7 | L41: ='Субвенции '!C43 -> 35.74137 | M41: =L41/K41*100 -> 38.144472 | N41: =Иные!B37 -> 95.4 | O41: =Иные!C37 -> 0
...

Sheet Дотации
A1: Сведения о предоставлении из бюджета Саратовской области межбюджетных трансфертов местным бюджетам за 1 полугодие 2021 года
S3: тыс.рублей
A4: Наименование муниципальных образований | B4: Дотации, всего | E4: в том числе
E5: бюджетам городских округов области, связанные с особым режимом безопасного функционирования закрытых административно-территориальных образований | H5: на выравнивание бюджетной обеспеченности муниципальных районов (городских округов) области | K5: на поддержку мер по обеспечению сбалансированности бюджетов | N5: бюджетам муниципальных районов области на обеспечение финансовой устойчивости местных бюджетов в условиях нестабильной ситуации, связанной с пандемией новой коронавирусной инфекции | Q5: бюджетам муниципальных районов и городских округов области на компенсацию дополнительных расходов на повышение оплаты труда некоторых категорий работников муниципальных учреждений в связи с увеличением минимального размера оплаты труда с 1 января 2021 года
B6: утвержденные бюджетные назначения * | C6: исполнено | D6: % исполнения | E6: утвержденные бюджетные назначения * | F6: исполнено | G6: % исполнения | H6: утвержденные бюджетные назначения * | I6: исполнено | J6: % исполнения | K6: утвержденные бюджетные назначения * | L6: исполнено | M6: % исполнения | N6: утвержденные бюджетные назначения * | O6: исполнено | P6: % исполнения | Q6: утвержденные бюджетные назначения * | R6: исполнено | S6: % исполнения
A7: Муниципальные районы области: | B7: =SUM(B8:B45) -> 4530979.7 | C7: =SUM(C8:C45) -> 2139974 | D7: =C7/B7*100 -> 47.22983 | H7: =SUM(H8:H45) -> 3291115.5 | I7: =SUM(I8:I45) -> 1491602.4 | J7: =I7/H7*100 -> 45.322092 | K7: =SUM(K8:K45) -> 797452.6 | L7: =SUM(L8:L45) -> 239237.4 | M7: =L7/K7*100 -> 30.000203 | N7: =SUM(N8:N45) -> 375856.86 | O7: =SUM(O8:O45) -> 375856.86 | P7: =O7/N7*100 -> 100 | Q7: =SUM(Q8:Q45) -> 66554.7 | R7: =SUM(R8:R45) -> 33277.35 | S7: =R7/Q7*100 -> 50
A8: Александрово-Гайский | B8: =E8+H8+K8+N8+Q8 -> 142246.37 | C8: =F8+I8+L8+O8+R8 -> 57805.32 | D8: =C8/B8*100 -> 40.637466 | H8: 61074.5 | I8: 27483.6 | J8: =I8/H8*100 -> 45.000123 | K8: 72311.8 | L8: 21693.6 | M8: =L8/K8*100 -> 30.000083 | N8: 8396.17 | O8: 8396.17 | P8: =O8/N8*100 -> 100 | Q8: 463.9 | R8: 231.95 | S8: =R8/Q8*100 -> 50
A9: Аркадакский | B9: =E9+H9+K9+N9+Q9 -> 83149.1 | C9: =F9+I9+L9+O9+R9 -> 36751.6 | D9: =C9/B9*100 -> 44.199637 | H9: 77073.4 | I9: 34683 | J9: =I9/H9*100 -> 44.999961 | K9: 4844.9 | L9: 1453.2 | M9: =L9/K9*100 -> 29.994427 | Q9: 1230.8 | R9: 615.4 | S9: =R9/Q9*100 -> 50
A10: Аткарский | B10: =E10+H10+K10+N10+Q10 -> 128177.2 | C10: =F10+I10+L10+O10+R10 -> 57741.8 | D10: =C10/B10*100 -> 45.048417 | H10: 126936 | I10: 57121.2 | J10: =I10/H10*100 -> 45 | Q10: 1241.2 | R10: 620.6 | S10: =R10/Q10*100 -> 50
A11: Базарно-Карабулакский | B11: =E11+H11+K11+N11+Q11 -> 113762.2 | C11: =F11+I11+L11+O11+R11 -> 50288.55 | D11: =C11/B11*100 -> 44.204973 | H11: 107702.3 | I11: 48466.2 | J11: =I11/H11*100 -> 45.000153 | K11: 6039.2 | L11: 1812 | M11: =L11/K11*100 -> 30.003974 | Q11: 20.7 | R11: 10.35 | S11: =R11/Q11*100 -> 50
A12: Балаковский | B12: =E12+H12+K12+N12+Q12 -> 3449 | C12: =F12+I12+L12+O12+R12 -> 1724.5 | D12: =C12/B12*100 -> 50 | Q12: 3449 | R12: 1724.5 | S12: =R12/Q12*100 -> 50
A13: Балашовский | B13: =E13+H13+K13+N13+Q13 -> 166405.7 | C13: =F13+I13+L13+O13+R13 -> 75115.95 | D13: =C13/B13*100 -> 45.140251 | H13: 161741 | I13: 72783.6 | J13: =I13/H13*100 -> 45.000093 | Q13: 4664.7 | R13: 2332.35 | S13: =R13/Q13*100 -> 50
A14: Балтайский | B14: =E14+H14+K14+N14+Q14 -> 81930.5 | C14: =F14+I14+L14+O14+R14 -> 30558.55 | D14: =C14/B14*100 -> 37.298137 | H14: 38803.1 | I14: 17461.2 | J14: =I14/H14*100 -> 44.999497 | K14: 42333.1 | L14: 12700.2 | M14: =L14/K14*100 -> 30.000638 | Q14: 794.3 | R14: 397.15 | S14: =R14/Q14*100 -> 50
A15: Вольский | B15: =E15+H15+K15+N15+Q15 -> 135212 | C15: =F15+I15+L15+O15+R15 -> 82396.8 | D15: =C15/B15*100 -> 60.93897 | H15: 92184 | I15: 41482.8 | J15: =I15/H15*100 -> 45 | N15: 38800 | O15: 38800 | P15: =O15/N15*100 -> 100 | Q15: 4228 | R15: 2114 | S15: =R15/Q15*100 -> 50
A16: Воскресенский | B16: =E16+H16+K16+N16+Q16 -> 65290.1 | C16: =F16+I16+L16+O16+R16 -> 29517.5 | D16: =C16/B16*100 -> 45.209764 | H16: 42234.4 | I16: 19005.6 | J16: =I16/H16*100 -> 45.000284 | K16: 17579.9 | L16: 5274 | M16: =L16/K16*100 -> 30.000171 | N16: 5000 | O16: 5000 | P16: =O16/N16*100 -> 100 | Q16: 475.8 | R16: 237.9 | S16: =R16/Q16*100 -> 50
A17: Дергачевский | B17: =E17+H17+K17+N17+Q17 -> 137225.5 | C17: =F17+I17+L17+O17+R17 -> 59088.65 | D17: =C17/B17*100 -> 43.059526 | H17: 108718.5 | I17: 48923.4 | J17: =I17/H17*100 -> 45.000069 | K17: 25441.7 | L17: 7632.6 | M17: =L17/K17*100 -> 30.000354 | N17: 2000 | O17: 2000 | P17: =O17/N17*100 -> 100 | Q17: 1065.3 | R17: 532.65 | S17: =R17/Q17*100 -> 50
A18: Духовницкий | B18: =E18+H18+K18+N18+Q18 -> 66315.6 | C18: =F18+I18+L18+O18+R18 -> 32514.05 | D18: =C18/B18*100 -> 49.029263 | H18: 27277.9 | I18: 14274.9 | J18: =I18/H18*100 -> 52.331374 | K18: 28899.4 | L18: 8670 | M18: =L18/K18*100 -> 30.000623 | N18: 9000 | O18: 9000 | P18: =O18/N18*100 -> 100 | Q18: 1138.3 | R18: 569.15 | S18: =R18/Q18*100 -> 50
A19: Екатериновский | B19: =E19+H19+K19+N19+Q19 -> 86124.9 | C19: =F19+I19+L19+O19+R19 -> 39125.45 | D19: =C19/B19*100 -> 45.428732 | H19: 24736.9 | I19: 11131.8 | J19: =I19/H19*100 -> 45.000788 | K19: 47251.9 | L19: 14175.6 | M19: =L19/K19*100 -> 30.000063 | N19: 13500 | O19: 13500 | P19: =O19/N19*100 -> 100 | Q19: 636.1 | R19: 318.05 | S19: =R19/Q19*100 -> 50
A20: Ершовский | B20: =E20+H20+K20+N20+Q20 -> 180034.76 | C20: =F20+I20+L20+O20+R20 -> 77884.76 | D20: =C20/B20*100 -> 43.260957 | H20: 86679.4 | I20: 39006 | J20: =I20/H20*100 -> 45.000311 | K20: 76872.1 | L20: 23061.6 | M20: =L20/K20*100 -> 29.999961 | N20: 15151.06 | O20: 15151.06 | P20: =O20/N20*100 -> 100 | Q20: 1332.2 | R20: 666.1 | S20: =R20/Q20*100 -> 50
A21: Ивантеевский | B21: =E21+H21+K21+N21+Q21 -> 88824.7 | C21: =F21+I21+L21+O21+R21 -> 31678 | D21: =C21/B21*100 -> 35.663504 | H21: 8687 | I21: 3909 | J21: =I21/H21*100 -> 44.998273 | K21: 73998.5 | L21: 22199.4 | M21: =L21/K21*100 -> 29.999797 | N21: 5000 | O21: 5000 | P21: =O21/N21*100 -> 100 | Q21: 1139.2 | R21: 569.6 | S21: =R21/Q21*100 -> 50
A22: Калининский | B22: =E22+H22+K22+N22+Q22 -> 89478.3 | C22: =F22+I22+L22+O22+R22 -> 46154.15 | D22: =C22/B22*100 -> 51.581389 | H22: 70295.9 | I22: 31633.2 | J22: =I22/H22*100 -> 45.000064 | K22: 5351.7 | L22: 1605.6 | M22: =L22/K22*100 -> 30.001682 | N22: 12000 | O22: 12000 | P22: =O22/N22*100 -> 100 | Q22: 1830.7 | R22: 915.35 | S22: =R22/Q22*100 -> 50
A23: Красноармейский | B23: =E23+H23+K23+N23+Q23 -> 189107.8 | C23: =F23+I23+L23+O23+R23 -> 93985.7 | D23: =C23/B23*100 -> 49.699536 | H23: 164533.8 | I23: 74040 | J23: =I23/H23*100 -> 44.999872 | K23: 5457.4 | L23: 1637.4 | M23: =L23/K23*100 -> 30.003298 | N23: 17500 | O23: 17500 | P23: =O23/N23*100 -> 100 | Q23: 1616.6 | R23: 808.3 | S23: =R23/Q23*100 -> 50
A24: Краснокутский | B24: =E24+H24+K24+N24+Q24 -> 126202.8 | C24: =F24+I24+L24+O24+R24 -> 55200.35 | D24: =C24/B24*100 -> 43.739402 | H24: 93921.1 | I24: 42264.6 | J24: =I24/H24*100 -> 45.000112 | K24: 26027 | L24: 7808.4 | M24: =L24/K24*100 -> 30.001153 | N24: 4000 | O24: 4000 | P24: =O24/N24*100 -> 100 | Q24: 2254.7 | R24: 1127.35 | S24: =R24/Q24*100 -> 50
A25: Краснопартизанский | B25: =E25+H25+K25+N25+Q25 -> 82978.6 | C25: =F25+I25+L25+O25+R25 -> 37107.55 | D25: =C25/B25*100 -> 44.719422 | H25: 60569.6 | I25: 27256.2 | J25: =I25/H25*100 -> 44.999802 | K25: 17038.1 | L25: 5111.4 | M25: =L25/K25*100 -> 29.999824 | N25: 4109 | O25: 4109 | P25: =O25/N25*100 -> 100 | Q25: 1261.9 | R25: 630.95 | S25: =R25/Q25*100 -> 50
A26: Лысогорский | B26: =E26+H26+K26+N26+Q26 -> 114997.4 | C26: =F26+I26+L26+O26+R26 -> 53519.4 | D26: =C26/B26*100 -> 46.539661 | H26: 83351.5 | I26: 37508.4 | J26: =I26/H26*100 -> 45.00027 | K26: 21559.9 | L26: 6468 | M26: =L26/K26*100 -> 30.000139 | N26: 9000 | O26: 9000 | P26: =O26/N26*100 -> 100 | Q26: 1086 | R26: 543 | S26: =R26/Q26*100 -> 50
A27: Марксовский | B27: =E27+H27+K27+N27+Q27 -> 202909.6 | C27: =F27+I27+L27+O27+R27 -> 91379.5 | D27: =C27/B27*100 -> 45.034587 | H27: 201511.4 | I27: 90680.4 | J27: =I27/H27*100 -> 45.000134 | Q27: 1398.2 | R27: 699.1 | S27: =R27/Q27*100 -> 50
A28: Новобурасский | B28: =E28+H28+K28+N28+Q28 -> 98033.9 | C28: =F28+I28+L28+O28+R28 -> 56098.55 | D28: =C28/B28*100 -> 57.223624 | H28: 81437.8 | I28: 45246.9 | J28: =I28/H28*100 -> 55.560072 | K28: 7230.8 | L28: 2169 | M28: =L28/K28*100 -> 29.996681 | N28: 8000 | O28: 8000 | P28: =O28/N28*100 -> 100 | Q28: 1365.3 | R28: 682.65 | S28: =R28/Q28*100 -> 50
A29: Новоузенский | B29: =E29+H29+K29+N29+Q29 -> 213799.09 | C29: =F29+I29+L29+O29+R29 -> 100597.94 | D29: =C29/B29*100 -> 47.052557 | H29: 177089.2 | I29: 79690.2 | J29: =I29/H29*100 -> 45.000034 | K29: 20849.1 | L29: 6255 | M29: =L29/K29*100 -> 30.001295 | N29: 13444.689 | O29: 13444.689 | P29: =O29/N29*100 -> 100 | Q29: 2416.1 | R29: 1208.05 | S29: =R29/Q29*100 -> 50
A30: Озинский | B30: =E30+H30+K30+N30+Q30 -> 158554 | C30: =F30+I30+L30+O30+R30 -> 64282.2 | D30: =C30/B30*100 -> 40.54278 | H30: 99776.4 | I30: 44899.2 | J30: =I30/H30*100 -> 44.99982 | K30: 55029.6 | L30: 16509 | M30: =L30/K30*100 -> 30.000218 | N30: 2000 | O30: 2000 | P30: =O30/N30*100 -> 100 | Q30: 1748 | R30: 874 | S30: =R30/Q30*100 -> 50
A31: Перелюбский | B31: =E31+H31+K31+N31+Q31 -> 87011.9 | C31: =F31+I31+L31+O31+R31 -> 38927.25 | D31: =C31/B31*100 -> 44.737846 | H31: 43886.1 | I31: 19749 | J31: =I31/H31*100 -> 45.000581 | K31: 33545.9 | L31: 10063.8 | M31: =L31/K31*100 -> 30.000089 | N31: 8649 | O31: 8649 | P31: =O31/N31*100 -> 100 | Q31: 930.9 | R31: 465.45 | S31: =R31/Q31*100 -> 50
A32: Петровский | B32: =E32+H32+K32+N32+Q32 -> 207078.3 | C32: =F32+I32+L32+O32+R32 -> 110113.6 | D32: =C32/B32*100 -> 53.174862 | H32: 174513.1 | I32: 78531 | J32: =I32/H32*100 -> 45.00006 | N32: 30600 | O32: 30600 | P32: =O32/N32*100 -> 100 | Q32: 1965.2 | R32: 982.6 | S32: =R32/Q32*100 -> 50
A33: Питерский | B33: =E33+H33+K33+N33+Q33 -> 130350 | C33: =F33+I33+L33+O33+R33 -> 53192.85 | D33: =C33/B33*100 -> 40.80771 | H33: 71097.1 | I33: 31993.8 | J33: =I33/H33*100 -> 45.000148 | K33: 53387.6 | L33: 16016.4 | M33: =L33/K33*100 -> 30.000225 | N33: 4500 | O33: 4500 | P33: =O33/N33*100 -> 100 | Q33: 1365.3 | R33: 682.65 | S33: =R33/Q33*100 -> 50
A34: Пугачевский | B34: =E34+H34+K34+N34+Q34 -> 216403.3 | C34: =F34+I34+L34+O34+R34 -> 114014.95 | D34: =C34/B34*100 -> 52.686327 | H34: 183734.6 | I34: 82680.6 | J34: =I34/H34*100 -> 45.000016 | N34: 30000 | O34: 30000 | P34: =O34/N34*100 -> 100 | Q34: 2668.7 | R34: 1334.35 | S34: =R34/Q34*100 -> 50
A35: Ровенский | B35: =E35+H35+K35+N35+Q35 -> 100344.3 | C35: =F35+I35+L35+O35+R35 -> 45192.35 | D35: =C35/B35*100 -> 45.037287 | H35: 99599.6 | I35: 44820 | J35: =I35/H35*100 -> 45.000181 | Q35: 744.7 | R35: 372.35 | S35: =R35/Q35*100 -> 50
A36: Романовский | B36: =E36+H36+K36+N36+Q36 -> 71932.482 | C36: =F36+I36+L36+O36+R36 -> 32463.032 | D36: =C36/B36*100 -> 45.129865 | H36: 54719.2 | I36: 24623.4 | J36: =I36/H36*100 -> 44.999561 | K36: 13243.4 | L36: 3973.2 | M36: =L36/K36*100 -> 30.001359 | N36: 3762.982 | O36: 3762.982 | P36: =O36/N36*100 -> 100 | Q36: 206.9 | R36: 103.45 | S36: =R36/Q36*100 -> 50
A37: Ртищевский | B37: =E37+H37+K37+N37+Q37 -> 134474.9 | C37: =F37+I37+L37+O37+R37 -> 57138.2 | D37: =C37/B37*100 -> 42.489862 | H37: 107612.3 | I37: 48425.4 | J37: =I37/H37*100 -> 44.999875 | K37: 23592.2 | L37: 7077.6 | M37: =L37/K37*100 -> 29.999746 | Q37: 3270.4 | R37: 1635.2 | S37: =R37/Q37*100 -> 50
A38: Самойловский | B38: =E38+H38+K38+N38+Q38 -> 52613.46 | C38: =F38+I38+L38+O38+R38 -> 24598.16 | D38: =C38/B38*100 -> 46.752599 | H38: 35688.5 | I38: 16059.6 | J38: =I38/H38*100 -> 44.99937 | K38: 11981 | L38: 3594.6 | M38: =L38/K38*100 -> 30.002504 | N38: 4943.96 | O38: 4943.96 | P38: =O38/N38*100 -> 100
A39: Саратовский | B39: =E39+H39+K39+N39+Q39 -> 0 | C39: =F39+I39+L39+O39+R39 -> 0
A40: Советский | B40: =E40+H40+K40+N40+Q40 -> 71326.9 | C40: =F40+I40+L40+O40+R40 -> 32450.85 | D40: =C40/B40*100 -> 45.495949 | H40: 49497.7 | I40: 22273.8 | J40: =I40/H40*100 -> 44.999667 | K40: 16187.9 | L40: 4856.4 | M40: =L40/K40*100 -> 30.000185 | N40: 5000 | O40: 5000 | P40: =O40/N40*100 -> 100 | Q40: 641.3 | R40: 320.65 | S40: =R40/Q40*100 -> 50
A41: Татищевский | B41: =E41+H41+K41+N41+Q41 -> 87429.5 | C41: =F41+I41+L41+O41+R41 -> 40268.35 | D41: =C41/B41*100 -> 46.058081 | H41: 33524.3 | I41: 15085.8 | J41: =I41/H41*100 -> 44.999597 | K41: 40098.9 | L41: 12029.4 | M41: =L41/K41*100 -> 29.999327 | N41: 12500 | O41: 12500 | P41: =O41/N41*100 -> 100 | Q41: 1306.3 | R41: 653.15 | S41: =R41/Q41*100 -> 50
...

Sheet Субсидии
BE1: Продолжение таблицы | CI1: Продолжение таблицы | DG1: Продолжение таблицы
B2: Сведения о предоставлении из бюджета Саратовской области межбюджетных трансфертов местным бюджетам за 1 полугодие 2021 года | AC2: Сведения о предоставлении из бюджета Саратовской области межбюджетных трансфертов местным бюджетам за 1 полугодие 2021 года | BG2: Сведения о предоставлении из бюджета Саратовской области межбюджетных трансфертов местным бюджетам за 1 полугодие 2021 года | CK2: Сведения о предоставлении из бюджета Саратовской области межбюджетных трансфертов местным бюджетам за 1 полугодие 2021 года
AA4: тыс.рублей | BE4: тыс.рублей | CI4: тыс.рублей | DF4: тыс.рублей
A5: Наименование муниципальных образований | B5: Субсидии, всего | E5: в том числе | AC5: в том числе | BG5: в том числе | CK5: в том числе
E6: бюджетам муниципальных районов области на создание в общеобразователь-ных организациях, расположенных в сельской местности и малых городах, условий для занятий физической культурой и спортом | H6: бюджетам муниципальных районов и городских округов области на создание новых мест в общеобразовательных организациях | K6: бюджетам муниципальных районов и городских округов области на обеспечение жильем молодых семей | N6: бюджетам городских округов и поселений области на реализацию регионального проекта (программы) в целях выполнения задач федерального проекта «Жилье» (Стимулирование программ развития жилищного строительства) | Q6: бюджетам муниципальных районов и поселений области на поддержку творческой деятельности и укрепление материально-технической базы муниципальных театров в населенных пунктах с численностью населения до 300 тысяч человек | T6: бюджетам муниципальных районов и поселений области на обеспечение развития и укрепления материально-технической базы домов культуры в населенных пунктах с числом жителей до 50 тысяч человек | W6: бюджетам муниципальных районов и поселений области на поддержку отрасли культуры на государственную поддержку лучших сельских учреждений культуры | Z6: бюджетам муниципальных районов и поселений области на поддержку отрасли культуры на государственную поддержку лучших работников сельских учреждений культуры | AC6: бюджетам муниципальных районов области на обеспечение деятельности муниципальных бизнес-инкубаторов | AF6: бюджетам городских округов, городских и сельских поселений области на реализацию инициативных проектов | AI6: бюджетам городских округов и поселений области на поддержку муниципальных программ формирования современной городской среды | AL6: бюджетам муниципальных районов и городских округов области на обеспечение сохранения достигнутых показателей повышения оплаты труда отдельных категорий работников бюджетной сферы | AO6: бюджетам муниципальных районов и городских округов области на создание дополнительных мест для детей в возрасте от 1,5 до 3 лет в образовательных организациях, осуществляющих образовательную деятельность по образовательным программам дошкольного образования | AR6: бюджетам муниципальных районов области на государственную поддержку отрасли культуры (создание и модернизация учреждений культурно-досугового типа в сельской местности) | AU6: бюджетам муниципальных районов, городских округов и поселений области на обеспечение мероприятий по переселению граждан из аварийного жилищного фонда, в том числе переселению граждан из аварийного жилищного фонда с учетом необходимости развития малоэтажного жилищного строительства (за счет средств Фонда содействия реформированию жилищно-коммунального хозяйства) | AX6: бюджетам муниципальных районов, городских округов и поселений области на обеспечение мероприятий по переселению граждан из аварийного жилищного фонда, в том числе переселению граждан из аварийного жилищного фонда с учетом необходимости развития малоэтажного жилищного строительства (за счет средств областного бюджета) | BA6: бюджетам муниципальных районов и городских округов области на обеспечение условий для создания центров образования цифрового и гуманитарного профиле | BD6: бюджетам городских округов и поселений области на реализацию мероприятий по строительству и реконструкции (модернизации) объектов питьевого водоснабжения | BG6: бюджетам поселений области на реализацию мероприятий по сокращению доли загрязненных сточных вод | BJ6: бюджетам городских округов и поселений области на обустройство и восстановление воинских захоронений, находящихся в государственной (муниципальной) собственности | BM6: бюджетам городских округов области на осуществление дорожной деятельности в отношении автомобильных дорог общего пользования местного значения Саратовской агломерации в границах городских округов области в рамках достижения соответствующих задач национального проекта «Безопасные и качественные автомобильные дороги» за счет средств областного дорожного фонда | BP6: бюджетам муниципальных районов и поселений области на развитие инженерной инфраструктуры на сельских территориях (развитие водоснабжения (локальные водоводы) на сельских территориях) | BS6: бюджетам поселений области на обустройство объектами инженерной инфраструктуры и благоустройство площадок, расположенных на сельских территориях, под компактную жилищную застройку | BV6: бюджетам муниципальных районов области на реализацию мероприятий по благоустройству сельских территорий | BY6: бюджетам муниципальных районов области на благоустройство зданий муниципальных общеобразовательных организаций в целях соблюдения требований к воздушно-тепловому режиму, водоснабжению и канализации | CB6: бюджетам муниципальных районов и городских округов области на обеспечение условий для внедрения цифровой образовательной среды в общеобразовательных организациях | CE6: бюджетам муниципальных районов и городских округов области на обеспечение образовательных организаций материально-технической базой для внедрения цифровой образовательной среды | CH6: бюджетам муниципальных районов и городских округов области на модернизацию (капитальный ремонт, реконструкция) муниципальных детских школ искусств по видам искусств | CK6: бюджетам муниципальных районов области на обеспечение функционирования центров цифрового образования детей «IT-куб» | CN6: бюджетам муниципальных районов и городских округов области на организацию бесплатного горячего питания обучающихся, получающих начальное общее образование в муниципальных образовательных организациях | CQ6: бюджетам поселений области на выполнение мероприятий по ремонту автомобильных дорог общего пользования местного значения в границах городских поселений области за счет средств областного дорожного фонда | CT6: бюджетам городских округов области на выполнение мероприятий по ремонту автомобильных дорог общего пользования местного значения в границах городских округов области за счет средств областного дорожного фонда | CW6: бюджетам муниципальных районов и городских округов области на выравнивание возможностей местных бюджетов по обеспечению образовательной деятельности муниципальных общеобразовательных учреждений | CZ6: бюджетам поселений области на создание, реконструкцию (модернизацию), капитальный ремонт объектов социальной и культурной сферы | DC6: бюджетам муниципальных районов и городских округов области на обеспечение условий для функционирования центров образования естественно-научной и технологической направленностей в общеобразовательных организациях | DF6: бюджетам муниципальных районов и городских округов области на создание и обеспечение функционирования центров образования естественно-научной и технологической направленностей в общеобразовательных организациях, расположенных в сельской местности и малых городах
B7: утвержденные бюджетные назначения | C7: исполнено | D7: % исполнения | E7: утвержденные бюджетные назначения* | F7: исполнено | G7: % исполнения | H7: утвержденные бюджетные назначения* | I7: исполнено | J7: % исполнения | K7: утвержденные бюджетные назначения* | L7: исполнено | M7: % исполнения | N7: утвержденные бюджетные назначения* | O7: исполнено | P7: % исполнения | Q7: утвержденные бюджетные назначения* | R7: исполнено | S7: % исполнения | T7: утвержденные бюджетные назначения* | U7: исполнено | V7: % исполнения | W7: утвержденные бюджетные назначения* | X7: исполнено | Y7: % исполнения | Z7: утвержденные бюджетные назначения* | AA7: исполнено | AB7: % исполнения | AC7: утвержденные бюджетные назначения* | AD7: исполнено | AE7: % исполнения | AF7: утвержденные бюджетные назначения 3* | AG7: исполнено | AH7: % исполнения | AI7: утвержденные бюджетные назначения* | AJ7: исполнено | AK7: % исполнения | AL7: утвержденные бюджетные назначения* | AM7: исполнено | AN7: % исполнения | AO7: утвержденные бюджетные назначения* | AP7: исполнено | AQ7: % исполнения | AR7: утвержденные бюджетные назначения* | AS7: исполнено | AT7: % исполнения | AU7: утвержденные бюджетные назначения* | AV7: исполнено | AW7: % исполнения | AX7: утвержденные бюджетные назначения* | AY7: исполнено | AZ7: % исполнения | BA7: утвержденные бюджетные назначения* | BB7: исполнено | BC7: % исполнения | BD7: утвержденные бюджетные назначения * | BE7: исполнено | BF7: % исполнения | BG7: утвержденные бюджетные назначения* | BH7: исполнено | BI7: % исполнения | BJ7: утвержденные бюджетные назначения* | BK7: исполнено | BL7: % исполнения | BM7: утвержденные бюджетные назначения* | BN7: исполнено | BO7: % исполнения | BP7: утвержденные бюджетные назначения* | BQ7: исполнено | BR7: % исполнения | BS7: утвержденные бюджетные назначения* | BT7: исполнено | BU7: % исполнения | BV7: утвержденные бюджетные назначения 2* | BW7: исполнено | BX7: % исполнения | BY7: утвержденные бюджетные назначения* | BZ7: исполнено | CA7: % исполнения | CB7: утвержденные бюджетные назначения* | CC7: исполнено | CD7: % исполнения | CE7: утвержденные бюджетные назначения* | CF7: исполнено | CG7: % исполнения | CH7: утвержденные бюджетные назначения* | CI7: исполнено | CJ7: % исполнения | CK7: утвержденные бюджетные назначения* | CL7: исполнено | CM7: % исполнения | CN7: утвержденные бюджетные назначения* | CO7: исполнено | CP7: % исполнения | CQ7: утвержденные бюджетные назначения* | CR7: исполнено | CS7: % исполнения | CT7: утвержденные бюджетные назначения* | CU7: исполнено | CV7: % исполнения | CW7: утвержденные бюджетные назначения* | CX7: исполнено | CY7: % исполнения | CZ7: утвержденные бюджетные назначения* | DA7: исполнено | DB7: % исполнения | DC7: утвержденные бюджетные назначения* | DD7: исполнено | DE7: % исполнения | DF7: утвержденные бюджетные назначения* | DG7: исполнено | DH7: % исполнения
