Workbook
Name А1: #REF!
Name А1: #REF!
Name А1: #REF!
Name А1: #REF!
Name А1: #REF!
Name А1: #REF!
Name А1: #REF!
Name А1: #REF!
Name А1: #REF!
Name А1: #REF!
Name А1: #REF!
Name А1: #REF!
Name А1: #REF!
Name А1: #REF!
Name А1: #REF!
Name А1: #REF!
Name А1: #REF!
Name А1: #REF!
Name А1: #REF!
Name А1: #REF!
Name А1: #REF!
Name А1: #REF!
Name А1: #REF!
Name А1: #REF!
Name А1: #REF!
Name А1: #REF!
Name А1: #REF!
Name А1: #REF!
Name А1: #REF!
Name А1: #REF!
Name А1: #REF!
Name А1: #REF!
Name А1: #REF!
Name А1: #REF!
Name А1: #REF!
Name А1: #REF!
Name А1: #REF!
Name А1: #REF!
Name А1: #REF!
Name А1: #REF!
Name А1: #REF!
Name А1: #REF!
Name А1: #REF!
Name Выбор_1.1: '[1]1.1'!$C$5:$C$8
Name Выбор_1.1: '[1]1.1'!$C$5:$C$8
Name Выбор_1.1: '[1]1.1'!$C$5:$C$8
Name Выбор_1.1: '[1]1.1'!$C$5:$C$8
Name Выбор_1.1: '[1]1.1'!$C$5:$C$8
Name Выбор_1.1: '[1]1.1'!$C$5:$C$8
Name Выбор_1.1: '[1]1.1'!$C$5:$C$8
Name Выбор_1.1: '[1]1.1'!$C$5:$C$8
Name Выбор_1.1: '[1]1.1'!$C$5:$C$8
Name Выбор_1.1: '[1]1.1'!$C$5:$C$8
Name Выбор_1.1: '[1]1.1'!$C$5:$C$8
Name Выбор_1.1: '[1]1.1'!$C$5:$C$8
Name Выбор_1.1: '[1]1.1'!$C$5:$C$8
Name Выбор_1.1: '[1]1.1'!$C$5:$C$8
Name Выбор_1.1: '[1]1.1'!$C$5:$C$8
Name Выбор_1.1: '[1]1.1'!$C$5:$C$8
Name Выбор_1.1: '[1]1.1'!$C$5:$C$8

Sheet Оценка (Этап I)
A1: Оценка муниципальных образований по I этапу «Характеристика первоначально утвержденного бюджета муниципального образования Саратовской области»
A2: Календарный период | B2: 2020 год
A3: Наименование муниципального образования Саратовской обалсти | B3: Итого по I этапу | C3: ='Показатель 1.1'!A1 -> 1.1. Опубликование первоначально принятого решения о бюджете муниципального образования на текущий финансовый год (текущий финансовый год и плановый период), на портале (сайте) | D3: ='Показатель 1.2'!A1 -> 1.2. Опубликование бюджета для граждан, разработанного на основе первоначально принятого решения о бюджете муниципального образования на текущий финансовый год (текущий финансовый год и плановый период), на портале (сайте) | E3: ='Раздел 2'!A1 -> 2.1 Итоговое значение рейтинга открытости и прозрачности муниципальных учреждений муниципального образования, рассчитанного на основе данных раздела «Независимая система оценки качества» официального сайта Российской Федерации для размещения информации о государственных (муниципальных) учреждениях (www.bus.gov.ru)
A4: Единица измерения | B4: баллов | C4: баллов | D4: баллов | E4: баллов
A5: Максимальный балл | B5: =SUM(C5:E5) -> 10 | C5: ='Методика I этап'!C9 -> 4 | D5: ='Методика I этап'!C14 -> 3 | E5: ='Методика I этап'!C21 -> 3
A6: Городские округа
A7: г. Саратов | B7: =SUM(C7:E7) -> 10 | C7: ='Показатель 1.1'!J9 -> 4 | D7: ='Показатель 1.2'!H10 -> 3 | E7: ='Раздел 2'!D10 -> 3
A8: п. Михайловское | B8: =SUM(C8:E8) -> 4.5 | C8: ='Показатель 1.1'!J10 -> 1 | D8: ='Показатель 1.2'!H11 -> 0.5 | E8: ='Раздел 2'!D11 -> 3
A9: ЗАТО Светлый | B9: =SUM(C9:E9) -> 9 | C9: ='Показатель 1.1'!J11 -> 4 | D9: ='Показатель 1.2'!H12 -> 2 | E9: ='Раздел 2'!D12 -> 3
A10: г. Шиханы | B10: =SUM(C10:E10) -> 5 | C10: ='Показатель 1.1'!J12 -> 2 | D10: ='Показатель 1.2'!H13 -> 0 | E10: ='Раздел 2'!D13 -> 3
A11: Муниципальные районы
A12: Александрово-Гайский | B12: =SUM(C12:E12) -> 6 | C12: ='Показатель 1.1'!J14 -> 2 | D12: ='Показатель 1.2'!H15 -> 1 | E12: ='Раздел 2'!D15 -> 3
A13: Аркадакский | B13: =SUM(C13:E13) -> 9 | C13: ='Показатель 1.1'!J15 -> 4 | D13: ='Показатель 1.2'!H16 -> 2 | E13: ='Раздел 2'!D16 -> 3
A14: Аткарский | B14: =SUM(C14:E14) -> 9 | C14: ='Показатель 1.1'!J16 -> 4 | D14: ='Показатель 1.2'!H17 -> 2 | E14: ='Раздел 2'!D17 -> 3
A15: Базарно-Карабулакский | B15: =SUM(C15:E15) -> 7 | C15: ='Показатель 1.1'!J17 -> 2 | D15: ='Показатель 1.2'!H18 -> 2 | E15: ='Раздел 2'!D18 -> 3
A16: Балаковский | B16: =SUM(C16:E16) -> 8.5 | C16: ='Показатель 1.1'!J18 -> 4 | D16: ='Показатель 1.2'!H19 -> 1.5 | E16: ='Раздел 2'!D19 -> 3
A17: Балашовский | B17: =SUM(C17:E17) -> 9 | C17: ='Показатель 1.1'!J19 -> 4 | D17: ='Показатель 1.2'!H20 -> 2 | E17: ='Раздел 2'!D20 -> 3
A18: Балтайский | B18: =SUM(C18:E18) -> 9 | C18: ='Показатель 1.1'!J20 -> 4 | D18: ='Показатель 1.2'!H21 -> 2 | E18: ='Раздел 2'!D21 -> 3
A19: Вольский | B19: =SUM(C19:E19) -> 7 | C19: ='Показатель 1.1'!J21 -> 2 | D19: ='Показатель 1.2'!H22 -> 2 | E19: ='Раздел 2'!D22 -> 3
A20: Воскресенский | B20: =SUM(C20:E20) -> 6 | C20: ='Показатель 1.1'!J22 -> 2 | D20: ='Показатель 1.2'!H23 -> 1 | E20: ='Раздел 2'!D23 -> 3
A21: Дергачевский | B21: =SUM(C21:E21) -> 6 | C21: ='Показатель 1.1'!J23 -> 1 | D21: ='Показатель 1.2'!H24 -> 2 | E21: ='Раздел 2'!D24 -> 3
A22: Духовницкий | B22: =SUM(C22:E22) -> 5 | C22: ='Показатель 1.1'!J24 -> 2 | D22: ='Показатель 1.2'!H25 -> 0 | E22: ='Раздел 2'!D25 -> 3
A23: Екатериновский | B23: =SUM(C23:E23) -> 6 | C23: ='Показатель 1.1'!J25 -> 2 | D23: ='Показатель 1.2'!H26 -> 1 | E23: ='Раздел 2'!D26 -> 3
... A49: Энгельсский | B49: =SUM(C49:E49) -> 5 | C49: ='Показатель 1.1'!J51 -> 0 | D49: ='Показатель 1.2'!H52 -> 2 | E49: ='Раздел 2'!D52 -> 3

Sheet Методика I этап
A1: I этап. Характеристика первоначально утвержденного бюджета муниципального образования
A4: № п/п | B4: Вопросы и варианты ответов | C4: Баллы
A6: 1. | B6: Первоначально утвержденный бюджет муниципального образования | C6: =C9+C14 -> 7
A7: 1.1 | B7: Опубликование первоначально принятого решения о бюджете муниципального образования на текущий финансовый год (текущий финансовый год и плановый период) на портале (сайте)
B8: В целях оценки показателя учитывается публикация принятого решения о бюджете в полном объеме, включая текстовую часть и все приложения к нему. Публикация отдельных составляющих в целях оценки показателя не учитывается. Решение о бюджете должно быть опубликовано в течение 15 рабочих дней после принятия и сохраняться не менее трех лет. При нарушении указанного срока применяется понижающий коэффициент за несоблюдение сроков обеспечения доступа к бюджетным данным. В случае, если в установленный для представления информации в министерство финансов области срок (далее - установленный срок) документ не размещен, оценка показателя принимает значение 0 баллов.
B9: Опубликовано в структурированном виде с указанием полных или кратких наименований всех составляющих | C9: 4
B10: Опубликовано, но не в структурированном виде и (или) без указания полных или кратких наименований всех составляющих | C10: 2
B11: Не опубликовано | C11: 0
A12: 1.2 | B12: Опубликование бюджета для граждан, разработанного на основе первоначально принятого решения о бюджете муниципального образования на текущий финансовый год (текущий финансовый год и плановый период), на портале (сайте)
B13: В целях оценки показателя учитывается публикация информации в виде брошюр (презентаций) либо в виде отдельных сведений, опубликованных на портале (сайте). В том числе, должна быть представлена следующая информация: 1) показатели прогноза социально-экономического развития, на основе которых сформирован бюджет (включая показатели, характеризующие объемы производства, численность и состав населения, заработную плату и т.д.); 2) сведения о доходах бюджета муниципального образования в разрезе видов доходов; 3) сведения о расходах бюджета муниципального образования; 4) сведения о расходах бюджета муниципального образования на реализацию муниципальных программ, а также о целевых показателях (индикаторах), планируемых к достижению в результате их реализации; 5) сведения о социально-значимых проектах, предусмотренных к финансированию за счет бюджета муниципального образования, или об отсутствии таких проектов; 6) сведения о планируемых объемах (об отсутствии) муниципального долга; 7) контактная информация для обратной связи с гражданами . По пунктам 1-6 информация должна быть представлена в динамике: фактические значения за год, предшествующий отчетному году, оценку за отчетный год и прогноз на текущий год и плановый период. Бюджет для граждан, разработанный на основе решения о бюджете, должен быть опубликован в течение 10 рабочих дней после принятия решения о бюджете муниципального образования и сохраняться не менее трех лет. При нарушении указанного срока применяется понижающий коэффициент за несоблюдение сроков обеспечения доступа к бюджетным данным. В случае, если в установленный срок документ не размещен, оценка показателя принимает значение 0 баллов.
B14: Опубликован и содержит информацию по всем ключевым элементам | C14: 3
B15: Опубликован и содержит информацию по пяти и более ключевым элементам | C15: 2
B16: Опубликован и содержит информацию по трем и более ключевым элементам | C16: 1
B17: Не опубликован или содержит информацию менее чем по трем ключевым элементам | C17: 0
A18: 2. | B18: Публичные сведения о плановых показателях деятельности муниципальных учреждений Саратовской области | C18: =C21 -> 3
A19: 2.1 | B19: Итоговое значение рейтинга открытости и прозрачности муниципальных учреждений муниципального образования, рассчитанного на основе данных раздела «Независимая система оценки качества» официального сайта Российской Федерации для размещения информации о государственных (муниципальных) учреждениях (www.bus.gov.ru)
B20: Источники информации для проведения оценки: официальный сайт Российской Федерации для размещения информации о государственных (муниципальных) учреждениях (www.bus.gov.ru), раздел «Независимая система оценки качества»; перечень муниципальных учреждений муниципального образования, представляемый финансовыми органами муниципальных образований в министерство финансов в срок, предусмотренный для направления информации по I этапу. Правила предоставления и размещения информации о государственных (муниципальных) учреждениях на указанном сайте установлены приказом Минфина России от 21 июля 2011 года № 86н «Об утверждении порядка предоставления информации государственным (муниципальным) учреждением, ее размещения на официальном сайте в сети Интернет и ведения указанного сайта». Итоговое значение рейтинга открытости и прозрачности муниципальных учреждений муниципального образования рассчитывается по следующей формуле: ∑mi=1Ri Rмо= -------------, m где Rмо – итоговое значение рейтинга открытости и прозрачности муниципальных учреждений муниципального образования; Ri – итоговый показатель рейтинга открытости и прозрачности i-го муниципального учреждения муниципального образования; m – общее количество муниципальных учреждений муниципального образования. Итоговый показатель рейтинга открытости и прозрачности по учреждению рассчитывается по следующей формуле: Ri=Roii*0,2+ Rmzi*0,4+ Rpfhdi*0,4, где Roii – показатель публикации на указанном сайте общей информации об i-ом муниципальном учреждении; Rmzi – показатель публикации на указанном сайте информации о муниципальном задании i-му муниципальному учреждению; Rpfhdi – показатель публикации на указанном сайте показателей планов финансово-хозяйственной деятельности или информации о бюджетных обязательств i-го муниципального учреждения. 0,2 и 0,4 – весовые коэффициенты значимости показателей. Показатели Roii, Rgzi, Rpfhdi при наличии опубликованной информации на указанном сайте принимают значения 1, в иных случаях – 0. Если муниципальному учреждению муниципальное задание не предоставляется (муниципальное учреждение является казенным или учреждение осуществляет деятельность в сфере обязательного медицинского страхования на основании договора на оказание и оплату медицинской помощи по обязательному медицинскому страхованию), то показатель Roii принимает значение 1, в иных случаях – 0. В целях расчета показателей обособленные структурные подразделения (филиалы, представительства) не учитываются.
B21: 0,95 и более | C21: 3
B22: 0,9 и более | C22: 2
B23: 0,8 и более | C23: 1
B24: менее 0,8 | C24: 0
B25: Итого баллов на I этапе | C25: =C6+C18 -> 10

Sheet Показатель 1.1
A1: 1.1. Опубликование первоначально принятого решения о бюджете муниципального образования на текущий финансовый год (текущий финансовый год и плановый период), на портале (сайте)
A2: Комментарий:
A3: ='Методика I этап'!B8 -> В целях оценки показателя учитывается публикация принятого решения о бюджете в полном объеме, включая текстовую часть и все приложения к нему. Публикация отдельных составляющих в целях оценки показателя не учитывается. Решение о бюджете должно быть опубликовано в течение 15 рабочих дней после принятия и сохраняться не менее трех лет. При нарушении указанного срока применяется понижающий коэффициент за несоблюдение сроков обеспечения доступа к бюджетным данным. В случае, если в установленный для представления информации в министерство финансов области срок (далее - установленный срок) документ не размещен, оценка показателя принимает значение 0 баллов.
A4: № п/п | B4: Вопрос | C4: ='Методика I этап'!B7 -> Опубликование первоначально принятого решения о бюджете муниципального образования на текущий финансовый год (текущий финансовый год и плановый период) на портале (сайте) | D4: Формат | E4: Доступность (указать, если возникли трудности с поиском документа, если переход осуществляется более, чем за 5 «кликов» с основной страницы портала (сайта), если название раздела не соответствует содержанию) | F4: Оценка показателя 1.1 | K4: Ссылка на источник данных | L4: Комментарии
B5: Варианты ответов | C5: ='Методика I этап'!B9 -> Опубликовано в структурированном виде с указанием полных или кратких наименований всех составляющих | D5: Word, Excel, PDF | F5: баллы | G5: понижающие коэффициенты | J5: Итого
C6: ='Методика I этап'!B10 -> Опубликовано, но не в структурированном виде и (или) без указания полных или кратких наименований всех составляющих | G6: графический формат | H6: затруднен-ный поиск | I6: несоблюде-ние сроков
C7: ='Методика I этап'!B11 -> Не опубликовано
B8: Городские округа
A9: 1 | B9: г. Саратов | C9: Опубликовано в структурированном виде с указанием полных или кратких наименований всех составляющих | D9: Word | F9: =IF(C9=C5,4,IF(C9=C6,2,0)) -> 4 | J9: =F9*(1-G9)*(1-H9)*(1-I9) -> 4 | K9: http://www.saratovmer.ru/budget/rubrics/1/1300.html
A10: 2 | B10: п. Михайловское | C10: Опубликовано в структурированном виде с указанием полных или кратких наименований всех составляющих | D10: Jpg, Excel | F10: =IF(C10=C5,4,IF(C10=C6,2,0)) -> 4 | G10: 0.5 | I10: 0.5 | J10: =F10*(1-G10)*(1-H10)*(1-I10) -> 1 | K10: http://www.mihailovski.ru/byudzhet205/2020-2022gg/reshenie-sobraniya-deputatov-munitsipalnogo-obrazo/ | L10: Постановляющая часть решения о бюджете муниципального образования представлена в виде картинок, вставленных в Word-файле. Решение о бюджете должно быть опубликовано в течение 15 рабочих дней после принятия и сохраняться не менее трех лет (дата изменения файла с решением 13.02.2020, решение принято - 19.12.2019).У приложений не указан порядковый номер.
A11: 3 | B11: ЗАТО Светлый | C11: Опубликовано в структурированном виде с указанием полных или кратких наименований всех составляющих | D11: Web, Word | F11: =IF(C11=C5,4,IF(C11=C6,2,0)) -> 4 | J11: =F11*(1-G11)*(1-H11)*(1-I11) -> 4 | K11: https://zatosvetly.ru/municipal_assembly/documents_of_the_municipal_assembly/reshenieV.php?ELEMENT_ID=13687 | L11: Скачать можно только приложения.
A12: 4 | B12: г. Шиханы | C12: Опубликовано в структурированном виде с указанием полных или кратких наименований всех составляющих | D12: Word | E12: Наименование раздела «Исполнение бюджета/ 2019» | F12: =IF(C12=C5,4,IF(C12=C6,2,0)) -> 4 | H12: 0.5 | J12: =F12*(1-G12)*(1-H12)*(1-I12) -> 2 | K12: http://zatoshihany.ru/budget/ispolnenie-byudzheta/2019/
B13: Муниципальные районы
A14: 5 | B14: Александрово-Гайский | C14: Опубликовано, но не в структурированном виде и (или) без указания полных или кратких наименований всех составляющих | D14: Word | F14: =IF(C14=C5,4,IF(C14=C6,2,0)) -> 2 | J14: =F14*(1-G14)*(1-H14)*(1-I14) -> 2 | K14: http://algay.sarmo.ru/byudzhet-ekonomika-finansy/proekt-byudzheta/byudzhet-2019/byudzhet-2020/byudzhet-2020.php
A15: 6 | B15: Аркадакский | C15: Опубликовано в структурированном виде с указанием полных или кратких наименований всех составляющих | D15: Word, PDF | F15: =IF(C15=C5,4,IF(C15=C6,2,0)) -> 4 | J15: =F15*(1-G15)*(1-H15)*(1-I15) -> 4 | K15: http://arkadak.sarmo.ru/byudzhet-munitsipalnogo-rayona/reshenie-o-byudzhete/byudzhet2020-nachalo.php
A16: 7 | B16: Аткарский | C16: Опубликовано в структурированном виде с указанием полных или кратких наименований всех составляющих | D16: Word, Excel | F16: =IF(C16=C5,4,IF(C16=C6,2,0)) -> 4 | J16: =F16*(1-G16)*(1-H16)*(1-I16) -> 4 | K16: http://atkarsk.moyaokruga.ru/CityArticles.aspx?articleid=10633
A17: 8 | B17: Базарно-Карабулакский | C17: Опубликовано, но не в структурированном виде и (или) без указания полных или кратких наименований всех составляющих | D17: Web,Word, Excel | F17: =IF(C17=C5,4,IF(C17=C6,2,0)) -> 2 | J17: =F17*(1-G17)*(1-H17)*(1-I17) -> 2 | K17: http://bkarabulak.sarmo.ru/index.php?option=com_content&view=article&id=11120&Itemid=342 | L17: Не указаны полные или краткие наименования приложений в архиве.
A18: 9 | B18: Балаковский | C18: Опубликовано в структурированном виде с указанием полных или кратких наименований всех составляющих | D18: Word | F18: =IF(C18=C5,4,IF(C18=C6,2,0)) -> 4 | J18: =F18*(1-G18)*(1-H18)*(1-I18) -> 4 | K18: http://balkomfin.ru/
A19: 10 | B19: Балашовский | C19: Опубликовано в структурированном виде с указанием полных или кратких наименований всех составляющих | D19: Word | E19: лишняя папка в архиве | F19: =IF(C19=C5,4,IF(C19=C6,2,0)) -> 4 | J19: =F19*(1-G19)*(1-H19)*(1-I19) -> 4 | K19: http://baladmin.ru/byudzhet-na-2020-god-i-planovyy-period-2021-i-2022-godov.php
A20: 11 | B20: Балтайский | C20: Опубликовано в структурированном виде с указанием полных или кратких наименований всех составляющих | D20: Word | F20: =IF(C20=C5,4,IF(C20=C6,2,0)) -> 4 | J20: =F20*(1-G20)*(1-H20)*(1-I20) -> 4 | K20: http://adm-baltay.ru/finansovoe-upravlenie/resheniya-o-mestnom-byudzhete-na-2020-god-i-planovyiy-period-2021-2022-gg/ | L20: Отсутствует возможность скачать первоначально принятое решение целиком, только по частям.
A21: 12 | B21: Вольский | C21: Опубликовано, но не в структурированном виде и (или) без указания полных или кратких наименований всех составляющих | D21: Word | F21: =IF(C21=C5,4,IF(C21=C6,2,0)) -> 2 | J21: =F21*(1-G21)*(1-H21)*(1-I21) -> 2 | K21: http://volsk-ms.ru/resheniya-vms/resheniya/ | L21: Раздел не структурирован по годам, затруднен поиск документа
A22: 13 | B22: Воскресенский | C22: Опубликовано, но не в структурированном виде и (или) без указания полных или кратких наименований всех составляющих | D22: Word | F22: =IF(C22=C5,4,IF(C22=C6,2,0)) -> 2 | J22: =F22*(1-G22)*(1-H22)*(1-I22) -> 2 | K22: http://voskresensk64.ru/meeting/mun-sobranie/documents/index.php
A23: 14 | B23: Дергачевский | C23: Опубликовано в структурированном виде с указанием полных или кратких наименований всех составляющих | D23: Word, Excel, PDF | E23: лишняя папка в архиве | F23: =IF(C23=C5,4,IF(C23=C6,2,0)) -> 4 | G23: 0.5 | I23: 0.5 | J23: =F23*(1-G23)*(1-H23)*(1-I23) -> 1 | K23: http://dergachi.sarmo.ru/sobranie-dergachevskogo-munitsipalnogo-rayona/resheniya-sobraniya-dergachevskogo-munitsipalnogo-rayona/ | L23: Файл с решением представлен в графическом формате. Решение о бюджете должно быть опубликовано в течение 15 рабочих дней после принятия и сохраняться не менее трех лет (дата изменения файла с решением 19.02.2020, решение принято - 16.12.2019).
A24: 15 | B24: Духовницкий | C24: Опубликовано, но не в структурированном виде и (или) без указания полных или кратких наименований всех составляющих | D24: Word | F24: =IF(C24=C5,4,IF(C24=C6,2,0)) -> 2 | J24: =F24*(1-G24)*(1-H24)*(1-I24) -> 2 | K24: http://duhovnitskoe.sarmo.ru/predstavitelnyy-organ/npa/mpa-2019/?ELEMENT_ID=4624
A25: 16 | B25: Екатериновский | C25: Опубликовано, но не в структурированном виде и (или) без указания полных или кратких наименований всех составляющих | D25: Word | F25: =IF(C25=C5,4,IF(C25=C6,2,0)) -> 2 | J25: =F25*(1-G25)*(1-H25)*(1-I25) -> 2 | K25: http://ekaterinovka.sarmo.ru/rayonnoe-sobranie/2019-god.php
A26: 17 | B26: Ершовский | C26: Опубликовано в структурированном виде с указанием полных или кратких наименований всех составляющих | D26: Word | E26: лишняя папка в архиве | F26: =IF(C26=C5,4,IF(C26=C6,2,0)) -> 4 | J26: =F26*(1-G26)*(1-H26)*(1-I26) -> 4 | K26: http://adminemr.ru/byudzhet-i-finansy/byudzhet/byudzhet%20EMR%20na%202020god/ | L26: По предоставленной ссылке http://ershov.sarmo.ru/byudzhet-i-finansy/byudzhet/utverzhdennyy-byudzhet-na-2019-god-i-na-planovyy-period-2020-i-2021-godov/ размещено решение о бюджете на 2019-2021 годы.
A27: 18 | B27: Ивантеевский | C27: Опубликовано в структурированном виде с указанием полных или кратких наименований всех составляющих | D27: Word | F27: =IF(C27=C5,4,IF(C27=C6,2,0)) -> 4 | J27: =F27*(1-G27)*(1-H27)*(1-I27) -> 4 | K27: http://ivanteevka.sarmo.ru/byudzhet-dlya-grazhdan/reshenie-2020.php
A28: 19 | B28: Калининский | C28: Не опубликовано | D28: Word | F28: =IF(C28=C5,4,IF(C28=C6,2,0)) -> 0 | J28: =F28*(1-G28)*(1-H28)*(1-I28) -> 0 | K28: http://kalininsk.sarmo.ru/byudzhet/byudzhet-munitsipalnogo-rayona/ | L28: Приложения к решению о бюджете не опубликованы, только текстовая часть.
A29: 20 | B29: Красноармейский | C29: Опубликовано, но не в структурированном виде и (или) без указания полных или кратких наименований всех составляющих | D29: Word | E29: лишняя папка в архиве | F29: =IF(C29=C5,4,IF(C29=C6,2,0)) -> 2 | J29: =F29*(1-G29)*(1-H29)*(1-I29) -> 2 | K29: https://krasnoarmeysk64.ru/krasnoarmeyskiy-rayon/byudzhet/reshenie-o-byudzhete-krasnoarmeyskogo-munitsipalnogo-rayona/ | L29: Не указаны полные или краткие наименования приложений в архиве.
A30: 21 | B30: Краснокутский | C30: Опубликовано в структурированном виде с указанием полных или кратких наименований всех составляющих | D30: Word | F30: =IF(C30=C5,4,IF(C30=C6,2,0)) -> 4 | J30: =F30*(1-G30)*(1-H30)*(1-I30) -> 4 | K30: http://krasny-kut.ru/krasnokutskij_rajon/finansy/byudzhet_rajona/
A31: 22 | B31: Краснопартизанский | C31: Опубликовано в структурированном виде с указанием полных или кратких наименований всех составляющих | D31: Word, Excel | E31: лишняя папка в архиве | F31: =IF(C31=C5,4,IF(C31=C6,2,0)) -> 4 | J31: =F31*(1-G31)*(1-H31)*(1-I31) -> 4 | K31: http://adminkmr.ru/index.php?option=com_content&view=article&id=4794:2020-02-04-10-33-20&catid=34:%D0%9E%D1%81%D0%BD%D0%BE%D0%B2%D0%BD%D0%B0%D1%8F%20%D0%BA%D0%B0%D1%82%D0%B5%D0%B3%D0%BE%D1%80%D0%B8%D1%8F
A32: 23 | B32: Лысогорский | C32: Опубликовано, но не в структурированном виде и (или) без указания полных или кратких наименований всех составляющих | D32: Word | F32: =IF(C32=C5,4,IF(C32=C6,2,0)) -> 2 | I32: 0.5 | J32: =F32*(1-G32)*(1-H32)*(1-I32) -> 1 | K32: http://adm.lysyegory.ru/base/6589-reshenie-ot-20-12-2019-goda-1480-o-byudzhete-lysogorskogo-municipalnogo-raiona-na-2020-god-i-na-planovyi-period-2021-i-2022-godov.html | L32: Не структурирован, все приложения в одном файле, дата измения файла с приложениями 30.03.2020
A33: 24 | B33: Марксовский | C33: Опубликовано в структурированном виде с указанием полных или кратких наименований всех составляющих | D33: Word, Excel | F33: =IF(C33=C5,4,IF(C33=C6,2,0)) -> 4 | J33: =F33*(1-G33)*(1-H33)*(1-I33) -> 4 | K33: http://marksadm.ru/r-o-b.html
A34: 25 | B34: Новобурасский | C34: Опубликовано в структурированном виде с указанием полных или кратких наименований всех составляющих | D34: Word, Excel | F34: =IF(C34=C5,4,IF(C34=C6,2,0)) -> 4 | J34: =F34*(1-G34)*(1-H34)*(1-I34) -> 4 | K34: http://www.nbfin.ru/resheniya_o_byudzhetah/novoburasskogo_municipal_nogo_rajona/resheniya_o_vnesenii_izmenenij_v_byudzhet/na_2020_god/
A35: 26 | B35: Новоузенский | C35: Опубликовано, но не в структурированном виде и (или) без указания полных или кратких наименований всех составляющих | D35: Word | F35: =IF(C35=C5,4,IF(C35=C6,2,0)) -> 2 | I35: 0.5 | J35: =F35*(1-G35)*(1-H35)*(1-I35) -> 1 | K35: http://novouzensk.ru/budget%20for%20people/byudzhet-dlya-grazhdan-2020/index.php | L35: Решение о бюджете должно быть опубликовано в течение 15 рабочих дней после принятия и сохраняться не менее трех лет (дата изменения файла с решением 24.03.2020, решение принято - 26.12.2019).
A36: 27 | B36: Озинский | C36: Опубликовано в структурированном виде с указанием полных или кратких наименований всех составляющих | D36: Word | F36: =IF(C36=C5,4,IF(C36=C6,2,0)) -> 4 | J36: =F36*(1-G36)*(1-H36)*(1-I36) -> 4 | K36: http://ozinki.sarmo.ru/byudzhet/byudzhet-munitsipalnogo-rayona.php?ELEMENT_ID=4397
A37: 28 | B37: Перелюбский | C37: Опубликовано в структурированном виде с указанием полных или кратких наименований всех составляющих | D37: Word, Excel | F37: =IF(C37=C5,4,IF(C37=C6,2,0)) -> 4 | J37: =F37*(1-G37)*(1-H37)*(1-I37) -> 4 | K37: http://adm-perelyb.ru/byudzhet-rayona/ | L37: Помимо полных или кратких наименований приложений необходимо указывать их номера.
A38: 29 | B38: Петровский | C38: Опубликовано в структурированном виде с указанием полных или кратких наименований всех составляющих | D38: Web, Word | F38: =IF(C38=C5,4,IF(C38=C6,2,0)) -> 4 | J38: =F38*(1-G38)*(1-H38)*(1-I38) -> 4 | K38: https://petrovsk64.ru/sub-org/fin-upr/otkrytyy-byudzhet/byudzhet/reshenie-o-byudzhete/na-2020-god/
A39: 30 | B39: Питерский | C39: Опубликовано в структурированном виде с указанием полных или кратких наименований всех составляющих | D39: Word | F39: =IF(C39=C5,4,IF(C39=C6,2,0)) -> 4 | J39: =F39*(1-G39)*(1-H39)*(1-I39) -> 4 | K39: http://piterka.sarmo.ru/byudzhet-piterskogo-mr/mestnyy-byudzhet./byudzhet2020.php
A40: 31 | B40: Пугачевский | C40: Опубликовано в структурированном виде с указанием полных или кратких наименований всех составляющих | D40: Word | F40: =IF(C40=C5,4,IF(C40=C6,2,0)) -> 4 | J40: =F40*(1-G40)*(1-H40)*(1-I40) -> 4 | K40: http://pugachev-adm.ru/2020-5
...

Sheet Показатель 1.2
A1: 1.2. Опубликование бюджета для граждан, разработанного на основе первоначально принятого решения о бюджете муниципального образования на текущий финансовый год (текущий финансовый год и плановый период), на портале (сайте)
A2: Комментарий:
A3: ='Методика I этап'!B13 -> В целях оценки показателя учитывается публикация информации в виде брошюр (презентаций) либо в виде отдельных сведений, опубликованных на портале (сайте). В том числе, должна быть представлена следующая информация: 1) показатели прогноза социально-экономического развития, на основе которых сформирован бюджет (включая показатели, характеризующие объемы производства, численность и состав населения, заработную плату и т.д.); 2) сведения о доходах бюджета муниципального образования в разрезе видов доходов; 3) сведения о расходах бюджета муниципального образования; 4) сведения о расходах бюджета муниципального образования на реализацию муниципальных программ, а также о целевых показателях (индикаторах), планируемых к достижению в результате их реализации; 5) сведения о социально-значимых проектах, предусмотренных к финансированию за счет бюджета муниципального образования, или об отсутствии таких проектов; 6) сведения о планируемых объемах (об отсутствии) муниципального долга; 7) контактная информация для обратной связи с гражданами . По пунктам 1-6 информация должна быть представлена в динамике: фактические значения за год, предшествующий отчетному году, оценку за отчетный год и прогноз на текущий год и плановый период. Бюджет для граждан, разработанный на основе решения о бюджете, должен быть опубликован в течение 10 рабочих дней после принятия решения о бюджете муниципального образования и сохраняться не менее трех лет. При нарушении указанного срока применяется понижающий коэффициент за несоблюдение сроков обеспечения доступа к бюджетным данным. В случае, если в установленный срок документ не размещен, оценка показателя принимает значение 0 баллов.
A4: № п/п | B4: Наименование муниципального образования Саратовской обалсти | C4: ='Методика I этап'!B12 -> Опубликование бюджета для граждан, разработанного на основе первоначально принятого решения о бюджете муниципального образования на текущий финансовый год (текущий финансовый год и плановый период), на портале (сайте) | D4: Доступность (указать, если возникли трудности с поиском документа, если переход осуществляется более, чем за 5 «кликов» с основной страницы портала (сайта), если название раздела не соответствует содержанию) | E4: Оценка показателя 1.2 | I4: Ссылка на источник данных | J4: Комментарии
B5: Варианты ответов | C5: ='Методика I этап'!B14 -> Опубликован и содержит информацию по всем ключевым элементам | E5: баллы | F5: понижающие коэффициенты | H5: Итого
C6: ='Методика I этап'!B15 -> Опубликован и содержит информацию по пяти и более ключевым элементам | F6: затруднен-ный поиск | G6: несоблюде-ние сроков
C7: ='Методика I этап'!B16 -> Опубликован и содержит информацию по трем и более ключевым элементам
C8: ='Методика I этап'!B17 -> Не опубликован или содержит информацию менее чем по трем ключевым элементам
B9: Городские округа
A10: 1 | B10: г. Саратов | C10: Опубликован и содержит информацию по всем ключевым элементам | E10: =IF(C10=C5,3,IF(C10=C6,2,IF(C10=C7,1,0))) -> 3 | H10: =E10*(1-F10)*(1-G10) -> 3 | I10: http://www.saratovmer.ru/budget/rubrics/6/1302.html
A11: 2 | B11: п. Михайловское | C11: Опубликован и содержит информацию по трем и более ключевым элементам | E11: =IF(C11=C5,3,IF(C11=C6,2,IF(C11=C7,1,0))) -> 1 | G11: 0.5 | H11: =E11*(1-F11)*(1-G11) -> 0.5 | I11: http://www.mihailovski.ru/byudzhet-dlya-grazhdan/byudzhet-dlya-grazhdan-po-resheniyu-sobraniya-depu/ | J11: Дата последнего изменения файла - 30.03.2020. Бюджет для граждан, разработанный на основе решения о бюджете, должен быть опубликован в течение 10 рабочих дней после принятия решения о бюджете муниципального образования (решение о бюджете принято 19.12.2019). Отсутствуют пункты 5, пункт 1 не соответствует (отсутствуют показатели, характеризующие объем ппроизводства, численность и состав населения, заработную плату в динамике 2018-2021 годов), пункт 4 не соответствует (отсутствуют целевые показатели в динамике 2018-2022 годов), пункт 6 не соотвествует (нет динамики за 2018-202021 годы).
A12: 3 | B12: ЗАТО Светлый | C12: Опубликован и содержит информацию по пяти и более ключевым элементам | E12: =IF(C12=C5,3,IF(C12=C6,2,IF(C12=C7,1,0))) -> 2 | H12: =E12*(1-F12)*(1-G12) -> 2 | I12: https://zatosvetly.ru/city/economics_amp_finance/byudzhet-gorodskogo-okruga/byudzhet-dlya-grazhdan/index.php?ELEMENT_ID=13733 | J12: Пункт 4 не соответствует (финансирование и целевые показатели представлены не в динамике 2018-2022 гг). Обратите внимание на наименование последнего столбца в таблице 7.
A13: 4 | B13: г. Шиханы | C13: Не опубликован или содержит информацию менее чем по трем ключевым элементам | E13: =IF(C13=C5,3,IF(C13=C6,2,IF(C13=C7,1,0))) -> 0 | H13: =E13*(1-F13)*(1-G13) -> 0 | J13: Ссылка на оцениваемую информацию не предоставлена.
B14: Муниципальные районы
A15: 5 | B15: Александрово-Гайский | C15: Опубликован и содержит информацию по трем и более ключевым элементам | E15: =IF(C15=C5,3,IF(C15=C6,2,IF(C15=C7,1,0))) -> 1 | H15: =E15*(1-F15)*(1-G15) -> 1 | I15: http://algay.sarmo.ru/byudzhet-ekonomika-finansy/byudzhet-dlya-grazhdan.php | J15: Отсутствует пункт 5, пункт 1 не соответствует (отсутствуют показатели, характеризующие объем производства), пункт 4 не соотвествует (нет данных за 2018-2019 года, отсутствуют целевые показатели в динамике 2018-2021 годов). Обратите внимание на наименования столбцов на стр. 35.
A16: 6 | B16: Аркадакский | C16: Опубликован и содержит информацию по пяти и более ключевым элементам | E16: =IF(C16=C5,3,IF(C16=C6,2,IF(C16=C7,1,0))) -> 2 | H16: =E16*(1-F16)*(1-G16) -> 2 | I16: http://arkadak.sarmo.ru/byudzhet-munitsipalnogo-rayona/byudzhet-dlya-grazhdan.php | J16: Пункт 4 не соответствует (целевые показатели представлены не по всем муниципальным программам, из 31 МП только по 17). Обратите внимание на наименования столбцов на стр. 23
A17: 7 | B17: Аткарский | C17: Опубликован и содержит информацию по пяти и более ключевым элементам | E17: =IF(C17=C5,3,IF(C17=C6,2,IF(C17=C7,1,0))) -> 2 | H17: =E17*(1-F17)*(1-G17) -> 2 | I17: http://atkarsk.moyaokruga.ru/CityArticles.aspx?articleid=10567 | J17: Пункт 2 не соответствует (отутствует детализация по безвозмездным поступлениям, только общие суммы в динамике), пункт 4 не соотвествует (отсутствуют финансирование на 2018-2019 годы и целевые показатели по каждой МП в динамике 2018-2021 годов, желательно информацию разбить на две отдельные таблицы).
A18: 8 | B18: Базарно-Карабулакский | C18: Опубликован и содержит информацию по пяти и более ключевым элементам | E18: =IF(C18=C5,3,IF(C18=C6,2,IF(C18=C7,1,0))) -> 2 | H18: =E18*(1-F18)*(1-G18) -> 2 | I18: http://bkarabulak.sarmo.ru/index.php?option=com_content&view=article&id=3965&Itemid=312 | J18: Пункт 1 не соответствует (отсутствуют показатели, характеризующие численность и состав населения за 2020-2022 года), пункт 4 не соответствует (отсутствуют целевые показатели).
A19: 9 | B19: Балаковский | C19: Опубликован и содержит информацию по всем ключевым элементам | E19: =IF(C19=C5,3,IF(C19=C6,2,IF(C19=C7,1,0))) -> 3 | G19: 0.5 | H19: =E19*(1-F19)*(1-G19) -> 1.5 | I19: http://balkomfin.ru/ | J19: Дата последнего изменения файла - 26.03.2020. Бюджет для граждан, разработанный на основе решения о бюджете, должен быть опубликован в течение 10 рабочих дней после принятия решения о бюджете муниципального образования (решение о бюджете принято 24.12.2019)
A20: 10 | B20: Балашовский | C20: Опубликован и содержит информацию по пяти и более ключевым элементам | E20: =IF(C20=C5,3,IF(C20=C6,2,IF(C20=C7,1,0))) -> 2 | H20: =E20*(1-F20)*(1-G20) -> 2 | I20: http://baladmin.ru/administration/divisions-structure/finance/otkritiy-byudzhet.php | J20: Пункт 4 не соотвествует (отсутствуют финансирование на 2018-2019 годы).
A21: 11 | B21: Балтайский | C21: Опубликован и содержит информацию по пяти и более ключевым элементам | E21: =IF(C21=C5,3,IF(C21=C6,2,IF(C21=C7,1,0))) -> 2 | H21: =E21*(1-F21)*(1-G21) -> 2 | I21: http://adm-baltay.ru/finansovoe-upravlenie/byudzhet-dlya-grazhdan/ | J21: Пункт 1 не соответствует (нет данных об общей численности населения в динамике 2018-2021 годов), пункт 4 не соответствует (отсутствуют целевые показатели).
A22: 12 | B22: Вольский | C22: Опубликован и содержит информацию по пяти и более ключевым элементам | E22: =IF(C22=C5,3,IF(C22=C6,2,IF(C22=C7,1,0))) -> 2 | H22: =E22*(1-F22)*(1-G22) -> 2 | I22: http://вольск.рф/ | J22: Пункт 1 не соответствует (нет данных об общей численности населения за 2018-2022 года) , пункт 5 не соответствует (информация представлена об одном проекте, реализованном в 2019 году, нет информации о проектах, запланированных к реализации в 2020-2022 годах).
A23: 13 | B23: Воскресенский | C23: Опубликован и содержит информацию по трем и более ключевым элементам | E23: =IF(C23=C5,3,IF(C23=C6,2,IF(C23=C7,1,0))) -> 1 | H23: =E23*(1-F23)*(1-G23) -> 1 | I23: http://voskresensk64.ru/administration/statistics/Budget%20for%20citizens/2020-god/ | J23: Отсутствует пункт 5, пункт 1 не соответствует (отсутствуют показатели, характеризующие объем производства ), пункт 4 не соотвествует (нет данных за 2018 и 2022 года, отсутствуют целевые показатели), пункт 6 не соотвествует (нет динамики за 2018-2019 года).
A24: 14 | B24: Дергачевский | C24: Опубликован и содержит информацию по пяти и более ключевым элементам | E24: =IF(C24=C5,3,IF(C24=C6,2,IF(C24=C7,1,0))) -> 2 | H24: =E24*(1-F24)*(1-G24) -> 2 | I24: http://dergachi.sarmo.ru/byudzhet-dlya-grazhdan/ | J24: Пункт 2 не соответствует (на стр 22 представлена структура доходов консолидированного бюджета, а не бюджета муниципального района).
A25: 15 | B25: Духовницкий | C25: Не опубликован или содержит информацию менее чем по трем ключевым элементам | E25: =IF(C25=C5,3,IF(C25=C6,2,IF(C25=C7,1,0))) -> 0 | H25: =E25*(1-F25)*(1-G25) -> 0 | I25: http://duhovnitskoe.sarmo.ru/byudzhet-dlya-grazhdan/byudzhet-dlya-grazhdan/ | J25: Дата последнего изменения файла - 31.03.2020. Бюджет для граждан, разработанный на основе решения о бюджете, должен быть опубликован в течение 10 рабочих дней после принятия решения о бюджете муниципального образования (решение о бюджете принято 19.12.2019). Отсутствует пункт 5, пункт 1 не соответствует (нет данных об общей численности населения), пункт 2 не соответствует (отсутствует данамика, нет цифровых значений по показателям, входящим в структуру неналоговых доходов и безвозмездных поступлений), пункт 3 не соответстует (отсутствуют данные по 2018-2019 годам), пункт 4 не соответстует (отсутствуют целевые показатели).
A26: 16 | B26: Екатериновский | C26: Опубликован и содержит информацию по трем и более ключевым элементам | E26: =IF(C26=C5,3,IF(C26=C6,2,IF(C26=C7,1,0))) -> 1 | H26: =E26*(1-F26)*(1-G26) -> 1 | I26: http://ekaterinovka.sarmo.ru/byudzhet-dlya-grazhdan/ | J26: Отсутствуют пункты 4, 6 и 7.
A27: 17 | B27: Ершовский | C27: Опубликован и содержит информацию по пяти и более ключевым элементам | E27: =IF(C27=C5,3,IF(C27=C6,2,IF(C27=C7,1,0))) -> 2 | H27: =E27*(1-F27)*(1-G27) -> 2 | I27: http://ershov.sarmo.ru/byudzhet-i-finansy/byudzhet-dlya-grazhdan/ | J27: По предоставленной ссылке http://ershov.sarmo.ru/byudzhet-i-finansy/byudzhet-dlya-grazhdan/prezentaziya_byudjzet_na_2019_god.pptx открывается бюджет для граждан к решению о бюджете на 2019-2021 годы. Пункт 5 не соответствует (информация представлена об одном проекте, реализованном в 2019 году, нет информации о проектах, запланированных к реализации в 2020-2022 годах).
A28: 18 | B28: Ивантеевский | C28: Опубликован и содержит информацию по всем ключевым элементам | E28: =IF(C28=C5,3,IF(C28=C6,2,IF(C28=C7,1,0))) -> 3 | H28: =E28*(1-F28)*(1-G28) -> 3 | I28: http://ivanteevka.sarmo.ru/byudzhet-dlya-grazhdan/byudzhet-dlya-grazhdan/2020/
A29: 19 | B29: Калининский | C29: Не опубликован или содержит информацию менее чем по трем ключевым элементам | E29: =IF(C29=C5,3,IF(C29=C6,2,IF(C29=C7,1,0))) -> 0 | H29: =E29*(1-F29)*(1-G29) -> 0 | I29: http://kalininsk.sarmo.ru/byudzhet/byudzhet-dlya-grazhdan/ | J29: По предоставленной ссылке размещен бюджет для граждан, разработанный на основе проекта решения о бюджете муниципального образования, который был оценен в показателе 8.2 мониторинга прошлого года. В целях оценки показателя учитывается публикация бюджета для граждан, разработанного на основе первоначально принятого решения о бюджете муниципального образования на текущий финансовый год (текущий финансовый год и плановый период).
A30: 20 | B30: Красноармейский | C30: Не опубликован или содержит информацию менее чем по трем ключевым элементам | E30: =IF(C30=C5,3,IF(C30=C6,2,IF(C30=C7,1,0))) -> 0 | H30: =E30*(1-F30)*(1-G30) -> 0 | I30: http://krasnoarmeysk.sarmo.ru/krasnoarmeyskiy-rayon/byudzhet/byudzhet-dlya-grazhdan/ | J30: По предоставленной ссылке бюджет для граждан, разработанный на основе решения о бюджете муниципального образования на 2020 -2022 годы, отсутствует.
A31: 21 | B31: Краснокутский | C31: Опубликован и содержит информацию по пяти и более ключевым элементам | E31: =IF(C31=C5,3,IF(C31=C6,2,IF(C31=C7,1,0))) -> 2 | H31: =E31*(1-F31)*(1-G31) -> 2 | I31: http://krasny-kut.ru/krasnokutskij_rajon/finansy/novosti/ | J31: Пункт 4 не соотвествует (отсутствует финансирование в разбивке по программам в динамике 2018-2022 годов и целевые показатели в динамике 2018-2022 годов), пункт 6 не соответствует (нет данных за 2018 и 2019 годы).
A32: 22 | B32: Краснопартизанский | C32: Опубликован и содержит информацию по всем ключевым элементам | D32: Лишняя архивация одного файла. | E32: =IF(C32=C5,3,IF(C32=C6,2,IF(C32=C7,1,0))) -> 3 | H32: =E32*(1-F32)*(1-G32) -> 3 | I32: http://adminkmr.ru/index.php?option=com_content&view=article&id=1105:2014-05-20-10-48-44&catid=34:%D0%9E%D1%81%D0%BD%D0%BE%D0%B2%D0%BD%D0%B0%D1%8F%20%D0%BA%D0%B0%D1%82%D0%B5%D0%B3%D0%BE%D1%80%D0%B8%D1%8F
A33: 23 | B33: Лысогорский | C33: Опубликован и содержит информацию по трем и более ключевым элементам | E33: =IF(C33=C5,3,IF(C33=C6,2,IF(C33=C7,1,0))) -> 1 | H33: =E33*(1-F33)*(1-G33) -> 1 | I33: http://adm.lysyegory.ru/base/6658-byudzhet-dlja-grazhdan-lysogorskogo-mr-k-resheniyu-sobranija-lysogorskogo-mr-ot-20-12-2019-g-14.html | J33: Отсутствует пункт 5, 6 ,пункт 4 не соотвествует (отсутствуют целевые показатели).
A34: 24 | B34: Марксовский | C34: Опубликован и содержит информацию по трем и более ключевым элементам | E34: =IF(C34=C5,3,IF(C34=C6,2,IF(C34=C7,1,0))) -> 1 | H34: =E34*(1-F34)*(1-G34) -> 1 | I34: http://marksadm.ru/bdg-kf.html | J34: Обратите внимание, брошюра подготовлена на основании принятого решения о бюджете муниципального образования, а в заголовках некоторых слайдов, столбцов у таблиц и графиков подписано - проект. Пункты 1 и 5 отсутствуют, пункт 3 не соответствуют (отсутствует динамика за 2018-2022 года), пункт 6 не соответствует (нет данных по 2017-2018 годам).
A35: 25 | B35: Новобурасский | C35: Опубликован и содержит информацию по всем ключевым элементам | E35: =IF(C35=C5,3,IF(C35=C6,2,IF(C35=C7,1,0))) -> 3 | H35: =E35*(1-F35)*(1-G35) -> 3 | I35: http://www.nbfin.ru/byudzhet_dlya_grazhdan1/novoburasskij_municipal_nyj_rajon/2020_god/ | J35: В пункте 6 желательно указывать не только общую сумму муниципального долга, но и его структуру
A36: 26 | B36: Новоузенский | C36: Опубликован и содержит информацию по всем ключевым элементам | E36: =IF(C36=C5,3,IF(C36=C6,2,IF(C36=C7,1,0))) -> 3 | H36: =E36*(1-F36)*(1-G36) -> 3 | I36: http://novouzensk.ru/budget%20for%20people/byudzhet-dlya-grazhdan-2020/index.php
A37: 27 | B37: Озинский | C37: Опубликован и содержит информацию по трем и более ключевым элементам | E37: =IF(C37=C5,3,IF(C37=C6,2,IF(C37=C7,1,0))) -> 1 | H37: =E37*(1-F37)*(1-G37) -> 1 | I37: http://ozinki.sarmo.ru/byudzhet/byudzhet-dlya-grazhdan.php?ELEMENT_ID=4362 | J37: Обратите внимание, брошюра подготовлена на основании принятого решения о бюджете муниципального образования, а в заголовках столбцов у некоторых таблиц подписано - проект. Пункт 5 отсутствует, пункт 4 не соответствует (целевые показатели не по всем муниципальным программам представлены в динамике), пункт 6 не соответствует (в таблице нет данных за 2018-2019 года, а на графики не подписаны значения показателей).
A38: 28 | B38: Перелюбский | C38: Опубликован и содержит информацию по всем ключевым элементам | E38: =IF(C38=C5,3,IF(C38=C6,2,IF(C38=C7,1,0))) -> 3 | H38: =E38*(1-F38)*(1-G38) -> 3 | I38: http://adm-perelyb.ru/byudzhet-dlya-grazhdan/
A39: 29 | B39: Петровский | C39: Опубликован и содержит информацию по всем ключевым элементам | E39: =IF(C39=C5,3,IF(C39=C6,2,IF(C39=C7,1,0))) -> 3 | H39: =E39*(1-F39)*(1-G39) -> 3 | I39: https://petrovsk64.ru/sub-org/fin-upr/otkrytyy-byudzhet/byudzhet-dlya-grazhdan/ | J39: Обратите внимание, что на графиках на слайдах 7 и 8 ошибка при отражении значений.
A40: 30 | B40: Питерский | C40: Опубликован и содержит информацию по пяти и более ключевым элементам | E40: =IF(C40=C5,3,IF(C40=C6,2,IF(C40=C7,1,0))) -> 2 | H40: =E40*(1-F40)*(1-G40) -> 2 | I40: http://piterka.sarmo.ru/byudzhet-piterskogo-mr/byudzhet-dlya-grazhdan/byudzhet2020.php | J40: Отсутствует пункт 5, пункт 4 не соответствует (отсутствуют целевые показатели в динамике 2018-2022 г).
...

Sheet Раздел 2
A1: 2.1 Итоговое значение рейтинга открытости и прозрачности муниципальных учреждений муниципального образования, рассчитанного на основе данных раздела «Независимая система оценки качества» официального сайта Российской Федерации для размещения информации о государственных (муниципальных) учреждениях (www.bus.gov.ru)
A2: Источник информации | C2: Официальный сайт Российской Федерации для размещения информации о государственных (муниципальных) учреждениях (www.bus.gov.ru), раздел «Независимая система оценки качества»; перечень муниципальных учреждений муниципального образования, представляемый финансовыми органами муниципальных образований в министерство финансов в срок, предусмотренный для направления информации по I этапу.
A3: Дата проведения оценки | C3: 06 -30.04.2020
A4: № п/п | B4: Наименование муниципального образования Саратовской обалсти | C4: ='Методика I этап'!B19 -> Итоговое значение рейтинга открытости и прозрачности муниципальных учреждений муниципального образования, рассчитанного на основе данных раздела «Независимая система оценки качества» официального сайта Российской Федерации для размещения информации о государственных (муниципальных) учреждениях (www.bus.gov.ru) | D4: Оценка показателя 2.1
C5: 0,95 и более | D5: баллы
C6: 0,9 и более
C7: 0,8 и более
C8: менее 0,8
B9: Городские округа
A10: 1 | B10: г. Саратов | C10: ='Раздел 2. г. Саратов'!I398 -> 1 | D10: =IF(C10>=0.95,3,IF(C10>=0.9,2,IF(C10>=0.8,1,0))) -> 3
A11: 2 | B11: п. Михайловское | C11: ='Раздел 2. п. Михайловское'!I15 -> 1 | D11: =IF(C11>=0.95,3,IF(C11>=0.9,2,IF(C11>=0.8,1,0))) -> 3
A12: 3 | B12: ЗАТО Светлый | C12: ='Раздел 2. ЗАТО Светлый'!I22 -> 1 | D12: =IF(C12>=0.95,3,IF(C12>=0.9,2,IF(C12>=0.8,1,0))) -> 3
A13: 4 | B13: г. Шиханы | C13: ='Раздел 2. г. Шиханы'!I19 -> 1 | D13: =IF(C13>=0.95,3,IF(C13>=0.9,2,IF(C13>=0.8,1,0))) -> 3
B14: Муниципальные районы
A15: 5 | B15: Александрово-Гайский | C15: ='Раздел 2.Александрово-Гайский '!I34 -> 1 | D15: =IF(C15>=0.95,3,IF(C15>=0.9,2,IF(C15>=0.8,1,0))) -> 3
A16: 6 | B16: Аркадакский | C16: ='Раздел 2. Аркадский '!I40 -> 1 | D16: =IF(C16>=0.95,3,IF(C16>=0.9,2,IF(C16>=0.8,1,0))) -> 3
A17: 7 | B17: Аткарский | C17: ='Раздел 2. Аткарский'!I46 -> 1 | D17: =IF(C17>=0.95,3,IF(C17>=0.9,2,IF(C17>=0.8,1,0))) -> 3
A18: 8 | B18: Базарно-Карабулакский | C18: ='Раздел 2. Базарно-Карабулакский'!I80 -> 1 | D18: =IF(C18>=0.95,3,IF(C18>=0.9,2,IF(C18>=0.8,1,0))) -> 3
A19: 9 | B19: Балаковский | C19: ='Раздел 2. Балаковский'!I135 -> 0.99685039 | D19: =IF(C19>=0.95,3,IF(C19>=0.9,2,IF(C19>=0.8,1,0))) -> 3
A20: 10 | B20: Балашовский | C20: ='Раздел 2. Балашовский'!I100 -> 0.99130435 | D20: =IF(C20>=0.95,3,IF(C20>=0.9,2,IF(C20>=0.8,1,0))) -> 3
A21: 11 | B21: Балтайский | C21: ='Раздел 2. Балтайский'!I35 -> 1 | D21: =IF(C21>=0.95,3,IF(C21>=0.9,2,IF(C21>=0.8,1,0))) -> 3
A22: 12 | B22: Вольский | C22: ='Раздел 2. Вольский '!I90 -> 1 | D22: =IF(C22>=0.95,3,IF(C22>=0.9,2,IF(C22>=0.8,1,0))) -> 3
A23: 13 | B23: Воскресенский | C23: ='Раздел 2. Воскресенский'!I32 -> 1 | D23: =IF(C23>=0.95,3,IF(C23>=0.9,2,IF(C23>=0.8,1,0))) -> 3
A24: 14 | B24: Дергачевский | C24: ='Раздел 2. Дергачевский'!I52 -> 1 | D24: =IF(C24>=0.95,3,IF(C24>=0.9,2,IF(C24>=0.8,1,0))) -> 3
A25: 15 | B25: Духовницкий | C25: ='Раздел 2. Духовницкий'!I34 -> 1 | D25: =IF(C25>=0.95,3,IF(C25>=0.9,2,IF(C25>=0.8,1,0))) -> 3
A26: 16 | B26: Екатериновский | C26: ='Раздел 2. Екатериновский'!I46 -> 0.98947368 | D26: =IF(C26>=0.95,3,IF(C26>=0.9,2,IF(C26>=0.8,1,0))) -> 3
A27: 17 | B27: Ершовский | C27: ='Раздел 2. Ершовский'!I58 -> 1 | D27: =IF(C27>=0.95,3,IF(C27>=0.9,2,IF(C27>=0.8,1,0))) -> 3
A28: 18 | B28: Ивантеевский | C28: ='Раздел 2. Ивантеевский'!I36 -> 1 | D28: =IF(C28>=0.95,3,IF(C28>=0.9,2,IF(C28>=0.8,1,0))) -> 3
A29: 19 | B29: Калининский | C29: ='Раздел 2. Калининский'!I55 -> 1 | D29: =IF(C29>=0.95,3,IF(C29>=0.9,2,IF(C29>=0.8,1,0))) -> 3
A30: 20 | B30: Красноармейский | C30: ='Раздел 2. Красноармейский'!I70 -> 1 | D30: =IF(C30>=0.95,3,IF(C30>=0.9,2,IF(C30>=0.8,1,0))) -> 3
A31: 21 | B31: Краснокутский | C31: ='Раздел 2. Краснокутский'!I62 -> 1 | D31: =IF(C31>=0.95,3,IF(C31>=0.9,2,IF(C31>=0.8,1,0))) -> 3
A32: 22 | B32: Краснопартизанский | C32: ='Раздел 2. Краснопартизанский'!I31 -> 1 | D32: =IF(C32>=0.95,3,IF(C32>=0.9,2,IF(C32>=0.8,1,0))) -> 3
A33: 23 | B33: Лысогорский | C33: ='Раздел 2. Лысогорский'!I46 -> 1 | D33: =IF(C33>=0.95,3,IF(C33>=0.9,2,IF(C33>=0.8,1,0))) -> 3
A34: 24 | B34: Марксовский | C34: ='Раздел 2. Марксовский'!I81 -> 1 | D34: =IF(C34>=0.95,3,IF(C34>=0.9,2,IF(C34>=0.8,1,0))) -> 3
A35: 25 | B35: Новобурасский | C35: ='Раздел 2. Новобурасский'!I50 -> 1 | D35: =IF(C35>=0.95,3,IF(C35>=0.9,2,IF(C35>=0.8,1,0))) -> 3
A36: 26 | B36: Новоузенский | C36: ='Раздел 2. Новоузенский'!I73 -> 0.98490566 | D36: =IF(C36>=0.95,3,IF(C36>=0.9,2,IF(C36>=0.8,1,0))) -> 3
A37: 27 | B37: Озинский | C37: ='Раздел 2. Озинский'!I53 -> 1 | D37: =IF(C37>=0.95,3,IF(C37>=0.9,2,IF(C37>=0.8,1,0))) -> 3
A38: 28 | B38: Перелюбский | C38: ='Раздел 2. Перелюбский'!I44 -> 0.97777778 | D38: =IF(C38>=0.95,3,IF(C38>=0.9,2,IF(C38>=0.8,1,0))) -> 3
A39: 29 | B39: Петровский | C39: ='Раздел 2. Петровский'!I62 -> 0.99259259 | D39: =IF(C39>=0.95,3,IF(C39>=0.9,2,IF(C39>=0.8,1,0))) -> 3
A40: 30 | B40: Питерский | C40: ='Раздел 2. Питерский'!I48 -> 1 | D40: =IF(C40>=0.95,3,IF(C40>=0.9,2,IF(C40>=0.8,1,0))) -> 3
...

Sheet Раздел 2. г. Саратов
A1: 2.1 Итоговое значение рейтинга открытости и прозрачности муниципальных учреждений муниципального образования, рассчитанного на основе данных раздела «Независимая система оценки качества» официального сайта Российской Федерации для размещения информации о государственных (муниципальных) учреждениях (www.bus.gov.ru)
A2: Наименование муниципального образования | C2: г. Саратов
A3: Дата проведения оценки | C3: 43951
A4: Комментарий:
A5: Показатели Roii, Rmzi, Rpfhdi при наличии опубликованной информации на указанном сайте принимают значения 1, в иных случаях – 0. Если муниципальному учреждению муниципальное задание не предоставляется (муниципальное учреждение является казенным или учреждение осуществляет деятельность в сфере обязательного медицинского страхования на основании договора на оказание и оплату медицинской помощи по обязательному медицинскому страхованию), то показатель Rmzi принимает значение 1, в иных случаях – 0.
A6: № п/п | B6: Полное наименование учреждения | C6: Сокращенное наименование учреждения | D6: Тип учреждения | E6: Отметка об отсутствии муниципального задания и/или плана финансово-хозяйственной деятельности с указанием причины | F6: Общая информация (Roii) | G6: на 2020 год | I6: Рейтинг открытости и прозрачности по учреждению (Ri=Roii*0,2+ Rmzi*0,4+ Rpfhdi*0,4) | J6: Комментарии
G7: Информация о муниципальном задании (Rmzi) | H7: Информация о ПФХД или показателях бюджетной сметы (Rpfhdi)
A8: 1 | B8: муниципальное бюджетное учреждение дополнительного образования "Центральная детская музыкальная школа" | C8: МБУДО "ЦДМШ" | D8: бюджетное | F8: 1 | G8: 1 | H8: 1 | I8: =F8*0.2+G8*0.4+H8*0.4 -> 1
A9: 2 | B9: муниципальное бюджетное учреждение дополнительного образования "Детская школа искусств №1" | C9: МБУДО "ДШИ № 1" | D9: бюджетное | F9: 1 | G9: 1 | H9: 1 | I9: =F9*0.2+G9*0.4+H9*0.4 -> 1
A10: 3 | B10: муниципальное бюджетное учреждение дополнительного образования "Детская школа искусств № 2" | C10: МБУДО "ДШИ № 2" | D10: бюджетное | F10: 1 | G10: 1 | H10: 1 | I10: =F10*0.2+G10*0.4+H10*0.4 -> 1
A11: 4 | B11: муниципальное бюджетное учреждение дополнительного образования "Детская музыкальная школа № 3" | C11: МБУДО "ДМШ № 3" | D11: бюджетное | F11: 1 | G11: 1 | H11: 1 | I11: =F11*0.2+G11*0.4+H11*0.4 -> 1
A12: 5 | B12: муниципальное бюджетное учреждение дополнительного образования "Детская музыкальная школа № 4" | C12: МБУДО "ДМШ № 4" | D12: бюджетное | F12: 1 | G12: 1 | H12: 1 | I12: =F12*0.2+G12*0.4+H12*0.4 -> 1
A13: 6 | B13: муниципальное бюджетное учреждение дополнительного образования "Детская музыкальная школа № 5" | C13: МБУДО "ДМШ № 5" | D13: бюджетное | F13: 1 | G13: 1 | H13: 1 | I13: =F13*0.2+G13*0.4+H13*0.4 -> 1
A14: 7 | B14: муниципальное бюджетное учреждение дополнительного образования "Детская музыкальная школа № 6" | C14: МБУДО "ДМШ № 6" | D14: бюджетное | F14: 1 | G14: 1 | H14: 1 | I14: =F14*0.2+G14*0.4+H14*0.4 -> 1
A15: 8 | B15: муниципальное бюджетное учреждение дополнительного образования "Детская музыкальная школа № 7" | C15: МБУДО "ДМШ № 7" | D15: бюджетное | F15: 1 | G15: 1 | H15: 1 | I15: =F15*0.2+G15*0.4+H15*0.4 -> 1
A16: 9 | B16: муниципальное бюджетное учреждение дополнительного образования "Детская школа искусств № 8" | C16: МБУДО "ДШИ № 8" | D16: бюджетное | F16: 1 | G16: 1 | H16: 1 | I16: =F16*0.2+G16*0.4+H16*0.4 -> 1
A17: 10 | B17: муниципальное бюджетное учреждение дополнительного образования "Детская музыкальная школа № 9" | C17: МБУДО "ДМШ № 9" | D17: бюджетное | F17: 1 | G17: 1 | H17: 1 | I17: =F17*0.2+G17*0.4+H17*0.4 -> 1
A18: 11 | B18: муниципальное бюджетное учреждение дополнительного образования "Детская школа искусств № 10" | C18: МБУДО "ДШИ № 10" | D18: бюджетное | F18: 1 | G18: 1 | H18: 1 | I18: =F18*0.2+G18*0.4+H18*0.4 -> 1
A19: 12 | B19: муниципальное бюджетное учреждение дополнительного образования "Детская школа искусств № 11" | C19: МБУДО "ДШИ № 11" | D19: бюджетное | F19: 1 | G19: 1 | H19: 1 | I19: =F19*0.2+G19*0.4+H19*0.4 -> 1
... A57: 50 | B57: Муниципальное бюджетное дошкольное образовательное учреждение "Детский сад компенсирующего вида № 82" г. Саратова | C57: МБДОУ "Детский сад компенсирующего вида № 82" г. Саратова | D57: бюджетное | F57: 1 | G57: 1 | H57: 1 | I57: =F57*0.2+G57*0.4+H57*0.4 -> 1
A58: 51 | B58: Муниципальное бюджетное дошкольное образовательное учреждение "Детский сад присмотра и оздоровления № 108" г. Саратова | C58: МБДОУ "ДСПиО № 108" | D58: бюджетное | F58: 1 | G58: 1 | H58: 1 | I58: =F58*0.2+G58*0.4+H58*0.4 -> 1 | J58: Обратите внимание, на странице не указан номер муниципального задания.
A59: 52 | B59: Муниципальное бюджетное дошкольное образовательное учреждение "Детский сад компенсирующего вида № 137" | C59: МБДОУ "Детский сад компенсирующего вида № 137" | D59: бюджетное | F59: 1 | G59: 1 | H59: 1 | I59: =F59*0.2+G59*0.4+H59*0.4 -> 1
A60: 53 | B60: муниципальное автономное дошкольное образовательное учреждение "Детский сад компенсирующего вида № 146" г. Саратова | C60: МАДОУ "Детский сад компенсирующего вида № 146" | D60: автономное | F60: 1 | G60: 1 | H60: 1 | I60: =F60*0.2+G60*0.4+H60*0.4 -> 1
A61: 54 | B61: Муниципальное бюджетное дошкольное образовательное учреждение "Детский сад присмотра и оздоровления № 151" г. Саратова | C61: МБДОУ "Детский сад присмотра и оздоровления № 151" г. Саратова | D61: бюджетное | F61: 1 | G61: 1 | H61: 1 | I61: =F61*0.2+G61*0.4+H61*0.4 -> 1
A62: 55 | B62: Муниципальное бюджетное дошкольное образовательное учреждение "Детский сад компенсирующего вида № 159" г. Саратова | C62: МБДОУ "Детский сад компенсирующего вида № 159" | D62: бюджетное | F62: 1 | G62: 1 | H62: 1 | I62: =F62*0.2+G62*0.4+H62*0.4 -> 1
A63: 56 | B63: Муниципальное бюджетное дошкольное образовательное учреждение "Детский сад компенсирующего вида № 163" г. Саратова | C63: МБДОУ "Детский сад компенсирующего вида № 163" | D63: бюджетное | F63: 1 | G63: 1 | H63: 1 | I63: =F63*0.2+G63*0.4+H63*0.4 -> 1
A64: 57 | B64: Муниципальное бюджетное дошкольное образовательное учреждение "Детский сад присмотра и оздоровления № 190" города Саратова | C64: МБДОУ "Детский сад присмотра и оздоровления № 190" г. Саратова | D64: бюджетное | F64: 1 | G64: 1 | H64: 1 | I64: =F64*0.2+G64*0.4+H64*0.4 -> 1
A65: 58 | B65: муниципальное бюджетное дошкольное образовательное учреждение - детский сад № 196 компенсирующего вида города Саратова | C65: МБДОУ - детский сад № 196 компенсирующего вида г. Саратова | D65: бюджетное | F65: 1 | G65: 1 | H65: 1 | I65: =F65*0.2+G65*0.4+H65*0.4 -> 1
A66: 59 | B66: муниципальное бюджетное дошкольное образовательное учреждение "Детский сад присмотра и оздоровления № 203" города Саратова | C66: МБДОУ "Детский сад присмотра и оздоровления № 203" г. Саратова | D66: бюджетное | F66: 1 | G66: 1 | H66: 1 | I66: =F66*0.2+G66*0.4+H66*0.4 -> 1
A67: 60 | B67: Муниципальное бюджетное дошкольное образовательное учреждение "Детский сад компенсирующего вида № 223" г. Саратова | C67: МБДОУ "Детский сад компенсирующего вида № 223" г. Саратова | D67: бюджетное | F67: 1 | G67: 1 | H67: 1 | I67: =F67*0.2+G67*0.4+H67*0.4 -> 1
A68: 61 | B68: Муниципальное бюджетное дошкольное образовательное учреждение "Детский сад компенсирующего вида № 225" г. Саратова | C68: МБДОУ "Детский сад компенсирующего вида № 225" | D68: бюджетное | F68: 1 | G68: 1 | H68: 1 | I68: =F68*0.2+G68*0.4+H68*0.4 -> 1
A69: 62 | B69: Муниципальное автономное дошкольное образовательное учреждение "Детский сад комбинированного вида № 232" города Саратова | C69: МАДОУ "Детский сад комбинированного вида № 232" города Саратова | D69: автономное | F69: 1 | G69: 1 | H69: 1 | I69: =F69*0.2+G69*0.4+H69*0.4 -> 1
A70: 63 | B70: муниципальное бюджетное общеобразовательное учреждение "Прогимназия № 237 "Семицветик" г. Саратова | C70: МБОУ "Прогимназия № 237 "Семицветик" | D70: бюджетное | F70: 1 | G70: 1 | H70: 1 | I70: =F70*0.2+G70*0.4+H70*0.4 -> 1
... A79: 72 | B79: муниципальное дошкольное образовательное учреждение "Детский сад № 119 " г.Саратова | C79: МДОУ "Детский сад № 119" г. Саратова | D79: бюджетное | F79: 1 | G79: 1 | H79: 1 | I79: =F79*0.2+G79*0.4+H79*0.4 -> 1
A80: 73 | B80: Муниципальное учреждение "Центральная спортивная школа олимпийского резерва" | C80: МУ "ЦСШОР" | D80: бюджетное | F80: 1 | G80: 1 | H80: 1 | I80: =F80*0.2+G80*0.4+H80*0.4 -> 1 | J80: Обратите внимание, на странице не указан номер муниципального задания.
A81: 74 | B81: Муниципальное учреждение "Спортивная школа олимпийского резерва № 3" г. Саратова | C81: МУ "СШОР № 3" г. Саратова | D81: бюджетное | F81: 1 | G81: 1 | H81: 1 | I81: =F81*0.2+G81*0.4+H81*0.4 -> 1
A82: 75 | B82: Муниципальное автономное учреждение "Спортивная школа олимпийского резерва №14 "Волга" | C82: МАУ "СШОР №14 "Волга" | D82: автономное | F82: 1 | G82: 1 | H82: 1 | I82: =F82*0.2+G82*0.4+H82*0.4 -> 1
A83: 76 | B83: Муниципальное автономное учреждение "Дирекция физкультурно-оздоровительных и спортивных сооружений" | C83: МАУ "ДФОСС" | D83: автономное | F83: 1 | G83: 1 | H83: 1 | I83: =F83*0.2+G83*0.4+H83*0.4 -> 1
A84: 77 | B84: Муниципальное автономное учреждение дополнительного образования "Детский оздоровительно-образовательный спортивный центр" | C84: МАУ ДО "ДООСЦ" | D84: автономное | F84: 1 | G84: 1 | H84: 1 | I84: =F84*0.2+G84*0.4+H84*0.4 -> 1
A85: 78 | B85: Муниципальное бюджетное учреждение «Городская аварийно-ремонтная служба 05» | C85: МБУ "ГАРС-05" | D85: бюджетное | F85: 1 | G85: 1 | H85: 1 | I85: =F85*0.2+G85*0.4+H85*0.4 -> 1
...

Sheet Раздел 2. п. Михайловское
A1: 2.1 Итоговое значение рейтинга открытости и прозрачности муниципальных учреждений муниципального образования, рассчитанного на основе данных раздела «Независимая система оценки качества» официального сайта Российской Федерации для размещения информации о государственных (муниципальных) учреждениях (www.bus.gov.ru)
A2: Наименование муниципального образования | C2: п. Михайловское
A3: Дата проведения оценки | C3: 43927
A4: Комментарий:
A5: Показатели Roii, Rmzi, Rpfhdi при наличии опубликованной информации на указанном сайте принимают значения 1, в иных случаях – 0. Если муниципальному учреждению муниципальное задание не предоставляется (муниципальное учреждение является казенным или учреждение осуществляет деятельность в сфере обязательного медицинского страхования на основании договора на оказание и оплату медицинской помощи по обязательному медицинскому страхованию), то показатель Rmzi принимает значение 1, в иных случаях – 0.
A6: № п/п | B6: Полное наименование учреждения | C6: Сокращенное наименование учреждения | D6: Тип учреждения | E6: Отметка об отсутствии муниципального задания и/или плана финансово-хозяйственной деятельности с указанием причины | F6: Общая информация (Roii) | G6: на 2020 год | I6: Рейтинг открытости и прозрачности по учреждению (Ri=Roii*0,2+ Rmzi*0,4+ Rpfhdi*0,4) | J6: Комментарии
G7: Информация о муниципальном задании (Rmzi) | H7: Информация о ПФХД или показателях бюджетной сметы (Rpfhdi)
A8: 1 | B8: МУНИЦИПАЛЬНОЕ ДОШКОЛЬНОЕ ОБРАЗОВАТЕЛЬНОЕ УЧРЕЖДЕНИЕ ДЕТСКИЙ САД №1 "СКАЗКА" МУНИЦИПАЛЬНОГО ОБРАЗОВАНИЯ ПОСЕЛКА МИХАЙЛОВСКИЙ САРАТОВСКОЙ ОБЛАСТИ | C8: МДОУ Д/С №1 "СКАЗКА" МО П. МИХАЙЛОВСКИЙ | D8: БЮДЖЕТНОЕ | F8: 1 | G8: 1 | H8: 1 | I8: =F8*0.2+G8*0.4+H8*0.4 -> 1
A9: 2 | B9: МУНИЦИПАЛЬНОЕ ОБЩЕОБРАЗОВАТЕЛЬНОЕ УЧРЕЖДЕНИЕ "СРЕДНЯЯ ОБЩЕОБРАЗОВАТЕЛЬНАЯ ШКОЛА МУНИЦИПАЛЬНОГО ОБРАЗОВАНИЯ ПОСЕЛОК МИХАЙЛОВСКИЙ САРАТОВСКОЙ ОБЛАСТИ" | C9: МОУ "СОШ МО ПОС. МИХАЙЛОВСКИЙ" | D9: БЮДЖЕТНОЕ | F9: 1 | G9: 1 | H9: 1 | I9: =F9*0.2+G9*0.4+H9*0.4 -> 1
