Workbook

Sheet Итого по видам (распредел.) 
A1: Сведения о предоставлении из бюджета Саратовской области межбюджетных трансфертов местным бюджетам
A2: за 2019 год
G3: тыс. рублей
A4: № п/п | B4: Наименование | C4: Код бюджетной классификации | D4: Закон Саратовской области «Об областном бюджете на 2019 год и на плановый период 2020 и 2021 годов» | F4: Исполнение | G4: % исполнения
D5: первоначальный бюджет (ред. 127-ЗСО от 27.11.2018) | E5: уточненный бюджет (ред. 131-ЗСО от 11.12.2019) + бюджетная роспись
A6: 1 | B6: 2 | C6: 3 | E6: 4 | F6: 5 | G6: 6
A7: 1. | B7: Дотации - всего | D7: =SUM(D8:D12) -> 3674291 | E7: =SUM(E8:E12) -> 4584294.5 | F7: =SUM(F8:F12) -> 4576394 | G7: =F7/E7*100 -> 99.827662
A8: 1.1. | B8: Дотации бюджетам городских округов области, связанные с особым режимом безопасного функционирования закрытых административно-территориальных образований | C8: 000 1401 6640150100 511 | D8: =Дотации!F52 -> 41021 | E8: =Дотации!G52 -> 41021 | F8: =Дотации!H52 -> 41021 | G8: =F8/E8*100 -> 100
A9: 1.2. | B9: Дотации в целях обеспечения сбалансированности бюджетов городских округов Шиханы и Михайловский | C9: 000 1402 6640150030 511 000 1402 6640151430 511 | D9: =Дотации!J52 -> 57696 | E9: =Дотации!K52 -> 57696 | F9: =Дотации!L52 -> 57696 | G9: =F9/E9*100 -> 100
A10: 1.3. | B10: Дотации на выравнивание бюджетной обеспеченности поселений области | C10: 000 1401 6640170100 511 | D10: =Дотации!N52 -> 40443.5 | E10: =Дотации!O52 -> 40443.5 | F10: =Дотации!P52 -> 40443.5 | G10: =F10/E10*100 -> 100
A11: 1.4. | B11: Дотации на выравнивание бюджетной обеспеченности муниципальных районов (городских округов) области | C11: 000 1401 6640170200 511 | D11: =Дотации!R52 -> 3290508.4 | E11: =Дотации!S52 -> 3278048.9 | F11: =Дотации!T52 -> 3278048.9 | G11: =F11/E11*100 -> 100
A12: 1.5. | B12: Дотации на поддержку мер по обеспечению сбалансированности бюджетов | C12: 000 1401 6640170300 511 | D12: =Дотации!V52 -> 244622.1 | E12: =Дотации!W52 -> 1167085.1 | F12: =Дотации!X52 -> 1159184.6 | G12: =F12/E12*100 -> 99.323057
A13: 2. | B13: Субсидии - всего | D13: =SUM(D14:D70) -> 3263003.5 | E13: =SUM(E14:E70) -> 10043595 | F13: =SUM(F14:F70) -> 9794078.4 | G13: =F13/E13*100 -> 97.515664
A14: 2.1. | B14: Субсидии на создание в дошкольных образовательных организациях дополнительного образования детей (в том числе в организациях, осуществляющих образовательную деятельность по адаптированным основным общеобразовательным программам) условий для получения детьми-инвалидами качественного образования | C14: 000 0701 5A106R0270 520 | D14: =Субсидии!F350 -> 0 | E14: =Субсидии!G350 -> 1573 | F14: =Субсидии!H350 -> 1573 | G14: =F14/E14*100 -> 100
A15: 2.2. | B15: Субсидии на создание в организациях дополнительного образования детей, организациях дополнительного образования детей (в том числе в организациях, осуществляющих образовательную деятельность по адаптированным основным общеобразовательным программам) условий для получения детьми-инвалидами качественного образования | C15: 000 0703 5A214R0270 520 | D15: =Субсидии!J350 -> 0 | E15: =Субсидии!K350 -> 1573.1 | F15: =Субсидии!L350 -> 1573.1 | G15: =F15/E15*100 -> 100
A16: 2.3. | B16: Субсидии на создание в общеобразовательных организациях, расположенных в сельской местности, условий для занятий физической культурой и спортом | C16: 000 0702 5A2E250970 521 | D16: =Субсидии!N350 -> 0 | E16: =Субсидии!O350 -> 18906.9 | F16: =Субсидии!P350 -> 18906.896 | G16: =F16/E16*100 -> 99.999977
A17: 2.4. | B17: Субсидии бюджетам муниципальных районов области на создание новых мест в общеобразовательных организациях | C17: 000 0702 5A2E155200 520 | D17: =Субсидии!R350 -> 229617 | E17: =Субсидии!S350 -> 309650 | F17: =Субсидии!T350 -> 309650 | G17: =F17/E17*100 -> 100
A18: 2.5. | B18: Субсидии на обеспечение жильем молодых семей | C18: 000 1004 5E301R4970 520 | D18: =Субсидии!V350 -> 0 | E18: =Субсидии!W350 -> 78768.8 | F18: =Субсидии!X350 -> 77508.535 | G18: =F18/E18*100 -> 98.400046
A19: 2.6. | B19: Субсидии на поддержку творческой деятельности и укрепление материально-технической базы муниципальных театров в населенных пунктах с численностью населения до 300 тысяч человек 6* | C19: 000 0801 55206R4660 520 | D19: =Субсидии!Z350 -> 0 | E19: =Субсидии!AA350 -> 11316.7 | F19: =Субсидии!AB350 -> 11316.727 | G19: =F19/E19*100 -> 100.00024
A20: 2.7. | B20: Субсидии на поддержку отрасли культуры на комплектование книжных фондов муниципальных общедоступных библиотек 6* | C20: 000 0801 55402R5191 520 | D20: =Субсидии!AD350 -> 0 | E20: =Субсидии!AE350 -> 1268.9888 | F20: =Субсидии!AF350 -> 1268.9888 | G20: =F20/E20*100 -> 100
A21: 2.8. | B21: Субсидии на поддержку отрасли культуры на подключение муниципальных общедоступных библиотек к информационно-телекоммуникационной сети «Интернет» и развитие библиотечного дела с учетом задачи расширения информационных технологий и оцифровки 6* | C21: 000 0801 55405R5193 520 | D21: =Субсидии!AH350 -> 0 | E21: =Субсидии!AI350 -> 4766.4045 | F21: =Субсидии!AJ350 -> 4766.4045 | G21: =F21/E21*100 -> 100
A22: 2.9. | B22: Субсидии на обеспечение развития и укрепления материально-технической базы домов культуры в населенных пунктах с числом жителей до 50 тысяч человек 6* | C22: 000 0801 55A12R4670 521 | D22: =Субсидии!AL350 -> 0 | E22: =Субсидии!AM350 -> 47678.764 | F22: =Субсидии!AN350 -> 47678.764 | G22: =F22/E22*100 -> 100
A23: 2.10. | B23: Субсидии на поддержку отрасли культуры на государственную поддержку лучших сельских учреждений культуры 6* | C23: 000 0801 55Б04R5192 520 | D23: =Субсидии!AP350 -> 0 | E23: =Субсидии!AQ350 -> 2500 | F23: =Субсидии!AR350 -> 2500 | G23: =F23/E23*100 -> 100
A24: 2.11. | B24: Субсидии на поддержку отрасли культуры на государственную поддержку лучших работников сельских учреждений культуры 6* | C24: 000 0801 55Б04R5194 520 | D24: =Субсидии!AT350 -> 0 | E24: =Субсидии!AU350 -> 1100 | F24: =Субсидии!AV350 -> 1100 | G24: =F24/E24*100 -> 100
A25: 2.12. | B25: Субсидии на строительство и реконструкцию малобюджетных физкультурно-спортивных объектов шаговой доступности, плоскостных сооружений | C25: 000 1102 564P554951 520 | D25: =Субсидии!AX350 -> 43953.5 | E25: =Субсидии!AY350 -> 43953.5 | F25: =Субсидии!AZ350 -> 43953.5 | G25: =F25/E25*100 -> 100
A26: 2.13. | B26: Субсидии на обеспечение деятельности муниципальных бизнес-инкубаторов | C26: 000 0412 5830171100 520 | D26: =Субсидии!BB350 -> 5100 | E26: =Субсидии!BC350 -> 5100 | F26: =Субсидии!BD350 -> 5100 | G26: =F26/E26*100 -> 100
A27: 2.14. | B27: Субсидия бюджетам городских округов области на обеспечение капитального ремонта, ремонта и содержания автомобильных дорог общего пользования местного значения за счет средств областного дорожного фонда | C27: 000 0409 5Ж208D7400 520 | E27: =Субсидии!BG350 -> 479600 | F27: =Субсидии!BH350 -> 479493.01 | G27: =F27/E27*100 -> 99.977692
A28: 2.15. | B28: Субсидия бюджетам городских округов области на осуществление дорожной деятельности в отношении автомобильных дорог общего пользования местного значения Саратовской агломерации в границах городских округов области в рамках приоритетного проекта «Безопасные и качественные дороги» за счет средств областного дорожного фонда | C28: 000 0409 5Ж2R153930 520 | D28: =Субсидии!BJ350 -> 999900 | E28: =Субсидии!BK350 -> 999900 | F28: =Субсидии!BL350 -> 999900 | G28: =F28/E28*100 -> 100
A29: 2.16. | B29: Субсидии на комплексное обустройство населенных пунктов, расположенных в сельской местности, объектами социальной, инженерной инфраструктуры и автомобильными дорогами 4* | C29: 000 0502 5Г303R5670 522 | E29: =Субсидии!BO350 -> 24205.5 | F29: =Субсидии!BP350 -> 24205.545 | G29: =F29/E29*100 -> 100.00019
A30: 2.17. | B30: Субсидии бюджетам поселений области на обеспечение капитального ремонта, ремонта и содержания автомобильных дорог общего пользования местного значения городских поселений области за счет средств областного дорожного фонда | C30: 000 0409 5Ж210D7Ж00 520 | E30: =Субсидии!BS350 -> 155000 | F30: =Субсидии!BT350 -> 154999.86 | G30: =F30/E30*100 -> 99.999913
A31: 2.18. | B31: Субсидии бюджетам муниципальных районов области на капитальный ремонт, ремонт и содержание автомобильных дорог общего пользования местного значения за счет средств областного дорожного фонда | C31: 000 0409 5Ж205D7300 520 | D31: =Субсидии!BV350 -> 300000 | E31: =Субсидии!BW350 -> 300000 | F31: =Субсидии!BX350 -> 293793.67 | G31: =F31/E31*100 -> 97.931224
A32: 2.19. | B32: Субсидии на обеспечение повышения оплаты труда некоторых категорий работников муниципальных учреждений | C32: 000 1403 6640172300 520 | D32: =Субсидии!BZ350 -> 530528 | E32: =Субсидии!CA350 -> 520689.1 | F32: =Субсидии!CB350 -> 458786.24 | G32: =F32/E32*100 -> 88.111358
A33: 2.20. | B33: Субсидии на реализацию проектов развития муниципальных образований области, основанных на местных инициативах 7* | C33: 000 0113 6640500000 521 | D33: =Субсидии!CD350 -> 80000 | E33: =Субсидии!CE350 -> 80000.019 | F33: =Субсидии!CF350 -> 75990.105 | G33: =F33/E33*100 -> 94.987608
A34: 2.21. | B34: Субсидии на поддержку муниципальных программ формирования современной городской среды 3* | C34: 000 0503 691F255550 523 | D34: =Субсидии!CH350 -> 0 | E34: =Субсидии!CI350 -> 813071.41 | F34: =Субсидии!CJ350 -> 794902.54 | G34: =F34/E34*100 -> 97.765403
A35: 2.22. | B35: Субсидии бюджетам поселений на развитие сети плоскостных спортивных сооружений в сельской местности 5* | C35: 000 1101 564P555670 522 | D35: =Субсидии!CL350 -> 0 | E35: =Субсидии!CM350 -> 3909.8 | F35: =Субсидии!CN350 -> 3909.8 | G35: =F35/E35*100 -> 100
A36: 2.23. | B36: Субсидии на обеспечение сохранения достигнутых показателей повышения оплаты труда отдельных категорий работников бюджетной сферы | C36: 000 1403 6640172500 520 | D36: =Субсидии!CP350 -> 580272 | E36: =Субсидии!CQ350 -> 686715.1 | F36: =Субсидии!CR350 -> 656438.89 | G36: =F36/E36*100 -> 95.591154
A37: 2.24. | B37: Субсидии на выполнение расходных обязательств, связанных с погашением просроченной кредиторской задолженности, образовавшейся по состоянию на 1 января 2018 года, по уплате начислений на выплаты по оплате труда, налогов, по оказанию мер социальной поддержки населения, по оплате коммунальных услуг и исполнительных листов | C37: 000 1403 6640172400 520 | D37: =Субсидии!CT350 -> 453219.3 | E37: =Субсидии!CU350 -> 354942.9 | F37: =Субсидии!CV350 -> 350988.56 | G37: =F37/E37*100 -> 98.885921
A38: 2.25. | B38: Субсидии на оснащение объектов спортивной инфраструктуры спортивно-технологическим оборудованием | C38: 000 1102 564P552282 520 | D38: =Субсидии!CX350 -> 25510.2 | E38: =Субсидии!CY350 -> 25510.2 | F38: =Субсидии!CZ350 -> 25510.205 | G38: =F38/E38*100 -> 100.00002
A39: 2.26. | B39: Субсидии на обновление материально-технической базы для формирования у обучающихся современных технологических и гуманитарных навыков | C39: 000 0702 5A2E151690 520 | E39: =Субсидии!DC350 -> 103486.2 | F39: =Субсидии!DD350 -> 103486.22 | G39: =F39/E39*100 -> 100.00002
A40: 2.27. | B40: Субсидии на реализацию регионального проекта (программы) в целях выполнения задач федерального проекта «Жилье» (стимулирование программ развития жилищного | C40: 000 1403 5E1F150210 520 | E40: =Субсидии!DG350 -> 195205 | F40: =Субсидии!DH350 -> 191346.17 | G40: =F40/E40*100 -> 98.023193
...

Sheet Всего (с учетом нераспред)
A1: Сведения о предоставленных из бюджета Саратовской области межбюджетных трансфертах бюджетам муниципальных образований за 2019 год
T2: тыс.рублей
A3: Наименование муниципальных образований | B3: Всего
F4: Дотации | J4: Субсидии | N4: Субвенции | R4: Иные межбюджетные трансферты
B6: первоначаль-ный бюджет* | C6: утвержденные бюджетные назначения 2* | D6: исполнено | E6: % исполнения | F6: первоначаль-ный бюджет* | G6: утвержденные бюджетные назначения 2* | H6: исполнено | I6: % исполнения | J6: первоначаль-ный бюджет* | K6: бюджетная роспись + уточненный бюджет 2* | L6: исполнено | M6: % исполнения | N6: первоначаль-ный бюджет* | O6: утвержденные бюджетные назначения 2* | P6: исполнено | Q6: % исполнения | R6: первоначаль-ный бюджет* | S6: утвержденные бюджетные назначения 2* | T6: исполнено | U6: % исполнения
A7: Муниципальные районы области: | B7: =F7+J7+N7+R7 -> 18101550 | C7: =G7+K7+O7+S7 -> 23452618 | D7: =H7+L7+P7+T7 -> 23224404 | E7: =D7/C7*100 -> 99.026917 | F7: =Дотации!B7 -> 3386184.5 | G7: =Дотации!C7 -> 4294002.7 | H7: =Дотации!D7 -> 4286287.5 | I7: =H7/G7*100 -> 99.820326 | J7: =Субсидии!B8 -> 1827142.7 | K7: =Субсидии!C8 -> 4367912.8 | L7: =Субсидии!D8 -> 4249137.9 | M7: =L7/K7*100 -> 97.28074 | N7: ='Субвенции '!B10 -> 12570853 | O7: ='Субвенции '!C10 -> 13290743 | P7: ='Субвенции '!D10 -> 13203049 | Q7: =P7/O7*100 -> 99.340185 | R7: =Иные!B8 -> 317369.6 | S7: =Иные!C8 -> 1499959.3 | T7: =Иные!D8 -> 1485930.4 | U7: =T7/S7*100 -> 99.064712
A8: Александрово-Гайский | B8: =F8+J8+N8+R8 -> 291083.3 | C8: =G8+K8+O8+S8 -> 391957.18 | D8: =H8+L8+P8+T8 -> 383729.19 | E8: =D8/C8*100 -> 97.900793 | F8: =Дотации!B8 -> 74007.1 | G8: =Дотации!C8 -> 91695.8 | H8: =Дотации!D8 -> 91695.8 | I8: =H8/G8*100 -> 100 | J8: =Субсидии!B9 -> 35130.5 | K8: =Субсидии!C9 -> 81471.459 | L8: =Субсидии!D9 -> 74882.922 | M8: =L8/K8*100 -> 91.913073 | N8: ='Субвенции '!B11 -> 181945.7 | O8: ='Субвенции '!C11 -> 193716.2 | P8: ='Субвенции '!D11 -> 193243.02 | Q8: =P8/O8*100 -> 99.755737 | R8: =Иные!B9 -> 0 | S8: =Иные!C9 -> 25073.72 | T8: =Иные!D9 -> 23907.442 | U8: =T8/S8*100 -> 95.348606
A9: Аркадакский | B9: =F9+J9+N9+R9 -> 304983.5 | C9: =G9+K9+O9+S9 -> 336457.62 | D9: =H9+L9+P9+T9 -> 333224.03 | E9: =D9/C9*100 -> 99.038932 | F9: =Дотации!B9 -> 83945.8 | G9: =Дотации!C9 -> 83945.8 | H9: =Дотации!D9 -> 83945.8 | I9: =H9/G9*100 -> 100 | J9: =Субсидии!B10 -> 22567.9 | K9: =Субсидии!C10 -> 31884.322 | L9: =Субсидии!D10 -> 29119.545 | M9: =L9/K9*100 -> 91.328726 | N9: ='Субвенции '!B12 -> 198469.8 | O9: ='Субвенции '!C12 -> 211414.1 | P9: ='Субвенции '!D12 -> 211201.5 | Q9: =P9/O9*100 -> 99.899439 | R9: =Иные!B10 -> 0 | S9: =Иные!C10 -> 9213.4 | T9: =Иные!D10 -> 8957.1907 | U9: =T9/S9*100 -> 97.219167
A10: Аткарский | B10: =F10+J10+N10+R10 -> 487761.5 | C10: =G10+K10+O10+S10 -> 537062.43 | D10: =H10+L10+P10+T10 -> 527490.67 | E10: =D10/C10*100 -> 98.217756 | F10: =Дотации!B10 -> 120799.1 | G10: =Дотации!C10 -> 120799.1 | H10: =Дотации!D10 -> 120799.1 | I10: =H10/G10*100 -> 100 | J10: =Субсидии!B11 -> 45505.1 | K10: =Субсидии!C11 -> 64103.726 | L10: =Субсидии!D11 -> 55312.851 | M10: =L10/K10*100 -> 86.286484 | N10: ='Субвенции '!B13 -> 321457.3 | O10: ='Субвенции '!C13 -> 340901.4 | P10: ='Субвенции '!D13 -> 340120.69 | Q10: =P10/O10*100 -> 99.770986 | R10: =Иные!B11 -> 0 | S10: =Иные!C11 -> 11258.2 | T10: =Иные!D11 -> 11258.027 | U10: =T10/S10*100 -> 99.998461
A11: Базарно-Карабулакский | B11: =F11+J11+N11+R11 -> 410169 | C11: =G11+K11+O11+S11 -> 566373.44 | D11: =H11+L11+P11+T11 -> 561924.38 | E11: =D11/C11*100 -> 99.214465 | F11: =Дотации!B11 -> 113822 | G11: =Дотации!C11 -> 218045 | H11: =Дотации!D11 -> 218045 | I11: =H11/G11*100 -> 100 | J11: =Субсидии!B12 -> 37584.7 | K11: =Субсидии!C12 -> 75156.738 | L11: =Субсидии!D12 -> 71191.158 | M11: =L11/K11*100 -> 94.723587 | N11: ='Субвенции '!B14 -> 258762.3 | O11: ='Субвенции '!C14 -> 267852 | P11: ='Субвенции '!D14 -> 267467.64 | Q11: =P11/O11*100 -> 99.856503 | R11: =Иные!B12 -> 0 | S11: =Иные!C12 -> 5319.7 | T11: =Иные!D12 -> 5220.5796 | U11: =T11/S11*100 -> 98.136729
A12: Балаковский | B12: =F12+J12+N12+R12 -> 1563235.2 | C12: =G12+K12+O12+S12 -> 1982101.9 | D12: =H12+L12+P12+T12 -> 1947565.4 | E12: =D12/C12*100 -> 98.257583 | F12: =Дотации!B12 -> 0 | G12: =Дотации!C12 -> 14960.8 | H12: =Дотации!D12 -> 14960.8 | J12: =Субсидии!B13 -> 78327.2 | K12: =Субсидии!C13 -> 381988.85 | L12: =Субсидии!D13 -> 374390.43 | M12: =L12/K12*100 -> 98.010826 | N12: ='Субвенции '!B15 -> 1484908 | O12: ='Субвенции '!C15 -> 1548788.7 | P12: ='Субвенции '!D15 -> 1523423.7 | Q12: =P12/O12*100 -> 98.362267 | R12: =Иные!B13 -> 0 | S12: =Иные!C13 -> 36363.5 | T12: =Иные!D13 -> 34790.456 | U12: =T12/S12*100 -> 95.674114
A13: Балашовский | B13: =F13+J13+N13+R13 -> 1049540.8 | C13: =G13+K13+O13+S13 -> 1336114.8 | D13: =H13+L13+P13+T13 -> 1321700.9 | E13: =D13/C13*100 -> 98.921207 | F13: =Дотации!B13 -> 170300.6 | G13: =Дотации!C13 -> 262009.5 | H13: =Дотации!D13 -> 262009.5 | I13: =H13/G13*100 -> 100 | J13: =Субсидии!B14 -> 141131.8 | K13: =Субсидии!C14 -> 224394.43 | L13: =Субсидии!D14 -> 218974.04 | M13: =L13/K13*100 -> 97.584437 | N13: ='Субвенции '!B16 -> 738108.4 | O13: ='Субвенции '!C16 -> 780961.8 | P13: ='Субвенции '!D16 -> 772008.23 | Q13: =P13/O13*100 -> 98.85352 | R13: =Иные!B14 -> 0 | S13: =Иные!C14 -> 68749.1 | T13: =Иные!D14 -> 68709.146 | U13: =T13/S13*100 -> 99.941884
A14: Балтайский | B14: =F14+J14+N14+R14 -> 189131.5 | C14: =G14+K14+O14+S14 -> 245689.55 | D14: =H14+L14+P14+T14 -> 244859.49 | E14: =D14/C14*100 -> 99.662151 | F14: =Дотации!B14 -> 49008.3 | G14: =Дотации!C14 -> 63836.2 | H14: =Дотации!D14 -> 63836.2 | I14: =H14/G14*100 -> 100 | J14: =Субсидии!B15 -> 21569.3 | K14: =Субсидии!C15 -> 48343.68 | L14: =Субсидии!D15 -> 48075.775 | M14: =L14/K14*100 -> 99.445833 | N14: ='Субвенции '!B17 -> 118553.9 | O14: ='Субвенции '!C17 -> 118429.2 | P14: ='Субвенции '!D17 -> 117867.04 | Q14: =P14/O14*100 -> 99.525324 | R14: =Иные!B15 -> 0 | S14: =Иные!C15 -> 15080.471 | T14: =Иные!D15 -> 15080.471 | U14: =T14/S14*100 -> 100
A15: Вольский | B15: =F15+J15+N15+R15 -> 836303 | C15: =G15+K15+O15+S15 -> 1187313.3 | D15: =H15+L15+P15+T15 -> 1178956.2 | E15: =D15/C15*100 -> 99.296137 | F15: =Дотации!B15 -> 91813.9 | G15: =Дотации!C15 -> 203921.3 | H15: =Дотации!D15 -> 203921.3 | I15: =H15/G15*100 -> 100 | J15: =Субсидии!B16 -> 80168 | K15: =Субсидии!C16 -> 231685.37 | L15: =Субсидии!D16 -> 229470.38 | M15: =L15/K15*100 -> 99.043969 | N15: ='Субвенции '!B18 -> 664321.1 | O15: ='Субвенции '!C18 -> 722868.3 | P15: ='Субвенции '!D18 -> 716793.73 | Q15: =P15/O15*100 -> 99.159658 | R15: =Иные!B16 -> 0 | S15: =Иные!C16 -> 28838.3 | T15: =Иные!D16 -> 28770.789 | U15: =T15/S15*100 -> 99.765898
A16: Воскресенский | B16: =F16+J16+N16+R16 -> 171333.1 | C16: =G16+K16+O16+S16 -> 234107.75 | D16: =H16+L16+P16+T16 -> 231882.43 | E16: =D16/C16*100 -> 99.049443 | F16: =Дотации!B16 -> 39777.6 | G16: =Дотации!C16 -> 56679.9 | H16: =Дотации!D16 -> 56679.9 | I16: =H16/G16*100 -> 100 | J16: =Субсидии!B17 -> 17058.6 | K16: =Субсидии!C17 -> 41111.354 | L16: =Субсидии!D17 -> 39603.544 | M16: =L16/K16*100 -> 96.332376 | N16: ='Субвенции '!B19 -> 114496.9 | O16: ='Субвенции '!C19 -> 126417.3 | P16: ='Субвенции '!D19 -> 125702.19 | Q16: =P16/O16*100 -> 99.43433 | R16: =Иные!B17 -> 0 | S16: =Иные!C17 -> 9899.2 | T16: =Иные!D17 -> 9896.7874 | U16: =T16/S16*100 -> 99.975628
A17: Дергачевский | B17: =F17+J17+N17+R17 -> 359329.6 | C17: =G17+K17+O17+S17 -> 397806.16 | D17: =H17+L17+P17+T17 -> 396712.19 | E17: =D17/C17*100 -> 99.724998 | F17: =Дотации!B17 -> 93614.4 | G17: =Дотации!C17 -> 99860.8 | H17: =Дотации!D17 -> 99860.8 | I17: =H17/G17*100 -> 100 | J17: =Субсидии!B18 -> 23312.9 | K17: =Субсидии!C18 -> 33061.061 | L17: =Субсидии!D18 -> 33051.791 | M17: =L17/K17*100 -> 99.971961 | N17: ='Субвенции '!B20 -> 191409.7 | O17: ='Субвенции '!C20 -> 207181.9 | P17: ='Субвенции '!D20 -> 206097.9 | Q17: =P17/O17*100 -> 99.476787 | R17: =Иные!B18 -> 50992.6 | S17: =Иные!C18 -> 57702.4 | T17: =Иные!D18 -> 57701.698 | U17: =T17/S17*100 -> 99.998784
A18: Духовницкий | B18: =F18+J18+N18+R18 -> 156865.1 | C18: =G18+K18+O18+S18 -> 205472.11 | D18: =H18+L18+P18+T18 -> 203118.88 | E18: =D18/C18*100 -> 98.854722 | F18: =Дотации!B18 -> 31397.5 | G18: =Дотации!C18 -> 44695.9 | H18: =Дотации!D18 -> 44695.9 | I18: =H18/G18*100 -> 100 | J18: =Субсидии!B19 -> 16867.8 | K18: =Субсидии!C19 -> 36905.206 | L18: =Субсидии!D19 -> 34950.065 | M18: =L18/K18*100 -> 94.702262 | N18: ='Субвенции '!B21 -> 108599.8 | O18: ='Субвенции '!C21 -> 117007.5 | P18: ='Субвенции '!D21 -> 116638.25 | Q18: =P18/O18*100 -> 99.68442 | R18: =Иные!B19 -> 0 | S18: =Иные!C19 -> 6863.5 | T18: =Иные!D19 -> 6834.667 | U18: =T18/S18*100 -> 99.579908
A19: Екатериновский | B19: =F19+J19+N19+R19 -> 257097.2 | C19: =G19+K19+O19+S19 -> 384542.58 | D19: =H19+L19+P19+T19 -> 378329.96 | E19: =D19/C19*100 -> 98.384414 | F19: =Дотации!B19 -> 43582.2 | G19: =Дотации!C19 -> 77246.3 | H19: =Дотации!D19 -> 77246.3 | I19: =H19/G19*100 -> 100 | J19: =Субсидии!B20 -> 29018.4 | K19: =Субсидии!C20 -> 72843.278 | L19: =Субсидии!D20 -> 67212.98 | M19: =L19/K19*100 -> 92.270669 | N19: ='Субвенции '!B22 -> 184496.6 | O19: ='Субвенции '!C22 -> 199550.6 | P19: ='Субвенции '!D22 -> 199040.41 | Q19: =P19/O19*100 -> 99.744328 | R19: =Иные!B20 -> 0 | S19: =Иные!C20 -> 34902.4 | T19: =Иные!D20 -> 34830.276 | U19: =T19/S19*100 -> 99.793356
A20: Ершовский | B20: =F20+J20+N20+R20 -> 573038.7 | C20: =G20+K20+O20+S20 -> 645086.88 | D20: =H20+L20+P20+T20 -> 634871.74 | E20: =D20/C20*100 -> 98.41647 | F20: =Дотации!B20 -> 124147.2 | G20: =Дотации!C20 -> 125096.3 | H20: =Дотации!D20 -> 125096.3 | I20: =H20/G20*100 -> 100 | J20: =Субсидии!B21 -> 46809.3 | K20: =Субсидии!C21 -> 59682.75 | L20: =Субсидии!D21 -> 51418.114 | M20: =L20/K20*100 -> 86.152388 | N20: ='Субвенции '!B23 -> 379180.5 | O20: ='Субвенции '!C23 -> 396587.7 | P20: ='Субвенции '!D23 -> 394950.92 | Q20: =P20/O20*100 -> 99.587285 | R20: =Иные!B21 -> 22901.7 | S20: =Иные!C21 -> 63720.13 | T20: =Иные!D21 -> 63406.399 | U20: =T20/S20*100 -> 99.507642
A21: Ивантеевский | B21: =F21+J21+N21+R21 -> 273042.8 | C21: =G21+K21+O21+S21 -> 344127.08 | D21: =H21+L21+P21+T21 -> 343012.87 | E21: =D21/C21*100 -> 99.676223 | F21: =Дотации!B21 -> 65481.4 | G21: =Дотации!C21 -> 67063.3 | H21: =Дотации!D21 -> 67063.3 | I21: =H21/G21*100 -> 100 | J21: =Субсидии!B22 -> 19837.6 | K21: =Субсидии!C22 -> 48324.776 | L21: =Субсидии!D22 -> 48324.779 | M21: =L21/K21*100 -> 100.00001 | N21: ='Субвенции '!B24 -> 187723.8 | O21: ='Субвенции '!C24 -> 194718.5 | P21: ='Субвенции '!D24 -> 193604.29 | Q21: =P21/O21*100 -> 99.427785 | R21: =Иные!B22 -> 0 | S21: =Иные!C22 -> 34020.5 | T21: =Иные!D22 -> 34020.5 | U21: =T21/S21*100 -> 100
A22: Калининский | B22: =F22+J22+N22+R22 -> 407505.4 | C22: =G22+K22+O22+S22 -> 483233.87 | D22: =H22+L22+P22+T22 -> 482200.62 | E22: =D22/C22*100 -> 99.786179 | F22: =Дотации!B22 -> 77843 | G22: =Дотации!C22 -> 99132.7 | H22: =Дотации!D22 -> 99132.7 | I22: =H22/G22*100 -> 100 | J22: =Субсидии!B23 -> 52666.2 | K22: =Субсидии!C23 -> 76357.272 | L22: =Субсидии!D23 -> 76009.323 | M22: =L22/K22*100 -> 99.544315 | N22: ='Субвенции '!B25 -> 276996.2 | O22: ='Субвенции '!C25 -> 290975.8 | P22: ='Субвенции '!D25 -> 290583.78 | Q22: =P22/O22*100 -> 99.865273 | R22: =Иные!B23 -> 0 | S22: =Иные!C23 -> 16768.1 | T22: =Иные!D23 -> 16474.817 | U22: =T22/S22*100 -> 98.250948
A23: Красноармейский | B23: =F23+J23+N23+R23 -> 532283.7 | C23: =G23+K23+O23+S23 -> 589817.7 | D23: =H23+L23+P23+T23 -> 584808.5 | E23: =D23/C23*100 -> 99.150721 | F23: =Дотации!B23 -> 153452.6 | G23: =Дотации!C23 -> 175066.8 | H23: =Дотации!D23 -> 175066.8 | I23: =H23/G23*100 -> 100 | J23: =Субсидии!B24 -> 49128.9 | K23: =Субсидии!C24 -> 50407.501 | L23: =Субсидии!D24 -> 48694.04 | M23: =L23/K23*100 -> 96.600781 | N23: ='Субвенции '!B26 -> 329702.2 | O23: ='Субвенции '!C26 -> 352409 | P23: ='Субвенции '!D26 -> 349113.27 | Q23: =P23/O23*100 -> 99.064799 | R23: =Иные!B24 -> 0 | S23: =Иные!C24 -> 11934.4 | T23: =Иные!D24 -> 11934.399 | U23: =T23/S23*100 -> 99.999993
A24: Краснокутский | B24: =F24+J24+N24+R24 -> 414052.8 | C24: =G24+K24+O24+S24 -> 522432.38 | D24: =H24+L24+P24+T24 -> 519534.5 | E24: =D24/C24*100 -> 99.445311 | F24: =Дотации!B24 -> 96993.2 | G24: =Дотации!C24 -> 102940.2 | H24: =Дотации!D24 -> 102940.2 | I24: =H24/G24*100 -> 100 | J24: =Субсидии!B25 -> 26137.6 | K24: =Субсидии!C25 -> 87365.6 | L24: =Субсидии!D25 -> 86961.74 | M24: =L24/K24*100 -> 99.537735 | N24: ='Субвенции '!B27 -> 290922 | O24: ='Субвенции '!C27 -> 294621.28 | P24: ='Субвенции '!D27 -> 292211.92 | Q24: =P24/O24*100 -> 99.182221 | R24: =Иные!B25 -> 0 | S24: =Иные!C25 -> 37505.3 | T24: =Иные!D25 -> 37420.637 | U24: =T24/S24*100 -> 99.774264
... A38: Самойловский | B38: =F38+J38+N38+R38 -> 239009.8 | C38: =G38+K38+O38+S38 -> 503923.9 | D38: =H38+L38+P38+T38 -> 499124.69 | E38: =D38/C38*100 -> 99.047631 | F38: =Дотации!B38 -> 55338.9 | G38: =Дотации!C38 -> 54914.6 | H38: =Дотации!D38 -> 54914.6 | I38: =H38/G38*100 -> 100 | J38: =Субсидии!B39 -> 21072.7 | K38: =Субсидии!C39 -> 251418 | L38: =Субсидии!D39 -> 247495.68 | M38: =L38/K38*100 -> 98.439919 | N38: ='Субвенции '!B41 -> 162598.2 | O38: ='Субвенции '!C41 -> 192502.4 | P38: ='Субвенции '!D41 -> 191625.59 | Q38: =P38/O38*100 -> 99.54452 | R38: =Иные!B39 -> 0 | S38: =Иные!C39 -> 5088.9 | T38: =Иные!D39 -> 5088.821 | U38: =T38/S38*100 -> 99.998449
A39: Саратовский | B39: =F39+J39+N39+R39 -> 428495.2 | C39: =G39+K39+O39+S39 -> 580782.08 | D39: =H39+L39+P39+T39 -> 559823.68 | E39: =D39/C39*100 -> 96.391349 | F39: =Дотации!B39 -> 0 | G39: =Дотации!C39 -> 7715.2 | H39: =Дотации!D39 -> 0 | J39: =Субсидии!B40 -> 46772.7 | K39: =Субсидии!C40 -> 145032.03 | L39: =Субсидии!D40 -> 136826.65 | M39: =L39/K39*100 -> 94.342363 | N39: ='Субвенции '!B42 -> 381722.5 | O39: ='Субвенции '!C42 -> 413478 | P39: ='Субвенции '!D42 -> 411535.3 | Q39: =P39/O39*100 -> 99.530157 | R39: =Иные!B40 -> 0 | S39: =Иные!C40 -> 14556.85 | T39: =Иные!D40 -> 11461.73 | U39: =T39/S39*100 -> 78.737711
A40: Советский | B40: =F40+J40+N40+R40 -> 257308.8 | C40: =G40+K40+O40+S40 -> 301225.45 | D40: =H40+L40+P40+T40 -> 296053.37 | E40: =D40/C40*100 -> 98.282988 | F40: =Дотации!B40 -> 52361 | G40: =Дотации!C40 -> 54045.9 | H40: =Дотации!D40 -> 54045.9 | I40: =H40/G40*100 -> 100 | J40: =Субсидии!B41 -> 26498.5 | K40: =Субсидии!C41 -> 40421.552 | L40: =Субсидии!D41 -> 38283.536 | M40: =L40/K40*100 -> 94.710704 | N40: ='Субвенции '!B43 -> 178449.3 | O40: ='Субвенции '!C43 -> 188452.1 | P40: ='Субвенции '!D43 -> 187414.6 | Q40: =P40/O40*100 -> 99.449462 | R40: =Иные!B41 -> 0 | S40: =Иные!C41 -> 18305.9 | T40: =Иные!D41 -> 16309.339 | U40: =T40/S40*100 -> 89.093344
A41: Татищевский | B41: =F41+J41+N41+R41 -> 366166.1 | C41: =G41+K41+O41+S41 -> 488943.95 | D41: =H41+L41+P41+T41 -> 481819.08 | E41: =D41/C41*100 -> 98.542805 | F41: =Дотации!B41 -> 10141.2 | G41: =Дотации!C41 -> 41470.9 | H41: =Дотации!D41 -> 41470.9 | J41: =Субсидии!B42 -> 35232 | K41: =Субсидии!C42 -> 89999.354 | L41: =Субсидии!D42 -> 85465.273 | M41: =L41/K41*100 -> 94.962096 | N41: ='Субвенции '!B44 -> 236177.4 | O41: ='Субвенции '!C44 -> 258366.6 | P41: ='Субвенции '!D44 -> 255775.81 | Q41: =P41/O41*100 -> 98.997244 | R41: =Иные!B42 -> 84615.5 | S41: =Иные!C42 -> 99107.1 | T41: =Иные!D42 -> 99107.1 | U41: =T41/S41*100 -> 100
A42: Турковский | B42: =F42+J42+N42+R42 -> 180719 | C42: =G42+K42+O42+S42 -> 232401.37 | D42: =H42+L42+P42+T42 -> 230363.35 | E42: =D42/C42*100 -> 99.123063 | F42: =Дотации!B42 -> 61264.2 | G42: =Дотации!C42 -> 61090.6 | H42: =Дотации!D42 -> 61090.6 | I42: =H42/G42*100 -> 100 | J42: =Субсидии!B43 -> 13845.5 | K42: =Субсидии!C43 -> 36569.367 | L42: =Субсидии!D43 -> 36234.396 | M42: =L42/K42*100 -> 99.084012 | N42: ='Субвенции '!B45 -> 105609.3 | O42: ='Субвенции '!C45 -> 118183.5 | P42: ='Субвенции '!D45 -> 117773.24 | Q42: =P42/O42*100 -> 99.652865 | R42: =Иные!B43 -> 0 | S42: =Иные!C43 -> 16557.9 | T42: =Иные!D43 -> 15265.113 | U42: =T42/S42*100 -> 92.192323
A43: Федоровский | B43: =F43+J43+N43+R43 -> 270605.5 | C43: =G43+K43+O43+S43 -> 325896.4 | D43: =H43+L43+P43+T43 -> 321560.53 | E43: =D43/C43*100 -> 98.669556 | F43: =Дотации!B43 -> 76156.5 | G43: =Дотации!C43 -> 79593.1 | H43: =Дотации!D43 -> 79593.1 | I43: =H43/G43*100 -> 100 | J43: =Субсидии!B44 -> 22193.4 | K43: =Субсидии!C44 -> 28013.602 | L43: =Субсидии!D44 -> 23929.043 | M43: =L43/K43*100 -> 85.419372 | N43: ='Субвенции '!B46 -> 172255.6 | O43: ='Субвенции '!C46 -> 186285.9 | P43: ='Субвенции '!D46 -> 186113.18 | Q43: =P43/O43*100 -> 99.907283 | R43: =Иные!B44 -> 0 | S43: =Иные!C44 -> 32003.8 | T43: =Иные!D44 -> 31925.21 | U43: =T43/S43*100 -> 99.754435
A44: Хвалынский | B44: =F44+J44+N44+R44 -> 272251 | C44: =G44+K44+O44+S44 -> 334573.46 | D44: =H44+L44+P44+T44 -> 333109.46 | E44: =D44/C44*100 -> 99.56243 | F44: =Дотации!B44 -> 81768.4 | G44: =Дотации!C44 -> 87803.5 | H44: =Дотации!D44 -> 87803.5 | I44: =H44/G44*100 -> 100 | J44: =Субсидии!B45 -> 18057.3 | K44: =Субсидии!C45 -> 31937.557 | L44: =Субсидии!D45 -> 31712.232 | M44: =L44/K44*100 -> 99.294482 | N44: ='Субвенции '!B47 -> 172425.3 | O44: ='Субвенции '!C47 -> 185603.9 | P44: ='Субвенции '!D47 -> 184662.96 | Q44: =P44/O44*100 -> 99.493038 | R44: =Иные!B45 -> 0 | S44: =Иные!C45 -> 29228.5 | T44: =Иные!D45 -> 28930.774 | U44: =T44/S44*100 -> 98.981384
A45: Энгельсский | B45: =F45+J45+N45+R45 -> 2731718.1 | C45: =G45+K45+O45+S45 -> 4246923.1 | D45: =H45+L45+P45+T45 -> 4214959.6 | E45: =D45/C45*100 -> 99.247372 | F45: =Дотации!B45 -> 203551.3 | G45: =Дотации!C45 -> 388788.7 | H45: =Дотации!D45 -> 388788.7 | J45: =Субсидии!B46 -> 411903.6 | K45: =Субсидии!C46 -> 1262963.6 | L45: =Субсидии!D46 -> 1241427.7 | M45: =L45/K45*100 -> 98.294813 | N45: ='Субвенции '!B48 -> 1957403.4 | O45: ='Субвенции '!C48 -> 2018902.1 | P45: ='Субвенции '!D48 -> 2008923.5 | Q45: =P45/O45*100 -> 99.505739 | R45: =Иные!B46 -> 158859.8 | S45: =Иные!C46 -> 576268.7 | T45: =Иные!D46 -> 575819.73 | U45: =T45/S45*100 -> 99.922091
A46: Городские округа области: | B46: =F46+J46+N46+R46 -> 7359839.3 | C46: =G46+K46+O46+S46 -> 11788319 | D46: =H46+L46+P46+T46 -> 11641259 | E46: =D46/C46*100 -> 98.752495 | F46: =Дотации!B46 -> 288106.5 | G46: =Дотации!C46 -> 290291.8 | H46: =Дотации!D46 -> 290106.5 | I46: =H46/G46*100 -> 99.936168 | J46: =Субсидии!B47 -> 1258748 | K46: =Субсидии!C47 -> 4490910.5 | L46: =Субсидии!D47 -> 4385465.7 | M46: =L46/K46*100 -> 97.652039 | N46: ='Субвенции '!B49 -> 5379781.9 | O46: ='Субвенции '!C49 -> 5389800.4 | P46: ='Субвенции '!D49 -> 5358154.5 | Q46: =P46/O46*100 -> 99.412857 | R46: =Иные!B47 -> 433202.9 | S46: =Иные!C47 -> 1617316 | T46: =Иные!D47 -> 1607532.1 | U46: =T46/S46*100 -> 99.395052
A47: г. Саратов | B47: =F47+J47+N47+R47 -> 6912098.4 | C47: =G47+K47+O47+S47 -> 11305729 | D47: =H47+L47+P47+T47 -> 11165490 | E47: =D47/C47*100 -> 98.75958 | F47: =Дотации!B47 -> 39454.9 | G47: =Дотации!C47 -> 39640.2 | H47: =Дотации!D47 -> 39454.9 | I47: =H47/G47*100 -> 99.532545 | J47: =Субсидии!B48 -> 1247625.1 | K47: =Субсидии!C48 -> 4467961.9 | L47: =Субсидии!D48 -> 4365343.4 | M47: =L47/K47*100 -> 97.703236 | N47: ='Субвенции '!B50 -> 5194855.5 | O47: ='Субвенции '!C50 -> 5198288.8 | P47: ='Субвенции '!D50 -> 5170124.8 | Q47: =P47/O47*100 -> 99.458206 | R47: =Иные!B48 -> 430162.9 | S47: =Иные!C48 -> 1599837.7 | T47: =Иные!D48 -> 1590567 | U47: =T47/S47*100 -> 99.42052
A48: п. Михайловский | B48: =F48+J48+N48+R48 -> 83014.7 | C48: =G48+K48+O48+S48 -> 91235.391 | D48: =H48+L48+P48+T48 -> 90058.634 | E48: =D48/C48*100 -> 98.710197 | F48: =Дотации!B48 -> 48941.2 | G48: =Дотации!C48 -> 49941.2 | H48: =Дотации!D48 -> 49941.2 | I48: =H48/G48*100 -> 100 | J48: =Субсидии!B49 -> 4337.2 | K48: =Субсидии!C49 -> 3977.8911 | L48: =Субсидии!D49 -> 3171.9751 | M48: =L48/K48*100 -> 79.740121 | N48: ='Субвенции '!B51 -> 26696.3 | O48: ='Субвенции '!C51 -> 27874.7 | P48: ='Субвенции '!D51 -> 27703.537 | Q48: =P48/O48*100 -> 99.385957 | R48: =Иные!B49 -> 3040 | S48: =Иные!C49 -> 9441.6 | T48: =Иные!D49 -> 9241.9214 | U48: =T48/S48*100 -> 97.885119
A49: ЗАТО Светлый | B49: =F49+J49+N49+R49 -> 225511.8 | C49: =G49+K49+O49+S49 -> 243708.46 | D49: =H49+L49+P49+T49 -> 238900.5 | E49: =D49/C49*100 -> 98.027168 | F49: =Дотации!B49 -> 123309.1 | G49: =Дотации!C49 -> 123309.1 | H49: =Дотации!D49 -> 123309.1 | I49: =H49/G49*100 -> 100 | J49: =Субсидии!B50 -> 2681.1 | K49: =Субсидии!C50 -> 10058.659 | L49: =Субсидии!D50 -> 8336.3405 | M49: =L49/K49*100 -> 82.877254 | N49: ='Субвенции '!B52 -> 99521.6 | O49: ='Субвенции '!C52 -> 106283.7 | P49: ='Субвенции '!D52 -> 103437.09 | Q49: =P49/O49*100 -> 97.321691 | R49: =Иные!B50 -> 0 | S49: =Иные!C50 -> 4057 | T49: =Иные!D50 -> 3817.9648 | U49: =T49/S49*100 -> 94.108081
A50: г. Шиханы | B50: =F50+J50+N50+R50 -> 139214.4 | C50: =G50+K50+O50+S50 -> 147646.22 | D50: =H50+L50+P50+T50 -> 146809.61 | E50: =D50/C50*100 -> 99.433371 | F50: =Дотации!B50 -> 76401.3 | G50: =Дотации!C50 -> 77401.3 | H50: =Дотации!D50 -> 77401.3 | I50: =H50/G50*100 -> 100 | J50: =Субсидии!B51 -> 4104.6 | K50: =Субсидии!C51 -> 8912.0151 | L50: =Субсидии!D51 -> 8613.9609 | M50: =L50/K50*100 -> 96.655591 | N50: ='Субвенции '!B53 -> 58708.5 | O50: ='Субвенции '!C53 -> 57353.2 | P50: ='Субвенции '!D53 -> 56889.127 | Q50: =P50/O50*100 -> 99.19085 | R50: =Иные!B51 -> 0 | S50: =Иные!C51 -> 3979.7 | T50: =Иные!D51 -> 3905.2205 | U50: =T50/S50*100 -> 98.128516
A51: Поселения: | B51: =F51+J51+N51+R51 -> 382487.2 | C51: =G51+K51+O51+S51 -> 1912376.5 | D51: =H51+L51+P51+T51 -> 1827519.4 | E51: =D51/C51*100 -> 95.562741 | G51: 0 | H51: 0 | I51: 0 | J51: =Субсидии!B52 -> 97112.8 | K51: =Субсидии!C52 -> 1184758.9 | L51: =Субсидии!D52 -> 1159474.8 | M51: =L51/K51*100 -> 97.865886 | N51: ='Субвенции '!B54 -> 44111 | O51: ='Субвенции '!C54 -> 45079.2 | P51: ='Субвенции '!D54 -> 45070.717 | Q51: =P51/O51*100 -> 99.981181 | R51: =Иные!B52 -> 241263.4 | S51: =Иные!C52 -> 682538.4 | T51: =Иные!D52 -> 622973.9 | U51: =T51/S51*100 -> 91.273092
A52: Александрово-Гайское муниципальное образование Александрово-Гайского муниципального района | B52: =F52+J52+N52+R52 -> 2351.1 | C52: =G52+K52+O52+S52 -> 6730.4 | D52: =H52+L52+P52+T52 -> 6730.4 | E52: =D52/C52*100 -> 100 | J52: =Субсидии!B53 -> 0 | K52: =Субсидии!C53 -> 6029.3 | L52: =Субсидии!D53 -> 6029.3 | M52: =L52/K52*100 -> 100 | N52: ='Субвенции '!B55 -> 701.1 | O52: ='Субвенции '!C55 -> 701.1 | P52: ='Субвенции '!D55 -> 701.1 | Q52: =P52/O52*100 -> 100 | R52: =Иные!B53 -> 1650
A53: Новоалександровское муниципальное образование Александрово-Гайского муниципального района | B53: =F53+J53+N53+R53 -> 310 | C53: =G53+K53+O53+S53 -> 593.5 | D53: =H53+L53+P53+T53 -> 593.5 | E53: =D53/C53*100 -> 100 | J53: =Субсидии!B54 -> 216.5 | K53: =Субсидии!C54 -> 500 | L53: =Субсидии!D54 -> 500 | M53: =L53/K53*100 -> 100 | N53: ='Субвенции '!B56 -> 93.5 | O53: ='Субвенции '!C56 -> 93.5 | P53: ='Субвенции '!D56 -> 93.5 | Q53: =P53/O53*100 -> 100
A54: г. Аркадак муниципальное образование Аркадакского муниципального района | B54: =F54+J54+N54+R54 -> 621.9 | C54: =G54+K54+O54+S54 -> 7024.1 | D54: =H54+L54+P54+T54 -> 7024.1 | E54: =D54/C54*100 -> 100 | J54: =Субсидии!B55 -> 0 | K54: =Субсидии!C55 -> 6402.2 | L54: =Субсидии!D55 -> 6402.2 | M54: =L54/K54*100 -> 100 | N54: ='Субвенции '!B57 -> 621.9 | O54: ='Субвенции '!C57 -> 621.9 | P54: ='Субвенции '!D57 -> 621.9 | Q54: =P54/O54*100 -> 100 | S54: =Иные!C54 -> 0 | T54: =Иные!D54 -> 0
...

Sheet Дотации
A1: Сведения о предоставлении из бюджета Саратовской области межбюджетных трансфертов местным бюджетам за 2019 год
X3: тыс.рублей
A4: Наименование муниципальных образований | B4: Дотации, всего
F5: бюджетам городских округов области, связанные с особым режимом безопасного функционирования закрытых административно-территориальных образований | J5: в целях обеспечения сбалансированности бюджетов городских округов Шиханы и Михайловский | N5: на выравнивание бюджетной обеспеченности поселений области | R5: на выравнивание бюджетной обеспеченности муниципальных районов (городских округов) области | V5: на поддержку мер по обеспечению сбалансированности бюджетов
B6: первоначаль-ный бюджет* | C6: утвержденные бюджетные назначения 2* | D6: исполнено | E6: % исполнения | F6: первоначаль-ный бюджет* | G6: утвержденные бюджетные назначения 2* | H6: исполнено | I6: % исполнения | J6: первоначаль-ный бюджет* | K6: утвержденные бюджетные назначения 2* | L6: исполнено | M6: % исполнения | N6: первоначаль-ный бюджет* | O6: утвержденные бюджетные назначения 2* | P6: исполнено | Q6: % исполнения | R6: первоначаль-ный бюджет* | S6: утвержденные бюджетные назначения 2* | T6: исполнено | U6: % исполнения | V6: первоначаль-ный бюджет* | W6: утвержденные бюджетные назначения 2* | X6: исполнено | Y6: % исполнения
A7: Муниципальные районы области: | B7: =SUM(B8:B45) -> 3386184.5 | C7: =SUM(C8:C45) -> 4294002.7 | D7: =SUM(D8:D45) -> 4286287.5 | E7: =D7/C7*100 -> 99.820326 | R7: =SUM(R8:R45) -> 3159599.1 | S7: =SUM(S8:S45) -> 3147139.6 | T7: =SUM(T8:T45) -> 3147139.6 | U7: =T7/S7*100 -> 100 | V7: =SUM(V8:V45) -> 226585.4 | W7: =SUM(W8:W45) -> 1146863.1 | X7: =SUM(X8:X45) -> 1139147.9 | Y7: =X7/W7*100 -> 99.327278
A8: Александрово-Гайский | B8: =F8++J8+N8+R8+V8 -> 74007.1 | C8: =G8++K8+O8+S8+W8 -> 91695.8 | D8: =H8+P8+T8+X8 -> 91695.8 | E8: =D8/C8*100 -> 100 | R8: 58579.3 | S8: 58579.3 | T8: 58579.3 | U8: =T8/S8*100 -> 100 | V8: 15427.8 | W8: 33116.5 | X8: 33116.5 | Y8: =X8/W8*100 -> 100
A9: Аркадакский | B9: =F9++J9+N9+R9+V9 -> 83945.8 | C9: =G9++K9+O9+S9+W9 -> 83945.8 | D9: =H9+P9+T9+X9 -> 83945.8 | E9: =D9/C9*100 -> 100 | R9: 83945.8 | S9: 83945.8 | T9: 83945.8 | U9: =T9/S9*100 -> 100
A10: Аткарский | B10: =F10++J10+N10+R10+V10 -> 120799.1 | C10: =G10++K10+O10+S10+W10 -> 120799.1 | D10: =H10+P10+T10+X10 -> 120799.1 | E10: =D10/C10*100 -> 100 | R10: 120799.1 | S10: 120799.1 | T10: 120799.1 | U10: =T10/S10*100 -> 100
A11: Базарно-Карабулакский | B11: =F11++J11+N11+R11+V11 -> 113822 | C11: =G11++K11+O11+S11+W11 -> 218045 | D11: =H11+P11+T11+X11 -> 218045 | E11: =D11/C11*100 -> 100 | R11: 96405.2 | S11: 96405.2 | T11: 96405.2 | U11: =T11/S11*100 -> 100 | V11: 17416.8 | W11: 121639.8 | X11: 121639.8 | Y11: =X11/W11*100 -> 100
A12: Балаковский | B12: =F12++J12+N12+R12+V12 -> 0 | C12: =G12++K12+O12+S12+W12 -> 14960.8 | D12: =H12+P12+T12+X12 -> 14960.8 | E12: =D12/C12*100 -> 100 | W12: 14960.8 | X12: 14960.8 | Y12: =X12/W12*100 -> 100
A13: Балашовский | B13: =F13++J13+N13+R13+V13 -> 170300.6 | C13: =G13++K13+O13+S13+W13 -> 262009.5 | D13: =H13+P13+T13+X13 -> 262009.5 | E13: =D13/C13*100 -> 100 | R13: 170300.6 | S13: 170300.6 | T13: 170300.6 | U13: =T13/S13*100 -> 100 | W13: 91708.9 | X13: 91708.9 | Y13: =X13/W13*100 -> 100
A14: Балтайский | B14: =F14++J14+N14+R14+V14 -> 49008.3 | C14: =G14++K14+O14+S14+W14 -> 63836.2 | D14: =H14+P14+T14+X14 -> 63836.2 | E14: =D14/C14*100 -> 100 | R14: 42061.7 | S14: 42061.7 | T14: 42061.7 | U14: =T14/S14*100 -> 100 | V14: 6946.6 | W14: 21774.5 | X14: 21774.5 | Y14: =X14/W14*100 -> 100
A15: Вольский | B15: =F15++J15+N15+R15+V15 -> 91813.9 | C15: =G15++K15+O15+S15+W15 -> 203921.3 | D15: =H15+P15+T15+X15 -> 203921.3 | E15: =D15/C15*100 -> 100 | R15: 91813.9 | S15: 91813.9 | T15: 91813.9 | U15: =T15/S15*100 -> 100 | W15: 112107.4 | X15: 112107.4 | Y15: =X15/W15*100 -> 100
A16: Воскресенский | B16: =F16++J16+N16+R16+V16 -> 39777.6 | C16: =G16++K16+O16+S16+W16 -> 56679.9 | D16: =H16+P16+T16+X16 -> 56679.9 | E16: =D16/C16*100 -> 100 | R16: 39777.6 | S16: 39379.8 | T16: 39379.8 | U16: =T16/S16*100 -> 100 | W16: 17300.1 | X16: 17300.1 | Y16: =X16/W16*100 -> 100
A17: Дергачевский | B17: =F17++J17+N17+R17+V17 -> 93614.4 | C17: =G17++K17+O17+S17+W17 -> 99860.8 | D17: =H17+P17+T17+X17 -> 99860.8 | E17: =D17/C17*100 -> 100 | R17: 93614.4 | S17: 92678.3 | T17: 92678.3 | U17: =T17/S17*100 -> 100 | W17: 7182.5 | X17: 7182.5 | Y17: =X17/W17*100 -> 100
A18: Духовницкий | B18: =F18++J18+N18+R18+V18 -> 31397.5 | C18: =G18++K18+O18+S18+W18 -> 44695.9 | D18: =H18+P18+T18+X18 -> 44695.9 | E18: =D18/C18*100 -> 100 | R18: 31397.5 | S18: 31083.5 | T18: 31083.5 | U18: =T18/S18*100 -> 100 | W18: 13612.4 | X18: 13612.4 | Y18: =X18/W18*100 -> 100
A19: Екатериновский | B19: =F19++J19+N19+R19+V19 -> 43582.2 | C19: =G19++K19+O19+S19+W19 -> 77246.3 | D19: =H19+P19+T19+X19 -> 77246.3 | E19: =D19/C19*100 -> 100 | R19: 33685.8 | S19: 33685.8 | T19: 33685.8 | U19: =T19/S19*100 -> 100 | V19: 9896.4 | W19: 43560.5 | X19: 43560.5 | Y19: =X19/W19*100 -> 100
A20: Ершовский | B20: =F20++J20+N20+R20+V20 -> 124147.2 | C20: =G20++K20+O20+S20+W20 -> 125096.3 | D20: =H20+P20+T20+X20 -> 125096.3 | E20: =D20/C20*100 -> 100 | R20: 110817.1 | S20: 110817.1 | T20: 110817.1 | U20: =T20/S20*100 -> 100 | V20: 13330.1 | W20: 14279.2 | X20: 14279.2 | Y20: =X20/W20*100 -> 100
A21: Ивантеевский | B21: =F21++J21+N21+R21+V21 -> 65481.4 | C21: =G21++K21+O21+S21+W21 -> 67063.3 | D21: =H21+P21+T21+X21 -> 67063.3 | E21: =D21/C21*100 -> 100 | R21: 11496.1 | S21: 11496.1 | T21: 11496.1 | U21: =T21/S21*100 -> 100 | V21: 53985.3 | W21: 55567.2 | X21: 55567.2 | Y21: =X21/W21*100 -> 100
A22: Калининский | B22: =F22++J22+N22+R22+V22 -> 77843 | C22: =G22++K22+O22+S22+W22 -> 99132.7 | D22: =H22+P22+T22+X22 -> 99132.7 | E22: =D22/C22*100 -> 100 | R22: 73155.5 | S22: 72377 | T22: 72377 | U22: =T22/S22*100 -> 100 | V22: 4687.5 | W22: 26755.7 | X22: 26755.7 | Y22: =X22/W22*100 -> 100
A23: Красноармейский | B23: =F23++J23+N23+R23+V23 -> 153452.6 | C23: =G23++K23+O23+S23+W23 -> 175066.8 | D23: =H23+P23+T23+X23 -> 175066.8 | E23: =D23/C23*100 -> 100 | R23: 153452.6 | S23: 153452.6 | T23: 153452.6 | U23: =T23/S23*100 -> 100 | W23: 21614.2 | X23: 21614.2 | Y23: =X23/W23*100 -> 100
A24: Краснокутский | B24: =F24++J24+N24+R24+V24 -> 96993.2 | C24: =G24++K24+O24+S24+W24 -> 102940.2 | D24: =H24+P24+T24+X24 -> 102940.2 | E24: =D24/C24*100 -> 100 | R24: 96993.2 | S24: 96023.3 | T24: 96023.3 | U24: =T24/S24*100 -> 100 | W24: 6916.9 | X24: 6916.9 | Y24: =X24/W24*100 -> 100
A25: Краснопартизанский | B25: =F25++J25+N25+R25+V25 -> 54276 | C25: =G25++K25+O25+S25+W25 -> 69768.4 | D25: =H25+P25+T25+X25 -> 69768.4 | E25: =D25/C25*100 -> 100 | R25: 54276 | S25: 54276 | T25: 54276 | U25: =T25/S25*100 -> 100 | W25: 15492.4 | X25: 15492.4 | Y25: =X25/W25*100 -> 100
A26: Лысогорский | B26: =F26++J26+N26+R26+V26 -> 74968.8 | C26: =G26++K26+O26+S26+W26 -> 85890.9 | D26: =H26+P26+T26+X26 -> 85890.9 | E26: =D26/C26*100 -> 100 | R26: 73364.6 | S26: 71865.4 | T26: 71865.4 | U26: =T26/S26*100 -> 100 | V26: 1604.2 | W26: 14025.5 | X26: 14025.5 | Y26: =X26/W26*100 -> 100
A27: Марксовский | B27: =F27++J27+N27+R27+V27 -> 204437.4 | C27: =G27++K27+O27+S27+W27 -> 243066 | D27: =H27+P27+T27+X27 -> 243066 | E27: =D27/C27*100 -> 100 | R27: 204437.4 | S27: 204437.4 | T27: 204437.4 | U27: =T27/S27*100 -> 100 | W27: 38628.6 | X27: 38628.6 | Y27: =X27/W27*100 -> 100
A28: Новобурасский | B28: =F28++J28+N28+R28+V28 -> 97899 | C28: =G28++K28+O28+S28+W28 -> 108768.1 | D28: =H28+P28+T28+X28 -> 108768.1 | E28: =D28/C28*100 -> 100 | R28: 71990.6 | S28: 71990.6 | T28: 71990.6 | U28: =T28/S28*100 -> 100 | V28: 25908.4 | W28: 36777.5 | X28: 36777.5 | Y28: =X28/W28*100 -> 100
A29: Новоузенский | B29: =F29++J29+N29+R29+V29 -> 160886 | C29: =G29++K29+O29+S29+W29 -> 208545.1 | D29: =H29+P29+T29+X29 -> 208545.1 | E29: =D29/C29*100 -> 100 | R29: 160886 | S29: 159277.1 | T29: 159277.1 | U29: =T29/S29*100 -> 100 | W29: 49268 | X29: 49268 | Y29: =X29/W29*100 -> 100
A30: Озинский | B30: =F30++J30+N30+R30+V30 -> 96161.9 | C30: =G30++K30+O30+S30+W30 -> 110202.1 | D30: =H30+P30+T30+X30 -> 110202.1 | E30: =D30/C30*100 -> 100 | R30: 96161.9 | S30: 95200.3 | T30: 95200.3 | U30: =T30/S30*100 -> 100 | W30: 15001.8 | X30: 15001.8 | Y30: =X30/W30*100 -> 100
A31: Перелюбский | B31: =F31++J31+N31+R31+V31 -> 42269.3 | C31: =G31++K31+O31+S31+W31 -> 58508.5 | D31: =H31+P31+T31+X31 -> 58508.5 | E31: =D31/C31*100 -> 100 | R31: 40048.3 | S31: 39625.6 | T31: 39625.6 | U31: =T31/S31*100 -> 100 | V31: 2221 | W31: 18882.9 | X31: 18882.9 | Y31: =X31/W31*100 -> 100
A32: Петровский | B32: =F32++J32+N32+R32+V32 -> 167118.3 | C32: =G32++K32+O32+S32+W32 -> 167316.6 | D32: =H32+P32+T32+X32 -> 167316.6 | E32: =D32/C32*100 -> 100 | R32: 150436.9 | S32: 150436.9 | T32: 150436.9 | U32: =T32/S32*100 -> 100 | V32: 16681.4 | W32: 16879.7 | X32: 16879.7 | Y32: =X32/W32*100 -> 100
A33: Питерский | B33: =F33++J33+N33+R33+V33 -> 71067.6 | C33: =G33++K33+O33+S33+W33 -> 73797.3 | D33: =H33+P33+T33+X33 -> 73797.3 | E33: =D33/C33*100 -> 100 | R33: 65849.4 | S33: 64428 | T33: 64428 | U33: =T33/S33*100 -> 100 | V33: 5218.2 | W33: 9369.3 | X33: 9369.3 | Y33: =X33/W33*100 -> 100
A34: Пугачевский | B34: =F34++J34+N34+R34+V34 -> 164638 | C34: =G34++K34+O34+S34+W34 -> 202281.6 | D34: =H34+P34+T34+X34 -> 202281.6 | E34: =D34/C34*100 -> 100 | R34: 164638 | S34: 164638 | T34: 164638 | U34: =T34/S34*100 -> 100 | W34: 37643.6 | X34: 37643.6 | Y34: =X34/W34*100 -> 100
A35: Ровенский | B35: =F35++J35+N35+R35+V35 -> 87115.5 | C35: =G35++K35+O35+S35+W35 -> 87115.5 | D35: =H35+P35+T35+X35 -> 87115.5 | E35: =D35/C35*100 -> 100 | R35: 87115.5 | S35: 87115.5 | T35: 87115.5 | U35: =T35/S35*100 -> 100
A36: Романовский | B36: =F36++J36+N36+R36+V36 -> 55914 | C36: =G36++K36+O36+S36+W36 -> 57082.1 | D36: =H36+P36+T36+X36 -> 57082.1 | E36: =D36/C36*100 -> 100 | R36: 53966.7 | S36: 53407.5 | T36: 53407.5 | U36: =T36/S36*100 -> 100 | V36: 1947.3 | W36: 3674.6 | X36: 3674.6 | Y36: =X36/W36*100 -> 100
A37: Ртищевский | B37: =F37++J37+N37+R37+V37 -> 138865.3 | C37: =G37++K37+O37+S37+W37 -> 139242.3 | D37: =H37+P37+T37+X37 -> 139242.3 | E37: =D37/C37*100 -> 100 | R37: 105262.6 | S37: 105262.6 | T37: 105262.6 | U37: =T37/S37*100 -> 100 | V37: 33602.7 | W37: 33979.7 | X37: 33979.7 | Y37: =X37/W37*100 -> 100
A38: Самойловский | B38: =F38++J38+N38+R38+V38 -> 55338.9 | C38: =G38++K38+O38+S38+W38 -> 54914.6 | D38: =H38+P38+T38+X38 -> 54914.6 | E38: =D38/C38*100 -> 100 | R38: 43838.8 | S38: 43285.4 | T38: 43285.4 | U38: =T38/S38*100 -> 100 | V38: 11500.1 | W38: 11629.2 | X38: 11629.2 | Y38: =X38/W38*100 -> 100
A39: Саратовский | B39: =F39++J39+N39+R39+V39 -> 0 | C39: =G39++K39+O39+S39+W39 -> 7715.2 | D39: =H39+P39+T39+X39 -> 0 | W39: 7715.2 | X39: 0 | Y39: =X39/W39*100 -> 0
A40: Советский | B40: =F40++J40+N40+R40+V40 -> 52361 | C40: =G40++K40+O40+S40+W40 -> 54045.9 | D40: =H40+P40+T40+X40 -> 54045.9 | E40: =D40/C40*100 -> 100 | R40: 52361 | S40: 52361 | T40: 52361 | U40: =T40/S40*100 -> 100 | W40: 1684.9 | X40: 1684.9 | Y40: =X40/W40*100 -> 100
A41: Татищевский | B41: =F41++J41+N41+R41+V41 -> 10141.2 | C41: =G41++K41+O41+S41+W41 -> 41470.9 | D41: =H41+P41+T41+X41 -> 41470.9 | E41: =D41/C41*100 -> 100 | R41: 10141.2 | S41: 10141.2 | T41: 10141.2 | U41: =T41/S41*100 -> 100 | W41: 31329.7 | X41: 31329.7 | Y41: =X41/W41*100 -> 100
...

Sheet Субсидии
AV1: Продолжение таблицы | BT1: Продолжение таблицы | CR1: Продолжение таблицы | DP1: Продолжение таблицы | EN1: Продолжение таблицы | FL1: Продолжение таблицы | GJ1: Продолжение таблицы | HG1: Продолжение таблицы | HX1: Продолжение таблицы
C2: Сведения о предоставлении из бюджета Саратовской области межбюджетных трансфертов местным бюджетам за 2019 год | AA2: Сведения о предоставлении из бюджета Саратовской области межбюджетных трансфертов местным бюджетам за 2019 год | AZ2: Сведения о предоставлении из бюджета Саратовской области межбюджетных трансфертов местным бюджетам за 2019 год | BW2: Сведения о предоставлении из бюджета Саратовской области межбюджетных трансфертов местным бюджетам за 2019 год | CU2: Сведения о предоставлении из бюджета Саратовской области межбюджетных трансфертов местным бюджетам за 2019 год | DS2: Сведения о предоставлении из бюджета Саратовской области межбюджетных трансфертов местным бюджетам за 2019 год | EQ2: Сведения о предоставлении из бюджета Саратовской области межбюджетных трансфертов местным бюджетам за 2019 год | FO2: Сведения о предоставлении из бюджета Саратовской области межбюджетных трансфертов местным бюджетам за 2019 год | GM2: Сведения о предоставлении из бюджета Саратовской области межбюджетных трансфертов местным бюджетам за 2019 год | HK2: Сведения о предоставлении из бюджета Саратовской области межбюджетных трансфертов местным бюджетам за 2019 год
X4: тыс.рублей | AV4: тыс.рублей | BT4: тыс.рублей | CR4: тыс.рублей | DP4: тыс.рублей | EN4: тыс.рублей | FL4: тыс.рублей | GJ4: тыс.рублей | HH4: тыс.рублей | HX4: тыс.рублей
A5: Наименование муниципальных образований | B5: Субсидии, всего | F5: в том числе | Z5: в том числе | AX5: в том числе | BV5: в том числе | CT5: в том числе | DR5: в том числе | EP5: в том числе | FN5: в том числе | GL5: в том числе | HJ5: в том числе
F6: на создание в дошкольных образовательных организациях дополнительного образования детей (в том числе в организациях, осуществляющих образовательную деятельность по адаптированным основным общеобразовательным программам) условий для получения детьми-инвалидами качественного образования | J6: на создание в организациях дополнительного образования детей, организациях дополнительного образования детей (в том числе в организациях, осуществляющих образовательную деятельность по адаптированным основным общеобразовательным программам) условий для получения детьми-инвалидами качественного образования | N6: на создание в общеобразовательных организациях, расположенных в сельской местности, условий для занятий физической культурой и спортом | R6: на создание новых мест в общеобразовательных организациях | V6: на обеспечение жильем молодых семей | Z6: на поддержку творческой деятельности и укрепление материально-технической базы муниципальных театров в населенных пунктах с численностью населения до 300 тысяч человек | AD6: на поддержку отрасли культуры на комплектование книжных фондов муниципальных общедоступных библиотек | AH6: на поддержку отрасли культуры на подключение муниципальных общедоступных библиотек к информационно-телекоммуникационной сети «Интернет» и развитие библиотечного дела с учетом задачи расширения информационных технологий и оцифровки | AL6: на обеспечение развития и укрепления материально-технической базы домов культуры в населенных пунктах с числом жителей до 50 тысяч человек | AP6: на поддержку отрасли культуры на государственную поддержку лучших сельских учреждений культуры | AT6: на поддержку отрасли культуры на государственную поддержку лучших работников сельских учреждений культуры | AX6: на строительство и реконструкцию малобюджетных физкультурно-спортивных объектов шаговой доступности, плоскостных сооружений | BB6: на обеспечение деятельности муниципальных бизнес-инкубаторов | BF6: бюджетам городских округов области на обеспечение капитального ремонта, ремонта и содержания автомобильных дорог общего пользования местного значения за счет средств областного дорожного фонда | BJ6: бюджетам городских округов области на осуществление дорожной деятельности в отношении автомобильных дорог общего пользования местного значения Саратовской агломерации в границах городских округов области в рамках приоритетного проекта «Безопасные и качественные дороги» за счет средств областного дорожного фонда | BN6: на комплексное обустройство населенных пунктов, расположенных в сельской местности, объектами социальной, инженерной инфраструктуры и автомобильными дорогами | BR6: бюджетам поселений области на обеспечение капитального ремонта, ремонта и содержания автомобильных дорог общего пользования местного значения городских поселений области за счет средств областного дорожного фонда | BV6: бюджетам муниципальных районов области на капитальный ремонт, ремонт и содержание автомобильных дорог общего пользования местного значения за счет средств областного дорожного фонда | BZ6: на обеспечение повышения оплаты труда некоторых категорий работников муниципальных учреждений | CD6: на реализацию проектов развития муниципальных образований области, основанных на местных инициативах | CH6: на поддержку муниципальных программ формирования современной городской среды | CL6: на развитие сети плоскостных спортивных сооружений в сельской местности | CP6: на обеспечение сохранения достигнутых показателей повышения оплаты труда отдельных категорий работников бюджетной сферы | CT6: на выполнение расходных обязательств, связанных с погашением просроченной кредиторской задолженности, образовавшейся по состоянию на 1 января 2018 года, по уплате начислений на выплаты по оплате труда, налогов, по оказанию мер социальной поддержки населения, по оплате коммунальных услуг и исполнительных листов | CX6: на оснащение объектов спортивной инфраструктуры спортивно-технологическим оборудованием | DB6: на обновление материально-технической базы для формирования у обучающихся современных технологических и гуманитарных навыков | DF6: на реализацию регионального проекта (программы) в целях выполнения задач федерального проекта «Жилье» (стимулирование программ развития жилищного строительства) | DJ6: бюджетам муниципальных районов области на обеспечение прироста протяженности сети автомобильных дорог общего пользования местного значения, соответствующих нормативным требованиям, за счет средств областного дорожного фонда строительства) | DN6: бюджетам городских округов области на достижение целевых показателей, предусматривающих развитие и увеличение пропускной способности сети автомобильных дорог общего пользования местного значения за счет средств областного дорожного фонда | DR6: бюджетам городских округов области на приобретение дорожно-эксплуатационной техники, необходимой для выполнения комплекса работ по поддержанию надлежащего технического состояния автомобильных дорог общего пользования местного значения, за счет средств областного дорожного фонда | DV6: бюджетам поселений области на развитие материально-технической базы для организации осуществления полномочий органами местного самоуправления | DZ6: бюджетам муниципальных районов и городских округов области на модернизацию инфраструктуры общего образования в отдельных субъектах Российской Федерации | ED6: бюджетам муниципальных районов и городских округов области на создание дополнительных мест для детей в возрасте от 1,5 до 3 лет в образовательных организациях, осуществляющих образовательную деятельность по образовательным программам дошкольного образования | EH6: бюджетам муниципальных районов области на реализацию мероприятий по ремонту домов системы социального обслуживания граждан муниципального специализированного жилищного фонда, предоставляемых для проживания отдельных категорий граждан ,а также благоустройство прилегающих территорий | EL6: на поддержку отрасли культуры на создание и модернизацию учреждений культурно-досугового типа в сельской местности | EP6: на поддержку отрасли культуры на создание многофункциональных мобильных культурных центров | ET6: на обеспечение мероприятий по переселению граждан из аварийного жилищного фонда, в том числе переселению граждан из аварийного жилищного фонда с учетом необходимости развития малоэтажного жилищного строительства | EX6: бюджетам муниципальных районов области на оснащение домов системы социального обслуживания граждан муниципального специализированного жилищного фонда, предоставляемых для проживания отдельных категорий граждан, мебелью и мягким инвентарем | FB6: бюджетам муниципальных районов и городских округов области на обеспечение условий для создания дополнительных мест в образовательных организациях, осуществляющих образовательную деятельность по образовательным программам дошкольного образования | FF6: бюджетам муниципальных районов области на обеспечение условий для создания центров образования цифрового и гуманитарного профилей | FJ6: бюджетам муниципальных районов и городских округов области на проведение капитального и текущего ремонтов муниципальных образовательных организаций | FN6: бюджетам муниципальных районов и городских округов области на реализацию расходных обязательств, возникающих при выполнении полномочий по решению вопросов местного значения | FR6: бюджетам поселений области на приведение в нормативное состояние автомобильных дорог общего пользования местного значения городских поселений области, соединяющих объекты туристской инфраструктуры, расположенные в Саратовской области, с автомобильными дорогами общего пользования федерального и регионального значения, за счет средств областного дорожного фонда | FV6: бюджетам городских округов области на обновление наземного электрического транспорта для обеспечения организации транспортного обслуживания населения | FZ6: бюджетам поселений области на достижение целевых показателей, предусматривающих мероприятия по решению неотложных задач по приведению в нормативное состояние автомобильных дорог местного значения городских поселений области за счет средств областного дорожного фонда | GD6: бюджетам муниципальных районов области на достижение целевых показателей, предусматривающих мероприятия по решению неотложных задач по приведению в нормативное состояние автомобильных дорог местного значения за счет средств областного дорожного фонда | GH6: бюджетам поселений области на обеспечение прироста протяженности сети автомобильных дорог общего пользования местного значения городских поселений области, соответствующих нормативным требованиям, за счет средств областного дорожного фонда | GL6: бюджетам поселений области на мероприятия по вводу в эксплуатацию стадиона «Юность» в г. Ершове Саратовской области и условиях ее расходования | GP6: бюджетам сельских поселений области по грантовой поддержке местных инициатив граждан, проживающих в сельской местности, в рамках реализации муниципальных программ по устойчивому развитию сельских территорий | GT6: бюджетам муниципальных образований области на софинансирование расходных обязательств по реализации мероприятий муниципальных программ развития малого и среднего предпринимательства монопрофильных муниципальных образований | GX6: бюджетам муниципальных районов и городских округов области на обеспечение условий для ввода в эксплуатацию образовательных организаций, осуществляющих образовательную деятельность по образовательным программам дошкольного образования | HB6: бюджетам городских округов области на обеспечение условий для модернизации инфраструктуры общего образования | HF6: бюджетам поселений области на разработку проектно-сметной документации по строительству и (или) реконструкции (модернизации) канализационных очистных сооружений | HJ6: бюджетам поселений области на реализацию мероприятий по строительству и реконструкции (модернизации) объектов питьевого водоснабжения | HN6: бюджетам поселений области на реализацию мероприятий по сокращению доли загрязненных сточных во | HR6: бюджетам муниципальных районов, городских округов и поселений области на обустройство и восстановление воинских захоронений, находящихся в муниципальной собственности | HV6: бюджетам поселений области на обеспечение устойчивого развития сельских территорий в части реализации мероприятий по развитию сети плоскостных спортивных сооружений в сельской местности
