Workbook

Sheet Всего
A1: Сведения о предоставленных из бюджета Саратовской области межбюджетных трансфертах бюджетам муниципальных образований
A2: за I квартал 2017 года
O3: (тыс.рублей)
A4: Наименование муниципальных образований | B4: Всего | E4: в том числе
E5: Дотации | H5: Субвенции | K5: Субсидии | N5: Иные межбюджетные трансферты
B7: план | C7: факт | D7: % исполнения | E7: план | F7: факт | G7: % исполнения | H7: план | I7: факт | J7: % исполнения | K7: план | L7: факт | M7: % исполнения | N7: план | O7: факт | P7: % исполнения
A8: Александрово-Гайский | B8: =E8+H8+K8+N8 -> 280089.2 | C8: =F8+I8+L8+O8 -> 54364.856 | D8: =C8/B8*100 -> 19.409836 | E8: =Дотации!B7 -> 74067.4 | F8: =Дотации!C7 -> 20512 | G8: =F8/E8*100 -> 27.693695 | H8: =Субвенции!B7 -> 181406.8 | I8: =Субвенции!C7 -> 33552.856 | J8: =I8/H8*100 -> 18.49592 | K8: =Субсидии!B7 -> 24315 | L8: =Субсидии!C7 -> 0 | M8: =L8/K8*100 -> 0 | N8: =Иные!B7 -> 300 | O8: =Иные!C7 -> 300 | P8: =O8/N8*100 -> 100
A9: Аркадакский | B9: =E9+H9+K9+N9 -> 260109.5 | C9: =F9+I9+L9+O9 -> 54599.734 | D9: =C9/B9*100 -> 20.991057 | E9: =Дотации!B8 -> 65902.4 | F9: =Дотации!C8 -> 20868 | G9: =F9/E9*100 -> 31.665008 | H9: =Субвенции!B8 -> 172412.9 | I9: =Субвенции!C8 -> 33731.734 | J9: =I9/H9*100 -> 19.564507 | K9: =Субсидии!B8 -> 16221.4 | L9: =Субсидии!C8 -> 0 | M9: =L9/K9*100 -> 0 | N9: =Иные!B8 -> 5572.8 | O9: =Иные!C8 -> 0 | P9: =O9/N9*100 -> 0
A10: Аткарский | B10: =E10+H10+K10+N10 -> 388335.9 | C10: =F10+I10+L10+O10 -> 82621.945 | D10: =C10/B10*100 -> 21.275897 | E10: =Дотации!B9 -> 84308.5 | F10: =Дотации!C9 -> 26696 | G10: =F10/E10*100 -> 31.66466 | H10: =Субвенции!B9 -> 277274.8 | I10: =Субвенции!C9 -> 55925.945 | J10: =I10/H10*100 -> 20.169862 | K10: =Субсидии!B9 -> 23391.4 | L10: =Субсидии!C9 -> 0 | M10: =L10/K10*100 -> 0 | N10: =Иные!B9 -> 3361.2 | O10: =Иные!C9 -> 0 | P10: =O10/N10*100 -> 0
A11: Базарно-Карабулакский | B11: =E11+H11+K11+N11 -> 344452.6 | C11: =F11+I11+L11+O11 -> 70413.202 | D11: =C11/B11*100 -> 20.442059 | E11: =Дотации!B10 -> 68822.3 | F11: =Дотации!C10 -> 20932 | G11: =F11/E11*100 -> 30.41456 | H11: =Субвенции!B10 -> 246183.8 | I11: =Субвенции!C10 -> 49481.202 | J11: =I11/H11*100 -> 20.099293 | K11: =Субсидии!B10 -> 19940.3 | L11: =Субсидии!C10 -> 0 | M11: =L11/K11*100 -> 0 | N11: =Иные!B10 -> 9506.2 | O11: =Иные!C10 -> 0 | P11: =O11/N11*100 -> 0
A12: Балаковский | B12: =E12+H12+K12+N12 -> 1401436 | C12: =F12+I12+L12+O12 -> 262971.69 | D12: =C12/B12*100 -> 18.764445 | H12: =Субвенции!B11 -> 1337052.9 | I12: =Субвенции!C11 -> 262971.69 | J12: =I12/H12*100 -> 19.668009 | K12: =Субсидии!B11 -> 61556.9 | L12: =Субсидии!C11 -> 0 | M12: =L12/K12*100 -> 0 | N12: =Иные!B11 -> 2826.2 | O12: =Иные!C11 -> 0 | P12: =O12/N12*100 -> 0
A13: Балашовский | B13: =E13+H13+K13+N13 -> 906477.2 | C13: =F13+I13+L13+O13 -> 177958.02 | D13: =C13/B13*100 -> 19.631825 | E13: =Дотации!B12 -> 124929.6 | F13: =Дотации!C12 -> 39560 | G13: =F13/E13*100 -> 31.665834 | H13: =Субвенции!B12 -> 707385.5 | I13: =Субвенции!C12 -> 138398.02 | J13: =I13/H13*100 -> 19.564724 | K13: =Субсидии!B12 -> 70645.9 | L13: =Субсидии!C12 -> 0 | M13: =L13/K13*100 -> 0 | N13: =Иные!B12 -> 3516.2 | O13: =Иные!C12 -> 0 | P13: =O13/N13*100 -> 0
A14: Балтайский | B14: =E14+H14+K14+N14 -> 152367.1 | C14: =F14+I14+L14+O14 -> 35258.8 | D14: =C14/B14*100 -> 23.140691 | E14: =Дотации!B13 -> 40176.9 | F14: =Дотации!C13 -> 15180 | G14: =F14/E14*100 -> 37.782905 | H14: =Субвенции!B13 -> 101649.5 | I14: =Субвенции!C13 -> 20078.8 | J14: =I14/H14*100 -> 19.752975 | K14: =Субсидии!B13 -> 9799.3 | L14: =Субсидии!C13 -> 0 | M14: =L14/K14*100 -> 0 | N14: =Иные!B13 -> 741.4 | O14: =Иные!C13 -> 0 | P14: =O14/N14*100 -> 0
A15: Вольский | B15: =E15+H15+K15+N15 -> 732897.9 | C15: =F15+I15+L15+O15 -> 134895.83 | D15: =C15/B15*100 -> 18.405815 | E15: =Дотации!B14 -> 67551.7 | F15: =Дотации!C14 -> 13690 | G15: =F15/E15*100 -> 20.265959 | H15: =Субвенции!B14 -> 624175.4 | I15: =Субвенции!C14 -> 121205.83 | J15: =I15/H15*100 -> 19.418554 | K15: =Субсидии!B14 -> 35193.2 | L15: =Субсидии!C14 -> 0 | M15: =L15/K15*100 -> 0 | N15: =Иные!B14 -> 5977.6 | O15: =Иные!C14 -> 0 | P15: =O15/N15*100 -> 0
A16: Воскресенский | B16: =E16+H16+K16+N16 -> 145379 | C16: =F16+I16+L16+O16 -> 30211.723 | D16: =C16/B16*100 -> 20.781353 | E16: =Дотации!B15 -> 34748.8 | F16: =Дотации!C15 -> 11004 | G16: =F16/E16*100 -> 31.667281 | H16: =Субвенции!B15 -> 102815.4 | I16: =Субвенции!C15 -> 19207.723 | J16: =I16/H16*100 -> 18.681757 | K16: =Субсидии!B15 -> 7814.8 | L16: =Субсидии!C15 -> 0 | M16: =L16/K16*100 -> 0
A17: Дергачевский | B17: =E17+H17+K17+N17 -> 269110.5 | C17: =F17+I17+L17+O17 -> 60003.975 | D17: =C17/B17*100 -> 22.297151 | E17: =Дотации!B16 -> 77960.5 | F17: =Дотации!C16 -> 24548 | G17: =F17/E17*100 -> 31.487741 | H17: =Субвенции!B16 -> 174015.3 | I17: =Субвенции!C16 -> 34855.975 | J17: =I17/H17*100 -> 20.030408 | K17: =Субсидии!B16 -> 13956.9 | L17: =Субсидии!C16 -> 0 | M17: =L17/K17*100 -> 0 | N17: =Иные!B16 -> 3177.8 | O17: =Иные!C16 -> 600 | P17: =O17/N17*100 -> 18.880987
A18: Духовницкий | B18: =E18+H18+K18+N18 -> 143483.6 | C18: =F18+I18+L18+O18 -> 31700.691 | D18: =C18/B18*100 -> 22.093599 | E18: =Дотации!B17 -> 29733.6 | F18: =Дотации!C17 -> 11262 | G18: =F18/E18*100 -> 37.876342 | H18: =Субвенции!B17 -> 103161.1 | I18: =Субвенции!C17 -> 20438.691 | J18: =I18/H18*100 -> 19.812402 | K18: =Субсидии!B17 -> 10228.7 | L18: =Субсидии!C17 -> 0 | M18: =L18/K18*100 -> 0 | N18: =Иные!B17 -> 360.2 | O18: =Иные!C17 -> 0 | P18: =O18/N18*100 -> 0
A19: Екатериновский | B19: =E19+H19+K19+N19 -> 239991 | C19: =F19+I19+L19+O19 -> 47218.84 | D19: =C19/B19*100 -> 19.675255 | E19: =Дотации!B18 -> 43653.8 | F19: =Дотации!C18 -> 11804 | G19: =F19/E19*100 -> 27.040029 | H19: =Субвенции!B18 -> 175759.3 | I19: =Субвенции!C18 -> 35414.84 | J19: =I19/H19*100 -> 20.149625 | K19: =Субсидии!B18 -> 18274.1 | L19: =Субсидии!C18 -> 0 | M19: =L19/K19*100 -> 0 | N19: =Иные!B18 -> 2303.8 | O19: =Иные!C18 -> 0 | P19: =O19/N19*100 -> 0
A20: Ершовский | B20: =E20+H20+K20+N20 -> 491304.2 | C20: =F20+I20+L20+O20 -> 99968.217 | D20: =C20/B20*100 -> 20.347519 | E20: =Дотации!B19 -> 93682.6 | F20: =Дотации!C19 -> 29668 | G20: =F20/E20*100 -> 31.668634 | H20: =Субвенции!B19 -> 362586.7 | I20: =Субвенции!C19 -> 69600.217 | J20: =I20/H20*100 -> 19.195469 | K20: =Субсидии!B19 -> 26603.4 | L20: =Субсидии!C19 -> 0 | M20: =L20/K20*100 -> 0 | N20: =Иные!B19 -> 8431.5 | O20: =Иные!C19 -> 700 | P20: =O20/N20*100 -> 8.3022001
A21: Ивантеевский | B21: =E21+H21+K21+N21 -> 239482.5 | C21: =F21+I21+L21+O21 -> 49992.302 | D21: =C21/B21*100 -> 20.875138 | E21: =Дотации!B20 -> 65534.5 | F21: =Дотации!C20 -> 19486 | G21: =F21/E21*100 -> 29.733957 | H21: =Субвенции!B20 -> 155605.5 | I21: =Субвенции!C20 -> 30506.302 | J21: =I21/H21*100 -> 19.6049 | K21: =Субсидии!B20 -> 15149.5 | L21: =Субсидии!C20 -> 0 | M21: =L21/K21*100 -> 0 | N21: =Иные!B20 -> 3193 | O21: =Иные!C20 -> 0 | P21: =O21/N21*100 -> 0
A22: Калининский | B22: =E22+H22+K22+N22 -> 380041.6 | C22: =F22+I22+L22+O22 -> 74329.226 | D22: =C22/B22*100 -> 19.558182 | E22: =Дотации!B21 -> 77961.8 | F22: =Дотации!C21 -> 24688 | G22: =F22/E22*100 -> 31.666791 | H22: =Субвенции!B21 -> 258099.7 | I22: =Субвенции!C21 -> 49641.226 | J22: =I22/H22*100 -> 19.233353 | K22: =Субсидии!B21 -> 39998 | L22: =Субсидии!C21 -> 0 | M22: =L22/K22*100 -> 0 | N22: =Иные!B21 -> 3982.1 | O22: =Иные!C21 -> 0 | P22: =O22/N22*100 -> 0
A23: Красноармейский | B23: =E23+H23+K23+N23 -> 438665.2 | C23: =F23+I23+L23+O23 -> 92536.756 | D23: =C23/B23*100 -> 21.095076 | E23: =Дотации!B22 -> 92950.8 | F23: =Дотации!C22 -> 29436 | G23: =F23/E23*100 -> 31.668366 | H23: =Субвенции!B22 -> 316528.8 | I23: =Субвенции!C22 -> 63100.756 | J23: =I23/H23*100 -> 19.935234 | K23: =Субсидии!B22 -> 22866.1 | L23: =Субсидии!C22 -> 0 | M23: =L23/K23*100 -> 0 | N23: =Иные!B22 -> 6319.5 | O23: =Иные!C22 -> 0 | P23: =O23/N23*100 -> 0
A24: Краснокутский | B24: =E24+H24+K24+N24 -> 376618.8 | C24: =F24+I24+L24+O24 -> 77136.597 | D24: =C24/B24*100 -> 20.481345 | E24: =Дотации!B23 -> 82843.6 | F24: =Дотации!C23 -> 24864 | G24: =F24/E24*100 -> 30.013181 | H24: =Субвенции!B23 -> 271048.3 | I24: =Субвенции!C23 -> 51772.597 | J24: =I24/H24*100 -> 19.100875 | K24: =Субсидии!B23 -> 22226.9 | L24: =Субсидии!C23 -> 0 | M24: =L24/K24*100 -> 0 | N24: =Иные!B23 -> 500 | O24: =Иные!C23 -> 500 | P24: =O24/N24*100 -> 100
A25: Краснопартизанский | B25: =E25+H25+K25+N25 -> 203021.8 | C25: =F25+I25+L25+O25 -> 40427.395 | D25: =C25/B25*100 -> 19.912834 | E25: =Дотации!B24 -> 50362.4 | F25: =Дотации!C24 -> 19743 | G25: =F25/E25*100 -> 39.201865 | H25: =Субвенции!B24 -> 103973.3 | I25: =Субвенции!C24 -> 20284.395 | J25: =I25/H25*100 -> 19.509235 | K25: =Субсидии!B24 -> 48286.1 | L25: =Субсидии!C24 -> 0 | M25: =L25/K25*100 -> 0 | N25: =Иные!B24 -> 400 | O25: =Иные!C24 -> 400 | P25: =O25/N25*100 -> 100
A26: Лысогорский | B26: =E26+H26+K26+N26 -> 249892.9 | C26: =F26+I26+L26+O26 -> 50042.412 | D26: =C26/B26*100 -> 20.025544 | E26: =Дотации!B25 -> 58890.2 | F26: =Дотации!C25 -> 17950 | G26: =F26/E26*100 -> 30.480453 | H26: =Субвенции!B25 -> 174920.8 | I26: =Субвенции!C25 -> 32092.412 | J26: =I26/H26*100 -> 18.346825 | K26: =Субсидии!B25 -> 12963.7 | L26: =Субсидии!C25 -> 0 | M26: =L26/K26*100 -> 0 | N26: =Иные!B25 -> 3118.2 | O26: =Иные!C25 -> 0 | P26: =O26/N26*100 -> 0
A27: Марксовский | B27: =E27+H27+K27+N27 -> 695978.7 | C27: =F27+I27+L27+O27 -> 155188.32 | D27: =C27/B27*100 -> 22.297855 | E27: =Дотации!B26 -> 148892.9 | F27: =Дотации!C26 -> 57148 | G27: =F27/E27*100 -> 38.381951 | H27: =Субвенции!B26 -> 504084.2 | I27: =Субвенции!C26 -> 97640.322 | J27: =I27/H27*100 -> 19.369844 | K27: =Субсидии!B26 -> 36135.1 | L27: =Субсидии!C26 -> 0 | M27: =L27/K27*100 -> 0 | N27: =Иные!B26 -> 6866.5 | O27: =Иные!C26 -> 400 | P27: =O27/N27*100 -> 5.8253841
A28: Новобурасский | B28: =E28+H28+K28+N28 -> 261029.1 | C28: =F28+I28+L28+O28 -> 59089.586 | D28: =C28/B28*100 -> 22.637164 | E28: =Дотации!B27 -> 97962.9 | F28: =Дотации!C27 -> 31608 | G28: =F28/E28*100 -> 32.265276 | H28: =Субвенции!B27 -> 144659.5 | I28: =Субвенции!C27 -> 27481.586 | J28: =I28/H28*100 -> 18.997429 | K28: =Субсидии!B27 -> 16757.2 | L28: =Субсидии!C27 -> 0 | M28: =L28/K28*100 -> 0 | N28: =Иные!B27 -> 1649.5 | O28: =Иные!C27 -> 0 | P28: =O28/N28*100 -> 0
... A36: Романовский | B36: =E36+H36+K36+N36 -> 166787.7 | C36: =F36+I36+L36+O36 -> 33649.758 | D36: =C36/B36*100 -> 20.175204 | E36: =Дотации!B35 -> 47145.5 | F36: =Дотации!C35 -> 14928 | G36: =F36/E36*100 -> 31.663679 | H36: =Субвенции!B35 -> 106734.7 | I36: =Субвенции!C35 -> 18721.758 | J36: =I36/H36*100 -> 17.540461 | K36: =Субсидии!B35 -> 12648 | L36: =Субсидии!C35 -> 0 | M36: =L36/K36*100 -> 0 | N36: =Иные!B35 -> 259.5 | O36: =Иные!C35 -> 0 | P36: =O36/N36*100 -> 0
A37: Ртищевский | B37: =E37+H37+K37+N37 -> 500053.5 | C37: =F37+I37+L37+O37 -> 103742.19 | D37: =C37/B37*100 -> 20.746218 | E37: =Дотации!B36 -> 116001.5 | F37: =Дотации!C36 -> 36732 | G37: =F37/E37*100 -> 31.665108 | H37: =Субвенции!B36 -> 352799.7 | I37: =Субвенции!C36 -> 67010.188 | J37: =I37/H37*100 -> 18.993834 | K37: =Субсидии!B36 -> 31252.3 | L37: =Субсидии!C36 -> 0 | M37: =L37/K37*100 -> 0
A38: Самойловский | B38: =E38+H38+K38+N38 -> 238616.8 | C38: =F38+I38+L38+O38 -> 46018.856 | D38: =C38/B38*100 -> 19.285673 | E38: =Дотации!B37 -> 47188.6 | F38: =Дотации!C37 -> 14944 | G38: =F38/E38*100 -> 31.668666 | H38: =Субвенции!B37 -> 160551.1 | I38: =Субвенции!C37 -> 31074.856 | J38: =I38/H38*100 -> 19.355119 | K38: =Субсидии!B37 -> 17356.2 | L38: =Субсидии!C37 -> 0 | M38: =L38/K38*100 -> 0 | N38: =Иные!B37 -> 13520.9 | O38: =Иные!C37 -> 0 | P38: =O38/N38*100 -> 0
A39: Саратовский | B39: =E39+H39+K39+N39 -> 400257.6 | C39: =F39+I39+L39+O39 -> 70167.312 | D39: =C39/B39*100 -> 17.530538 | H39: =Субвенции!B38 -> 370960.6 | I39: =Субвенции!C38 -> 69967.312 | J39: =I39/H39*100 -> 18.861117 | K39: =Субсидии!B38 -> 21305.1 | L39: =Субсидии!C38 -> 0 | M39: =L39/K39*100 -> 0 | N39: =Иные!B38 -> 7991.9 | O39: =Иные!C38 -> 200 | P39: =O39/N39*100 -> 2.5025338
A40: Советский | B40: =E40+H40+K40+N40 -> 224443 | C40: =F40+I40+L40+O40 -> 45196.25 | D40: =C40/B40*100 -> 20.137073 | E40: =Дотации!B39 -> 41448.9 | F40: =Дотации!C39 -> 12508 | G40: =F40/E40*100 -> 30.176917 | H40: =Субвенции!B39 -> 171310.3 | I40: =Субвенции!C39 -> 32688.25 | J40: =I40/H40*100 -> 19.08131 | K40: =Субсидии!B39 -> 11450.9 | L40: =Субсидии!C39 -> 0 | M40: =L40/K40*100 -> 0 | N40: =Иные!B39 -> 232.9 | O40: =Иные!C39 -> 0 | P40: =O40/N40*100 -> 0
A41: Татищевский | B41: =E41+H41+K41+N41 -> 242848.3 | C41: =F41+I41+L41+O41 -> 43270.565 | D41: =C41/B41*100 -> 17.81794 | H41: =Субвенции!B40 -> 221552 | I41: =Субвенции!C40 -> 43270.565 | J41: =I41/H41*100 -> 19.530659 | K41: =Субсидии!B40 -> 21296.3 | L41: =Субсидии!C40 -> 0 | M41: =L41/K41*100 -> 0
A42: Турковский | B42: =E42+H42+K42+N42 -> 171778.3 | C42: =F42+I42+L42+O42 -> 35088.8 | D42: =C42/B42*100 -> 20.426794 | E42: =Дотации!B41 -> 61307.3 | F42: =Дотации!C41 -> 17618 | G42: =F42/E42*100 -> 28.737198 | H42: =Субвенции!B41 -> 99979.8 | I42: =Субвенции!C41 -> 17470.8 | J42: =I42/H42*100 -> 17.474329 | K42: =Субсидии!B41 -> 9139.6 | L42: =Субсидии!C41 -> 0 | M42: =L42/K42*100 -> 0 | N42: =Иные!B41 -> 1351.6 | O42: =Иные!C41 -> 0 | P42: =O42/N42*100 -> 0
A43: Федоровский | B43: =E43+H43+K43+N43 -> 244754.7 | C43: =F43+I43+L43+O43 -> 54702.104 | D43: =C43/B43*100 -> 22.349767 | E43: =Дотации!B42 -> 67377.4 | F43: =Дотации!C42 -> 21336 | G43: =F43/E43*100 -> 31.666404 | H43: =Субвенции!B42 -> 156629.8 | I43: =Субвенции!C42 -> 33066.104 | J43: =I43/H43*100 -> 21.110992 | K43: =Субсидии!B42 -> 20447.5 | L43: =Субсидии!C42 -> 0 | M43: =L43/K43*100 -> 0 | N43: =Иные!B42 -> 300 | O43: =Иные!C42 -> 300 | P43: =O43/N43*100 -> 100
A44: Хвалынский | B44: =E44+H44+K44+N44 -> 253240.41 | C44: =F44+I44+L44+O44 -> 56397.956 | D44: =C44/B44*100 -> 22.27052 | E44: =Дотации!B43 -> 62682.6 | F44: =Дотации!C43 -> 22348 | G44: =F44/E44*100 -> 35.652637 | H44: =Субвенции!B43 -> 164242.6 | I44: =Субвенции!C43 -> 30515.048 | J44: =I44/H44*100 -> 18.579253 | K44: =Субсидии!B43 -> 20790.7 | L44: =Субсидии!C43 -> 0 | M44: =L44/K44*100 -> 0 | N44: =Иные!B43 -> 5524.508 | O44: =Иные!C43 -> 3534.908 | P44: =O44/N44*100 -> 63.985933
A45: Энгельсский | B45: =E45+H45+K45+N45 -> 2407147 | C45: =F45+I45+L45+O45 -> 326531.88 | D45: =C45/B45*100 -> 13.565099 | H45: =Субвенции!B44 -> 1742401.4 | I45: =Субвенции!C44 -> 326531.88 | J45: =I45/H45*100 -> 18.740336 | K45: =Субсидии!B44 -> 663639.3 | L45: =Субсидии!C44 -> 0 | M45: =L45/K45*100 -> 0 | N45: =Иные!B44 -> 1106.3 | O45: =Иные!C44 -> 0 | P45: =O45/N45*100 -> 0
A46: Итого по муниципальным районам области | B46: =SUM(B8:B45) -> 15916469 | C46: =SUM(C8:C45) -> 3080783.2 | D46: =C46/B46*100 -> 19.355947 | E46: =SUM(E8:E45) -> 2566117.9 | F46: =SUM(F8:F45) -> 832137 | G46: =F46/E46*100 -> 32.427855 | H46: =SUM(H8:H45) -> 11650963 | I46: =SUM(I8:I45) -> 2239111.3 | J46: =I46/H46*100 -> 19.218251 | K46: =SUM(K8:K45) -> 1580561.5 | L46: =SUM(L8:L45) -> 0 | M46: =L46/K46*100 -> 0 | N46: =SUM(N8:N45) -> 118826.61 | O46: =SUM(O8:O45) -> 9534.908 | P46: =O46/N46*100 -> 8.0242196
A47: г. Саратов | B47: =E47+H47+K47+N47 -> 6544373.3 | C47: =F47+I47+L47+O47 -> 942183.89 | D47: =C47/B47*100 -> 14.396854 | E47: =Дотации!B46 -> 36015.7 | F47: =Дотации!C46 -> 11404 | G47: =F47/E47*100 -> 31.663969 | H47: =Субвенции!B46 -> 4544670.9 | I47: =Субвенции!C46 -> 894443.5 | J47: =I47/H47*100 -> 19.68115 | K47: =Субсидии!B46 -> 1862736.7 | L47: =Субсидии!C46 -> 36336.392 | M47: =L47/K47*100 -> 1.9506993 | N47: =Иные!B46 -> 100950 | O47: =Иные!C46 -> 0 | P47: =O47/N47*100 -> 0
A48: ЗАТО Михайловский | B48: =E48+H48+K48+N48 -> 78850.4 | C48: =F48+I48+L48+O48 -> 22571.671 | D48: =C48/B48*100 -> 28.625943 | E48: =Дотации!B47 -> 55976 | F48: =Дотации!C47 -> 18147 | G48: =F48/E48*100 -> 32.419251 | H48: =Субвенции!B47 -> 22874.4 | I48: =Субвенции!C47 -> 4424.6709 | J48: =I48/H48*100 -> 19.343331 | K48: =Субсидии!B47 -> 0 | L48: =Субсидии!C47 -> 0
...

Sheet Дотации
A1: Сведения о предоставленных из бюджета Саратовской области межбюджетных трансфертах бюджетам муниципальных образований
A2: за I квартал 2017 года
O3: (тыс.рублей)
A4: Наименование муниципальных образований | B4: Дотации, всего | E4: из них
E5: на выравнивание бюджетной обеспеченности муниципальных районов (городских округов) области | H5: на выравнивание бюджетной обеспеченности поселений области | K5: бюджетам городских округов области, связанные с особым режимом безопасного функционирования закрытых административно-территориальных образований | N5: на поддержку мер по обеспечению сбалансированности бюджетов
B6: план | C6: факт | D6: % исполнения | E6: план | F6: факт | G6: % исполнения | H6: план | I6: факт | J6: % исполнения | K6: план | L6: факт | M6: % исполнения | N6: план | O6: факт | P6: % исполнения
A7: Александрово-Гайский | B7: =E7+H7+K7+N7 -> 74067.4 | C7: =F7+I7+L7+O7 -> 20512 | D7: =C7/B7*100 -> 27.693695 | E7: 50847 | F7: 16100 | G7: =F7/E7*100 -> 31.663618 | N7: 23220.4 | O7: 4412 | P7: =O7/N7*100 -> 19.000534
A8: Аркадакский | B8: =E8+H8+K8+N8 -> 65902.4 | C8: =F8+I8+L8+O8 -> 20868 | D8: =C8/B8*100 -> 31.665008 | E8: 65902.4 | F8: 20868 | G8: =F8/E8*100 -> 31.665008
A9: Аткарский | B9: =E9+H9+K9+N9 -> 84308.5 | C9: =F9+I9+L9+O9 -> 26696 | D9: =C9/B9*100 -> 31.66466 | E9: 84308.5 | F9: 26696 | G9: =F9/E9*100 -> 31.66466
A10: Базарно-Карабулакский | B10: =E10+H10+K10+N10 -> 68822.3 | C10: =F10+I10+L10+O10 -> 20932 | D10: =C10/B10*100 -> 30.41456 | E10: 62002.6 | F10: 19636 | G10: =F10/E10*100 -> 31.66964 | N10: 6819.7 | O10: 1296 | P10: =O10/N10*100 -> 19.003768
A11: Балаковский
A12: Балашовский | B12: =E12+H12+K12+N12 -> 124929.6 | C12: =F12+I12+L12+O12 -> 39560 | D12: =C12/B12*100 -> 31.665834 | E12: 124929.6 | F12: 39560 | G12: =F12/E12*100 -> 31.665834
A13: Балтайский | B13: =E13+H13+K13+N13 -> 40176.9 | C13: =F13+I13+L13+O13 -> 15180 | D13: =C13/B13*100 -> 37.782905 | E13: 35882.4 | F13: 14364 | G13: =F13/E13*100 -> 40.030767 | N13: 4294.5 | O13: 816 | P13: =O13/N13*100 -> 19.001048
A14: Вольский | B14: =E14+H14+K14+N14 -> 67551.7 | C14: =F14+I14+L14+O14 -> 13690 | D14: =C14/B14*100 -> 20.265959 | E14: 6757.4 | F14: 2140 | G14: =F14/E14*100 -> 31.668985 | N14: 60794.3 | O14: 11550 | P14: =O14/N14*100 -> 18.998492
A15: Воскресенский | B15: =E15+H15+K15+N15 -> 34748.8 | C15: =F15+I15+L15+O15 -> 11004 | D15: =C15/B15*100 -> 31.667281 | E15: 34748.8 | F15: 11004 | G15: =F15/E15*100 -> 31.667281
A16: Дергачевский | B16: =E16+H16+K16+N16 -> 77960.5 | C16: =F16+I16+L16+O16 -> 24548 | D16: =C16/B16*100 -> 31.487741 | E16: 76846.8 | F16: 24336 | G16: =F16/E16*100 -> 31.668202 | N16: 1113.7 | O16: 212 | P16: =O16/N16*100 -> 19.035647
A17: Духовницкий | B17: =E17+H17+K17+N17 -> 29733.6 | C17: =F17+I17+L17+O17 -> 11262 | D17: =C17/B17*100 -> 37.876342 | E17: 28525.9 | F17: 11032 | G17: =F17/E17*100 -> 38.673626 | N17: 1207.7 | O17: 230 | P17: =O17/N17*100 -> 19.044465
A18: Екатериновский | B18: =E18+H18+K18+N18 -> 43653.8 | C18: =F18+I18+L18+O18 -> 11804 | D18: =C18/B18*100 -> 27.040029 | E18: 27695.4 | F18: 8772 | G18: =F18/E18*100 -> 31.67313 | N18: 15958.4 | O18: 3032 | P18: =O18/N18*100 -> 18.999398
A19: Ершовский | B19: =E19+H19+K19+N19 -> 93682.6 | C19: =F19+I19+L19+O19 -> 29668 | D19: =C19/B19*100 -> 31.668634 | E19: 93682.6 | F19: 29668 | G19: =F19/E19*100 -> 31.668634
A20: Ивантеевский | B20: =E20+H20+K20+N20 -> 65534.5 | C20: =F20+I20+L20+O20 -> 19486 | D20: =C20/B20*100 -> 29.733957 | E20: 16049.3 | F20: 10084 | G20: =F20/E20*100 -> 62.831401 | N20: 49485.2 | O20: 9402 | P20: =O20/N20*100 -> 18.99962
A21: Калининский | B21: =E21+H21+K21+N21 -> 77961.8 | C21: =F21+I21+L21+O21 -> 24688 | D21: =C21/B21*100 -> 31.666791 | E21: 77961.8 | F21: 24688 | G21: =F21/E21*100 -> 31.666791
A22: Красноармейский | B22: =E22+H22+K22+N22 -> 92950.8 | C22: =F22+I22+L22+O22 -> 29436 | D22: =C22/B22*100 -> 31.668366 | E22: 92950.8 | F22: 29436 | G22: =F22/E22*100 -> 31.668366
A23: Краснокутский | B23: =E23+H23+K23+N23 -> 82843.6 | C23: =F23+I23+L23+O23 -> 24864 | D23: =C23/B23*100 -> 30.013181 | E23: 72039 | F23: 22812 | G23: =F23/E23*100 -> 31.666181 | N23: 10804.6 | O23: 2052 | P23: =O23/N23*100 -> 18.991911
A24: Краснопартизанский | B24: =E24+H24+K24+N24 -> 50362.4 | C24: =F24+I24+L24+O24 -> 19743 | D24: =C24/B24*100 -> 39.201865 | E24: 49423.1 | F24: 19565 | G24: =F24/E24*100 -> 39.586752 | N24: 939.3 | O24: 178 | P24: =O24/N24*100 -> 18.950282
A25: Лысогорский | B25: =E25+H25+K25+N25 -> 58890.2 | C25: =F25+I25+L25+O25 -> 17950 | D25: =C25/B25*100 -> 30.480453 | E25: 53382.5 | F25: 16904 | G25: =F25/E25*100 -> 31.665808 | N25: 5507.7 | O25: 1046 | P25: =O25/N25*100 -> 18.991594
A26: Марксовский | B26: =E26+H26+K26+N26 -> 148892.9 | C26: =F26+I26+L26+O26 -> 57148 | D26: =C26/B26*100 -> 38.381951 | E26: 148892.9 | F26: 57148 | G26: =F26/E26*100 -> 38.381951
A27: Новобурасский | B27: =E27+H27+K27+N27 -> 97962.9 | C27: =F27+I27+L27+O27 -> 31608 | D27: =C27/B27*100 -> 32.265276 | E27: 55226.6 | F27: 23488 | G27: =F27/E27*100 -> 42.53023 | N27: 42736.3 | O27: 8120 | P27: =O27/N27*100 -> 19.000241
A28: Новоузенский | B28: =E28+H28+K28+N28 -> 126699.9 | C28: =F28+I28+L28+O28 -> 40120 | D28: =C28/B28*100 -> 31.665376 | E28: 126699.9 | F28: 40120 | G28: =F28/E28*100 -> 31.665376
A29: Озинский | B29: =E29+H29+K29+N29 -> 78815.8 | C29: =F29+I29+L29+O29 -> 24960 | D29: =C29/B29*100 -> 31.668777 | E29: 78815.8 | F29: 24960 | G29: =F29/E29*100 -> 31.668777
A30: Перелюбский | B30: =E30+H30+K30+N30 -> 42321 | C30: =F30+I30+L30+O30 -> 15400 | D30: =C30/B30*100 -> 36.388554 | E30: 42321 | F30: 15400 | G30: =F30/E30*100 -> 36.388554
A31: Петровский | B31: =E31+H31+K31+N31 -> 115087.6 | C31: =F31+I31+L31+O31 -> 45544 | D31: =C31/B31*100 -> 39.573334 | E31: 115087.6 | F31: 45544 | G31: =F31/E31*100 -> 39.573334
A32: Питерский | B32: =E32+H32+K32+N32 -> 71131.2 | C32: =F32+I32+L32+O32 -> 20896 | D32: =C32/B32*100 -> 29.376701 | E32: 58287.5 | F32: 18456 | G32: =F32/E32*100 -> 31.663736 | N32: 12843.7 | O32: 2440 | P32: =O32/N32*100 -> 18.997641
A33: Пугачевский | B33: =E33+H33+K33+N33 -> 134329 | C33: =F33+I33+L33+O33 -> 45536 | D33: =C33/B33*100 -> 33.89886 | E33: 134329 | F33: 45536 | G33: =F33/E33*100 -> 33.89886
A34: Ровенский | B34: =E34+H34+K34+N34 -> 73644.4 | C34: =F34+I34+L34+O34 -> 28620 | D34: =C34/B34*100 -> 38.862425 | E34: 73644.4 | F34: 28620 | G34: =F34/E34*100 -> 38.862425
A35: Романовский | B35: =E35+H35+K35+N35 -> 47145.5 | C35: =F35+I35+L35+O35 -> 14928 | D35: =C35/B35*100 -> 31.663679 | E35: 47145.5 | F35: 14928 | G35: =F35/E35*100 -> 31.663679
A36: Ртищевский | B36: =E36+H36+K36+N36 -> 116001.5 | C36: =F36+I36+L36+O36 -> 36732 | D36: =C36/B36*100 -> 31.665108 | E36: 116001.5 | F36: 36732 | G36: =F36/E36*100 -> 31.665108
A37: Самойловский | B37: =E37+H37+K37+N37 -> 47188.6 | C37: =F37+I37+L37+O37 -> 14944 | D37: =C37/B37*100 -> 31.668666 | E37: 47188.6 | F37: 14944 | G37: =F37/E37*100 -> 31.668666
A38: Саратовский
A39: Советский | B39: =E39+H39+K39+N39 -> 41448.9 | C39: =F39+I39+L39+O39 -> 12508 | D39: =C39/B39*100 -> 30.176917 | E39: 24729.7 | F39: 9332 | G39: =F39/E39*100 -> 37.736002 | N39: 16719.2 | O39: 3176 | P39: =O39/N39*100 -> 18.996124
A40: Татищевский
...

Sheet Субвенции
A1: Сведения о предоставленных из бюджета Саратовской области межбюджетных трансфертах бюджетам муниципальных образований
A2: за I квартал 2017 года
BW3: (тыс.рублей)
A4: Наименование муниципальных образований | B4: Субвенции, всего | E4: из них
E5: на финансовое обеспечение образовательной деятельности муниципальных дошкольных образовательных организаций | H5: на компенсацию родительской платы за присмотр и уход за детьми в образовательных организациях, реализующих основную общеобразовательную программу дошкольного образования | K5: на организацию предоставления на компенсации родительской платы и расходы по оплате услуг почтовой связи и банковских услуг, оказываемых банками, по выплате за присмотр и уход за детьми в образовательных организациях, реализующих основную общеобразовательную программу дошкольного образования | N5: на финансовое обеспечение образовательной деятельности муниципальных общеобразовательных учреждений | Q5: на предоставление субсидии частным общеобразовательным организациям, осуществляющим образовательную деятельность по имеющим государственную аккредитацию основным общеобразовательным программам, на возмещение затрат на обеспечение образовательной деятельности | T5: на осуществление переданных полномочий по предоставлению субсидии частным общеобразовательным организациям, осуществляющим образовательную деятельность по имеющим государственную аккредитацию основным общеобразовательным программам, на возмещение затрат на обеспечение образовательной деятельности | W5: на предоставление субсидии частным дошкольным образовательным организациям на возмещение затрат на обеспечение образовательной деятельности | Z5: на организацию осуществления переданных полномочий по предоставлению субсидии частным дошкольным образовательным организациям на возмещение затрат на обеспечение образовательной деятельности | AC5: на предоставление питания отдельным категориям обучающихся в муниципальных образовательных организациях, реализующих образовательные программы начального общего, основного общего и среднего общего образования | AF5: на частичное финансирование расходов на присмотр и уход за детьми дошкольного возраста в муниципальных образовательных организациях, реализующих основную общеобразовательную программу дошкольного образования | AI5: на организацию предоставления питания отдельным категориям обучающихся в муниципальных образовательных организациях, реализующих образовательные программы начального общего, основного общего и среднего общего образования, и частичное финансирование расходов на присмотр и уход за детьми дошкольного возраста в муниципальных образовательных организациях, реализующих основную общеобразовательную программу дошкольного образования | AL5: на осуществление органами местного самоуправления государственных полномочий по созданию и организации деятельности комиссий по делам несовершеннолетних и защите их прав | AO5: на осуществление органами местного самоуправления отдельных государственных полномочий по санкционированию финансовыми органами муниципальных образований области кассовых выплат получателям средств областного бюджета, областным государственным автономным и бюджетным учреждениям, иным юридическим лицам, не являющимся участниками бюджетного процесса, расположенным на территориях муниципальных образований области | AR5: на исполнение государственных полномочий по расчету и предоставлению дотаций бюджетам поселений | AU5: на осуществление органами местного самоуправления государственных полномочий по предоставлению гражданам субсидий на оплату жилого помещения и коммунальных услуг | AX5: на осуществление органами местного самоуправления государственных полномочий по организации предоставления гражданам субсидий на оплату жилого помещения и коммунальных услуг | BA5: на осуществление органами местного самоуправления отдельных государственных полномочий по осуществлению деятельности по опеке и попечительству в отношении несовершеннолетних граждан в части расходов на оплату труда, уплату страховых взносов по обязательному социальному страхованию в государственные внебюджетные фонды Российской Федерации, обеспечение деятельности штатных работников | BD5: на осуществление органами местного самоуправления отдельных государственных полномочий по осуществлению деятельности по опеке и попечительству в отношении несовершеннолетних граждан в части расходов на обеспечение деятельности по сохранению, содержанию и ремонту пустующих жилых помещений, закрепленных за детьми-сиротами и детьми, оставшимися без попечения родителей | BG5: на осуществление органами местного самоуправления отдельных государственных полномочий по осуществлению деятельности по опеке и попечительству в отношении совершеннолетних граждан | BJ5: на осуществление органами местного самоуправления государственных полномочий по образованию и обеспечению деятельности административных комиссий, определению перечня должностных лиц, уполномоченных составлять протоколы об административных правонарушениях | BM5: на осуществление органами местного самоуправления отдельных государственных полномочий по государственному управлению охраной труда | BP5: на осуществление органами местного самоуправления отдельных государственных полномочий по проведению мероприятий по отлову и содержанию безнадзорных животных | BS5: на осуществление органами местного самоуправления отдельных государственных полномочий по организации проведения мероприятий по отлову и содержанию безнадзорных животных | BV5: на осуществление органами местного самоуправления поселений и органами местного самоуправления городских округов полномочий по первичному воинскому учету на территориях, где отсутствуют военные комиссариаты
B6: план | C6: факт | D6: % исполнения | E6: план | F6: факт | G6: % исполнения | H6: план | I6: факт | J6: % исполнения | K6: план | L6: факт | M6: % исполнения | N6: план | O6: факт | P6: % исполнения | Q6: план | R6: факт | S6: % исполнения | T6: план | U6: факт | V6: % исполнения | W6: план | X6: факт | Y6: % исполнения | Z6: план | AA6: факт | AB6: % исполнения | AC6: план | AD6: факт | AE6: % исполнения | AF6: план | AG6: факт | AH6: % исполнения | AI6: план | AJ6: факт | AK6: % исполнения | AL6: план | AM6: факт | AN6: % исполнения | AO6: план | AP6: факт | AQ6: % исполнения | AR6: план | AS6: факт | AT6: % исполнения | AU6: план | AV6: факт | AW6: % исполнения | AX6: план | AY6: факт | AZ6: % исполнения | BA6: план | BB6: факт | BC6: % исполнения | BD6: план | BE6: факт | BF6: % исполнения | BG6: план | BH6: факт | BI6: % исполнения | BJ6: план | BK6: факт | BL6: % исполнения | BM6: план | BN6: факт | BO6: % исполнения | BP6: план | BQ6: факт | BR6: % исполнения | BS6: план | BT6: факт | BU6: % исполнения | BV6: план | BW6: факт | BX6: % исполнения
A7: Александрово-Гайский | B7: =E7+H7+K7+N7+Q7+T7+W7+Z7+AC7+AF7+AI7+AL7+AO7+AR7+AU7+AX7+BA7+BD7+BG7+BJ7+BM7+BP7+BS7+BV7 -> 181406.8 | C7: =F7+I7+L7+O7+R7+U7+X7+AA7+AD7+AG7+AJ7+AM7+AP7+AS7+AV7+AY7+BB7+BE7+BH7+BK7+BN7+BQ7+BT7+BW7 -> 33552.856 | D7: =C7/B7*100 -> 18.49592 | E7: 23535.6 | F7: 3593.1868 | G7: =F7/E7*100 -> 15.267029 | H7: 1125.5 | I7: 237.82764 | J7: =I7/H7*100 -> 21.130843 | K7: 81.5 | L7: 10.98345 | M7: =L7/K7*100 -> 13.476626 | N7: 147205.1 | O7: 27791.83 | P7: =O7/N7*100 -> 18.879665 | AC7: 3464.1 | AD7: 723.788 | AE7: =AD7/AC7*100 -> 20.89397 | AF7: 926.3 | AG7: 142.985 | AH7: =AG7/AF7*100 -> 15.436144 | AI7: 157.3 | AJ7: 24.72124 | AK7: =AJ7/AI7*100 -> 15.715982 | AL7: 228.6 | AM7: 48.36504 | AN7: =AM7/AL7*100 -> 21.15706 | AR7: 677.2 | AS7: 216 | AT7: =AS7/AR7*100 -> 31.896043 | AU7: 2199.3 | AV7: 410.66168 | AW7: =AV7/AU7*100 -> 18.672381 | AX7: 221.8 | AY7: 50.85797 | AZ7: =AY7/AX7*100 -> 22.929653 | BA7: 209.8 | BB7: 49.795 | BC7: =BB7/BA7*100 -> 23.734509 | BG7: 231.9 | BH7: 38.47963 | BI7: =BH7/BG7*100 -> 16.5932 | BJ7: 220 | BK7: 48.92892 | BL7: =BK7/BJ7*100 -> 22.240418 | BM7: 219.8 | BN7: 47.06115 | BO7: =BN7/BM7*100 -> 21.410896 | BP7: 171.6 | BQ7: 0 | BR7: =BQ7/BP7*100 -> 0 | BS7: 2.5 | BT7: 0 | BU7: =BT7/BS7*100 -> 0 | BV7: 528.9 | BW7: 117.38392 | BX7: =BW7/BV7*100 -> 22.193972
A8: Аркадакский | B8: =E8+H8+K8+N8+Q8+T8+W8+Z8+AC8+AF8+AI8+AL8+AO8+AR8+AU8+AX8+BA8+BD8+BG8+BJ8+BM8+BP8+BS8+BV8 -> 172412.9 | C8: =F8+I8+L8+O8+R8+U8+X8+AA8+AD8+AG8+AJ8+AM8+AP8+AS8+AV8+AY8+BB8+BE8+BH8+BK8+BN8+BQ8+BT8+BW8 -> 33731.734 | D8: =C8/B8*100 -> 19.564507 | E8: 24941.6 | F8: 4200 | G8: =F8/E8*100 -> 16.839337 | H8: 1225.3 | I8: 291 | J8: =I8/H8*100 -> 23.749286 | K8: 113.2 | L8: 17.007 | M8: =L8/K8*100 -> 15.023852 | N8: 133022.8 | O8: 25950 | P8: =O8/N8*100 -> 19.507934 | AC8: 3630 | AD8: 907.117 | AE8: =AD8/AC8*100 -> 24.989449 | AF8: 1013.6 | AG8: 242 | AH8: =AG8/AF8*100 -> 23.875296 | AI8: 138.8 | AJ8: 18.239 | AK8: =AJ8/AI8*100 -> 13.14049 | AL8: 203.8 | AM8: 44.0777 | AN8: =AM8/AL8*100 -> 21.62792 | AR8: 979.6 | AS8: 312 | AT8: =AS8/AR8*100 -> 31.849735 | AU8: 4795.5 | AV8: 1321.4918 | AW8: =AV8/AU8*100 -> 27.556914 | AX8: 197 | AY8: 39.02699 | AZ8: =AY8/AX8*100 -> 19.810655 | BA8: 370.1 | BB8: 66.88177 | BC8: =BB8/BA8*100 -> 18.07127 | BD8: 13.1 | BE8: 1.08801 | BF8: =BE8/BD8*100 -> 8.3054198 | BG8: 207.1 | BH8: 30.59688 | BI8: =BH8/BG8*100 -> 14.773964 | BJ8: 195.2 | BK8: 38.36141 | BL8: =BK8/BJ8*100 -> 19.652362 | BM8: 195 | BN8: 30.59688 | BO8: =BN8/BM8*100 -> 15.690708 | BP8: 44.6 | BQ8: 0 | BR8: =BQ8/BP8*100 -> 0 | BS8: 0.6 | BT8: 0 | BU8: =BT8/BS8*100 -> 0 | BV8: 1126 | BW8: 222.24986 | BX8: =BW8/BV8*100 -> 19.737998
A9: Аткарский | B9: =E9+H9+K9+N9+Q9+T9+W9+Z9+AC9+AF9+AI9+AL9+AO9+AR9+AU9+AX9+BA9+BD9+BG9+BJ9+BM9+BP9+BS9+BV9 -> 277274.8 | C9: =F9+I9+L9+O9+R9+U9+X9+AA9+AD9+AG9+AJ9+AM9+AP9+AS9+AV9+AY9+BB9+BE9+BH9+BK9+BN9+BQ9+BT9+BW9 -> 55925.945 | D9: =C9/B9*100 -> 20.169862 | E9: 29124.8 | F9: 5172.9359 | G9: =F9/E9*100 -> 17.761275 | H9: 2847.9 | I9: 1013.3497 | J9: =I9/H9*100 -> 35.582348 | K9: 215.3 | L9: 43.84132 | M9: =L9/K9*100 -> 20.362898 | N9: 227912.9 | O9: 46057.128 | P9: =O9/N9*100 -> 20.208215 | AC9: 5096.8 | AD9: 1119.4488 | AE9: =AD9/AC9*100 -> 21.963757 | AF9: 983.4 | AG9: 215.789 | AH9: =AG9/AF9*100 -> 21.943156 | AI9: 185 | AJ9: 38.46228 | AK9: =AJ9/AI9*100 -> 20.790422 | AL9: 382.1 | AM9: 80.02414 | AN9: =AM9/AL9*100 -> 20.943245 | AR9: 1740.5 | AS9: 552 | AT9: =AS9/AR9*100 -> 31.715024 | AU9: 6272.4 | AV9: 1162.6448 | AW9: =AV9/AU9*100 -> 18.535885 | AX9: 197 | AY9: 33.94719 | AZ9: =AY9/AX9*100 -> 17.232076 | BA9: 555.1 | BB9: 117.98941 | BC9: =BB9/BA9*100 -> 21.255523 | BD9: 8.6 | BE9: 0 | BF9: =BE9/BD9*100 -> 0 | BG9: 414.3 | BH9: 72.46609 | BI9: =BH9/BG9*100 -> 17.491212 | BJ9: 195.2 | BK9: 43.78738 | BL9: =BK9/BJ9*100 -> 22.432059 | BM9: 195 | BN9: 44.86274 | BO9: =BN9/BM9*100 -> 23.006533 | BP9: 115.9 | BQ9: 0 | BR9: =BQ9/BP9*100 -> 0 | BS9: 1.7 | BT9: 0 | BU9: =BT9/BS9*100 -> 0 | BV9: 830.9 | BW9: 157.26838 | BX9: =BW9/BV9*100 -> 18.927474
A10: Базарно-Карабулакский | B10: =E10+H10+K10+N10+Q10+T10+W10+Z10+AC10+AF10+AI10+AL10+AO10+AR10+AU10+AX10+BA10+BD10+BG10+BJ10+BM10+BP10+BS10+BV10 -> 246183.8 | C10: =F10+I10+L10+O10+R10+U10+X10+AA10+AD10+AG10+AJ10+AM10+AP10+AS10+AV10+AY10+BB10+BE10+BH10+BK10+BN10+BQ10+BT10+BW10 -> 49481.202 | D10: =C10/B10*100 -> 20.099293 | E10: 56020.6 | F10: 10550.836 | G10: =F10/E10*100 -> 18.83385 | H10: 2584.7 | I10: 989 | J10: =I10/H10*100 -> 38.263628 | K10: 167 | L10: 34.85101 | M10: =L10/K10*100 -> 20.868868 | N10: 168993.9 | O10: 33684.2 | P10: =O10/N10*100 -> 19.932199 | AC10: 5781.9 | AD10: 1545.0597 | AE10: =AD10/AC10*100 -> 26.722352 | AF10: 1808.3 | AG10: 362.01401 | AH10: =AG10/AF10*100 -> 20.019577 | AI10: 138.8 | AJ10: 31.88399 | AK10: =AJ10/AI10*100 -> 22.971174 | AL10: 203.8 | AM10: 34.9225 | AN10: =AM10/AL10*100 -> 17.135672 | AR10: 1246.3 | AS10: 396 | AT10: =AS10/AR10*100 -> 31.774051 | AU10: 6371.3 | AV10: 1348.0819 | AW10: =AV10/AU10*100 -> 21.158663 | AX10: 197 | AY10: 35.90245 | AZ10: =AY10/AX10*100 -> 18.224594 | BA10: 370.1 | BB10: 84.62409 | BC10: =BB10/BA10*100 -> 22.865196 | BG10: 621.3 | BH10: 147.51902 | BI10: =BH10/BG10*100 -> 23.743605 | BJ10: 195.2 | BK10: 27.3775 | BL10: =BK10/BJ10*100 -> 14.025359 | BM10: 195 | BN10: 36.3356 | BO10: =BN10/BM10*100 -> 18.633641 | BP10: 44.6 | BQ10: 0 | BR10: =BQ10/BP10*100 -> 0 | BS10: 0.6 | BT10: 0 | BU10: =BT10/BS10*100 -> 0 | BV10: 1243.4 | BW10: 172.595 | BX10: =BW10/BV10*100 -> 13.880891
A11: Балаковский | B11: =E11+H11+K11+N11+Q11+T11+W11+Z11+AC11+AF11+AI11+AL11+AO11+AR11+AU11+AX11+BA11+BD11+BG11+BJ11+BM11+BP11+BS11+BV11 -> 1337052.9 | C11: =F11+I11+L11+O11+R11+U11+X11+AA11+AD11+AG11+AJ11+AM11+AP11+AS11+AV11+AY11+BB11+BE11+BH11+BK11+BN11+BQ11+BT11+BW11 -> 262971.69 | D11: =C11/B11*100 -> 19.668009 | E11: 396735.6 | F11: 76291.883 | G11: =F11/E11*100 -> 19.229906 | H11: 34764 | I11: 9448.1695 | J11: =I11/H11*100 -> 27.178028 | K11: 1489.9 | L11: 263.34863 | M11: =L11/K11*100 -> 17.675591 | N11: 733130 | O11: 139113.33 | P11: =O11/N11*100 -> 18.975261 | AC11: 19956.8 | AD11: 2193.4049 | AE11: =AD11/AC11*100 -> 10.990765 | AF11: 7049.6 | AG11: 1472.5617 | AH11: =AG11/AF11*100 -> 20.888586 | AI11: 1541.1 | AJ11: 203.78016 | AK11: =AJ11/AI11*100 -> 13.223033 | AL11: 899.9 | AM11: 141.20881 | AN11: =AM11/AL11*100 -> 15.691611 | AO11: 1292.8 | AP11: 288.84947 | AQ11: =AP11/AO11*100 -> 22.342935 | AR11: 9089.9 | AS11: 2880 | AT11: =AS11/AR11*100 -> 31.683517 | AU11: 119268.6 | AV11: 28849.536 | AW11: =AV11/AU11*100 -> 24.18871 | AX11: 5387.8 | AY11: 847.88756 | AZ11: =AY11/AX11*100 -> 15.737176 | BA11: 3826.1 | BB11: 611.50081 | BC11: =BB11/BA11*100 -> 15.982353 | BD11: 158.7 | BE11: 0 | BF11: =BE11/BD11*100 -> 0 | BG11: 703.9 | BH11: 116.22722 | BI11: =BH11/BG11*100 -> 16.511894 | BJ11: 668.3 | BK11: 105.88532 | BL11: =BK11/BJ11*100 -> 15.84398 | BM11: 445.1 | BN11: 72.18752 | BO11: =BN11/BM11*100 -> 16.21827 | BP11: 180.4 | BQ11: 0 | BR11: =BQ11/BP11*100 -> 0 | BS11: 2.7 | BT11: 0 | BU11: =BT11/BS11*100 -> 0 | BV11: 461.7 | BW11: 71.9305 | BX11: =BW11/BV11*100 -> 15.579489
A12: Балашовский | B12: =E12+H12+K12+N12+Q12+T12+W12+Z12+AC12+AF12+AI12+AL12+AO12+AR12+AU12+AX12+BA12+BD12+BG12+BJ12+BM12+BP12+BS12+BV12 -> 707385.5 | C12: =F12+I12+L12+O12+R12+U12+X12+AA12+AD12+AG12+AJ12+AM12+AP12+AS12+AV12+AY12+BB12+BE12+BH12+BK12+BN12+BQ12+BT12+BW12 -> 138398.02 | D12: =C12/B12*100 -> 19.564724 | E12: 180343.9 | F12: 30181.465 | G12: =F12/E12*100 -> 16.735507 | H12: 7643.5 | I12: 1308.1044 | J12: =I12/H12*100 -> 17.113945 | K12: 473.8 | L12: 66.28134 | M12: =L12/K12*100 -> 13.989308 | N12: 436034.1 | O12: 85717.255 | P12: =O12/N12*100 -> 19.658383 | AC12: 13569.7 | AD12: 2589.8722 | AE12: =AD12/AC12*100 -> 19.0857 | AF12: 5837.3 | AG12: 975.9976 | AH12: =AG12/AF12*100 -> 16.720018 | AI12: 661 | AJ12: 151.89995 | AK12: =AJ12/AI12*100 -> 22.980325 | AL12: 608.9 | AM12: 138.59892 | AN12: =AM12/AL12*100 -> 22.762181 | AO12: 1237.7 | AP12: 293.74704 | AQ12: =AP12/AO12*100 -> 23.733299 | AR12: 4624.5 | AS12: 1464 | AT12: =AS12/AR12*100 -> 31.657476 | AU12: 49017.3 | AV12: 14183.054 | AW12: =AV12/AU12*100 -> 28.934793 | AX12: 2721.2 | AY12: 488.98692 | AZ12: =AY12/AX12*100 -> 17.969533 | BA12: 1627.1 | BB12: 318.03963 | BC12: =BB12/BA12*100 -> 19.54641 | BD12: 54.2 | BE12: 0 | BF12: =BE12/BD12*100 -> 0 | BG12: 225.5 | BH12: 54.375 | BI12: =BH12/BG12*100 -> 24.113082 | BJ12: 427.2 | BK12: 101.75423 | BL12: =BK12/BJ12*100 -> 23.818874 | BM12: 213.4 | BN12: 44.73986 | BO12: =BN12/BM12*100 -> 20.965258 | BP12: 185 | BQ12: 0 | BR12: =BQ12/BP12*100 -> 0 | BS12: 2.7 | BT12: 0 | BU12: =BT12/BS12*100 -> 0 | BV12: 1877.5 | BW12: 319.85032 | BX12: =BW12/BV12*100 -> 17.035969
A13: Балтайский | B13: =E13+H13+K13+N13+Q13+T13+W13+Z13+AC13+AF13+AI13+AL13+AO13+AR13+AU13+AX13+BA13+BD13+BG13+BJ13+BM13+BP13+BS13+BV13 -> 101649.5 | C13: =F13+I13+L13+O13+R13+U13+X13+AA13+AD13+AG13+AJ13+AM13+AP13+AS13+AV13+AY13+BB13+BE13+BH13+BK13+BN13+BQ13+BT13+BW13 -> 20078.8 | D13: =C13/B13*100 -> 19.752975 | E13: 17091.4 | F13: 3370.4 | G13: =F13/E13*100 -> 19.719859 | H13: 1144 | I13: 266.11635 | J13: =I13/H13*100 -> 23.261919 | K13: 71.1 | L13: 7.4839 | M13: =L13/K13*100 -> 10.525879 | N13: 75369.1 | O13: 14433 | P13: =O13/N13*100 -> 19.149758 | AC13: 1942.7 | AD13: 523.797 | AE13: =AD13/AC13*100 -> 26.96232 | AF13: 582.7 | AG13: 139.13 | AH13: =AG13/AF13*100 -> 23.876781 | AI13: 46.3 | AJ13: 6.88324 | AK13: =AJ13/AI13*100 -> 14.866609 | AL13: 203.8 | AM13: 29.29529 | AN13: =AM13/AL13*100 -> 14.374529 | AR13: 487.3 | AS13: 156 | AT13: =AS13/AR13*100 -> 32.013134 | AU13: 3157.2 | AV13: 895.84404 | AW13: =AV13/AU13*100 -> 28.374637 | AX13: 197 | AY13: 33.63908 | AZ13: =AY13/AX13*100 -> 17.075675 | BA13: 185 | BB13: 42.15018 | BC13: =BB13/BA13*100 -> 22.783881 | BG13: 207.1 | BH13: 15.93051 | BI13: =BH13/BG13*100 -> 7.6921825 | BJ13: 195.2 | BK13: 31.13626 | BL13: =BK13/BJ13*100 -> 15.950953 | BM13: 195 | BN13: 30.78578 | BO13: =BN13/BM13*100 -> 15.787579 | BP13: 44.6 | BQ13: 0 | BR13: =BQ13/BP13*100 -> 0 | BS13: 0.6 | BT13: 0 | BU13: =BT13/BS13*100 -> 0 | BV13: 529.4 | BW13: 97.20836 | BX13: =BW13/BV13*100 -> 18.361987
A14: Вольский | B14: =E14+H14+K14+N14+Q14+T14+W14+Z14+AC14+AF14+AI14+AL14+AO14+AR14+AU14+AX14+BA14+BD14+BG14+BJ14+BM14+BP14+BS14+BV14 -> 624175.4 | C14: =F14+I14+L14+O14+R14+U14+X14+AA14+AD14+AG14+AJ14+AM14+AP14+AS14+AV14+AY14+BB14+BE14+BH14+BK14+BN14+BQ14+BT14+BW14 -> 121205.83 | D14: =C14/B14*100 -> 19.418554 | E14: 202586.7 | F14: 37299.818 | G14: =F14/E14*100 -> 18.41178 | H14: 11456.5 | I14: 3606.8378 | J14: =I14/H14*100 -> 31.482894 | K14: 684.8 | L14: 95.77298 | M14: =L14/K14*100 -> 13.98554 | N14: 345374.6 | O14: 64189.63 | P14: =O14/N14*100 -> 18.58551 | AC14: 10772.4 | AD14: 2908.548 | AE14: =AD14/AC14*100 -> 27 | AF14: 5119.1 | AG14: 1172.862 | AH14: =AG14/AF14*100 -> 22.911488 | AI14: 661 | AJ14: 106.63309 | AK14: =AJ14/AI14*100 -> 16.132086 | AL14: 608.9 | AM14: 145.00371 | AN14: =AM14/AL14*100 -> 23.814043 | AO14: 1237.7 | AP14: 278.47642 | AQ14: =AP14/AO14*100 -> 22.499509 | AR14: 3856.6 | AS14: 1220 | AT14: =AS14/AR14*100 -> 31.634082 | AU14: 35580.9 | AV14: 9146.6872 | AW14: =AV14/AU14*100 -> 25.706734 | AX14: 1731.7 | AY14: 278.07483 | AZ14: =AY14/AX14*100 -> 16.05791 | BA14: 1627.1 | BB14: 274.88055 | BC14: =BB14/BA14*100 -> 16.893894 | BD14: 154.7 | BE14: 65.94702 | BF14: =BE14/BD14*100 -> 42.628972 | BG14: 676.4 | BH14: 143.23463 | BI14: =BH14/BG14*100 -> 21.176025 | BJ14: 427.2 | BK14: 44.7749 | BL14: =BK14/BJ14*100 -> 10.481016 | BM14: 213.4 | BN14: 35.29279 | BO14: =BN14/BM14*100 -> 16.538327 | BP14: 111.4 | BQ14: 0 | BR14: =BQ14/BP14*100 -> 0 | BS14: 1.7 | BT14: 0 | BU14: =BT14/BS14*100 -> 0 | BV14: 1292.6 | BW14: 193.36147 | BX14: =BW14/BV14*100 -> 14.959111
A15: Воскресенский | B15: =E15+H15+K15+N15+Q15+T15+W15+Z15+AC15+AF15+AI15+AL15+AO15+AR15+AU15+AX15+BA15+BD15+BG15+BJ15+BM15+BP15+BS15+BV15 -> 102815.4 | C15: =F15+I15+L15+O15+R15+U15+X15+AA15+AD15+AG15+AJ15+AM15+AP15+AS15+AV15+AY15+BB15+BE15+BH15+BK15+BN15+BQ15+BT15+BW15 -> 19207.723 | D15: =C15/B15*100 -> 18.681757 | E15: 17032.2 | F15: 3061.5494 | G15: =F15/E15*100 -> 17.975067 | H15: 859.6 | I15: 115.9158 | J15: =I15/H15*100 -> 13.484853 | K15: 66.2 | L15: 10.641 | M15: =L15/K15*100 -> 16.074018 | N15: 80033.7 | O15: 14913.3 | P15: =O15/N15*100 -> 18.633776 | AC15: 1475.2 | AD15: 358.59036 | AE15: =AD15/AC15*100 -> 24.307915 | AF15: 297.2 | AG15: 68.53562 | AH15: =AG15/AF15*100 -> 23.060437 | AI15: 46.3 | AJ15: 7.465 | AK15: =AJ15/AI15*100 -> 16.12311 | AL15: 203.8 | AM15: 29.16741 | AN15: =AM15/AL15*100 -> 14.311781 | AR15: 518.2 | AS15: 164 | AT15: =AS15/AR15*100 -> 31.648012 | AU15: 796.8 | AV15: 247.8 | AW15: =AV15/AU15*100 -> 31.099398 | AX15: 197 | AY15: 31.86066 | AZ15: =AY15/AX15*100 -> 16.172924 | BA15: 185 | BB15: 40.59003 | BC15: =BB15/BA15*100 -> 21.940557 | BG15: 207.1 | BH15: 29.45598 | BI15: =BH15/BG15*100 -> 14.223071 | BJ15: 195.2 | BK15: 5.37726 | BL15: =BK15/BJ15*100 -> 2.7547439 | BM15: 195 | BN15: 32.49674 | BO15: =BN15/BM15*100 -> 16.664995 | BP15: 44.6 | BQ15: 0 | BR15: =BQ15/BP15*100 -> 0 | BS15: 0.6 | BT15: 0 | BU15: =BT15/BS15*100 -> 0 | BV15: 461.7 | BW15: 90.97714 | BX15: =BW15/BV15*100 -> 19.704817
A16: Дергачевский | B16: =E16+H16+K16+N16+Q16+T16+W16+Z16+AC16+AF16+AI16+AL16+AO16+AR16+AU16+AX16+BA16+BD16+BG16+BJ16+BM16+BP16+BS16+BV16 -> 174015.3 | C16: =F16+I16+L16+O16+R16+U16+X16+AA16+AD16+AG16+AJ16+AM16+AP16+AS16+AV16+AY16+BB16+BE16+BH16+BK16+BN16+BQ16+BT16+BW16 -> 34855.975 | D16: =C16/B16*100 -> 20.030408 | E16: 30767.4 | F16: 5850 | G16: =F16/E16*100 -> 19.013631 | H16: 2772.5 | I16: 519.49 | J16: =I16/H16*100 -> 18.737241 | K16: 153 | L16: 25.73745 | M16: =L16/K16*100 -> 16.821863 | N16: 128113.1 | O16: 25710.885 | P16: =O16/N16*100 -> 20.068896 | AC16: 2539.8 | AD16: 684.54054 | AE16: =AD16/AC16*100 -> 26.952537 | AF16: 607.1 | AG16: 117.78618 | AH16: =AG16/AF16*100 -> 19.401446 | AI16: 92.5 | AJ16: 18.779 | AK16: =AJ16/AI16*100 -> 20.301622 | AL16: 203.8 | AM16: 41.20554 | AN16: =AM16/AL16*100 -> 20.218616 | AR16: 812.6 | AS16: 256 | AT16: =AS16/AR16*100 -> 31.503815 | AU16: 5861.7 | AV16: 1250.0885 | AW16: =AV16/AU16*100 -> 21.326382 | AX16: 197 | AY16: 43.71767 | AZ16: =AY16/AX16*100 -> 22.191711 | BA16: 370.1 | BB16: 74.83445 | BC16: =BB16/BA16*100 -> 20.220062 | BD16: 32.6 | BE16: 0 | BF16: =BE16/BD16*100 -> 0 | BG16: 207.1 | BH16: 37.21732 | BI16: =BH16/BG16*100 -> 17.9707 | BJ16: 195.2 | BK16: 39.04292 | BL16: =BK16/BJ16*100 -> 20.001496 | BM16: 195 | BN16: 30.19971 | BO16: =BN16/BM16*100 -> 15.487031 | BP16: 111.4 | BQ16: 0 | BR16: =BQ16/BP16*100 -> 0 | BS16: 1.7 | BT16: 0 | BU16: =BT16/BS16*100 -> 0 | BV16: 781.7 | BW16: 156.45081 | BX16: =BW16/BV16*100 -> 20.014176
A17: Духовницкий | B17: =E17+H17+K17+N17+Q17+T17+W17+Z17+AC17+AF17+AI17+AL17+AO17+AR17+AU17+AX17+BA17+BD17+BG17+BJ17+BM17+BP17+BS17+BV17 -> 103161.1 | C17: =F17+I17+L17+O17+R17+U17+X17+AA17+AD17+AG17+AJ17+AM17+AP17+AS17+AV17+AY17+BB17+BE17+BH17+BK17+BN17+BQ17+BT17+BW17 -> 20438.691 | D17: =C17/B17*100 -> 19.812402 | E17: 17585.8 | F17: 3200 | G17: =F17/E17*100 -> 18.196499 | H17: 884.1 | I17: 201.75816 | J17: =I17/H17*100 -> 22.82074 | K17: 81.2 | L17: 14.69895 | M17: =L17/K17*100 -> 18.102155 | N17: 76679.3 | O17: 14859 | P17: =O17/N17*100 -> 19.378111 | AC17: 1704.4 | AD17: 584.045 | AE17: =AD17/AC17*100 -> 34.266897 | AF17: 548 | AG17: 189.084 | AH17: =AG17/AF17*100 -> 34.50438 | AI17: 46.3 | AJ17: 7.165 | AK17: =AJ17/AI17*100 -> 15.475162 | AL17: 203.8 | AM17: 40.09296 | AN17: =AM17/AL17*100 -> 19.672699 | AR17: 513 | AS17: 164 | AT17: =AS17/AR17*100 -> 31.968811 | AU17: 3244.7 | AV17: 897.62807 | AW17: =AV17/AU17*100 -> 27.66444 | AX17: 197 | AY17: 39.581 | AZ17: =AY17/AX17*100 -> 20.091878 | BA17: 185 | BB17: 38.01318 | BC17: =BB17/BA17*100 -> 20.547665 | BG17: 207.1 | BH17: 39.067 | BI17: =BH17/BG17*100 -> 18.863834 | BJ17: 195.2 | BK17: 36.4526 | BL17: =BK17/BJ17*100 -> 18.674488 | BM17: 195 | BN17: 40.7456 | BO17: =BN17/BM17*100 -> 20.895179 | BP17: 129.2 | BQ17: 0 | BR17: =BQ17/BP17*100 -> 0 | BS17: 1.9 | BT17: 0 | BU17: =BT17/BS17*100 -> 0 | BV17: 560.1 | BW17: 87.35986 | BX17: =BW17/BV17*100 -> 15.59719
A18: Екатериновский | B18: =E18+H18+K18+N18+Q18+T18+W18+Z18+AC18+AF18+AI18+AL18+AO18+AR18+AU18+AX18+BA18+BD18+BG18+BJ18+BM18+BP18+BS18+BV18 -> 175759.3 | C18: =F18+I18+L18+O18+R18+U18+X18+AA18+AD18+AG18+AJ18+AM18+AP18+AS18+AV18+AY18+BB18+BE18+BH18+BK18+BN18+BQ18+BT18+BW18 -> 35414.84 | D18: =C18/B18*100 -> 20.149625 | E18: 27510.5 | F18: 5125.6989 | G18: =F18/E18*100 -> 18.631791 | H18: 1533.6 | I18: 363.9707 | J18: =I18/H18*100 -> 23.733092 | K18: 88 | L18: 14.09941 | M18: =L18/K18*100 -> 16.022057 | N18: 136320.8 | O18: 27779.908 | P18: =O18/N18*100 -> 20.378334 | AC18: 3113.8 | AD18: 754.241 | AE18: =AD18/AC18*100 -> 24.222526 | AF18: 711.1 | AG18: 143.3476 | AH18: =AG18/AF18*100 -> 20.158571 | AI18: 92.5 | AJ18: 17.65658 | AK18: =AJ18/AI18*100 -> 19.088195 | AL18: 203.8 | AM18: 32.40133 | AN18: =AM18/AL18*100 -> 15.898592 | AR18: 804 | AS18: 256 | AT18: =AS18/AR18*100 -> 31.840796 | AU18: 3371.9 | AV18: 667.30646 | AW18: =AV18/AU18*100 -> 19.790221 | AX18: 197 | AY18: 33.3315 | AZ18: =AY18/AX18*100 -> 16.919543 | BA18: 185 | BB18: 35.81105 | BC18: =BB18/BA18*100 -> 19.357324 | BG18: 207.1 | BH18: 16.38923 | BI18: =BH18/BG18*100 -> 7.9136794 | BJ18: 195.2 | BK18: 26.04105 | BL18: =BK18/BJ18*100 -> 13.340702 | BM18: 195 | BN18: 30.1731 | BO18: =BN18/BM18*100 -> 15.473385 | BP18: 44.6 | BQ18: 0 | BR18: =BQ18/BP18*100 -> 0 | BS18: 0.6 | BT18: 0 | BU18: =BT18/BS18*100 -> 0 | BV18: 984.8 | BW18: 118.4646 | BX18: =BW18/BV18*100 -> 12.029305
A19: Ершовский | B19: =E19+H19+K19+N19+Q19+T19+W19+Z19+AC19+AF19+AI19+AL19+AO19+AR19+AU19+AX19+BA19+BD19+BG19+BJ19+BM19+BP19+BS19+BV19 -> 362586.7 | C19: =F19+I19+L19+O19+R19+U19+X19+AA19+AD19+AG19+AJ19+AM19+AP19+AS19+AV19+AY19+BB19+BE19+BH19+BK19+BN19+BQ19+BT19+BW19 -> 69600.217 | D19: =C19/B19*100 -> 19.195469 | E19: 86607.5 | F19: 14395.112 | G19: =F19/E19*100 -> 16.621092 | H19: 4543.7 | I19: 957.04004 | J19: =I19/H19*100 -> 21.063011 | K19: 247.6 | L19: 48.07866 | M19: =L19/K19*100 -> 19.417876 | N19: 252148.9 | O19: 50145.984 | P19: =O19/N19*100 -> 19.887449 | AC19: 5508.1 | AD19: 1107.1678 | AE19: =AD19/AC19*100 -> 20.10072 | AF19: 1814.5 | AG19: 418.72567 | AH19: =AG19/AF19*100 -> 23.076642 | AI19: 323.8 | AJ19: 61.75911 | AK19: =AJ19/AI19*100 -> 19.073227 | AL19: 382.1 | AM19: 95.525 | AN19: =AM19/AL19*100 -> 25 | AO19: 739.5 | AP19: 103.90607 | AQ19: =AP19/AO19*100 -> 14.050855 | AR19: 1618.5 | AS19: 512 | AT19: =AS19/AR19*100 -> 31.634229 | AU19: 5764.4 | AV19: 1335.4676 | AW19: =AV19/AU19*100 -> 23.167505 | AX19: 565.4 | AY19: 69.19094 | AZ19: =AY19/AX19*100 -> 12.23752 | BA19: 740.1 | BB19: 113.4421 | BC19: =BB19/BA19*100 -> 15.327942 | BG19: 207.1 | BH19: 33.13616 | BI19: =BH19/BG19*100 -> 16.000077 | BJ19: 195.2 | BK19: 38.14536 | BL19: =BK19/BJ19*100 -> 19.54168 | BM19: 195 | BN19: 27.24641 | BO19: =BN19/BM19*100 -> 13.972518 | BP19: 49 | BQ19: 0 | BR19: =BQ19/BP19*100 -> 0 | BS19: 0.7 | BT19: 0 | BU19: =BT19/BS19*100 -> 0 | BV19: 935.6 | BW19: 138.2895 | BX19: =BW19/BV19*100 -> 14.780836
A20: Ивантеевский | B20: =E20+H20+K20+N20+Q20+T20+W20+Z20+AC20+AF20+AI20+AL20+AO20+AR20+AU20+AX20+BA20+BD20+BG20+BJ20+BM20+BP20+BS20+BV20 -> 155605.5 | C20: =F20+I20+L20+O20+R20+U20+X20+AA20+AD20+AG20+AJ20+AM20+AP20+AS20+AV20+AY20+BB20+BE20+BH20+BK20+BN20+BQ20+BT20+BW20 -> 30506.302 | D20: =C20/B20*100 -> 19.6049 | E20: 32543.6 | F20: 6180 | G20: =F20/E20*100 -> 18.989909 | H20: 1994.9 | I20: 498.48288 | J20: =I20/H20*100 -> 24.987863 | K20: 118.1 | L20: 18.99599 | M20: =L20/K20*100 -> 16.084666 | N20: 113057.3 | O20: 22150.494 | P20: =O20/N20*100 -> 19.592272 | AC20: 2602.5 | AD20: 604.97197 | AE20: =AD20/AC20*100 -> 23.245801 | AF20: 1016.6 | AG20: 231.94743 | AH20: =AG20/AF20*100 -> 22.815997 | AI20: 92.5 | AJ20: 13.8884 | AK20: =AJ20/AI20*100 -> 15.014486 | AL20: 203.8 | AM20: 48.9139 | AN20: =AM20/AL20*100 -> 24.000932 | AR20: 596.7 | AS20: 188 | AT20: =AS20/AR20*100 -> 31.50662 | AU20: 1396.8 | AV20: 248.55367 | AW20: =AV20/AU20*100 -> 17.794507 | AX20: 197 | AY20: 32.46166 | AZ20: =AY20/AX20*100 -> 16.478 | BA20: 185 | BB20: 32.31584 | BC20: =BB20/BA20*100 -> 17.468022 | BG20: 207.1 | BH20: 35.47716 | BI20: =BH20/BG20*100 -> 17.130449 | BJ20: 195.2 | BK20: 33.09443 | BL20: =BK20/BJ20*100 -> 16.954114 | BM20: 195 | BN20: 27.47428 | BO20: =BN20/BM20*100 -> 14.089374 | BP20: 66.8 | BQ20: 16.576 | BR20: =BQ20/BP20*100 -> 24.814371 | BS20: 1 | BT20: 0.25 | BU20: =BT20/BS20*100 -> 25 | BV20: 935.6 | BW20: 144.40487 | BX20: =BW20/BV20*100 -> 15.434467
A21: Калининский | B21: =E21+H21+K21+N21+Q21+T21+W21+Z21+AC21+AF21+AI21+AL21+AO21+AR21+AU21+AX21+BA21+BD21+BG21+BJ21+BM21+BP21+BS21+BV21 -> 258099.7 | C21: =F21+I21+L21+O21+R21+U21+X21+AA21+AD21+AG21+AJ21+AM21+AP21+AS21+AV21+AY21+BB21+BE21+BH21+BK21+BN21+BQ21+BT21+BW21 -> 49641.226 | D21: =C21/B21*100 -> 19.233353 | E21: 32334.3 | F21: 5715.0493 | G21: =F21/E21*100 -> 17.674882 | H21: 1921.7 | I21: 423.83447 | J21: =I21/H21*100 -> 22.055184 | K21: 152.7 | L21: 36 | M21: =L21/K21*100 -> 23.575639 | N21: 210431.8 | O21: 40549.349 | P21: =O21/N21*100 -> 19.269592 | AC21: 4070.7 | AD21: 661.47785 | AE21: =AD21/AC21*100 -> 16.249732 | AF21: 1027.2 | AG21: 119.32403 | AH21: =AG21/AF21*100 -> 11.616436 | AI21: 185 | AJ21: 42.596 | AK21: =AJ21/AI21*100 -> 23.024865 | AL21: 382.1 | AM21: 78.23004 | AN21: =AM21/AL21*100 -> 20.473708 | AR21: 1335.3 | AS21: 424 | AT21: =AS21/AR21*100 -> 31.753164 | AU21: 3917.4 | AV21: 1177.1838 | AW21: =AV21/AU21*100 -> 30.05013 | AX21: 197 | AY21: 24.85632 | AZ21: =AY21/AX21*100 -> 12.617421 | BA21: 555.1 | BB21: 108.89905 | BC21: =BB21/BA21*100 -> 19.617916 | BG21: 207.1 | BH21: 45.44397 | BI21: =BH21/BG21*100 -> 21.943008 | BJ21: 195.2 | BK21: 45.59808 | BL21: =BK21/BJ21*100 -> 23.359672 | BM21: 195 | BN21: 45.29764 | BO21: =BN21/BM21*100 -> 23.229559 | BP21: 55.7 | BQ21: 0 | BR21: =BQ21/BP21*100 -> 0 | BS21: 0.8 | BT21: 0 | BU21: =BT21/BS21*100 -> 0 | BV21: 935.6 | BW21: 144.08649 | BX21: =BW21/BV21*100 -> 15.400437
A22: Красноармейский | B22: =E22+H22+K22+N22+Q22+T22+W22+Z22+AC22+AF22+AI22+AL22+AO22+AR22+AU22+AX22+BA22+BD22+BG22+BJ22+BM22+BP22+BS22+BV22 -> 316528.8 | C22: =F22+I22+L22+O22+R22+U22+X22+AA22+AD22+AG22+AJ22+AM22+AP22+AS22+AV22+AY22+BB22+BE22+BH22+BK22+BN22+BQ22+BT22+BW22 -> 63100.756 | D22: =C22/B22*100 -> 19.935234 | E22: 53876.5 | F22: 9996.6 | G22: =F22/E22*100 -> 18.554657 | H22: 4089.2 | I22: 892.9966 | J22: =I22/H22*100 -> 21.837929 | K22: 235.7 | L22: 45.02218 | M22: =L22/K22*100 -> 19.101476 | N22: 224113.5 | O22: 43069.176 | P22: =O22/N22*100 -> 19.217573 | AC22: 4701.9 | AD22: 1269.435 | AE22: =AD22/AC22*100 -> 26.998341 | AF22: 1886.2 | AG22: 452.224 | AH22: =AG22/AF22*100 -> 23.9754 | AI22: 231.3 | AJ22: 46.65484 | AK22: =AJ22/AI22*100 -> 20.170705 | AL22: 382.1 | AM22: 87.54204 | AN22: =AM22/AL22*100 -> 22.910767 | AR22: 1994.3 | AS22: 632 | AT22: =AS22/AR22*100 -> 31.690317 | AU22: 20928.3 | AV22: 5917.4658 | AW22: =AV22/AU22*100 -> 28.274947 | AX22: 1373.9 | AY22: 186.54871 | AZ22: =AY22/AX22*100 -> 13.578041 | BA22: 740.1 | BB22: 139.49325 | BC22: =BB22/BA22*100 -> 18.847892 | BG22: 414.3 | BH22: 86.275 | BI22: =BH22/BG22*100 -> 20.824282 | BJ22: 195.2 | BK22: 43.23992 | BL22: =BK22/BJ22*100 -> 22.151598 | BM22: 195 | BN22: 46.312 | BO22: =BN22/BM22*100 -> 23.749744 | BP22: 62.4 | BQ22: 0 | BR22: =BQ22/BP22*100 -> 0 | BS22: 0.9 | BT22: 0 | BU22: =BT22/BS22*100 -> 0 | BV22: 1108 | BW22: 189.77021 | BX22: =BW22/BV22*100 -> 17.127275
A23: Краснокутский | B23: =E23+H23+K23+N23+Q23+T23+W23+Z23+AC23+AF23+AI23+AL23+AO23+AR23+AU23+AX23+BA23+BD23+BG23+BJ23+BM23+BP23+BS23+BV23 -> 271048.3 | C23: =F23+I23+L23+O23+R23+U23+X23+AA23+AD23+AG23+AJ23+AM23+AP23+AS23+AV23+AY23+BB23+BE23+BH23+BK23+BN23+BQ23+BT23+BW23 -> 51772.597 | D23: =C23/B23*100 -> 19.100875 | E23: 69340.5 | F23: 13080 | G23: =F23/E23*100 -> 18.863435 | H23: 3903.9 | I23: 1114.059 | J23: =I23/H23*100 -> 28.537078 | K23: 243.9 | L23: 52.13079 | M23: =L23/K23*100 -> 21.373838 | N23: 169706.3 | O23: 31775.5 | P23: =O23/N23*100 -> 18.723819 | Q23: 10544.9 | R23: 1723.8 | S23: =R23/Q23*100 -> 16.347239 | T23: 105.4 | U23: 17.56 | V23: =U23/T23*100 -> 16.660342 | AC23: 4984.9 | AD23: 1091.7539 | AE23: =AD23/AC23*100 -> 21.90122 | AF23: 2046.4 | AG23: 245.09818 | AH23: =AG23/AF23*100 -> 11.977042 | AI23: 231.3 | AJ23: 18.35865 | AK23: =AJ23/AI23*100 -> 7.9371595 | AL23: 382.1 | AM23: 63.80103 | AN23: =AM23/AL23*100 -> 16.697469 | AR23: 1462.1 | AS23: 464 | AT23: =AS23/AR23*100 -> 31.735175 | AU23: 5413.1 | AV23: 1673.2921 | AW23: =AV23/AU23*100 -> 30.9119 | AX23: 381.3 | AY23: 90.48235 | AZ23: =AY23/AX23*100 -> 23.729963 | BA23: 555.1 | BB23: 71.26589 | BC23: =BB23/BA23*100 -> 12.838388 | BD23: 15.1 | BE23: 0 | BF23: =BE23/BD23*100 -> 0 | BG23: 207.1 | BH23: 41.32343 | BI23: =BH23/BG23*100 -> 19.95337 | BJ23: 195.2 | BK23: 39.69371 | BL23: =BK23/BJ23*100 -> 20.334892 | BM23: 195 | BN23: 33.69713 | BO23: =BN23/BM23*100 -> 17.280579 | BP23: 44.6 | BQ23: 0 | BR23: =BQ23/BP23*100 -> 0 | BS23: 0.6 | BT23: 0 | BU23: =BT23/BS23*100 -> 0 | BV23: 1089.5 | BW23: 176.78084 | BX23: =BW23/BV23*100 -> 16.225869
A24: Краснопартизанский | B24: =E24+H24+K24+N24+Q24+T24+W24+Z24+AC24+AF24+AI24+AL24+AO24+AR24+AU24+AX24+BA24+BD24+BG24+BJ24+BM24+BP24+BS24+BV24 -> 103973.3 | C24: =F24+I24+L24+O24+R24+U24+X24+AA24+AD24+AG24+AJ24+AM24+AP24+AS24+AV24+AY24+BB24+BE24+BH24+BK24+BN24+BQ24+BT24+BW24 -> 20284.395 | D24: =C24/B24*100 -> 19.509235 | E24: 25059.7 | F24: 4228.9958 | G24: =F24/E24*100 -> 16.875684 | H24: 908.7 | I24: 215.817 | J24: =I24/H24*100 -> 23.750083 | K24: 84.1 | L24: 7.13084 | M24: =L24/K24*100 -> 8.4790012 | N24: 69853.1 | O24: 14138.712 | P24: =O24/N24*100 -> 20.240636 | AC24: 1755.5 | AD24: 333.002 | AE24: =AD24/AC24*100 -> 18.969069 | AF24: 648.3 | AG24: 63.58 | AH24: =AG24/AF24*100 -> 9.807188 | AI24: 46.3 | AJ24: 6.8742 | AK24: =AJ24/AI24*100 -> 14.847084 | AL24: 203.8 | AM24: 37.16169 | AN24: =AM24/AL24*100 -> 18.234392 | AR24: 483 | AS24: 152 | AT24: =AS24/AR24*100 -> 31.469979 | AU24: 3598.5 | AV24: 863.63244 | AW24: =AV24/AU24*100 -> 23.99979 | AX24: 197 | AY24: 43.18213 | AZ24: =AY24/AX24*100 -> 21.919863 | BA24: 185 | BB24: 35.13613 | BC24: =BB24/BA24*100 -> 18.992503 | BG24: 207.1 | BH24: 30.21731 | BI24: =BH24/BG24*100 -> 14.590686 | BJ24: 195.2 | BK24: 35.69657 | BL24: =BK24/BJ24*100 -> 18.287177 | BM24: 195 | BN24: 34.78527 | BO24: =BN24/BM24*100 -> 17.8386 | BP24: 44.6 | BQ24: 0 | BR24: =BQ24/BP24*100 -> 0 | BS24: 0.6 | BT24: 0 | BU24: =BT24/BS24*100 -> 0 | BV24: 307.8 | BW24: 58.47178 | BX24: =BW24/BV24*100 -> 18.99668
A25: Лысогорский | B25: =E25+H25+K25+N25+Q25+T25+W25+Z25+AC25+AF25+AI25+AL25+AO25+AR25+AU25+AX25+BA25+BD25+BG25+BJ25+BM25+BP25+BS25+BV25 -> 174920.8 | C25: =F25+I25+L25+O25+R25+U25+X25+AA25+AD25+AG25+AJ25+AM25+AP25+AS25+AV25+AY25+BB25+BE25+BH25+BK25+BN25+BQ25+BT25+BW25 -> 32092.412 | D25: =C25/B25*100 -> 18.346825 | E25: 27934.5 | F25: 3984.5131 | G25: =F25/E25*100 -> 14.263771 | H25: 1152.5 | I25: 149.06177 | J25: =I25/H25*100 -> 12.933776 | K25: 106.7 | L25: 18.59256 | M25: =L25/K25*100 -> 17.42508 | N25: 136835 | O25: 25748.943 | P25: =O25/N25*100 -> 18.817512 | AC25: 3542.7 | AD25: 956.529 | AE25: =AD25/AC25*100 -> 27 | AF25: 926.6 | AG25: 222.4 | AH25: =AG25/AF25*100 -> 24.001727 | AI25: 92.5 | AJ25: 21.29468 | AK25: =AJ25/AI25*100 -> 23.021276 | AL25: 203.8 | AM25: 43.22985 | AN25: =AM25/AL25*100 -> 21.211899 | AR25: 836.2 | AS25: 264 | AT25: =AS25/AR25*100 -> 31.571394 | AU25: 1423.2 | AV25: 355.37091 | AW25: =AV25/AU25*100 -> 24.96985 | AX25: 197 | AY25: 18.54532 | AZ25: =AY25/AX25*100 -> 9.413868 | BA25: 185 | BB25: 36.25045 | BC25: =BB25/BA25*100 -> 19.594838 | BG25: 207.1 | BH25: 47.75179 | BI25: =BH25/BG25*100 -> 23.057359 | BJ25: 195.2 | BK25: 34.34028 | BL25: =BK25/BJ25*100 -> 17.592357 | BM25: 195 | BN25: 32.75272 | BO25: =BN25/BM25*100 -> 16.796267 | BP25: 37.9 | BQ25: 0 | BR25: =BQ25/BP25*100 -> 0 | BS25: 0.5 | BT25: 0 | BU25: =BT25/BS25*100 -> 0 | BV25: 849.4 | BW25: 158.8372 | BX25: =BW25/BV25*100 -> 18.699929
A26: Марксовский | B26: =E26+H26+K26+N26+Q26+T26+W26+Z26+AC26+AF26+AI26+AL26+AO26+AR26+AU26+AX26+BA26+BD26+BG26+BJ26+BM26+BP26+BS26+BV26 -> 504084.2 | C26: =F26+I26+L26+O26+R26+U26+X26+AA26+AD26+AG26+AJ26+AM26+AP26+AS26+AV26+AY26+BB26+BE26+BH26+BK26+BN26+BQ26+BT26+BW26 -> 97640.322 | D26: =C26/B26*100 -> 19.369844 | E26: 91138.4 | F26: 13954.15 | G26: =F26/E26*100 -> 15.310945 | H26: 8513.3 | I26: 2919.0995 | J26: =I26/H26*100 -> 34.288695 | K26: 402.1 | L26: 53.32635 | M26: =L26/K26*100 -> 13.261962 | N26: 372587.6 | O26: 72645.98 | P26: =O26/N26*100 -> 19.497691 | AC26: 8276.7 | AD26: 2234.709 | AE26: =AD26/AC26*100 -> 27 | AF26: 2628.4 | AG26: 630.9 | AH26: =AG26/AF26*100 -> 24.003196 | AI26: 436.9 | AJ26: 85.77714 | AK26: =AJ26/AI26*100 -> 19.633129 | AL26: 581.3 | AM26: 118.27683 | AN26: =AM26/AL26*100 -> 20.346952 | AR26: 2727.3 | AS26: 864 | AT26: =AS26/AR26*100 -> 31.679683 | AU26: 12686.6 | AV26: 3500.5893 | AW26: =AV26/AU26*100 -> 27.592809 | AX26: 1126.8 | AY26: 150.3106 | AZ26: =AY26/AX26*100 -> 13.339599 | BA26: 1165.2 | BB26: 182.7593 | BC26: =BB26/BA26*100 -> 15.684801 | BD26: 66.2 | BE26: 6.64314 | BF26: =BE26/BD26*100 -> 10.034955 | BG26: 216.3 | BH26: 38.02356 | BI26: =BH26/BG26*100 -> 17.579085 | BJ26: 204.4 | BK26: 23.49446 | BL26: =BK26/BJ26*100 -> 11.494354 | BM26: 204.2 | BN26: 35.89714 | BO26: =BN26/BM26*100 -> 17.579403 | BP26: 44.6 | BQ26: 0 | BR26: =BQ26/BP26*100 -> 0 | BS26: 0.6 | BT26: 0 | BU26: =BT26/BS26*100 -> 0 | BV26: 1077.3 | BW26: 196.38612 | BX26: =BW26/BV26*100 -> 18.229474
