Workbook

Sheet Итого по видам (распредел.) 
A1: Сведения о предоставлении из бюджета Саратовской области межбюджетных трансфертов местным бюджетам за 2017 год
F2: тыс. рублей
A3: № п/п | B3: Наименование | C3: Код бюджетной классификации | D3: Закон Саратовской области «Об областном бюджете на 2017 год и на плановый период 2018 и 2019 годов» | F3: Исполнение
D4: первоначальный бюджет (ред. 164-ЗСО от 12.12.2016) | E4: уточненный бюджет (ред. 128-ЗСО от 20.12.2017) + бюджетная роспись
A5: 1 | B5: 2 | C5: 3 | D5: 4 | E5: 5 | F5: 6
A6: 1. | B6: Дотации - всего | D6: =SUM(D7:D10) -> 2514058.5 | E6: =SUM(E7:E10) -> 2776155 | F6: =SUM(F7:F10) -> 2776155
A7: 1.1. | B7: Дотации на выравнивание бюджетной обеспеченности муниципальных районов (городских округов) области | C7: 000 1401 6640170200 511 | D7: 2362516 | E7: 2358712.9 | F7: 2358712.9
A8: 1.2. | B8: Дотации на выравнивание бюджетной обеспеченности поселений области | C8: 000 1401 6640170100 511 | D8: 36906.5 | E8: 36906.5 | F8: 36906.5
A9: 1.3. | B9: Дотации бюджетам городских округов области, связанные с особым режимом безопасного функционирования закрытых административно-территориальных образований | C9: 000 1401 6640150100 511 | D9: 114636 | E9: 114636 | F9: 114636
A10: 1.4. | B10: Дотации на поддержку мер по обеспечению сбалансированности бюджетов | C10: 000 1401 6640170300 511 | D10: 0 | E10: 265899.6 | F10: 265899.6
A11: 2. | B11: Субсидии - всего | D11: =SUM(D12:D37) -> 4860 | E11: =SUM(E12:E37) -> 7035458.9 | F11: =SUM(F12:F37) -> 6832630.6
A12: 2.1. | B12: Субсидии на обеспечение деятельности муниципальных бизнес-инкубаторов | C12: 000 0412 5830171100 521 | D12: 4860 | E12: 4860 | F12: 4860
A13: 2.2. | B13: Субсидии на реализацию мероприятий по обеспечению доступности приоритетных объектов и услуг в приоритетных сферах жизнедеятельности инвалидов и других маломобильных групп населения | C13: 000 0113 6640572100 521 | D13: 0 | E13: 19128.2 | F13: 19015.507
A14: 2.3. | B14: Субсидии на закупку комплектов искусственных покрытий для футбольных полей для спортивных детско-юношеских школ области, включая их доставку и сертификацию полей | C14: 000 1102 56405R4950 521 | D14: 0 | E14: 11858.5 | F14: 11302.911
A15: 2.4. | B15: Субсидии на обеспечение мероприятий по переселению граждан из аварийного жилищного фонда | C15: 000 0501 5380109502 522 | D15: 0 | E15: 1801306.3 | F15: 1752905
A16: 2.5. | B16: Субсидии на поддержку творческой деятельности муниципальных театров в городах с численностью населения до 300 тысяч человек | C16: 000 0801 55206R5580 521 | D16: 0 | E16: 15690 | F16: 15690
A17: 2.6. | B17: Субсидии на создание в общеобразовательных организациях, расположенных в сельской местности, условий для занятий физической культурой и спортом | C17: 000 0702 51207R0970 521 | D17: 0 | E17: 23032 | F17: 23032
A18: 2.7. | B18: Субсидии на создание в дошкольных образовательных организациях (в том числе в организациях, осуществляющих образовательную деятельность по адаптированным основным общеобразовательным программам) условий для получения детьми-инвалидами качественного образования | C18: 000 0701 51107R0270 521 | D18: 0 | E18: 10367 | F18: 10367
A19: 2.8. | B19: Субсидии на реализацию мероприятий по содействию созданию (исходя из прогнозируемой потребности) новых мест в общеобразовательных организациях | C19: 000 0702 51801R5200 522 | D19: 0 | E19: 454458.3 | F19: 454458.3
A20: 2.9. | B20: Субсидии на обеспечение развития и укрепления материально-технической базы муниципальных домов культуры | C20: 000 0801 55А12R5580 521 | E20: 49042 | F20: 49042
A21: 2.10. | B21: Субсидии на обеспечение расходных обязательств, связанных с повышением оплаты труда отдельным категориям работников бюджетной сферы в целях реализации Указов Президента Российской Федерации от 7 мая 2012 года № 597 «О мероприятиях по реализации государственной социальной политики» и от 1 июня 2012 года № 761 «О национальной стратегии действий в интересах детей на 2012 - 2017 годы» | C21: 000 1403 6640171800 521 | D21: 0 | E21: 390335.8 | F21: 388373.56
A22: 2.11. | B22: Субсидии на осуществление дорожной деятельности в отношении автомобильных дорог общего пользования местного значения Саратовской агломерации в границах городских округов области в рамках приоритетного проекта «Безопасные и качественные дороги» за счет средств областного дорожного фонда | C22: 000 0409 602П1D7600 521 | D22: 0 | E22: 730369 | F22: 730369
A23: 2.12. | B23: Субсидии на осуществление дорожной деятельности в отношении автомобильных дорог общего пользования местного значения Саратовской агломерации в границах городских поселений области в рамках приоритетного проекта «Безопасные и качественные дороги» за счет средств областного дорожного фонда | C23: 000 0409 602П1D7700 521 | D23: 0 | E23: 269630 | F23: 269630
A24: 2.13. | B24: Субсидии на капитальный ремонт, ремонт и содержание автомобильных дорог общего пользования местного значения за счет средств областного дорожного фонда | C24: 000 0409 60207D7300 521 | D24: 0 | E24: 258634.6 | F24: 244783.85
A25: 2.14. | B25: Субсидии на комплексное обустройство объектами социальной и инженерной инфраструктуры населенных пунктов, расположенных в сельской местности, на строительство и реконструкцию автомобильных дорог | C25: 000 0409 61505R0180 522 000 0502 61505R0180 522 000 0702 61505R0180 522 000 1101 61505R0180 522 | D25: 0 | E25: 255654.2 | F25: 175859.78
A26: 2.15. | B26: Субсидии на исполнение муниципальных программ в целях реализации мероприятий подпрограммы «Стимулирование программ развития жилищного строительства субъектов Российской Федерации» федеральной целевой программы «Жилище» на 2015-2020 годы | C26: 000 1403 531П3R0210 522 | D26: 0 | E26: 701080.8 | F26: 669996.68
A27: 2.16. | B27: Субсидии на поддержку муниципальных программ формирования современной городской среды | C27: 000 0503 53ВП2R5550 522 | D27: 0 | E27: 588792.3 | F27: 568503.67
A28: 2.17. | B28: Субсидии на поддержку обустройства мест массового отдыха населения (городских парков) | C28: 000 0505 53В02R5600 521 | D28: 0 | E28: 17092.92 | F28: 17092.92
A29: 2.18. | B29: Субсидии на обеспечение жильем молодых семей | D29: 0 | E29: 65573.8 | F29: 61632.84
A30: 2.19. | B30: Субсидии на поддержку отрасли культуры на комплектование книжных фондов муниципальных общедоступных библиотек | C30: 000 0801 55402R5191 521 | D30: 0 | E30: 2242.7 | F30: 2242.7
A31: 2.20. | B31: Субсидии на поддержку отрасли культуры на государственную поддержку муниципальных учреждений культуры, находящихся на территории сельских поселений | C31: 000 0801 55Б04R5192 521 | D31: 0 | E31: 2500 | F31: 2500
A32: 2.21. | B32: Субсидии на поддержку отрасли культуры на подключение муниципальных общедоступных библиотек к информационно-телекоммуникационной сети «Интернет» и развитие библиотечного дела с учетом задачи расширения информационных технологий и оцифровки | C32: 000 0801 55405R5193 521 | D32: 0 | E32: 3755.4 | F32: 3755.4
A33: 2.22. | B33: Субсидии на поддержку отрасли культуры на государственную поддержку лучших работников муниципальных учреждений культуры, находящихся на территории сельских поселений | C33: 000 0801 55Б04R5194 521 | D33: 0 | E33: 1100 | F33: 1100
A34: 2.23. | B34: Субсидии на софинансирование расходных обязательств по реализации мероприятий муниципальных программ развития малого и среднего предпринимательства монопрофильных муниципальных образований | C34: 000 0412 58302R5270 521 | D34: 0 | E34: 8675 | F34: 8675
A35: 2.24. | B35: Субсидии на реализацию расходных обязательств, возникающих при выполнении полномочий по решению вопросов местного значения | C35: 000 1403 6640172200 521 | D35: 0 | E35: 1329759.2 | F35: 1329759.2
A36: 2.25. | B36: Субсидии на грантовую поддержку местных инициатив граждан, проживающих в сельской местности, в рамках реализации муниципальных программ по устойчивому развитию сельских территорий* | C36: 000 0405 61504R0180 521 | D36: 0 | E36: 587 | F36: 587
A37: 2.26. | B37: Субсидии на реализацию проектов развития муниципальных образований области, основанных на местных инициативах* | C37: 000 0113 6640572100 521 | D37: 0 | E37: 19933.906 | F37: 17096.33
A38: 3. | B38: Субвенции - всего | D38: =SUM(D39:D63) -> 16372309 | E38: =SUM(E39:E63) -> 16486852 | F38: =SUM(F39:F63) -> 16465913
A39: 3.1. | B39: Субвенции на финансовое обеспечение образовательной деятельности муниципальных дошкольных образовательных организаций | C39: 000 0701 5110676700 530 | D39: 4145570.8 | E39: 4145570.8 | F39: 4142130.6
A40: 3.2. | B40: Субвенции на компенсацию родительской платы за присмотр и уход за детьми в образовательных организациях, реализующих основную общеобразовательную программу дошкольного образования | C40: 000 1004 5110577900 530 | D40: 330427.1 | E40: 417986.9 | F40: 417797.12
...

Sheet Всего (с учетом нераспред)
A1: Сведения о предоставленных из бюджета Саратовской области межбюджетных трансфертах бюджетам муниципальных образований за 2017 год
T2: тыс.рублей
A3: Наименование муниципальных образований | B3: Всего | F3: в том числе
F4: Дотации | J4: Субсидии | N4: Субвенции | R4: Иные межбюджетные трансферты
B6: первоначаль-ный бюджет* | C6: бюджетная роспись + уточненный бюджет** | D6: исполнено | E6: % исполнения | F6: первоначаль-ный бюджет* | G6: уточненный бюджет** | H6: исполнено | I6: % исполнения | J6: первоначаль-ный бюджет* | K6: бюджетная роспись + уточненный бюджет** | L6: исполнено | M6: % исполнения | N6: первоначаль-ный бюджет* | O6: уточненный бюджет** | P6: исполнено | Q6: % исполнения | R6: первоначаль-ный бюджет* | S6: бюджетная роспись + уточненный бюджет** | T6: исполнено | U6: % исполнения
A7: Муниципальные районы области: | B7: =SUM(B8:B45) -> 13955332 | C7: =SUM(C8:C45) -> 18269739 | D7: =SUM(D8:D45) -> 18116168 | E7: =D7/C7% -> 99.159428 | F7: =SUM(F8:F45) -> 2299493.9 | G7: =SUM(G8:G45) -> 2560744.2 | H7: =SUM(H8:H45) -> 2560744.2 | I7: =H7/G7% -> 100 | J7: =SUM(J8:J45) -> 4860 | K7: =SUM(K8:K45) -> 3420363 | L7: =SUM(L8:L45) -> 3310218.9 | M7: =L7/K7% -> 96.779757 | N7: =SUM(N8:N45) -> 11650978 | O7: =SUM(O8:O45) -> 11737649 | P7: =SUM(P8:P45) -> 11721620 | Q7: =P7/O7% -> 99.863437 | R7: =SUM(R8:R45) -> 0 | S7: =SUM(S8:S45) -> 550982.3 | T7: =SUM(T8:T45) -> 523585.3 | U7: =T7/S7% -> 95.027607
A8: Александрово-Гайский | B8: =F8+J8+N8+R8 -> 232253.8 | C8: =G8+K8+O8+S8 -> 317976.39 | D8: =H8+L8+P8+T8 -> 314992.93 | E8: =D8/C8% -> 99.061736 | F8: =Дотации!B8 -> 50847 | G8: =Дотации!C8 -> 73835.2 | H8: =Дотации!D8 -> 73835.2 | I8: =Дотации!E8 -> 100 | J8: =Субсидии!B9 -> 0 | K8: =Субсидии!C9 -> 40740.593 | L8: =Субсидии!D9 -> 40317.67 | M8: =L8/K8% -> 98.961914 | N8: =Субвенции!B11 -> 181406.8 | O8: =Субвенции!C11 -> 177821.1 | P8: =Субвенции!D11 -> 177561.09 | Q8: =P8/O8% -> 99.853783 | R8: =Иные!B8 -> 0 | S8: =Иные!C8 -> 25579.5 | T8: =Иные!D8 -> 23278.969 | U8: =T8/S8% -> 91.006348
A9: Аркадакский | B9: =F9+J9+N9+R9 -> 238315.3 | C9: =G9+K9+O9+S9 -> 266010.8 | D9: =H9+L9+P9+T9 -> 265242.81 | E9: =D9/C9% -> 99.711297 | F9: =Дотации!B9 -> 65902.4 | G9: =Дотации!C9 -> 65902.4 | H9: =Дотации!D9 -> 65902.4 | I9: =Дотации!E9 -> 100 | J9: =Субсидии!B10 -> 0 | K9: =Субсидии!C10 -> 17299.357 | L9: =Субсидии!D10 -> 16593.804 | M9: =L9/K9% -> 95.921506 | N9: =Субвенции!B12 -> 172412.9 | O9: =Субвенции!C12 -> 176444.4 | P9: =Субвенции!D12 -> 176381.97 | Q9: =P9/O9% -> 99.964619 | R9: =Иные!B9 -> 0 | S9: =Иные!C9 -> 6364.6393 | T9: =Иные!D9 -> 6364.6393 | U9: =T9/S9% -> 100
A10: Аткарский | B10: =F10+J10+N10+R10 -> 361583.3 | C10: =G10+K10+O10+S10 -> 415316.63 | D10: =H10+L10+P10+T10 -> 411763.54 | E10: =D10/C10% -> 99.144485 | F10: =Дотации!B10 -> 84308.5 | G10: =Дотации!C10 -> 84308.5 | H10: =Дотации!D10 -> 84308.5 | I10: =Дотации!E10 -> 100 | J10: =Субсидии!B11 -> 0 | K10: =Субсидии!C11 -> 37681.431 | L10: =Субсидии!D11 -> 37681.41 | M10: =L10/K10% -> 99.999946 | N10: =Субвенции!B13 -> 277274.8 | O10: =Субвенции!C13 -> 285820 | P10: =Субвенции!D13 -> 285628.12 | Q10: =P10/O10% -> 99.932868 | R10: =Иные!B10 -> 0 | S10: =Иные!C10 -> 7506.7 | T10: =Иные!D10 -> 4145.5 | U10: =T10/S10% -> 55.224
A11: Базарно-Карабулакский | B11: =F11+J11+N11+R11 -> 308186.4 | C11: =G11+K11+O11+S11 -> 393751.3 | D11: =H11+L11+P11+T11 -> 393453.13 | E11: =D11/C11% -> 99.924277 | F11: =Дотации!B11 -> 62002.6 | G11: =Дотации!C11 -> 68754.1 | H11: =Дотации!D11 -> 68754.1 | I11: =Дотации!E11 -> 100 | J11: =Субсидии!B12 -> 0 | K11: =Субсидии!C12 -> 55776.055 | L11: =Субсидии!D12 -> 55622.847 | M11: =L11/K11% -> 99.725315 | N11: =Субвенции!B14 -> 246183.8 | O11: =Субвенции!C14 -> 249352.84 | P11: =Субвенции!D14 -> 249207.89 | Q11: =P11/O11% -> 99.941868 | R11: =Иные!B11 -> 0 | S11: =Иные!C11 -> 19868.3 | T11: =Иные!D11 -> 19868.3 | U11: =T11/S11% -> 100
A12: Балаковский | B12: =F12+J12+N12+R12 -> 1341912.9 | C12: =G12+K12+O12+S12 -> 1493573.4 | D12: =H12+L12+P12+T12 -> 1487439.4 | E12: =D12/C12% -> 99.589305 | F12: =Дотации!B12 -> 0 | G12: =Дотации!C12 -> 0 | H12: =Дотации!D12 -> 0 | I12: =Дотации!E12 | J12: =Субсидии!B13 -> 4860 | K12: =Субсидии!C13 -> 126067.4 | L12: =Субсидии!D13 -> 120256.86 | M12: =L12/K12% -> 95.390926 | N12: =Субвенции!B15 -> 1337052.9 | O12: =Субвенции!C15 -> 1363679.8 | P12: =Субвенции!D15 -> 1363356.3 | Q12: =P12/O12% -> 99.976278 | R12: =Иные!B12 -> 0 | S12: =Иные!C12 -> 3826.194 | T12: =Иные!D12 -> 3826.194 | U12: =T12/S12% -> 100
A13: Балашовский | B13: =F13+J13+N13+R13 -> 832315.1 | C13: =G13+K13+O13+S13 -> 1190065 | D13: =H13+L13+P13+T13 -> 1176252.1 | E13: =D13/C13% -> 98.839316 | F13: =Дотации!B13 -> 124929.6 | G13: =Дотации!C13 -> 124929.6 | H13: =Дотации!D13 -> 124929.6 | I13: =Дотации!E13 -> 100 | J13: =Субсидии!B14 -> 0 | K13: =Субсидии!C14 -> 299991.31 | L13: =Субсидии!D14 -> 289590.52 | M13: =L13/K13% -> 96.532972 | N13: =Субвенции!B16 -> 707385.5 | O13: =Субвенции!C16 -> 711858.6 | P13: =Субвенции!D16 -> 708557.96 | Q13: =P13/O13% -> 99.536335 | R13: =Иные!B13 -> 0 | S13: =Иные!C13 -> 53285.465 | T13: =Иные!D13 -> 53173.992 | U13: =T13/S13% -> 99.7908
A14: Балтайский | B14: =F14+J14+N14+R14 -> 137531.9 | C14: =G14+K14+O14+S14 -> 179928.7 | D14: =H14+L14+P14+T14 -> 179818.28 | E14: =D14/C14% -> 99.938634 | F14: =Дотации!B14 -> 35882.4 | G14: =Дотации!C14 -> 39732.3 | H14: =Дотации!D14 -> 39732.3 | I14: =Дотации!E14 -> 100 | J14: =Субсидии!B15 -> 0 | K14: =Субсидии!C15 -> 32854.999 | L14: =Субсидии!D15 -> 32849.38 | M14: =L14/K14% -> 99.982896 | N14: =Субвенции!B17 -> 101649.5 | O14: =Субвенции!C17 -> 102254.1 | P14: =Субвенции!D17 -> 102149.3 | Q14: =P14/O14% -> 99.897515 | R14: =Иные!B14 -> 0 | S14: =Иные!C14 -> 5087.3 | T14: =Иные!D14 -> 5087.3 | U14: =T14/S14% -> 100
A15: Вольский | B15: =F15+J15+N15+R15 -> 630932.8 | C15: =G15+K15+O15+S15 -> 885738.13 | D15: =H15+L15+P15+T15 -> 881334.96 | E15: =D15/C15% -> 99.502881 | F15: =Дотации!B15 -> 6757.4 | G15: =Дотации!C15 -> 67551.7 | H15: =Дотации!D15 -> 67551.7 | I15: =Дотации!E15 -> 100 | J15: =Субсидии!B16 -> 0 | K15: =Субсидии!C16 -> 162810.23 | L15: =Субсидии!D16 -> 162664.08 | M15: =L15/K15% -> 99.91023 | N15: =Субвенции!B18 -> 624175.4 | O15: =Субвенции!C18 -> 626651.6 | P15: =Субвенции!D18 -> 625464.41 | Q15: =P15/O15% -> 99.81055 | R15: =Иные!B15 -> 0 | S15: =Иные!C15 -> 28724.6 | T15: =Иные!D15 -> 25654.773 | U15: =T15/S15% -> 89.312898
A16: Воскресенский | B16: =F16+J16+N16+R16 -> 137564.2 | C16: =G16+K16+O16+S16 -> 205732.24 | D16: =H16+L16+P16+T16 -> 204986.02 | E16: =D16/C16% -> 99.637285 | F16: =Дотации!B16 -> 34748.8 | G16: =Дотации!C16 -> 34053.8 | H16: =Дотации!D16 -> 34053.8 | I16: =Дотации!E16 -> 100 | J16: =Субсидии!B17 -> 0 | K16: =Субсидии!C17 -> 49762.24 | L16: =Субсидии!D17 -> 49762.24 | M16: =L16/K16% -> 100 | N16: =Субвенции!B19 -> 102815.4 | O16: =Субвенции!C19 -> 98484.4 | P16: =Субвенции!D19 -> 97739.348 | Q16: =P16/O16% -> 99.243482 | R16: =Иные!B16 -> 0 | S16: =Иные!C16 -> 23431.8 | T16: =Иные!D16 -> 23430.63 | U16: =T16/S16% -> 99.995005
A17: Дергачевский | B17: =F17+J17+N17+R17 -> 250862.1 | C17: =G17+K17+O17+S17 -> 296673.89 | D17: =H17+L17+P17+T17 -> 295061 | E17: =D17/C17% -> 99.456343 | F17: =Дотации!B17 -> 76846.8 | G17: =Дотации!C17 -> 77180.9 | H17: =Дотации!D17 -> 77180.9 | I17: =Дотации!E17 -> 100 | J17: =Субсидии!B18 -> 0 | K17: =Субсидии!C18 -> 35706.782 | L17: =Субсидии!D18 -> 34531.12 | M17: =L17/K17% -> 96.707454 | N17: =Субвенции!B20 -> 174015.3 | O17: =Субвенции!C20 -> 178165.6 | P17: =Субвенции!D20 -> 177928.37 | Q17: =P17/O17% -> 99.86685 | R17: =Иные!B17 -> 0 | S17: =Иные!C17 -> 5620.603 | T17: =Иные!D17 -> 5420.603 | U17: =T17/S17% -> 96.441663
A18: Духовницкий | B18: =F18+J18+N18+R18 -> 131687 | C18: =G18+K18+O18+S18 -> 164303.29 | D18: =H18+L18+P18+T18 -> 164150.37 | E18: =D18/C18% -> 99.906933 | F18: =Дотации!B18 -> 28525.9 | G18: =Дотации!C18 -> 29138.8 | H18: =Дотации!D18 -> 29138.8 | I18: =Дотации!E18 -> 100 | J18: =Субсидии!B19 -> 0 | K18: =Субсидии!C19 -> 21004.327 | L18: =Субсидии!D19 -> 21004.327 | M18: =L18/K18% -> 100 | N18: =Субвенции!B21 -> 103161.1 | O18: =Субвенции!C21 -> 104267 | P18: =Субвенции!D21 -> 104114.09 | Q18: =P18/O18% -> 99.853345 | R18: =Иные!B18 -> 0 | S18: =Иные!C18 -> 9893.158 | T18: =Иные!D18 -> 9893.158 | U18: =T18/S18% -> 100
A19: Екатериновский | B19: =F19+J19+N19+R19 -> 203454.7 | C19: =G19+K19+O19+S19 -> 269675.62 | D19: =H19+L19+P19+T19 -> 269542.59 | E19: =D19/C19% -> 99.950671 | F19: =Дотации!B19 -> 27695.4 | G19: =Дотации!C19 -> 43653.8 | H19: =Дотации!D19 -> 43653.8 | I19: =Дотации!E19 -> 100 | J19: =Субсидии!B20 -> 0 | K19: =Субсидии!C20 -> 44097.447 | L19: =Субсидии!D20 -> 44092.035 | M19: =L19/K19% -> 99.987726 | N19: =Субвенции!B22 -> 175759.3 | O19: =Субвенции!C22 -> 174780.1 | P19: =Субвенции!D22 -> 174652.48 | Q19: =P19/O19% -> 99.926985 | R19: =Иные!B19 -> 0 | S19: =Иные!C19 -> 7144.2755 | T19: =Иные!D19 -> 7144.2755 | U19: =T19/S19% -> 100
... A40: Советский | B40: =F40+J40+N40+R40 -> 196040 | C40: =G40+K40+O40+S40 -> 303774.76 | D40: =H40+L40+P40+T40 -> 302799.54 | E40: =D40/C40% -> 99.678967 | F40: =Дотации!B40 -> 24729.7 | G40: =Дотации!C40 -> 41281.7 | H40: =Дотации!D40 -> 41281.7 | I40: =Дотации!E40 -> 100 | J40: =Субсидии!B41 -> 0 | K40: =Субсидии!C41 -> 72988.4 | L40: =Субсидии!D41 -> 72184.229 | M40: =L40/K40% -> 98.89822 | N40: =Субвенции!B43 -> 171310.3 | O40: =Субвенции!C43 -> 172185.4 | P40: =Субвенции!D43 -> 172107.46 | Q40: =P40/O40% -> 99.954732 | R40: =Иные!B40 -> 0 | S40: =Иные!C40 -> 17319.259 | T40: =Иные!D40 -> 17226.159 | U40: =T40/S40% -> 99.462448
A41: Татищевский | B41: =F41+J41+N41+R41 -> 221552 | C41: =G41+K41+O41+S41 -> 280347.03 | D41: =H41+L41+P41+T41 -> 278931.7 | E41: =D41/C41% -> 99.495153 | F41: =Дотации!B41 -> 0 | G41: =Дотации!C41 -> 0 | H41: =Дотации!D41 -> 0 | I41: =Дотации!E41 | J41: =Субсидии!B42 -> 0 | K41: =Субсидии!C42 -> 47617.727 | L41: =Субсидии!D42 -> 46243.399 | M41: =L41/K41% -> 97.113832 | N41: =Субвенции!B44 -> 221552 | O41: =Субвенции!C44 -> 232729.3 | P41: =Субвенции!D44 -> 232688.31 | Q41: =P41/O41% -> 99.982385 | R41: =Иные!B41 -> 0 | S41: =Иные!C41 -> 0 | T41: =Иные!D41 -> 0
A42: Турковский | B42: =F42+J42+N42+R42 -> 147107.8 | C42: =G42+K42+O42+S42 -> 172430.26 | D42: =H42+L42+P42+T42 -> 172342.91 | E42: =D42/C42% -> 99.949341 | F42: =Дотации!B42 -> 47128 | G42: =Дотации!C42 -> 61307.3 | H42: =Дотации!D42 -> 61307.3 | I42: =Дотации!E42 -> 100 | J42: =Субсидии!B43 -> 0 | K42: =Субсидии!C43 -> 14030.418 | L42: =Субсидии!D43 -> 14021.047 | M42: =L42/K42% -> 99.933209 | N42: =Субвенции!B45 -> 99979.8 | O42: =Субвенции!C45 -> 95082.3 | P42: =Субвенции!D45 -> 95004.32 | Q42: =P42/O42% -> 99.917987 | R42: =Иные!B42 -> 0 | S42: =Иные!C42 -> 2010.241 | T42: =Иные!D42 -> 2010.241 | U42: =T42/S42% -> 100
A43: Федоровский | B43: =F43+J43+N43+R43 -> 224007.2 | C43: =G43+K43+O43+S43 -> 289841.8 | D43: =H43+L43+P43+T43 -> 289330.2 | E43: =D43/C43% -> 99.823491 | F43: =Дотации!B43 -> 67377.4 | G43: =Дотации!C43 -> 67377.4 | H43: =Дотации!D43 -> 67377.4 | I43: =Дотации!E43 -> 100 | J43: =Субсидии!B44 -> 0 | K43: =Субсидии!C44 -> 43839 | L43: =Субсидии!D44 -> 43552.793 | M43: =L43/K43% -> 99.347142 | N43: =Субвенции!B46 -> 156629.8 | O43: =Субвенции!C46 -> 161214.7 | P43: =Субвенции!D46 -> 160989.31 | Q43: =P43/O43% -> 99.860193 | R43: =Иные!B43 -> 0 | S43: =Иные!C43 -> 17410.7 | T43: =Иные!D43 -> 17410.7 | U43: =T43/S43% -> 100
A44: Хвалынский | B44: =F44+J44+N44+R44 -> 226932 | C44: =G44+K44+O44+S44 -> 283539.39 | D44: =H44+L44+P44+T44 -> 280987.39 | E44: =D44/C44% -> 99.099947 | F44: =Дотации!B44 -> 62682.6 | G44: =Дотации!C44 -> 62682.6 | H44: =Дотации!D44 -> 62682.6 | I44: =Дотации!E44 -> 100 | J44: =Субсидии!B45 -> 0 | K44: =Субсидии!C45 -> 22962.287 | L44: =Субсидии!D45 -> 22138.6 | M44: =L44/K44% -> 96.41287 | N44: =Субвенции!B47 -> 164249.4 | O44: =Субвенции!C47 -> 163725.2 | P44: =Субвенции!D47 -> 163495.98 | Q44: =P44/O44% -> 99.859999 | R44: =Иные!B44 -> 0 | S44: =Иные!C44 -> 34169.307 | T44: =Иные!D44 -> 32670.205 | U44: =T44/S44% -> 95.612722
A45: Энгельсский | B45: =F45+J45+N45+R45 -> 1742401.4 | C45: =G45+K45+O45+S45 -> 3036039.5 | D45: =H45+L45+P45+T45 -> 2956580.3 | E45: =D45/C45% -> 97.382801 | F45: =Дотации!B45 -> 0 | G45: =Дотации!C45 -> 0 | H45: =Дотации!D45 -> 0 | I45: =Дотации!E45 | J45: =Субсидии!B46 -> 0 | K45: =Субсидии!C46 -> 1282442.4 | L45: =Субсидии!D46 -> 1203846.5 | M45: =L45/K45% -> 93.871389 | N45: =Субвенции!B48 -> 1742401.4 | O45: =Субвенции!C48 -> 1750000.8 | P45: =Субвенции!D48 -> 1749137.5 | Q45: =P45/O45% -> 99.950669 | R45: =Иные!B45 -> 0 | S45: =Иные!C45 -> 3596.3 | T45: =Иные!D45 -> 3596.3 | U45: =T45/S45% -> 100
A46: Городские округа области: | B46: =SUM(B47:B50) -> 4935895.5 | C46: =SUM(C47:C50) -> 8768323.3 | D46: =SUM(D47:D50) -> 8602718.1 | E46: =D46/C46% -> 98.111324 | F46: =SUM(F47:F50) -> 214564.6 | G46: =SUM(G47:G50) -> 215410.8 | H46: =SUM(H47:H50) -> 215410.8 | I46: =H46/G46% -> 100 | J46: =SUM(J47:J50) -> 0 | K46: =SUM(K47:K50) -> 3615096 | L46: =SUM(L47:L50) -> 3522411.7 | M46: =L46/K46% -> 97.436188 | N46: =SUM(N47:N50) -> 4721330.9 | O46: =SUM(O47:O50) -> 4749202.6 | P46: =SUM(P47:P50) -> 4744293.2 | Q46: =P46/O46% -> 99.896627 | R46: =SUM(R47:R50) -> 0 | S46: =SUM(S47:S50) -> 188614 | T46: =SUM(T47:T50) -> 120602.42 | U46: =T46/S46% -> 63.941391
A47: г. Саратов | B47: =F47+J47+N47+R47 -> 4580686.6 | C47: =G47+K47+O47+S47 -> 8405344.5 | D47: =H47+L47+P47+T47 -> 8241134 | E47: =D47/C47% -> 98.046356 | F47: =Дотации!B47 -> 36015.7 | G47: =Дотации!C47 -> 36015.7 | H47: =Дотации!D47 -> 36015.7 | I47: =Дотации!E47 -> 100 | J47: =Субсидии!B48 -> 0 | K47: =Субсидии!C48 -> 3604873.5 | L47: =Субсидии!D48 -> 3512189.2 | M47: =L47/K47% -> 97.428917 | N47: =Субвенции!B50 -> 4544670.9 | O47: =Субвенции!C50 -> 4575841.4 | P47: =Субвенции!D50 -> 4572326.7 | Q47: =P47/O47% -> 99.923192 | R47: =Иные!B47 -> 0 | S47: =Иные!C47 -> 188614 | T47: =Иные!D47 -> 120602.42 | U47: =T47/S47% -> 63.941391
A48: ЗАТО Михайловский | B48: =F48+J48+N48+R48 -> 78004.2 | C48: =G48+K48+O48+S48 -> 81688.7 | D48: =H48+L48+P48+T48 -> 81629.063 | E48: =D48/C48% -> 99.926995 | F48: =Дотации!B48 -> 55129.8 | G48: =Дотации!C48 -> 55976 | H48: =Дотации!D48 -> 55976 | I48: =Дотации!E48 -> 100 | J48: =Субсидии!B49 -> 0 | K48: =Субсидии!C49 -> 2758 | L48: =Субсидии!D49 -> 2758 | M48: =L48/K48% -> 100 | N48: =Субвенции!B51 -> 22874.4 | O48: =Субвенции!C51 -> 22954.7 | P48: =Субвенции!D51 -> 22895.063 | Q48: =P48/O48% -> 99.740197 | R48: =Иные!B48 -> 0 | S48: =Иные!C48 -> 0 | T48: =Иные!D48 -> 0
A49: ЗАТО Светлый | B49: =F49+J49+N49+R49 -> 149945.4 | C49: =G49+K49+O49+S49 -> 150756.3 | D49: =H49+L49+P49+T49 -> 149576.1 | E49: =D49/C49% -> 99.217146 | F49: =Дотации!B49 -> 54609.9 | G49: =Дотации!C49 -> 54609.9 | H49: =Дотации!D49 -> 54609.9 | I49: =Дотации!E49 -> 100 | J49: =Субсидии!B50 -> 0 | K49: =Субсидии!C50 -> 3852.3 | L49: =Субсидии!D50 -> 3852.3 | M49: =L49/K49% -> 100 | N49: =Субвенции!B52 -> 95335.5 | O49: =Субвенции!C52 -> 92294.1 | P49: =Субвенции!D52 -> 91113.898 | Q49: =P49/O49% -> 98.721259 | R49: =Иные!B49 -> 0 | S49: =Иные!C49 -> 0 | T49: =Иные!D49 -> 0
A50: ЗАТО Шиханы | B50: =F50+J50+N50+R50 -> 127259.3 | C50: =G50+K50+O50+S50 -> 130533.8 | D50: =H50+L50+P50+T50 -> 130378.89 | E50: =D50/C50% -> 99.881329 | F50: =Дотации!B50 -> 68809.2 | G50: =Дотации!C50 -> 68809.2 | H50: =Дотации!D50 -> 68809.2 | I50: =Дотации!E50 -> 100 | J50: =Субсидии!B51 -> 0 | K50: =Субсидии!C51 -> 3612.2 | L50: =Субсидии!D51 -> 3612.2 | M50: =L50/K50% -> 100 | N50: =Субвенции!B53 -> 58450.1 | O50: =Субвенции!C53 -> 58112.4 | P50: =Субвенции!D53 -> 57957.494 | Q50: =P50/O50% -> 99.733437 | R50: =Иные!B50 -> 0 | S50: =Иные!C50 -> 0 | T50: =Иные!D50 -> 0
A51: Не распределено*** | B51: =F51+J51+N51+R51 -> 258634.6 | C51: =G51+K51+O51+S51 -> 13.13978 | D51: =H51+L51+P51+T51 -> 0 | J51: =Субсидии!B52 -> 258634.6 | K51: =Субсидии!C52 -> 13.13978
A52: ИТОГО | B52: =F52+J52+N52+R52 -> 19149862 | C52: =G52+K52+O52+S52 -> 27038075 | D52: =H52+L52+P52+T52 -> 26718886 | E52: =D52/C52% -> 98.819484 | F52: =Дотации!B52 -> 2514058.5 | G52: =Дотации!C52 -> 2776155 | H52: =Дотации!D52 -> 2776155 | I52: =Дотации!E52 -> 100 | J52: =Субсидии!B53 -> 263494.6 | K52: =Субсидии!C53 -> 7035472.1 | L52: =Субсидии!D53 -> 6832630.6 | M52: =L52/K52% -> 97.116875 | N52: =Субвенции!B55 -> 16372309 | O52: =Субвенции!C55 -> 16486852 | P52: =Субвенции!D55 -> 16465913 | Q52: =P52/O52% -> 99.872998 | R52: =Иные!B52 -> 0 | S52: =Иные!C52 -> 739596.3 | T52: =Иные!D52 -> 644187.71 | U52: =T52/S52% -> 87.09991
A54: * Закон Саратовской области «Об областном бюджете на 2017 год и на плановый период 2018 и 2019 годов» в редакции от 12.12.2016 года
A55: ** Закон Саратовской области «Об областном бюджете на 2017 год и на плановый период 2018 и 2019 годов» в редакции от 20.12.2017 года и бюджетная роспись (распределение, утвержденное правовым актом Правительства области)
A56: *** заполняется, если в законе о бюджете утверждена общая сумма межбюджетного трансферта, но отсутствует распределение по муниципальным образованиям

Sheet Дотации
A1: Сведения о предоставлении из бюджета Саратовской области дотаций муниципальным образованиям за 2017 год
T3: тыс.рублей
A4: Наименование муниципальных образований | B4: Дотации, всего | F4: в том числе
F5: на выравнивание бюджетной обеспеченности муниципальных районов (городских округов) области | J5: на выравнивание бюджетной обеспеченности поселений области | N5: дотации, связанные с особым режимом безопасного функционирования закрытых административно-территориальных образований | R5: на поддержку мер по обеспечению сбалансированности бюджетов
B6: первоначаль-ный бюджет* | C6: уточненный бюджет** | D6: исполнено | E6: % исполнения | F6: первоначаль-ный бюджет* | G6: уточненный бюджет** | H6: исполнено | I6: % исполнения | J6: первоначаль-ный бюджет* | K6: уточненный бюджет** | L6: исполнено | M6: % исполнения | N6: первоначаль-ный бюджет* | O6: уточненный бюджет** | P6: исполнено | Q6: % исполнения | R6: первоначаль-ный бюджет* | S6: уточненный бюджет** | T6: исполнено | U6: % исполнения
A7: Муниципальные районы области: | B7: =SUM(B8:B45) -> 2299493.9 | C7: =SUM(C8:C45) -> 2560744.2 | D7: =SUM(D8:D45) -> 2560744.2 | E7: =C7/D7% -> 100 | F7: =SUM(F8:F45) -> 2299493.9 | G7: =SUM(G8:G45) -> 2295690.8 | H7: =SUM(H8:H45) -> 2295690.8 | I7: =G7/H7% -> 100 | J7: =SUM(J8:J45) -> 0 | K7: =SUM(K8:K45) -> 0 | L7: =SUM(L8:L45) -> 0 | N7: =SUM(N8:N45) -> 0 | O7: =SUM(O8:O45) -> 0 | P7: =SUM(P8:P45) -> 0 | R7: =SUM(R8:R45) -> 0 | S7: =SUM(S8:S45) -> 265053.4 | T7: =SUM(T8:T45) -> 265053.4 | U7: =S7/T7% -> 100
A8: Александрово-Гайский | B8: =F8+J8+N8+R8 -> 50847 | C8: =G8+K8+O8+S8 -> 73835.2 | D8: =H8+L8+P8+T8 -> 73835.2 | E8: =C8/D8% -> 100 | F8: 50847 | G8: 50847 | H8: 50847 | I8: =G8/H8% -> 100 | J8: 0 | K8: 0 | L8: 0 | N8: 0 | O8: 0 | P8: 0 | R8: 0 | S8: 22988.2 | T8: 22988.2 | U8: =S8/T8% -> 100
A9: Аркадакский | B9: =F9+J9+N9+R9 -> 65902.4 | C9: =G9+K9+O9+S9 -> 65902.4 | D9: =H9+L9+P9+T9 -> 65902.4 | E9: =C9/D9% -> 100 | F9: 65902.4 | G9: 65902.4 | H9: 65902.4 | I9: =G9/H9% -> 100 | J9: 0 | K9: 0 | L9: 0 | N9: 0 | O9: 0 | P9: 0 | R9: 0 | S9: 0 | T9: 0
A10: Аткарский | B10: =F10+J10+N10+R10 -> 84308.5 | C10: =G10+K10+O10+S10 -> 84308.5 | D10: =H10+L10+P10+T10 -> 84308.5 | E10: =C10/D10% -> 100 | F10: 84308.5 | G10: 84308.5 | H10: 84308.5 | I10: =G10/H10% -> 100 | J10: 0 | K10: 0 | L10: 0 | N10: 0 | O10: 0 | P10: 0 | R10: 0 | S10: 0 | T10: 0
A11: Базарно-Карабулакский | B11: =F11+J11+N11+R11 -> 62002.6 | C11: =G11+K11+O11+S11 -> 68754.1 | D11: =H11+L11+P11+T11 -> 68754.1 | E11: =C11/D11% -> 100 | F11: 62002.6 | G11: 62002.6 | H11: 62002.6 | I11: =G11/H11% -> 100 | J11: 0 | K11: 0 | L11: 0 | N11: 0 | O11: 0 | P11: 0 | R11: 0 | S11: 6751.5 | T11: 6751.5
A12: Балаковский | B12: =F12+J12+N12+R12 -> 0 | C12: =G12+K12+O12+S12 -> 0 | D12: =H12+L12+P12+T12 -> 0 | F12: 0 | G12: 0 | H12: 0 | J12: 0 | K12: 0 | L12: 0 | N12: 0 | O12: 0 | P12: 0 | R12: 0 | S12: 0 | T12: 0
A13: Балашовский | B13: =F13+J13+N13+R13 -> 124929.6 | C13: =G13+K13+O13+S13 -> 124929.6 | D13: =H13+L13+P13+T13 -> 124929.6 | E13: =C13/D13% -> 100 | F13: 124929.6 | G13: 124929.6 | H13: 124929.6 | I13: =G13/H13% -> 100 | J13: 0 | K13: 0 | L13: 0 | N13: 0 | O13: 0 | P13: 0 | R13: 0 | S13: 0 | T13: 0
A14: Балтайский | B14: =F14+J14+N14+R14 -> 35882.4 | C14: =G14+K14+O14+S14 -> 39732.3 | D14: =H14+L14+P14+T14 -> 39732.3 | E14: =C14/D14% -> 100 | F14: 35882.4 | G14: 35480.7 | H14: 35480.7 | I14: =G14/H14% -> 100 | J14: 0 | K14: 0 | L14: 0 | N14: 0 | O14: 0 | P14: 0 | R14: 0 | S14: 4251.6 | T14: 4251.6
A15: Вольский | B15: =F15+J15+N15+R15 -> 6757.4 | C15: =G15+K15+O15+S15 -> 67551.7 | D15: =H15+L15+P15+T15 -> 67551.7 | E15: =C15/D15% -> 100 | F15: 6757.4 | G15: 6757.4 | H15: 6757.4 | I15: =G15/H15% -> 100 | J15: 0 | K15: 0 | L15: 0 | N15: 0 | O15: 0 | P15: 0 | R15: 0 | S15: 60794.3 | T15: 60794.3
A16: Воскресенский | B16: =F16+J16+N16+R16 -> 34748.8 | C16: =G16+K16+O16+S16 -> 34053.8 | D16: =H16+L16+P16+T16 -> 34053.8 | E16: =C16/D16% -> 100 | F16: 34748.8 | G16: 34053.8 | H16: 34053.8 | I16: =G16/H16% -> 100 | J16: 0 | K16: 0 | L16: 0 | N16: 0 | O16: 0 | P16: 0 | R16: 0 | S16: 0 | T16: 0
A17: Дергачевский | B17: =F17+J17+N17+R17 -> 76846.8 | C17: =G17+K17+O17+S17 -> 77180.9 | D17: =H17+L17+P17+T17 -> 77180.9 | E17: =C17/D17% -> 100 | F17: 76846.8 | G17: 76067.2 | H17: 76067.2 | I17: =G17/H17% -> 100 | J17: 0 | K17: 0 | L17: 0 | N17: 0 | O17: 0 | P17: 0 | R17: 0 | S17: 1113.7 | T17: 1113.7 | U17: =S17/T17% -> 100
A18: Духовницкий | B18: =F18+J18+N18+R18 -> 28525.9 | C18: =G18+K18+O18+S18 -> 29138.8 | D18: =H18+L18+P18+T18 -> 29138.8 | E18: =C18/D18% -> 100 | F18: 28525.9 | G18: 27931.1 | H18: 27931.1 | I18: =G18/H18% -> 100 | J18: 0 | K18: 0 | L18: 0 | N18: 0 | O18: 0 | P18: 0 | R18: 0 | S18: 1207.7 | T18: 1207.7 | U18: =S18/T18% -> 100
A19: Екатериновский | B19: =F19+J19+N19+R19 -> 27695.4 | C19: =G19+K19+O19+S19 -> 43653.8 | D19: =H19+L19+P19+T19 -> 43653.8 | E19: =C19/D19% -> 100 | F19: 27695.4 | G19: 27695.4 | H19: 27695.4 | I19: =G19/H19% -> 100 | J19: 0 | K19: 0 | L19: 0 | N19: 0 | O19: 0 | P19: 0 | R19: 0 | S19: 15958.4 | T19: 15958.4 | U19: =S19/T19% -> 100
A20: Ершовский | B20: =F20+J20+N20+R20 -> 93682.6 | C20: =G20+K20+O20+S20 -> 93682.6 | D20: =H20+L20+P20+T20 -> 93682.6 | E20: =C20/D20% -> 100 | F20: 93682.6 | G20: 93682.6 | H20: 93682.6 | I20: =G20/H20% -> 100 | J20: 0 | K20: 0 | L20: 0 | N20: 0 | O20: 0 | P20: 0 | R20: 0 | S20: 0 | T20: 0
A21: Ивантеевский | B21: =F21+J21+N21+R21 -> 16049.3 | C21: =G21+K21+O21+S21 -> 65039.6 | D21: =H21+L21+P21+T21 -> 65039.6 | E21: =C21/D21% -> 100 | F21: 16049.3 | G21: 16049.3 | H21: 16049.3 | I21: =G21/H21% -> 100 | J21: 0 | K21: 0 | L21: 0 | N21: 0 | O21: 0 | P21: 0 | R21: 0 | S21: 48990.3 | T21: 48990.3 | U21: =S21/T21% -> 100
A22: Калининский | B22: =F22+J22+N22+R22 -> 77961.8 | C22: =G22+K22+O22+S22 -> 77961.8 | D22: =H22+L22+P22+T22 -> 77961.8 | E22: =C22/D22% -> 100 | F22: 77961.8 | G22: 77961.8 | H22: 77961.8 | I22: =G22/H22% -> 100 | J22: 0 | K22: 0 | L22: 0 | N22: 0 | O22: 0 | P22: 0 | R22: 0 | S22: 0 | T22: 0
A23: Красноармейский | B23: =F23+J23+N23+R23 -> 92950.8 | C23: =G23+K23+O23+S23 -> 92950.8 | D23: =H23+L23+P23+T23 -> 92950.8 | E23: =C23/D23% -> 100 | F23: 92950.8 | G23: 92950.8 | H23: 92950.8 | I23: =G23/H23% -> 100 | J23: 0 | K23: 0 | L23: 0 | N23: 0 | O23: 0 | P23: 0 | R23: 0 | S23: 0 | T23: 0
A24: Краснокутский | B24: =F24+J24+N24+R24 -> 72039 | C24: =G24+K24+O24+S24 -> 82015.2 | D24: =H24+L24+P24+T24 -> 82015.2 | E24: =C24/D24% -> 100 | F24: 72039 | G24: 71210.6 | H24: 71210.6 | I24: =G24/H24% -> 100 | J24: 0 | K24: 0 | L24: 0 | N24: 0 | O24: 0 | P24: 0 | R24: 0 | S24: 10804.6 | T24: 10804.6 | U24: =S24/T24% -> 100
A25: Краснопартизанский | B25: =F25+J25+N25+R25 -> 49423.1 | C25: =G25+K25+O25+S25 -> 49849.4 | D25: =H25+L25+P25+T25 -> 49849.4 | E25: =C25/D25% -> 100 | F25: 49423.1 | G25: 48919.5 | H25: 48919.5 | I25: =G25/H25% -> 100 | J25: 0 | K25: 0 | L25: 0 | N25: 0 | O25: 0 | P25: 0 | R25: 0 | S25: 929.9 | T25: 929.9 | U25: =S25/T25% -> 100
A26: Лысогорский | B26: =F26+J26+N26+R26 -> 53382.5 | C26: =G26+K26+O26+S26 -> 58890.2 | D26: =H26+L26+P26+T26 -> 58890.2 | E26: =C26/D26% -> 100 | F26: 53382.5 | G26: 53382.5 | H26: 53382.5 | I26: =G26/H26% -> 100 | J26: 0 | K26: 0 | L26: 0 | N26: 0 | O26: 0 | P26: 0 | R26: 0 | S26: 5507.7 | T26: 5507.7 | U26: =S26/T26% -> 100
A27: Марксовский | B27: =F27+J27+N27+R27 -> 148892.9 | C27: =G27+K27+O27+S27 -> 148892.9 | D27: =H27+L27+P27+T27 -> 148892.9 | E27: =C27/D27% -> 100 | F27: 148892.9 | G27: 148892.9 | H27: 148892.9 | I27: =G27/H27% -> 100 | J27: 0 | K27: 0 | L27: 0 | N27: 0 | O27: 0 | P27: 0 | R27: 0 | S27: 0 | T27: 0
A28: Новобурасский | B28: =F28+J28+N28+R28 -> 55226.6 | C28: =G28+K28+O28+S28 -> 97535.5 | D28: =H28+L28+P28+T28 -> 97535.5 | E28: =C28/D28% -> 100 | F28: 55226.6 | G28: 55226.6 | H28: 55226.6 | I28: =G28/H28% -> 100 | J28: 0 | K28: 0 | L28: 0 | N28: 0 | O28: 0 | P28: 0 | R28: 0 | S28: 42308.9 | T28: 42308.9 | U28: =S28/T28% -> 100
A29: Новоузенский | B29: =F29+J29+N29+R29 -> 126699.9 | C29: =G29+K29+O29+S29 -> 126699.9 | D29: =H29+L29+P29+T29 -> 126699.9 | E29: =C29/D29% -> 100 | F29: 126699.9 | G29: 126699.9 | H29: 126699.9 | I29: =G29/H29% -> 100 | J29: 0 | K29: 0 | L29: 0 | N29: 0 | O29: 0 | P29: 0 | R29: 0 | S29: 0 | T29: 0
A30: Озинский | B30: =F30+J30+N30+R30 -> 78815.8 | C30: =G30+K30+O30+S30 -> 78815.8 | D30: =H30+L30+P30+T30 -> 78815.8 | E30: =C30/D30% -> 100 | F30: 78815.8 | G30: 78815.8 | H30: 78815.8 | I30: =G30/H30% -> 100 | J30: 0 | K30: 0 | L30: 0 | N30: 0 | O30: 0 | P30: 0 | R30: 0 | S30: 0 | T30: 0
A31: Перелюбский | B31: =F31+J31+N31+R31 -> 42321 | C31: =G31+K31+O31+S31 -> 42321 | D31: =H31+L31+P31+T31 -> 42321 | E31: =C31/D31% -> 100 | F31: 42321 | G31: 42321 | H31: 42321 | I31: =G31/H31% -> 100 | J31: 0 | K31: 0 | L31: 0 | N31: 0 | O31: 0 | P31: 0 | R31: 0 | S31: 0 | T31: 0
A32: Петровский | B32: =F32+J32+N32+R32 -> 115087.6 | C32: =G32+K32+O32+S32 -> 115087.6 | D32: =H32+L32+P32+T32 -> 115087.6 | E32: =C32/D32% -> 100 | F32: 115087.6 | G32: 115087.6 | H32: 115087.6 | I32: =G32/H32% -> 100 | J32: 0 | K32: 0 | L32: 0 | N32: 0 | O32: 0 | P32: 0 | R32: 0 | S32: 0 | T32: 0
A33: Питерский | B33: =F33+J33+N33+R33 -> 58287.5 | C33: =G33+K33+O33+S33 -> 71002.8 | D33: =H33+L33+P33+T33 -> 71002.8 | E33: =C33/D33% -> 100 | F33: 58287.5 | G33: 58287.5 | H33: 58287.5 | I33: =G33/H33% -> 100 | J33: 0 | K33: 0 | L33: 0 | N33: 0 | O33: 0 | P33: 0 | R33: 0 | S33: 12715.3 | T33: 12715.3 | U33: =S33/T33% -> 100
A34: Пугачевский | B34: =F34+J34+N34+R34 -> 134329 | C34: =G34+K34+O34+S34 -> 134329 | D34: =H34+L34+P34+T34 -> 134329 | E34: =C34/D34% -> 100 | F34: 134329 | G34: 134329 | H34: 134329 | I34: =G34/H34% -> 100 | J34: 0 | K34: 0 | L34: 0 | N34: 0 | O34: 0 | P34: 0 | R34: 0 | S34: 0 | T34: 0
A35: Ровенский | B35: =F35+J35+N35+R35 -> 73644.4 | C35: =G35+K35+O35+S35 -> 73644.4 | D35: =H35+L35+P35+T35 -> 73644.4 | E35: =C35/D35% -> 100 | F35: 73644.4 | G35: 73644.4 | H35: 73644.4 | I35: =G35/H35% -> 100 | J35: 0 | K35: 0 | L35: 0 | N35: 0 | O35: 0 | P35: 0 | R35: 0 | S35: 0 | T35: 0
A36: Романовский | B36: =F36+J36+N36+R36 -> 47145.5 | C36: =G36+K36+O36+S36 -> 47145.5 | D36: =H36+L36+P36+T36 -> 47145.5 | E36: =C36/D36% -> 100 | F36: 47145.5 | G36: 47145.5 | H36: 47145.5 | I36: =G36/H36% -> 100 | J36: 0 | K36: 0 | L36: 0 | N36: 0 | O36: 0 | P36: 0 | R36: 0 | S36: 0 | T36: 0
A37: Ртищевский | B37: =F37+J37+N37+R37 -> 116001.5 | C37: =G37+K37+O37+S37 -> 116001.5 | D37: =H37+L37+P37+T37 -> 116001.5 | E37: =C37/D37% -> 100 | F37: 116001.5 | G37: 116001.5 | H37: 116001.5 | I37: =G37/H37% -> 100 | J37: 0 | K37: 0 | L37: 0 | N37: 0 | O37: 0 | P37: 0 | R37: 0 | S37: 0 | T37: 0
A38: Самойловский | B38: =F38+J38+N38+R38 -> 47188.6 | C38: =G38+K38+O38+S38 -> 47188.6 | D38: =H38+L38+P38+T38 -> 47188.6 | E38: =C38/D38% -> 100 | F38: 47188.6 | G38: 47188.6 | H38: 47188.6 | I38: =G38/H38% -> 100 | J38: 0 | K38: 0 | L38: 0 | N38: 0 | O38: 0 | P38: 0 | R38: 0 | S38: 0 | T38: 0
A39: Саратовский | B39: =F39+J39+N39+R39 -> 0 | C39: =G39+K39+O39+S39 -> 0 | D39: =H39+L39+P39+T39 -> 0 | F39: 0 | G39: 0 | H39: 0 | J39: 0 | K39: 0 | L39: 0 | N39: 0 | O39: 0 | P39: 0 | R39: 0 | S39: 0 | T39: 0
A40: Советский | B40: =F40+J40+N40+R40 -> 24729.7 | C40: =G40+K40+O40+S40 -> 41281.7 | D40: =H40+L40+P40+T40 -> 41281.7 | E40: =C40/D40% -> 100 | F40: 24729.7 | G40: 24729.7 | H40: 24729.7 | I40: =G40/H40% -> 100 | J40: 0 | K40: 0 | L40: 0 | N40: 0 | O40: 0 | P40: 0 | R40: 0 | S40: 16552 | T40: 16552 | U40: =S40/T40% -> 100
A41: Татищевский | B41: =F41+J41+N41+R41 -> 0 | C41: =G41+K41+O41+S41 -> 0 | D41: =H41+L41+P41+T41 -> 0 | F41: 0 | G41: 0 | H41: 0 | J41: 0 | K41: 0 | L41: 0 | N41: 0 | O41: 0 | P41: 0 | R41: 0 | S41: 0 | T41: 0
...

Sheet Субсидии
AN1: Продолжение таблицы | BH1: Продолжение таблицы | CB1: Продолжение таблицы | CV1: Продолжение таблицы | DE1: Продолжение таблицы
B2: Сведения о предоставлении из бюджета Саратовской области субсидий муниципальным образованиям за 2017 год | W2: Сведения о предоставлении из бюджета Саратовской области субсидий муниципальным образованиям за 2017 год | AQ2: Сведения о предоставлении из бюджета Саратовской области субсидий муниципальным образованиям за 2017 год | BJ2: Сведения о предоставлении из бюджета Саратовской области субсидий муниципальным образованиям за 2017 год | CD2: Сведения о предоставлении из бюджета Саратовской области субсидий муниципальным образованиям за 2017 год | CX2: Сведения о предоставлении из бюджета Саратовской области субсидий муниципальным образованиям за 2017 год
U4: тыс.рублей | AO4: тыс.рублей | BI4: тыс.рублей | CC4: тыс.рублей | CV4: тыс.рублей | DE4: тыс.рублей
A5: Наименование муниципальных образований | B5: Субсидии, всего | F5: в том числе | V5: в том числе | AP5: в том числе | BJ5: в том числе | CD5: в том числе | DB5: в том числе
F6: на обеспечение деятельности муниципальных бизнес-инкубаторов | J6: на реализацию мероприятий по обеспечению доступности приоритетных объектов и услуг в приоритетных сферах жизнедеятельности инвалидов и других маломобильных групп населения | N6: на закупку комплектов искусственных покрытий для футбольных полей для спортивных детско-юношеских школ области, включая их доставку и сертификацию полей | R6: на обеспечение мероприятий по переселению граждан из аварийного жилищного фонда | V6: на поддержку творческой деятельности муниципальных театров в городах с численностью населения до 300 тысяч человек | Z6: на создание в общеобразовательных организациях, расположенных в сельской местности, условий для занятий физической культурой и спортом | AD6: на создание в дошкольных образовательных организациях (в том числе в организациях, осуществляющих образовательную деятельность по адаптированным основным общеобразовательным программам) условий для получения детьми-инвалидами качественного образования | AH6: на реализацию мероприятий по содействию созданию (исходя из прогнозируемой потребности) новых мест в общеобразовательных организациях | AL6: на обеспечение развития и укрепления материально-технической базы муниципальных домов культуры | AP6: на обеспечение расходных обязательств, связанных с повышением оплаты труда отдельным категориям работников бюджетной сферы в целях реализации Указов Президента Российской Федерации от 7 мая 2012 года № 597 «О мероприятиях по реализации государственной социальной политики» и от 1 июня 2012 года № 761 «О национальной стратегии действий в интересах детей на 2012 - 2017 годы» | AT6: на осуществление дорожной деятельности в отношении автомобильных дорог общего пользования местного значения Саратовской агломерации в границах городских округов области в рамках приоритетного проекта «Безопасные и качественные дороги» за счет средств областного дорожного фонда | AX6: на осуществление дорожной деятельности в отношении автомобильных дорог общего пользования местного значения Саратовской агломерации в границах городских поселений области в рамках приоритетного проекта «Безопасные и качественные дороги» за счет средств областного дорожного фонда | BB6: на капитальный ремонт, ремонт и содержание автомобильных дорог общего пользования местного значения за счет средств областного дорожного фонда | BF6: на комплексное обустройство объектами социальной и инженерной инфраструктуры населенных пунктов, расположенных в сельской местности, на строительство и реконструкцию автомобильных дорог | BJ6: на исполнение муниципальных программ в целях реализации мероприятий подпрограммы «Стимулирование программ развития жилищного строительства субъектов Российской Федерации» федеральной целевой программы «Жилище» на 2015-2020 годы | BN6: на поддержку муниципальных программ формирования современной городской среды | BR6: на поддержку обустройства мест массового отдыха населения (городских парков) | BV6: на обеспечение жильем молодых семей | BZ6: на поддержку отрасли культуры на комплектование книжных фондов муниципальных общедоступных библиотек | CD6: на поддержку отрасли культуры на государственную поддержку муниципальных учреждений культуры, находящихся на территории сельских поселений | CH6: на поддержку отрасли культуры на подключение муниципальных общедоступных библиотек к информационно-теле­коммуникационной сети «Интернет» и развитие библиотечного дела с учетом задачи расширения информационных технологий и оцифровки | CL6: на поддержку отрасли культуры на государственную поддержку лучших работников муниципальных учреждений культуры, находящихся на территории сельских поселений | CP6: на софинансирование расходных обязательств по реализации мероприятий муниципальных программ развития малого и среднего предпринимательства монопрофильных муниципальных образований | CT6: на реализацию расходных обязательств, возникающих при выполнении полномочий по решению вопросов местного значения | CX6: на грантовую поддержку местных инициатив граждан, проживающих в сельской местности, в рамках реализации муниципальных программ по устойчивому развитию сельских территорий | DB6: на реализацию проектов развития муниципальных образований области, основанных на местных инициативах
B7: первоначаль-ный бюджет* | C7: уточненный бюджет** и бюджетная роспись*** | D7: исполнено | E7: % исполнения | F7: первоначаль-ный бюджет* | G7: уточненный бюджет** | H7: исполнено | I7: % исполнения | J7: первоначаль-ный бюджет* | K7: уточненный бюджет** | L7: исполнено | M7: % исполнения | N7: первоначаль-ный бюджет* | O7: уточненный бюджет** | P7: исполнено | Q7: % исполнения | R7: первоначаль-ный бюджет* | S7: уточненный бюджет** | T7: исполнено | U7: % исполнения | V7: первоначаль-ный бюджет* | W7: уточненный бюджет** | X7: исполнено | Y7: % исполнения | Z7: первоначаль-ный бюджет* | AA7: уточненный бюджет** | AB7: исполнено | AC7: % исполнения | AD7: первоначаль-ный бюджет* | AE7: уточненный бюджет** | AF7: исполнено | AG7: % исполнения | AH7: первоначаль-ный бюджет* | AI7: уточненный бюджет** | AJ7: исполнено | AK7: % исполнения | AL7: первоначаль-ный бюджет* | AM7: уточненный бюджет** | AN7: исполнено | AO7: % исполнения | AP7: первоначаль-ный бюджет* | AQ7: уточненный бюджет** | AR7: исполнено | AS7: % исполнения | AT7: первоначаль-ный бюджет* | AU7: уточненный бюджет** | AV7: исполнено | AW7: % исполнения | AX7: первоначаль-ный бюджет* | AY7: уточненный бюджет** | AZ7: исполнено | BA7: % исполнения | BB7: первоначаль-ный бюджет* | BC7: уточненный бюджет** | BD7: исполнено | BE7: % исполнения | BF7: первоначаль-ный бюджет* | BG7: уточненный бюджет** | BH7: исполнено | BI7: % исполнения | BJ7: первоначаль-ный бюджет* | BK7: уточненный бюджет** | BL7: исполнено | BM7: % исполнения | BN7: первоначаль-ный бюджет* | BO7: уточненный бюджет** | BP7: исполнено | BQ7: % исполнения | BR7: первоначаль-ный бюджет* | BS7: уточненный бюджет** | BT7: исполнено | BU7: % исполнения | BV7: первоначаль-ный бюджет* | BW7: уточненный бюджет** | BX7: исполнено | BY7: % исполнения | BZ7: первоначаль-ный бюджет* | CA7: уточненный бюджет** | CB7: исполнено | CC7: % исполнения | CD7: первоначаль-ный бюджет* | CE7: уточненный бюджет** | CF7: исполнено | CG7: % исполнения | CH7: первоначаль-ный бюджет* | CI7: уточненный бюджет** | CJ7: исполнено | CK7: % исполнения | CL7: первоначаль-ный бюджет* | CM7: уточненный бюджет** | CN7: исполнено | CO7: % исполнения | CP7: первоначаль-ный бюджет* | CQ7: уточненный бюджет** | CR7: исполнено | CS7: % исполнения | CT7: первоначаль-ный бюджет* | CU7: уточненный бюджет** | CV7: исполнено | CW7: % исполнения | CX7: первоначаль-ный бюджет* | CY7: бюджетная роспись*** | CZ7: исполнено | DA7: % исполнения | DB7: первоначаль-ный бюджет* | DC7: уточненный бюджет** | DD7: бюджетная роспись*** | DE7: исполнено | DF7: % исполнения
A8: Муниципальные районы области: | B8: =SUM(B9:B46) -> 4860 | C8: =SUM(C9:C46) -> 3420363 | D8: =SUM(D9:D46) -> 3310218.9 | E8: =D8/C8% -> 96.779757 | F8: =SUM(F9:F46) -> 4860 | G8: =SUM(G9:G46) -> 4860 | H8: =SUM(H9:H46) -> 4860 | I8: =H8/G8% -> 100 | J8: =SUM(J9:J46) -> 0 | K8: =SUM(K9:K46) -> 16621.2 | L8: =SUM(L9:L46) -> 16508.507 | M8: =L8/K8% -> 99.321993 | N8: =SUM(N9:N46) -> 0 | O8: =SUM(O9:O46) -> 11858.5 | P8: =SUM(P9:P46) -> 11302.911 | Q8: =P8/O8% -> 95.314848 | R8: =SUM(R9:R46) -> 0 | S8: =SUM(S9:S46) -> 594683.89 | T8: =SUM(T9:T46) -> 592265.87 | U8: =T8/S8% -> 99.593394 | V8: =SUM(V9:V46) -> 0 | W8: =SUM(W9:W46) -> 15690 | X8: =SUM(X9:X46) -> 15690 | Y8: =X8/W8% -> 100 | Z8: =SUM(Z9:Z46) -> 0 | AA8: =SUM(AA9:AA46) -> 23032 | AB8: =SUM(AB9:AB46) -> 23032 | AC8: =AB8/AA8% -> 100 | AD8: =SUM(AD9:AD46) -> 0 | AE8: =SUM(AE9:AE46) -> 7405 | AF8: =SUM(AF9:AF46) -> 7405 | AG8: =AF8/AE8% -> 100 | AH8: =SUM(AH9:AH46) -> 0 | AI8: =SUM(AI9:AI46) -> 0 | AJ8: =SUM(AJ9:AJ46) -> 0 | AK8: =AJ8/AI8% -> #DIV/0! | AL8: =SUM(AL9:AL46) -> 0 | AM8: =SUM(AM9:AM46) -> 49042 | AN8: =SUM(AN9:AN46) -> 49042 | AO8: =AN8/AM8% -> 100 | AP8: =SUM(AP9:AP46) -> 0 | AQ8: =SUM(AQ9:AQ46) -> 382036.9 | AR8: =SUM(AR9:AR46) -> 380074.66 | AS8: =AR8/AQ8% -> 99.486375 | AT8: =SUM(AT9:AT46) -> 0 | AU8: =SUM(AU9:AU46) -> 0 | AV8: =SUM(AV9:AV46) -> 0 | AX8: =SUM(AX9:AX46) -> 0 | AY8: =SUM(AY9:AY46) -> 269630 | AZ8: =SUM(AZ9:AZ46) -> 269630 | BA8: =AZ8/AY8% -> 100 | BB8: =SUM(BB9:BB46) -> 0 | BC8: =SUM(BC9:BC46) -> 258634.6 | BD8: =SUM(BD9:BD46) -> 244783.85 | BE8: =BD8/BC8% -> 94.644665 | BF8: =SUM(BF9:BF46) -> 0 | BG8: =SUM(BG9:BG46) -> 255654.2 | BH8: =SUM(BH9:BH46) -> 175859.78 | BI8: =BH8/BG8% -> 68.788143 | BJ8: =SUM(BJ9:BJ46) -> 0 | BK8: =SUM(BK9:BK46) -> 0 | BL8: =SUM(BL9:BL46) -> 0 | BN8: =SUM(BN9:BN46) -> 0 | BO8: =SUM(BO9:BO46) -> 196101.9 | BP8: =SUM(BP9:BP46) -> 190490.9 | BQ8: =BP8/BO8% -> 97.138732 | BR8: =SUM(BR9:BR46) -> 0 | BS8: =SUM(BS9:BS46) -> 17092.92 | BT8: =SUM(BT9:BT46) -> 17092.92 | BU8: =BT8/BS8% -> 100 | BV8: =SUM(BV9:BV46) -> 0 | BW8: =SUM(BW9:BW46) -> 54435.732 | BX8: =SUM(BX9:BX46) -> 51434.006 | BY8: =BX8/BW8% -> 94.485742 | BZ8: =SUM(BZ9:BZ46) -> 0 | CA8: =SUM(CA9:CA46) -> 1462.1 | CB8: =SUM(CB9:CB46) -> 1462.1 | CC8: =CB8/CA8% -> 100 | CD8: =SUM(CD9:CD46) -> 0 | CE8: =SUM(CE9:CE46) -> 2500 | CF8: =SUM(CF9:CF46) -> 2500 | CG8: =CF8/CE8% -> 100 | CH8: =SUM(CH9:CH46) -> 0 | CI8: =SUM(CI9:CI46) -> 3755.4 | CJ8: =SUM(CJ9:CJ46) -> 3755.4 | CK8: =CJ8/CI8% -> 100 | CL8: =SUM(CL9:CL46) -> 0 | CM8: =SUM(CM9:CM46) -> 1100 | CN8: =SUM(CN9:CN46) -> 1100 | CO8: =CN8/CM8% -> 100 | CP8: =SUM(CP9:CP46) -> 0 | CQ8: =SUM(CQ9:CQ46) -> 8675 | CR8: =SUM(CR9:CR46) -> 8675 | CS8: =CR8/CQ8% -> 100 | CU8: =SUM(CU9:CU46) -> 1225570.7 | CV8: =SUM(CV9:CV46) -> 1225570.7 | CW8: =CV8/CU8% -> 100 | CX8: =SUM(CX9:CX46) -> 0 | CY8: =SUM(CY9:CY46) -> 587 | CZ8: =SUM(CZ9:CZ46) -> 587 | DA8: =CZ8/CY8% -> 100 | DB8: =SUM(DB9:DB46) -> 0 | DD8: =SUM(DD9:DD46) -> 19933.906 | DE8: =SUM(DE9:DE46) -> 17096.33 | DF8: =DE8/DD8% -> 85.765079
A9: Александрово-Гайский | B9: =F9+J9+N9+R9+V9+Z9+AD9+AH9+AL9+AP9+AT9+AX9+BB9+BF9+BJ9+BN9+BR9+BV9+BZ9+CD9+CH9+CL9+CP9+CT9+CX9+DB9 -> 0 | C9: =G9+K9+O9+S9+W9+AA9+AE9+AI9+AM9+AQ9+AU9+AY9+BC9+BG9+BK9+BO9+BS9+BW9+CA9+CE9+CI9+CM9+CQ9+CU9+CY9+DD9 -> 40740.593 | D9: =H9+L9+P9+T9+X9+AB9+AF9+AJ9+AN9+AR9+AV9+AZ9+BD9+BH9+BL9+BP9+BT9+BX9+CB9+CF9+CJ9+CN9+CR9+CV9+CZ9+DE9 -> 40317.67 | E9: =D9/C9% -> 98.961914 | F9: 0 | G9: 0 | H9: 0 | J9: 0 | K9: 85 | L9: 85 | M9: =L9/K9% -> 100 | N9: 0 | O9: 0 | P9: 0 | R9: 0 | S9: 0 | T9: 0 | V9: 0 | W9: 0 | X9: 0 | Z9: 0 | AA9: 0 | AB9: 0 | AD9: 0 | AE9: 0 | AF9: 0 | AH9: 0 | AI9: 0 | AJ9: 0 | AL9: 0 | AM9: 2300 | AN9: 2300 | AO9: =AN9/AM9% -> 100 | AP9: 0 | AQ9: 9644 | AR9: 9221.0774 | AS9: =AR9/AQ9% -> 95.614656 | AT9: 0 | AU9: 0 | AV9: 0 | AX9: 0 | AY9: 0 | AZ9: 0 | BB9: 0 | BC9: 10500.6 | BD9: 10500.6 | BE9: =BD9/BC9% -> 100 | BF9: 0 | BG9: 0 | BH9: 0 | BJ9: 0 | BK9: 0 | BL9: 0 | BN9: 0 | BO9: 0 | BP9: 0 | BR9: 0 | BS9: 0 | BT9: 0 | BV9: 0 | BW9: 0 | BX9: 0 | BZ9: 0 | CA9: 14.2 | CB9: 14.2 | CC9: =CB9/CA9% -> 100 | CD9: 0 | CE9: 0 | CF9: 0 | CH9: 0 | CI9: 0 | CJ9: 0 | CL9: 0 | CM9: 0 | CN9: 0 | CP9: 0 | CQ9: 0 | CR9: 0 | CT9: 0 | CU9: 17840.7 | CV9: 17840.7 | CW9: =CV9/CU9% -> 100 | CX9: 0 | CY9: 0 | CZ9: 0 | DB9: 0 | DD9: 356.093 | DE9: 356.093 | DF9: =DE9/DD9% -> 100
A10: Аркадакский | B10: =F10+J10+N10+R10+V10+Z10+AD10+AH10+AL10+AP10+AT10+AX10+BB10+BF10+BJ10+BN10+BR10+BV10+BZ10+CD10+CH10+CL10+CP10+CT10+CX10+DB10 -> 0 | C10: =G10+K10+O10+S10+W10+AA10+AE10+AI10+AM10+AQ10+AU10+AY10+BC10+BG10+BK10+BO10+BS10+BW10+CA10+CE10+CI10+CM10+CQ10+CU10+CY10+DD10 -> 17299.357 | D10: =H10+L10+P10+T10+X10+AB10+AF10+AJ10+AN10+AR10+AV10+AZ10+BD10+BH10+BL10+BP10+BT10+BX10+CB10+CF10+CJ10+CN10+CR10+CV10+CZ10+DE10 -> 16593.804 | E10: =D10/C10% -> 95.921506 | F10: 0 | G10: 0 | H10: 0 | J10: 0 | K10: 0 | L10: 0 | N10: 0 | O10: 0 | P10: 0 | R10: 0 | S10: 0 | T10: 0 | V10: 0 | W10: 0 | X10: 0 | Z10: 0 | AA10: 1300 | AB10: 1300 | AC10: =AB10/AA10% -> 100 | AD10: 0 | AE10: 0 | AF10: 0 | AH10: 0 | AI10: 0 | AJ10: 0 | AL10: 0 | AM10: 0 | AN10: 0 | AP10: 0 | AQ10: 6139.4 | AR10: 6088.1767 | AS10: =AR10/AQ10% -> 99.165662 | AT10: 0 | AU10: 0 | AV10: 0 | AX10: 0 | AY10: 0 | AZ10: 0 | BB10: 0 | BC10: 7164.2 | BD10: 6509.87 | BE10: =BD10/BC10% -> 90.866671 | BF10: 0 | BG10: 0 | BH10: 0 | BJ10: 0 | BK10: 0 | BL10: 0 | BN10: 0 | BO10: 0 | BP10: 0 | BR10: 0 | BS10: 720.55692 | BT10: 720.55692 | BU10: =BT10/BS10% -> 100 | BV10: 0 | BW10: 0 | BX10: 0 | BZ10: 0 | CA10: 20.4 | CB10: 20.4 | CC10: =CB10/CA10% -> 100 | CD10: 0 | CE10: 100 | CF10: 100 | CG10: =CF10/CE10% -> 100 | CH10: 0 | CI10: 91.6 | CJ10: 91.6 | CK10: =CJ10/CI10% -> 100 | CL10: 0 | CM10: 50 | CN10: 50 | CO10: =CN10/CM10% -> 100 | CP10: 0 | CQ10: 0 | CR10: 0 | CT10: 0 | CU10: 1513.2 | CV10: 1513.2 | CW10: =CV10/CU10% -> 100 | CX10: 0 | CY10: 0 | CZ10: 0 | DB10: 0 | DD10: 200 | DE10: 200 | DF10: =DE10/DD10% -> 100
A11: Аткарский | B11: =F11+J11+N11+R11+V11+Z11+AD11+AH11+AL11+AP11+AT11+AX11+BB11+BF11+BJ11+BN11+BR11+BV11+BZ11+CD11+CH11+CL11+CP11+CT11+CX11+DB11 -> 0 | C11: =G11+K11+O11+S11+W11+AA11+AE11+AI11+AM11+AQ11+AU11+AY11+BC11+BG11+BK11+BO11+BS11+BW11+CA11+CE11+CI11+CM11+CQ11+CU11+CY11+DD11 -> 37681.431 | D11: =H11+L11+P11+T11+X11+AB11+AF11+AJ11+AN11+AR11+AV11+AZ11+BD11+BH11+BL11+BP11+BT11+BX11+CB11+CF11+CJ11+CN11+CR11+CV11+CZ11+DE11 -> 37681.41 | E11: =D11/C11% -> 99.999946 | F11: 0 | G11: 0 | H11: 0 | J11: 0 | K11: 369.6 | L11: 369.57972 | M11: =L11/K11% -> 99.994513 | N11: 0 | O11: 0 | P11: 0 | R11: 0 | S11: 0 | T11: 0 | V11: 0 | W11: 0 | X11: 0 | Z11: 0 | AA11: 1300 | AB11: 1300 | AC11: =AB11/AA11% -> 100 | AD11: 0 | AE11: 0 | AF11: 0 | AH11: 0 | AI11: 0 | AJ11: 0 | AL11: 0 | AM11: 0 | AN11: 0 | AP11: 0 | AQ11: 11310.7 | AR11: 11310.7 | AS11: =AR11/AQ11% -> 100 | AT11: 0 | AU11: 0 | AV11: 0 | AX11: 0 | AY11: 0 | AZ11: 0 | BB11: 0 | BC11: 9828.1 | BD11: 9828.1 | BE11: =BD11/BC11% -> 100 | BF11: 0 | BG11: 0 | BH11: 0 | BJ11: 0 | BK11: 0 | BL11: 0 | BN11: 0 | BO11: 0 | BP11: 0 | BR11: 0 | BS11: 1520.9307 | BT11: 1520.9307 | BU11: =BT11/BS11% -> 100 | BV11: 0 | BW11: 355.4 | BX11: 355.4 | BY11: =BX11/BW11% -> 100 | BZ11: 0 | CA11: 36.5 | CB11: 36.5 | CC11: =CB11/CA11% -> 100 | CD11: 0 | CE11: 100 | CF11: 100 | CG11: =CF11/CE11% -> 100 | CH11: 0 | CI11: 91.6 | CJ11: 91.6 | CK11: =CJ11/CI11% -> 100 | CL11: 0 | CM11: 0 | CN11: 0 | CP11: 0 | CQ11: 0 | CR11: 0 | CT11: 0 | CU11: 12141.5 | CV11: 12141.5 | CW11: =CV11/CU11% -> 100 | CX11: 0 | CY11: 0 | CZ11: 0 | DB11: 0 | DD11: 627.1 | DE11: 627.1 | DF11: =DE11/DD11% -> 100
A12: Базарно-Карабулакский | B12: =F12+J12+N12+R12+V12+Z12+AD12+AH12+AL12+AP12+AT12+AX12+BB12+BF12+BJ12+BN12+BR12+BV12+BZ12+CD12+CH12+CL12+CP12+CT12+CX12+DB12 -> 0 | C12: =G12+K12+O12+S12+W12+AA12+AE12+AI12+AM12+AQ12+AU12+AY12+BC12+BG12+BK12+BO12+BS12+BW12+CA12+CE12+CI12+CM12+CQ12+CU12+CY12+DD12 -> 55776.055 | D12: =H12+L12+P12+T12+X12+AB12+AF12+AJ12+AN12+AR12+AV12+AZ12+BD12+BH12+BL12+BP12+BT12+BX12+CB12+CF12+CJ12+CN12+CR12+CV12+CZ12+DE12 -> 55622.847 | E12: =D12/C12% -> 99.725315 | F12: 0 | G12: 0 | H12: 0 | J12: 0 | K12: 0 | L12: 0 | N12: 0 | O12: 0 | P12: 0 | R12: 0 | S12: 0 | T12: 0 | V12: 0 | W12: 0 | X12: 0 | Z12: 0 | AA12: 0 | AB12: 0 | AD12: 0 | AE12: 0 | AF12: 0 | AH12: 0 | AI12: 0 | AJ12: 0 | AL12: 0 | AM12: 2042 | AN12: 2042 | AO12: =AN12/AM12% -> 100 | AP12: 0 | AQ12: 9856.7 | AR12: 9856.7 | AS12: =AR12/AQ12% -> 100 | AT12: 0 | AU12: 0 | AV12: 0 | AX12: 0 | AY12: 0 | AZ12: 0 | BB12: 0 | BC12: 6336.5 | BD12: 6336.5 | BE12: =BD12/BC12% -> 100 | BF12: 0 | BG12: 0 | BH12: 0 | BJ12: 0 | BK12: 0 | BL12: 0 | BN12: 0 | BO12: 0 | BP12: 0 | BR12: 0 | BS12: 0 | BT12: 0 | BV12: 0 | BW12: 456.1205 | BX12: 364.235 | BY12: =BX12/BW12% -> 79.854994 | BZ12: 0 | CA12: 26.1 | CB12: 26.1 | CC12: =CB12/CA12% -> 100 | CD12: 0 | CE12: 0 | CF12: 0 | CH12: 0 | CI12: 91.6 | CJ12: 91.6 | CK12: =CJ12/CI12% -> 100 | CL12: 0 | CM12: 0 | CN12: 0 | CP12: 0 | CQ12: 0 | CR12: 0 | CT12: 0 | CU12: 36623.2 | CV12: 36623.2 | CW12: =CV12/CU12% -> 100 | CX12: 0 | CY12: 0 | CZ12: 0 | DB12: 0 | DD12: 343.83442 | DE12: 282.51159 | DF12: =DE12/DD12% -> 82.165011
A13: Балаковский | B13: =F13+J13+N13+R13+V13+Z13+AD13+AH13+AL13+AP13+AT13+AX13+BB13+BF13+BJ13+BN13+BR13+BV13+BZ13+CD13+CH13+CL13+CP13+CT13+CX13+DB13 -> 4860 | C13: =G13+K13+O13+S13+W13+AA13+AE13+AI13+AM13+AQ13+AU13+AY13+BC13+BG13+BK13+BO13+BS13+BW13+CA13+CE13+CI13+CM13+CQ13+CU13+CY13+DD13 -> 126067.4 | D13: =H13+L13+P13+T13+X13+AB13+AF13+AJ13+AN13+AR13+AV13+AZ13+BD13+BH13+BL13+BP13+BT13+BX13+CB13+CF13+CJ13+CN13+CR13+CV13+CZ13+DE13 -> 120256.86 | E13: =D13/C13% -> 95.390926 | F13: 4860 | G13: 4860 | H13: 4860 | I13: =H13/G13% -> 100 | J13: 0 | K13: 14579 | L13: 14472.424 | M13: =L13/K13% -> 99.268978 | N13: 0 | O13: 0 | P13: 0 | R13: 0 | S13: 0 | T13: 0 | V13: 0 | W13: 6500 | X13: 6500 | Y13: =X13/W13% -> 100 | Z13: 0 | AA13: 0 | AB13: 0 | AD13: 0 | AE13: 2962 | AF13: 2962 | AG13: =AF13/AE13% -> 100 | AH13: 0 | AI13: 0 | AJ13: 0 | AL13: 0 | AM13: 0 | AN13: 0 | AP13: 0 | AQ13: 13467.1 | AR13: 13467.1 | AS13: =AR13/AQ13% -> 100 | AT13: 0 | AU13: 0 | AV13: 0 | AX13: 0 | AY13: 0 | AZ13: 0 | BB13: 0 | BC13: 9724.8 | BD13: 9724.8 | BE13: =BD13/BC13% -> 100 | BF13: 0 | BG13: 9464 | BH13: 9429.5976 | BI13: =BH13/BG13% -> 99.636492 | BJ13: 0 | BK13: 0 | BL13: 0 | BN13: 0 | BO13: 58879.3 | BP13: 53268.303 | BQ13: =BP13/BO13% -> 90.47034 | BR13: 0 | BS13: 0 | BT13: 0 | BV13: 0 | BW13: 4771 | BX13: 4712.4347 | BY13: =BX13/BW13% -> 98.772474 | BZ13: 0 | CA13: 191.3 | CB13: 191.3 | CC13: =CB13/CA13% -> 100 | CD13: 0 | CE13: 100 | CF13: 100 | CG13: =CF13/CE13% -> 100 | CH13: 0 | CI13: 183.2 | CJ13: 183.2 | CK13: =CJ13/CI13% -> 100 | CL13: 0 | CM13: 0 | CN13: 0 | CP13: 0 | CQ13: 0 | CR13: 0 | CT13: 0 | CU13: 385.7 | CV13: 385.7 | CW13: =CV13/CU13% -> 100 | CX13: 0 | CY13: 0 | CZ13: 0 | DB13: 0 | DD13: 0 | DE13: 0
A14: Балашовский | B14: =F14+J14+N14+R14+V14+Z14+AD14+AH14+AL14+AP14+AT14+AX14+BB14+BF14+BJ14+BN14+BR14+BV14+BZ14+CD14+CH14+CL14+CP14+CT14+CX14+DB14 -> 0 | C14: =G14+K14+O14+S14+W14+AA14+AE14+AI14+AM14+AQ14+AU14+AY14+BC14+BG14+BK14+BO14+BS14+BW14+CA14+CE14+CI14+CM14+CQ14+CU14+CY14+DD14 -> 299991.31 | D14: =H14+L14+P14+T14+X14+AB14+AF14+AJ14+AN14+AR14+AV14+AZ14+BD14+BH14+BL14+BP14+BT14+BX14+CB14+CF14+CJ14+CN14+CR14+CV14+CZ14+DE14 -> 289590.52 | E14: =D14/C14% -> 96.532972 | F14: 0 | G14: 0 | H14: 0 | J14: 0 | K14: 85 | L14: 85 | M14: =L14/K14% -> 100 | N14: 0 | O14: 11858.5 | P14: 11302.911 | Q14: =P14/O14% -> 95.314848 | R14: 0 | S14: 820.1624 | T14: 820.1624 | U14: =T14/S14% -> 100 | V14: 0 | W14: 9190 | X14: 9190 | Y14: =X14/W14% -> 100 | Z14: 0 | AA14: 0 | AB14: 0 | AD14: 0 | AE14: 0 | AF14: 0 | AH14: 0 | AI14: 0 | AJ14: 0 | AL14: 0 | AM14: 0 | AN14: 0 | AP14: 0 | AQ14: 38655.7 | AR14: 38357.51 | AS14: =AR14/AQ14% -> 99.2286 | AT14: 0 | AU14: 0 | AV14: 0 | AX14: 0 | AY14: 0 | AZ14: 0 | BB14: 0 | BC14: 9440.2 | BD14: 0 | BE14: =BD14/BC14% -> 0 | BF14: 0 | BG14: 0 | BH14: 0 | BJ14: 0 | BK14: 0 | BL14: 0 | BN14: 0 | BO14: 25790.1 | BP14: 25790.1 | BQ14: =BP14/BO14% -> 100 | BR14: 0 | BS14: 0 | BT14: 0 | BV14: 0 | BW14: 3378.548 | BX14: 3378.548 | BY14: =BX14/BW14% -> 100 | BZ14: 0 | CA14: 97 | CB14: 97 | CC14: =CB14/CA14% -> 100 | CD14: 0 | CE14: 200 | CF14: 200 | CG14: =CF14/CE14% -> 100 | CH14: 0 | CI14: 183.2 | CJ14: 183.2 | CK14: =CJ14/CI14% -> 100 | CL14: 0 | CM14: 0 | CN14: 0 | CP14: 0 | CQ14: 0 | CR14: 0 | CT14: 0 | CU14: 200000 | CV14: 200000 | CW14: =CV14/CU14% -> 100 | CX14: 0 | CY14: 0 | CZ14: 0 | DB14: 0 | DD14: 292.895 | DE14: 186.09207 | DF14: =DE14/DD14% -> 63.535421
A15: Балтайский | B15: =F15+J15+N15+R15+V15+Z15+AD15+AH15+AL15+AP15+AT15+AX15+BB15+BF15+BJ15+BN15+BR15+BV15+BZ15+CD15+CH15+CL15+CP15+CT15+CX15+DB15 -> 0 | C15: =G15+K15+O15+S15+W15+AA15+AE15+AI15+AM15+AQ15+AU15+AY15+BC15+BG15+BK15+BO15+BS15+BW15+CA15+CE15+CI15+CM15+CQ15+CU15+CY15+DD15 -> 32854.999 | D15: =H15+L15+P15+T15+X15+AB15+AF15+AJ15+AN15+AR15+AV15+AZ15+BD15+BH15+BL15+BP15+BT15+BX15+CB15+CF15+CJ15+CN15+CR15+CV15+CZ15+DE15 -> 32849.38 | E15: =D15/C15% -> 99.982896 | F15: 0 | G15: 0 | H15: 0 | J15: 0 | K15: 0 | L15: 0 | N15: 0 | O15: 0 | P15: 0 | R15: 0 | S15: 0 | T15: 0 | V15: 0 | W15: 0 | X15: 0 | Z15: 0 | AA15: 1000 | AB15: 1000 | AC15: =AB15/AA15% -> 100 | AD15: 0 | AE15: 0 | AF15: 0 | AH15: 0 | AI15: 0 | AJ15: 0 | AL15: 0 | AM15: 0 | AN15: 0 | AP15: 0 | AQ15: 3026.6 | AR15: 3026.5959 | AS15: =AR15/AQ15% -> 99.999866 | AT15: 0 | AU15: 0 | AV15: 0 | AX15: 0 | AY15: 0 | AZ15: 0 | BB15: 0 | BC15: 3129.5 | BD15: 3123.8845 | BE15: =BD15/BC15% -> 99.820562 | BF15: 0 | BG15: 0 | BH15: 0 | BJ15: 0 | BK15: 0 | BL15: 0 | BN15: 0 | BO15: 0 | BP15: 0 | BR15: 0 | BS15: 0 | BT15: 0 | BV15: 0 | BW15: 0 | BX15: 0 | BZ15: 0 | CA15: 10.2 | CB15: 10.2 | CC15: =CB15/CA15% -> 100 | CD15: 0 | CE15: 200 | CF15: 200 | CG15: =CF15/CE15% -> 100 | CH15: 0 | CI15: 0 | CJ15: 0 | CL15: 0 | CM15: 50 | CN15: 50 | CO15: =CN15/CM15% -> 100 | CP15: 0 | CQ15: 0 | CR15: 0 | CT15: 0 | CU15: 25023.7 | CV15: 25023.7 | CW15: =CV15/CU15% -> 100 | CX15: 0 | CY15: 0 | CZ15: 0 | DB15: 0 | DD15: 414.99912 | DE15: 414.99912 | DF15: =DE15/DD15% -> 100
