Workbook

Sheet Итого по видам (распредел.) 
A1: Сведения о предоставлении из бюджета Саратовской области межбюджетных трансфертов местным бюджетам
A2: за I полугодие 2018 года
F3: тыс. рублей
A4: № п/п | B4: Наименование | C4: Код бюджетной классификации | D4: Утвержденные бюджетные назначения* | E4: Исполнение | F4: % исполнение
A5: 1 | B5: 2 | C5: 3 | D5: 4 | E5: 5 | F5: 6
A6: 1. | B6: Дотации - всего | D6: =SUM(D7:D10) -> 3186054.2 | E6: =SUM(E7:E10) -> 1648506 | F6: =E6/D6*100 -> 51.741304
A7: 1.1. | B7: Дотации бюджетам городских округов области, связанные с особым режимом безопасного функционирования закрытых административно-территориальных образований | C7: 000 1401 6640170200 511 | D7: =Дотации!E56 -> 109224 | E7: =Дотации!F56 -> 54614 | F7: =Дотации!G56 -> 50.001831
A8: 1.2. | B8: Дотации на выравнивание бюджетной обеспеченности поселений области | C8: 000 1401 6640170100 511 | D8: =Дотации!H56 -> 38727.4 | E8: =Дотации!I56 -> 19362 | F8: =Дотации!J56 -> 49.99561
A9: 1.3. | B9: Дотации на выравнивание бюджетной обеспеченности муниципальных районов (городских округов) области | C9: 000 1401 6640150100 511 | D9: =Дотации!K56 -> 2858787.3 | E9: =Дотации!L56 -> 1484872 | F9: =Дотации!M56 -> 51.940625
A10: 1.4. | B10: Дотации на поддержку мер по обеспечению сбалансированности бюджетов | C10: 000 1401 6640170300 511 | D10: =Дотации!N56 -> 179315.5 | E10: =Дотации!O56 -> 89658 | F10: =Дотации!P56 -> 50.000139
A11: 2. | B11: Субсидии - всего | D11: =SUM(D12:D44) -> 5903131.9 | E11: =SUM(E12:E44) -> 999452.2 | F11: =E11/D11*100 -> 16.93088
A12: 2.1. | B12: Субсидии на создание в дошкольных образовательных организациях, организациях дополнительного образования детей (в том числе в организациях, осуществляющих образовательную деятельность по адаптированным основным общеобразовательным программам) условий для получения детьми-инвалидами качественного образования | C12: 000 0701 51107R0270 521 | D12: =Субсидии!E77 -> 1734 | E12: =Субсидии!F77 -> 73 | F12: =Субсидии!G77 -> 4.2099193
A13: 2.2. | B13: Субсидии на создание в организациях дополнительного образования детей, организациях дополнительного образования детей (в том числе в организациях, осуществляющих образовательную деятельность по адаптированным основным общеобразовательным программам) условий для получения детьми-инвалидами качественного образования | C13: 000 0703 51216R0270 521 | D13: =Субсидии!H77 -> 1853.9 | E13: =Субсидии!I77 -> 451.1 | F13: =Субсидии!J77 -> 24.332488
A14: 2.3. | B14: Субсидии на создание в общеобразовательных организациях, расположенных в сельской местности, условий для занятий физической культурой и спортом | C14: 000 0702 51207R0970 521 | D14: =Субсидии!K77 -> 19123.3 | E14: 0 | F14: 0
A15: 2.4. | B15: Субсидии на софинансирование капитальных вложений в объекты муниципальной собственности | C15: 000 0702 51801R1120 522 | D15: =Субсидии!N77 -> 652250.3 | E15: =Субсидии!O77 -> 32364.1 | F15: =Субсидии!P77 -> 4.9619142
A16: 2.5. | B16: Субсидии на реализацию мероприятий по содействию созданию (исходя из прогнозируемой потребности) новых мест в общеобразовательных организациях | C16: 000 0702 51801R5200 520 | D16: =Субсидии!Q77 -> 560151.3 | E16: 0 | F16: 0
A17: 2.6. | B17: Субсидии на исполнение муниципальных программ в целях реализации мероприятий по стимулированию программ развития жилищного строительства субъектов Российской Федерации в рамках приоритетного проекта «Ипотека и арендное жилье» | C17: 000 1403 531П3R0210 522 | D17: =Субсидии!T77 -> 311783.2 | E17: 0 | F17: 0
A18: 2.7. | B18: Субсидии на реализацию мероприятий по обеспечению жильем молодых семей | C18: 000 1003 53302R4970 521 | D18: =Субсидии!W77 -> 64605.5 | E18: 0 | F18: 0
A19: 2.8. | B19: Субсидии на поддержку творческой деятельности и укрепление материально-технической базы муниципальных театров в населенных пунктах с численностью населения до 300 тысяч человек | C19: 000 0801 55206R4660 520 | D19: =Субсидии!Z77 -> 11316.7 | E19: =Субсидии!AA77 -> 10096 | F19: =Субсидии!AB77 -> 89.213287
A20: 2.9. | B20: Субсидии на поддержку отрасли культуры на комплектование книжных фондов муниципальных общедоступных библиотек | C20: 000 0801 55402R5191 520 | D20: =Субсидии!AC77 -> 1289.4 | E20: =Субсидии!AD77 -> 959.4 | F20: =Субсидии!AE77 -> 74.406701
A21: 2.10. | B21: Субсидии на поддержку отрасли культуры на подключение муниципальных общедоступных библиотек к информационно-телекоммуникационной сети «Интернет» и развитие библиотечного дела с учетом задачи расширения информационных технологий и оцифровки | C21: 000 0801 55405R5193 520 | D21: =Субсидии!AF77 -> 4482.98 | E21: =Субсидии!AG77 -> 2995.8 | F21: =Субсидии!AH77 -> 66.826084
A22: 2.11. | B22: Субсидии на обеспечение развития и укрепления материально-технической базы домов культуры в населенных пунктах с числом жителей до 50 тысяч человек | C22: 000 0801 55А12R4670 521 | D22: =Субсидии!AI77 -> 47678.8 | E22: =Субсидии!AJ77 -> 7209 | F22: =Субсидии!AK77 -> 15.119928
A23: 2.12. | B23: Субсидии на поддержку отрасли культуры на оснащение музыкальными инструментами детских школ искусств | C23: 000 0801 55А15R5195 521 | D23: =Субсидии!AL77 -> 352 | E23: =Субсидии!AM77 -> 50 | F23: =Субсидии!AN77 -> 14.204545
A24: 2.13. | B24: Субсидии на поддержку отрасли культуры на государственную поддержку муниципальных учреждений культуры, находящихся на территории сельских поселений | C24: 000 0801 55Б04R5192 520 | D24: =Субсидии!AO77 -> 2400 | E24: =Субсидии!AP77 -> 1745.6 | F24: =Субсидии!AQ77 -> 72.733333
A25: 2.14. | B25: Субсидии на поддержку отрасли культуры на государственную поддержку лучших работников муниципальных учреждений культуры, находящихся на территории сельских поселений | C25: 000 0801 55Б04R5194 520 | D25: =Субсидии!AR77 -> 1050 | E25: =Субсидии!AS77 -> 800 | F25: =Субсидии!AT77 -> 76.190476
A26: 2.15. | B26: Субсидии на строительство и реконструкцию малобюджетных физкультурно-спортивных объектов шаговой доступности, плоскостных сооружений | C26: 000 1102 56401R4950 522 | D26: =Субсидии!AU77 -> 33252.3 | E26: 0 | F26: 0
A27: 2.16. | B27: Субсидии на закупку комплектов искусственных покрытий для футбольных полей для спортивных детско-юношеских школ области, включая их доставку и сертификацию полей | C27: 000 1101 56405R4950 521 | D27: =Субсидии!AX77 -> 10810.8 | E27: 0 | F27: 0
A28: 2.17. | B28: Субсидии на обеспечение деятельности муниципальных бизнес-инкубаторов | C28: 000 0412 5830171100 521 | D28: =Субсидии!BA77 -> 4860 | E28: =Субсидии!BB77 -> 2430 | F28: =Субсидии!BC77 -> 50
A29: 2.18. | B29: Субсидии на софинансирование расходных обязательств по реализации мероприятий муниципальных программ развития малого и среднего предпринимательства монопрофильных муниципальных образований | C29: 000 0412 58302R5270 520 | D29: =Субсидии!BD77 -> 6152.1 | E29: 0 | F29: 0
A30: 2.19. | B30: Субсидия на капитальный ремонт, ремонт и содержание автомобильных дорог общего пользования местного значения за счет средств областного дорожного фонда | C30: 000 0409 60202D7200 521 | D30: =Субсидии!BG77 -> 100000 | E30: =Субсидии!BH77 -> 100000 | F30: =Субсидии!BI77 -> 100
A31: 2.20. | B31: Субсидия на осуществление дорожной деятельности в отношении автомобильных дорог общего пользования местного значения Саратовской агломерации в границах городских округов области за счет средств областного дорожного фонда | C31: 000 0409 602П1D7600 521 | D31: =Субсидии!BJ77 -> 850170 | E31: =Субсидии!BK77 -> 245000 | F31: =Субсидии!BL77 -> 28.817766
A32: 2.21. | B32: Субсидии на комплексное обустройство объектами социальной и инженерной инфраструктуры населенных пунктов, расположенных в сельской местности, на строительство и реконструкцию автомобильных дорог | C32: 000 0409 61505R5670 522 | D32: =Субсидии!BM77 -> 22756.3 | E32: 0 | F32: 0
A33: 2.22. | B33: Субсидии на осуществление дорожной деятельности в отношении автомобильных дорог общего пользования местного значения Саратовской агломерации в границах городских поселений области | C33: 000 0409 060214D7800 521 | D33: =Субсидии!BP77 -> 149630 | E33: =Субсидии!BQ77 -> 38584.6 | F33: =Субсидии!BR77 -> 25.786674
A34: 2.23. | B34: Субсидии на капитальный ремонт, ремонт и содержание автомобильных дорог общего пользования местного значения за счет средств областного дорожного фонда | C34: 000 0409 60207D7300 521 | D34: =Субсидии!BS77 -> 258000 | E34: 0 | F34: 0
A35: 2.24. | B35: Субсидии на обеспечение расходных обязательств, связанных с повышением оплаты труда отдельным категориям работников бюджетной сферы в целях реализации Указа Президента Российской Федерации от 7 мая 2012 года № 597 «О мероприятиях по реализации государственной социальной политики» и Указа Президента Российской Федерации от 1 июня 2012 года № 761 «О национальной стратегии действий в интересах детей на 2012 - 2017 годы» | C35: 000 1403 6640171800 521 | D35: =Субсидии!BV77 -> 565108 | E35: =Субсидии!BW77 -> 228219.9 | F35: =Субсидии!BX77 -> 40.385183
A36: 2.25. | B36: Субсидии на обеспечение повышения оплаты труда некоторых категорий работников муниципальных учреждений | C36: 000 1403 6640172300 521 | D36: =Субсидии!BY77 -> 696076.1 | E36: =Субсидии!BZ77 -> 175574.5 | F36: =Субсидии!CA77 -> 25.223463
A37: 2.26. | B37: Субсидии на реализацию проектов развития муниципальных образований области, основанных на местных инициативах | C37: 000 0113 6640572100 521 | D37: =Субсидии!CB77 -> 50000
A38: 2.27. | B38: Субсидии на поддержку муниципальных программ формирования современной городской среды | C38: 000 0503 69101R5550 522 | D38: =Субсидии!CE77 -> 589461.1 | E38: 0 | F38: 0
A39: 2.28. | B39: Субсидии на поддержку обустройства мест массового отдыха населения (городских парков) | C39: 000 0505 53В02R5600 521 | D39: =Субсидии!CH77 -> 16274.5 | E39: 0 | F39: 0
A40: 2.29. | B40: Субсидии бюджетам муниципальных районов и городских округов области на реализацию расходных обязательств, возникающих при выполнении полномочий по решению вопросов местного значения | C40: 000 1403 6640172200 521 | D40: =Субсидии!CK77 -> 727825.1 | E40: =Субсидии!CL77 -> 110925.3 | F40: =Субсидии!CM77 -> 15.240653
...

Sheet Всего (с учетом нераспред)
A1: Сведения о предоставлении из бюджета Саратовской области межбюджетных трансфертов местным бюджетам за I полугодие 2018 года
O2: тыс.рублей
A3: Наименование муниципальных образований | B3: Всего | E3: в том числе
E4: Дотации | H4: Субсидии | K4: Субвенции | N4: Иные межбюджетные трансферты
B6: утвержденные бюджетные назначения | C6: исполнено | D6: % исполнения | E6: утвержденные бюджетные назначения* | F6: исполнено | G6: % исполнения | H6: утвержденные бюджетные назначения** | I6: исполнено | J6: % исполнения | K6: утвержденные бюджетные назначения* | L6: исполнено | M6: % исполнения | N6: утвержденные бюджетные назначения *** | O6: исполнено | P6: % исполнения
A7: Муниципальные районы области: | B7: 18759742 | C7: 8584856.8 | D7: 45.8 | E7: =Дотации!B7 -> 2959086.6 | F7: =Дотации!C7 -> 1535020 | G7: =Дотации!D7 -> 51.874791 | H7: =Субсидии!B8 -> 3345152.9 | I7: =Субсидии!C8 -> 506161.2 | J7: =Субсидии!D8 -> 15.131183 | K7: ='Субвенции '!B10 -> 12033217 | L7: ='Субвенции '!C10 -> 6516183 | M7: ='Субвенции '!D10 -> 54.151628 | N7: =Иные!B7 -> 422284.1 | O7: =Иные!C7 -> 27492.3 | P7: =Иные!D7 -> 6.5103801
A8: Александрово-Гайский | B8: 316892.9 | C8: 148288.4 | D8: 46.8 | E8: =Дотации!B8 -> 74035.7 | F8: =Дотации!C8 -> 37018 | G8: =Дотации!D8 -> 50.000203 | H8: =Субсидии!B9 -> 49156.88 | I8: =Субсидии!C9 -> 6659.2 | J8: =Субсидии!D9 -> 13.546832 | K8: ='Субвенции '!B11 -> 184708.8 | L8: ='Субвенции '!C11 -> 102463.66 | M8: ='Субвенции '!D11 -> 55.473081 | N8: =Иные!B8 -> 8991.5 | O8: =Иные!C8 -> 2147.5 | P8: =Иные!D8 -> 23.883668
A9: Аркадакский | B9: 286513 | C9: 145198 | D9: 50.7 | E9: =Дотации!B9 -> 79091.4 | F9: =Дотации!C9 -> 39546 | G9: =Дотации!D9 -> 50.000379 | H9: =Субсидии!B10 -> 28441.98 | I9: =Субсидии!C10 -> 6480.5 | J9: =Субсидии!D10 -> 22.784982 | K9: ='Субвенции '!B12 -> 175586.4 | L9: ='Субвенции '!C12 -> 99171.486 | M9: ='Субвенции '!D12 -> 56.480164 | N9: =Иные!B9 -> 3393.2 | O9: =Иные!C9 -> 0 | P9: =Иные!D9 -> 0
A10: Аткарский | B10: 442339.9 | C10: 226768.1 | D10: 51.3 | E10: =Дотации!B10 -> 100568.9 | F10: =Дотации!C10 -> 50286 | G10: =Дотации!D10 -> 50.001541 | H10: =Субсидии!B11 -> 52532.86 | I10: =Субсидии!C11 -> 14280.5 | J10: =Субсидии!D11 -> 27.183938 | K10: ='Субвенции '!B13 -> 288848 | L10: ='Субвенции '!C13 -> 162161.55 | M10: ='Субвенции '!D13 -> 56.140791 | N10: =Иные!B10 -> 390.1 | O10: =Иные!C10 -> 40 | P10: =Иные!D10 -> 10.253781
A11: Базарно-Карабулакский | B11: 399870.1 | C11: 198177.6 | D11: 49.6 | E11: =Дотации!B11 -> 113874.5 | F11: =Дотации!C11 -> 56938 | G11: =Дотации!D11 -> 50.000659 | H11: =Субсидии!B12 -> 36623.18 | I11: =Субсидии!C12 -> 7918.9 | J11: =Субсидии!D12 -> 21.622644 | K11: ='Субвенции '!B14 -> 245272.3 | L11: ='Субвенции '!C14 -> 133320.69 | M11: ='Субвенции '!D14 -> 54.356194 | N11: =Иные!B11 -> 4100.1 | O11: =Иные!C11 -> 0 | P11: =Иные!D11 -> 0
A12: Балаковский | B12: 1481018.6 | C12: 772838.5 | D12: 52.2 | E12: =Дотации!B12 -> 0 | F12: =Дотации!C12 -> 0 | G12: =Дотации!D12 -> 0 | H12: =Субсидии!B13 -> 84632.56 | I12: =Субсидии!C13 -> 17612.2 | J12: =Субсидии!D13 -> 20.810194 | K12: ='Субвенции '!B15 -> 1382813.4 | L12: ='Субвенции '!C15 -> 755183.28 | M12: ='Субвенции '!D15 -> 54.612088 | N12: =Иные!B12 -> 13572.6 | O12: =Иные!C12 -> 43 | P12: =Иные!D12 -> 0.31681476
A13: Балашовский | B13: 1106245.1 | C13: 557109.5 | D13: 50.4 | E13: =Дотации!B13 -> 169778.7 | F13: =Дотации!C13 -> 84888 | G13: =Дотации!D13 -> 49.999205 | H13: =Субсидии!B14 -> 199000.16 | I13: =Субсидии!C14 -> 64794.1 | J13: =Субсидии!D14 -> 32.559823 | K13: ='Субвенции '!B16 -> 730616 | L13: ='Субвенции '!C16 -> 401111.75 | M13: ='Субвенции '!D16 -> 54.900488 | N13: =Иные!B13 -> 6850.1 | O13: =Иные!C13 -> 6315.6 | P13: =Иные!D13 -> 92.197194
A14: Балтайский | B14: 203550.8 | C14: 88790.1 | D14: 43.6 | E14: =Дотации!B14 -> 49028.8 | F14: =Дотации!C14 -> 24516 | G14: =Дотации!D14 -> 50.003263 | H14: =Субсидии!B15 -> 41551.28 | I14: =Субсидии!C15 -> 3916.9 | J14: =Субсидии!D15 -> 9.4266651 | K14: ='Субвенции '!B17 -> 104772.3 | L14: ='Субвенции '!C17 -> 60207.217 | M14: ='Субвенции '!D17 -> 57.464823 | N14: =Иные!B14 -> 8198.4 | O14: =Иные!C14 -> 150 | P14: =Иные!D14 -> 1.8296253
A15: Вольский | B15: 808431.1 | C15: 400239 | D15: 49.5 | E15: =Дотации!B15 -> 67371.1 | F15: =Дотации!C15 -> 33686 | G15: =Дотации!D15 -> 50.000668 | H15: =Субсидии!B16 -> 104168.76 | I15: =Субсидии!C16 -> 23943.5 | J15: =Субсидии!D16 -> 22.985298 | K15: ='Субвенции '!B18 -> 635936.7 | L15: ='Субвенции '!C18 -> 342459.47 | M15: ='Субвенции '!D18 -> 53.851188 | N15: =Иные!B15 -> 954.6 | O15: =Иные!C15 -> 150 | P15: =Иные!D15 -> 15.713388
A16: Воскресенский | B16: 205393.3 | C16: 83579.4 | D16: 40.7 | E16: =Дотации!B16 -> 38416.6 | F16: =Дотации!C16 -> 19210 | G16: =Дотации!D16 -> 50.004425 | H16: =Субсидии!B17 -> 29849.88 | I16: =Субсидии!C17 -> 3603.4 | J16: =Субсидии!D17 -> 12.07174 | K16: ='Субвенции '!B19 -> 106240.4 | L16: ='Субвенции '!C19 -> 60765.987 | M16: ='Субвенции '!D19 -> 57.196685 | N16: =Иные!B16 -> 30886.4 | O16: =Иные!C16 -> 0 | P16: =Иные!D16 -> 0
A17: Дергачевский | B17: 309267.4 | C17: 148708.9 | D17: 48.1 | E17: =Дотации!B17 -> 91289.8 | F17: =Дотации!C17 -> 45642 | G17: =Дотации!D17 -> 49.996823 | H17: =Субсидии!B18 -> 36288.98 | I17: =Субсидии!C18 -> 6243.9 | J17: =Субсидии!D18 -> 17.20605 | K17: ='Субвенции '!B20 -> 179918.6 | L17: ='Субвенции '!C20 -> 96223.034 | M17: ='Субвенции '!D20 -> 53.481427 | N17: =Иные!B17 -> 1770 | O17: =Иные!C17 -> 600 | P17: =Иные!D17 -> 33.898305
A18: Духовницкий | B18: 178082.7 | C18: 85219.6 | D18: 47.9 | E18: =Дотации!B18 -> 30891.5 | F18: =Дотации!C18 -> 21244 | G18: =Дотации!D18 -> 68.769726 | H18: =Субсидии!B19 -> 32913.18 | I18: =Субсидии!C19 -> 4655.1 | J18: =Субсидии!D19 -> 14.143574 | K18: ='Субвенции '!B21 -> 102404.3 | L18: ='Субвенции '!C21 -> 58889.65 | M18: ='Субвенции '!D21 -> 57.507009 | N18: =Иные!B18 -> 11873.7 | O18: =Иные!C18 -> 430.8 | P18: =Иные!D18 -> 3.6281867
... A50: ЗАТО Шиханы | B50: 150138.3 | C50: 70974.8 | D50: 47.3 | E50: =Дотации!B50 -> 75974.1 | F50: =Дотации!C50 -> 37986 | G50: =Дотации!D50 -> 49.998618 | H50: =Субсидии!B51 -> 9044.9 | I50: =Субсидии!C51 -> 2020.5 | J50: =Субсидии!D51 -> 22.338555 | K50: ='Субвенции '!B53 -> 58057.8 | L50: ='Субвенции '!C53 -> 30888.783 | M50: ='Субвенции '!D53 -> 53.203502 | N50: =Иные!B50 -> 7061.5 | O50: =Иные!C50 -> 79.5 | P50: =Иные!D50 -> 1.1258231
A51: Поселения: | B51: 692449.1 | C51: 25108.2 | D51: 3.6 | E51: 0 | F51: 0 | G51: 0 | H51: 378132.3 | I51: 5582.6 | J51: 1.5 | K51: ='Субвенции '!B54 -> 36950.1 | L51: ='Субвенции '!C54 -> 15571.9 | M51: ='Субвенции '!D54 -> 42.143052 | N51: =Иные!B51 -> 277366.7 | O51: =Иные!C51 -> 3953.7 | P51: =Иные!D51 -> 1.4254415
A52: Александрово-Гайское муниципальное образование Александрово-Гайского муниципального района | B52: 500.1 | C52: 225.3 | D52: 45.1 | K52: ='Субвенции '!B55 -> 500.1 | L52: ='Субвенции '!C55 -> 225.3 | M52: ='Субвенции '!D55 -> 45.05099
A53: Новоалександровское муниципальное образование Александрово-Гайского муниципального района | B53: 67.1 | C53: 20 | D53: 29.8 | K53: ='Субвенции '!B56 -> 67.1 | L53: ='Субвенции '!C56 -> 20 | M53: ='Субвенции '!D56 -> 29.806259
A54: г. Аркадак муниципальное образование Аркадакского муниципального района | B54: 6222 | C54: 245.6 | D54: 3.9 | H54: =Субсидии!B53 -> 5721.9 | K54: ='Субвенции '!B57 -> 500.1 | L54: ='Субвенции '!C57 -> 245.6 | M54: ='Субвенции '!D57 -> 49.110178
A55: Большежуравское муниципальное образование Аркадакского муниципального района | B55: 67.1 | C55: 31.4 | D55: 46.8 | K55: ='Субвенции '!B58 -> 67.1 | L55: ='Субвенции '!C58 -> 31.4 | M55: ='Субвенции '!D58 -> 46.795827
A56: Краснознаменское муниципальное образование Аркадакского муниципального района | B56: 67.1 | C56: 31.4 | D56: 46.8 | K56: ='Субвенции '!B59 -> 67.1 | L56: ='Субвенции '!C59 -> 31.4 | M56: ='Субвенции '!D59 -> 46.795827
A57: Львовское муниципальное образование Аркадакского муниципального района | B57: 67.1 | C57: 31.4 | D57: 46.8 | K57: ='Субвенции '!B60 -> 67.1 | L57: ='Субвенции '!C60 -> 31.4 | M57: ='Субвенции '!D60 -> 46.795827
A58: Малиновское муниципальное образование Аркадакского муниципального района | B58: 67.1 | C58: 31.4 | D58: 46.8 | K58: 67.1 | L58: 67.1 | M58: 67.1
A59: Росташовское муниципальное образование Аркадакского муниципального района | B59: 166.7 | C59: 78.5 | D59: 47.1 | K59: 67.1 | L59: 67.1 | M59: 67.1
A60: Семеновское муниципальное образование Аркадакского муниципального района | B60: 67.1 | C60: 5.8 | D60: 8.6 | K60: 67.1 | L60: 67.1 | M60: 67.1
A61: Муниципальное образование город Аткарск Аткарского муниципального района | B61: 7559.2 | C61: 0 | D61: 0 | H61: =Субсидии!B54 -> 7559.2
A62: Барановское муниципальное образование Аткарского муниципального района | B62: 67.1 | C62: 28.9 | D62: 43.1 | K62: ='Субвенции '!B64 -> 67.1 | L62: ='Субвенции '!C64 -> 28.9 | M62: ='Субвенции '!D64 -> 43.070045
A63: Большеекатериновское муниципальное образование Аткарского муниципального района | B63: 67.1 | C63: 33.5 | D63: 49.9 | K63: ='Субвенции '!B65 -> 67.1 | L63: ='Субвенции '!C65 -> 33.5 | M63: ='Субвенции '!D65 -> 49.925484
A64: Даниловское муниципальное образование Аткарского муниципального района | B64: 67.1 | C64: 29.7 | D64: 44.3 | K64: ='Субвенции '!B66 -> 67.1 | L64: ='Субвенции '!C66 -> 29.7 | M64: ='Субвенции '!D66 -> 44.262295
A65: Ершовское муниципальное образование Аткарского муниципального района | B65: 67.1 | C65: 27.9 | D65: 41.6 | K65: ='Субвенции '!B67 -> 67.1 | L65: ='Субвенции '!C67 -> 27.9 | M65: ='Субвенции '!D67 -> 41.579732
A66: Кочетовское муниципальное образование Аткарского муниципального района | B66: 166.7 | C66: 73.7 | D66: 44.2 | K66: ='Субвенции '!B68 -> 166.7 | L66: ='Субвенции '!C68 -> 73.7 | M66: ='Субвенции '!D68 -> 44.211158
A67: Лопуховское муниципальное образование Аткарского муниципального района | B67: 67.1 | C67: 30 | D67: 44.7 | K67: ='Субвенции '!B69 -> 67.1 | L67: ='Субвенции '!C69 -> 30 | M67: ='Субвенции '!D69 -> 44.709389
A68: Озерное муниципальное образование Аткарского муниципального района | B68: 67.1 | C68: 29.8 | D68: 44.4 | K68: ='Субвенции '!B70 -> 67.1 | L68: ='Субвенции '!C70 -> 29.8 | M68: ='Субвенции '!D70 -> 44.411326
A69: Песчанское муниципальное образование Аткарского муниципального района | B69: 67.1 | C69: 32.8 | D69: 48.9 | K69: ='Субвенции '!B71 -> 67.1 | L69: ='Субвенции '!C71 -> 32.8 | M69: ='Субвенции '!D71 -> 48.882265
A70: Петровское муниципальное образование Аткарского муниципального района | B70: 67.1 | C70: 29.3 | D70: 43.7 | K70: ='Субвенции '!B72 -> 67.1 | L70: ='Субвенции '!C72 -> 29.3 | M70: ='Субвенции '!D72 -> 43.66617
A71: Тургеневское муниципальное образование Аткарского муниципального района | B71: 67.1 | C71: 33.5 | D71: 49.9 | K71: ='Субвенции '!B73 -> 67.1 | L71: ='Субвенции '!C73 -> 33.5 | M71: ='Субвенции '!D73 -> 49.925484
A72: Языковское муниципальное образование Аткарского муниципального района | B72: 67.1 | C72: 27.2 | D72: 40.5 | K72: ='Субвенции '!B74 -> 67.1 | L72: ='Субвенции '!C74 -> 27.2 | M72: ='Субвенции '!D74 -> 40.536513
...

Sheet Дотации
A1: Сведения о предоставлении из бюджета Саратовской области межбюджетных трансфертов местным бюджетам за I полугодие 2018 года
O3: тыс.рублей
A4: Наименование муниципальных образований | B4: Дотации, всего
E5: дотации, связанные с особым режимом безопасного функционирования закрытых административно-территориальных образований | H5: на выравнивание бюджетной обеспеченности поселений области | K5: на выравнивание бюджетной обеспеченности муниципальных районов (городских округов) области | N5: на поддержку мер по обеспечению сбалансированности бюджетов
B6: утвержденные бюджетные назначения | C6: исполнено | D6: % исполнения | E6: утвержденные бюджетные назначения* | F6: исполнено | G6: % исполнения | H6: утвержденные бюджетные назначения* | I6: исполнено | J6: % исполнения | K6: утвержденные бюджетные назначения* | L6: исполнено | M6: % исполнения | N6: утвержденные бюджетные назначения* | O6: исполнено | P6: % исполнения
A7: Муниципальные районы области: | B7: =E7+H7+K7+N7 -> 2959086.6 | C7: =F7+I7+L7+O7 -> 1535020 | D7: =C7/B7*100 -> 51.874791 | K7: =SUM(K8:K45) -> 2787558.6 | L7: =SUM(L8:L45) -> 1449256 | M7: =L7/K7*100 -> 51.990154 | N7: =SUM(N8:N45) -> 171528 | O7: =SUM(O8:O45) -> 85764 | P7: =O7/N7*100 -> 50
A8: Александрово-Гайский | B8: =E8+H8+K8+N8 -> 74035.7 | C8: =F8+I8+L8+O8 -> 37018 | D8: =C8/B8*100 -> 50.000203 | K8: 68112.9 | L8: 34056 | M8: =L8/K8*100 -> 49.999339 | N8: 5922.8 | O8: 2962 | P8: =O8/N8*100 -> 50.01013
A9: Аркадакский | B9: =E9+H9+K9+N9 -> 79091.4 | C9: =F9+I9+L9+O9 -> 39546 | D9: =C9/B9*100 -> 50.000379 | K9: 79091.4 | L9: 39546 | M9: =L9/K9*100 -> 50.000379 | N9: 0 | O9: 0
A10: Аткарский | B10: =E10+H10+K10+N10 -> 100568.9 | C10: =F10+I10+L10+O10 -> 50286 | D10: =C10/B10*100 -> 50.001541 | K10: 100568.9 | L10: 50286 | M10: =L10/K10*100 -> 50.001541 | N10: 0 | O10: 0
A11: Базарно-Карабулакский | B11: =E11+H11+K11+N11 -> 113874.5 | C11: =F11+I11+L11+O11 -> 56938 | D11: =C11/B11*100 -> 50.000659 | K11: 113874.5 | L11: 56938 | M11: =L11/K11*100 -> 50.000659 | N11: 0 | O11: 0
A12: Балаковский | B12: =E12+H12+K12+N12 -> 0 | C12: =F12+I12+L12+O12 -> 0 | K12: 0 | L12: 0 | N12: 0 | O12: 0
A13: Балашовский | B13: =E13+H13+K13+N13 -> 169778.7 | C13: =F13+I13+L13+O13 -> 84888 | D13: =C13/B13*100 -> 49.999205 | K13: 169778.7 | L13: 84888 | M13: =L13/K13*100 -> 49.999205 | N13: 0 | O13: 0
A14: Балтайский | B14: =E14+H14+K14+N14 -> 49028.8 | C14: =F14+I14+L14+O14 -> 24516 | D14: =C14/B14*100 -> 50.003263 | K14: 49028.8 | L14: 24516 | M14: =L14/K14*100 -> 50.003263 | N14: 0 | O14: 0
A15: Вольский | B15: =E15+H15+K15+N15 -> 67371.1 | C15: =F15+I15+L15+O15 -> 33686 | D15: =C15/B15*100 -> 50.000668 | K15: 36600.8 | L15: 18300 | M15: =L15/K15*100 -> 49.998907 | N15: 30770.3 | O15: 15386 | P15: =O15/N15*100 -> 50.002762
A16: Воскресенский | B16: =E16+H16+K16+N16 -> 38416.6 | C16: =F16+I16+L16+O16 -> 19210 | D16: =C16/B16*100 -> 50.004425 | K16: 35430 | L16: 17716 | M16: =L16/K16*100 -> 50.002822 | N16: 2986.6 | O16: 1494 | P16: =O16/N16*100 -> 50.023438
A17: Дергачевский | B17: =E17+H17+K17+N17 -> 91289.8 | C17: =F17+I17+L17+O17 -> 45642 | D17: =C17/B17*100 -> 49.996823 | K17: 91289.8 | L17: 45642 | M17: =L17/K17*100 -> 49.996823 | N17: 0 | O17: 0
A18: Духовницкий | B18: =E18+H18+K18+N18 -> 30891.5 | C18: =F18+I18+L18+O18 -> 21244 | D18: =C18/B18*100 -> 68.769726 | K18: 30891.5 | L18: 21244 | M18: =L18/K18*100 -> 68.769726 | N18: 0 | O18: 0
A19: Екатериновский | B19: =E19+H19+K19+N19 -> 43421.1 | C19: =F19+I19+L19+O19 -> 21734 | D19: =C19/B19*100 -> 50.054006 | K19: 29824.4 | L19: 14936 | M19: =L19/K19*100 -> 50.0798 | N19: 13596.7 | O19: 6798 | P19: =O19/N19*100 -> 49.997426
A20: Ершовский | B20: =E20+H20+K20+N20 -> 124215.4 | C20: =F20+I20+L20+O20 -> 62106 | D20: =C20/B20*100 -> 49.998631 | K20: 124215.4 | L20: 62106 | M20: =L20/K20*100 -> 49.998631 | N20: 0 | O20: 0
A21: Ивантеевский | B21: =E21+H21+K21+N21 -> 65506.5 | C21: =F21+I21+L21+O21 -> 32754 | D21: =C21/B21*100 -> 50.001145 | K21: 16893.9 | L21: 8448 | M21: =L21/K21*100 -> 50.006215 | N21: 48612.6 | O21: 24306 | P21: =O21/N21*100 -> 49.999383
A22: Калининский | B22: =E22+H22+K22+N22 -> 77899.3 | C22: =F22+I22+L22+O22 -> 38948 | D22: =C22/B22*100 -> 49.997882 | K22: 55346.1 | L22: 27672 | M22: =L22/K22*100 -> 49.998103 | N22: 22553.2 | O22: 11276 | P22: =O22/N22*100 -> 49.99734
A23: Красноармейский | B23: =E23+H23+K23+N23 -> 138260.2 | C23: =F23+I23+L23+O23 -> 69131 | D23: =C23/B23*100 -> 50.000651 | K23: 138260.2 | L23: 69131 | M23: =L23/K23*100 -> 50.000651 | N23: 0 | O23: 0
A24: Краснокутский | B24: =E24+H24+K24+N24 -> 92019.4 | C24: =F24+I24+L24+O24 -> 52866 | D24: =C24/B24*100 -> 57.450929 | K24: 92019.4 | L24: 52866 | M24: =L24/K24*100 -> 57.450929 | N24: 0 | O24: 0
A25: Краснопартизанский | B25: =E25+H25+K25+N25 -> 52653.2 | C25: =F25+I25+L25+O25 -> 27828 | D25: =C25/B25*100 -> 52.851489 | K25: 52653.2 | L25: 27828 | M25: =L25/K25*100 -> 52.851489 | N25: 0 | O25: 0
A26: Лысогорский | B26: =E26+H26+K26+N26 -> 75004.1 | C26: =F26+I26+L26+O26 -> 37502 | D26: =C26/B26*100 -> 49.999933 | K26: 68783.9 | L26: 34392 | M26: =L26/K26*100 -> 50.000073 | N26: 6220.2 | O26: 3110 | P26: =O26/N26*100 -> 49.998392
A27: Марксовский | B27: =E27+H27+K27+N27 -> 155303.6 | C27: =F27+I27+L27+O27 -> 91079 | D27: =C27/B27*100 -> 58.645775 | K27: 155303.6 | L27: 91079 | M27: =L27/K27*100 -> 58.645775 | N27: 0 | O27: 0
A28: Новобурасский | B28: =E28+H28+K28+N28 -> 97929.7 | C28: =F28+I28+L28+O28 -> 48826 | D28: =C28/B28*100 -> 49.858215 | K28: 83446.7 | L28: 41584 | M28: =L28/K28*100 -> 49.833007 | N28: 14483 | O28: 7242 | P28: =O28/N28*100 -> 50.003452
A29: Новоузенский | B29: =E29+H29+K29+N29 -> 145469 | C29: =F29+I29+L29+O29 -> 72732 | D29: =C29/B29*100 -> 49.998281 | K29: 145469 | L29: 72732 | M29: =L29/K29*100 -> 49.998281 | N29: 0 | O29: 0
A30: Озинский | B30: =E30+H30+K30+N30 -> 82772.4 | C30: =F30+I30+L30+O30 -> 41387 | D30: =C30/B30*100 -> 50.000967 | K30: 82772.4 | L30: 41387 | M30: =L30/K30*100 -> 50.000967 | N30: 0 | O30: 0
A31: Перелюбский | B31: =E31+H31+K31+N31 -> 42293.8 | C31: =F31+I31+L31+O31 -> 23546 | D31: =C31/B31*100 -> 55.672463 | K31: 37945.6 | L31: 21372 | M31: =L31/K31*100 -> 56.322736 | N31: 4348.2 | O31: 2174 | P31: =O31/N31*100 -> 49.9977
A32: Петровский | B32: =E32+H32+K32+N32 -> 167195.8 | C32: =F32+I32+L32+O32 -> 92598 | D32: =C32/B32*100 -> 55.38297 | K32: 167195.8 | L32: 92598 | M32: =L32/K32*100 -> 55.38297 | N32: 0 | O32: 0
A33: Питерский | B33: =E33+H33+K33+N33 -> 71097.7 | C33: =F33+I33+L33+O33 -> 35550 | D33: =C33/B33*100 -> 50.001617 | K33: 59588.5 | L33: 29796 | M33: =L33/K33*100 -> 50.002937 | N33: 11509.2 | O33: 5754 | P33: =O33/N33*100 -> 49.994787
A34: Пугачевский | B34: =E34+H34+K34+N34 -> 145985 | C34: =F34+I34+L34+O34 -> 85849 | D34: =C34/B34*100 -> 58.806727 | K34: 145985 | L34: 85849 | M34: =L34/K34*100 -> 58.806727 | N34: 0 | O34: 0
A35: Ровенский | B35: =E35+H35+K35+N35 -> 78553.7 | C35: =F35+I35+L35+O35 -> 39276 | D35: =C35/B35*100 -> 49.998918 | K35: 78553.7 | L35: 39276 | M35: =L35/K35*100 -> 49.998918 | N35: 0 | O35: 0
A36: Романовский | B36: =E36+H36+K36+N36 -> 55940 | C36: =F36+I36+L36+O36 -> 29686 | D36: =C36/B36*100 -> 53.067572 | K36: 55940 | L36: 29686 | M36: =L36/K36*100 -> 53.067572 | N36: 0 | O36: 0
A37: Ртищевский | B37: =E37+H37+K37+N37 -> 138965 | C37: =F37+I37+L37+O37 -> 69480 | D37: =C37/B37*100 -> 49.998201 | K37: 138965 | L37: 69480 | M37: =L37/K37*100 -> 49.998201 | N37: 0 | O37: 0
A38: Самойловский | B38: =E38+H38+K38+N38 -> 55372.4 | C38: =F38+I38+L38+O38 -> 27686 | D38: =C38/B38*100 -> 49.999639 | K38: 54659.3 | L38: 27330 | M38: =L38/K38*100 -> 50.00064 | N38: 713.1 | O38: 356 | P38: =O38/N38*100 -> 49.922872
A39: Саратовский | B39: =E39+H39+K39+N39 -> 0 | C39: =F39+I39+L39+O39 -> 0 | K39: 0 | L39: 0 | N39: 0 | O39: 0
A40: Советский | B40: =E40+H40+K40+N40 -> 41395.4 | C40: =F40+I40+L40+O40 -> 20700 | D40: =C40/B40*100 -> 50.005556 | K40: 35600.7 | L40: 17802 | M40: =L40/K40*100 -> 50.004635 | N40: 5794.7 | O40: 2898 | P40: =O40/N40*100 -> 50.011217
A41: Татищевский | B41: =E41+H41+K41+N41 -> 0 | C41: =F41+I41+L41+O41 -> 0 | K41: 0 | L41: 0 | N41: 0 | O41: 0
...

Sheet Субсидии
AP1: Продолжение таблицы | BK1: Продолжение таблицы | CF1: Продолжение таблицы | CX1: Продолжение таблицы
B2: Сведения о предоставлении из бюджета Саратовской области межбюджетных трансфертов местным бюджетам за I полугодие 2018 года | W2: Сведения о предоставлении из бюджета Саратовской области межбюджетных трансфертов местным бюджетам за I полугодие 2018 года | AR2: Сведения о предоставлении из бюджета Саратовской области межбюджетных трансфертов местным бюджетам за I полугодие 2018 года | BM2: Сведения о предоставлении из бюджета Саратовской области межбюджетных трансфертов местным бюджетам за I полугодие 2018 года | CH2: Сведения о предоставлении из бюджета Саратовской области межбюджетных трансфертов местным бюджетам за I полугодие 2018 года
U4: тыс.рублей | AP4: тыс.рублей | BK4: тыс.рублей | CF4: тыс.рублей | CX4: тыс.рублей
A5: Наименование муниципальных образований | B5: Субсидии, всего | E5: в том числе | W5: в том числе | AR5: в том числе | BM5: в том числе | CH5: в том числе
E6: на создание в дошкольных образовательных организациях, организациях дополнительного образования детей (в том числе в организациях, осуществляющих образовательную деятельность по адаптированным основным общеобразовательным программам) условий для получения детьми-инвалидами качественного образования | H6: субсидии на создание в организациях дополнительного образования детей, организациях дополнительного образования детей (в том числе в организациях, осуществляющих образовательную деятельность по адаптированным основным общеобразовательным программам) условий для получения детьми-инвалидами качественного образования | K6: на создание в общеобразовательных организациях, расположенных в сельской местности, условий для занятий физической культурой и спортом | N6: на софинансирование капитальных вложений в объекты муниципальной собственности | Q6: на реализацию мероприятий по содействию созданию (исходя из прогнозируемой потребности) новых мест в общеобразовательных организациях | T6: на исполнение муниципальных программ в целях реализации мероприятий по стимулированию программ развития жилищного строительства субъектов Российской Федерации в рамках приоритетного проекта «Ипотека и арендное жилье» | W6: на реализацию мероприятий по обеспечению жильем молодых семей | Z6: на поддержку творческой деятельности и укрепление материально-технической базы муниципальных театров в населенных пунктах с численностью населения до 300 тысяч человек | AC6: на поддержку отрасли культуры на комплектование книжных фондов муниципальных общедоступных библиотек | AF6: на поддержку отрасли культуры на подключение муниципальных общедоступных библиотек к информационно-телекоммуникационной сети «Интернет» и развитие библиотечного дела с учетом задачи расширения информационных технологий и оцифровки | AI6: на обеспечение развития и укрепления материально-технической базы домов культуры в населенных пунктах с числом жителей до 50 тысяч человек | AL6: на поддержку отрасли культуры на оснащение музыкальными инструментами детских школ искусств | AO6: на поддержку отрасли культуры на государственную поддержку муниципальных учреждений культуры, находящихся на территории сельских поселений | AR6: на поддержку отрасли культуры на государственную поддержку лучших работников муниципальных учреждений культуры, находящихся на территории сельских поселений | AU6: на строительство и реконструкцию малобюджетных физкультурно-спортивных объектов шаговой доступности, плоскостных сооружений | AX6: на закупку комплектов искусственных покрытий для футбольных полей для спортивных детско-юношеских школ области, включая их доставку и сертификацию полей | BA6: на обеспечение деятельности муниципальных бизнес-инкубаторов | BD6: на софинансирование расходных обязательств по реализации мероприятий муниципальных программ развития малого и среднего предпринимательства монопрофильных муниципальных образований | BG6: на капитальный ремонт, ремонт и содержание автомобильных дорог общего пользования местного значения за счет средств областного дорожного фонда | BJ6: на осуществление дорожной деятельности в отношении автомобильных дорог общего пользования местного значения Саратовской агломерации в границах городских округов области за счет средств областного дорожного фонда | BM6: на комплексное обустройство объектами социальной и инженерной инфраструктуры населенных пунктов, расположенных в сельской местности, на строительство и реконструкцию автомобильных дорог | BP6: на осуществление дорожной деятельности в отношении автомобильных дорог общего пользования местного значения Саратовской агломерации в границах городских поселений области | BS6: на капитальный ремонт, ремонт и содержание автомобильных дорог общего пользования местного значения за счет средств областного дорожного фонда | BV6: на обеспечение расходных обязательств, связанных с повышением оплаты труда отдельным категориям работников бюджетной сферы в целях реализации Указа Президента Российской Федерации от 7 мая 2012 года № 597 «О мероприятиях по реализации государственной социальной политики» и Указа Президента Российской Федерации от 1 июня 2012 года № 761 «О национальной стратегии действий в интересах детей на 2012 - 2017 годы» | BY6: на обеспечение повышения оплаты труда некоторых категорий работников муниципальных учреждений | CB6: на реализацию проектов развития муниципальных образований области, основанных на местных инициативах | CE6: на поддержку муниципальных программ формирования современной городской среды | CH6: на поддержку обустройства мест массового отдыха населения (городских парков) | CK6: на реализацию расходных обязательств, возникающих при выполнении полномочий по решению вопросов местного значения | CN6: на мероприятия по развитию сети общеобразовательных организаций в сельской местности | CQ6: в целях реализации мероприятий в области обращения с отходами | CT6: на реализацию мероприятий по устойчивому развитию сельских территорий за счет средств резервного фонда Правительства Российской Федерации | CW6: на реализацию мероприятий по устойчивому развитию сельских территорий
B7: утвержденные бюджетные назначения | C7: исполнено | D7: % исполнения | E7: утвержденные бюджетные назначения* | F7: исполнено | G7: % исполнения | H7: утвержденные бюджетные назначения* | I7: исполнено | J7: % исполнения | K7: утвержденные бюджетные назначения* | L7: исполнено | M7: % исполнения | N7: утвержденные бюджетные назначения* | O7: исполнено | P7: % исполнения | Q7: утвержденные бюджетные назначения* | R7: исполнено | S7: % исполнения | T7: утвержденные бюджетные назначения* | U7: исполнено | V7: % исполнения | W7: утвержденные бюджетные назначения* | X7: исполнено | Y7: % исполнения | Z7: утвержденные бюджетные назначения* | AA7: исполнено | AB7: % исполнения | AC7: утвержденные бюджетные назначения* | AD7: исполнено | AE7: % исполнения | AF7: утвержденные бюджетные назначения* | AG7: исполнено | AH7: % исполнения | AI7: утвержденные бюджетные назначения* | AJ7: исполнено | AK7: % исполнения | AL7: утвержденные бюджетные назначения* | AM7: исполнено | AN7: % исполнения | AO7: утвержденные бюджетные назначения* | AP7: исполнено | AQ7: % исполнения | AR7: утвержденные бюджетные назначения* | AS7: исполнено | AT7: % исполнения | AU7: утвержденные бюджетные назначения* | AV7: исполнено | AW7: % исполнения | AX7: утвержденные бюджетные назначения* | AY7: исполнено | AZ7: % исполнения | BA7: утвержденные бюджетные назначения* | BB7: исполнено | BC7: % исполнения | BD7: утвержденные бюджетные назначения* | BE7: исполнено | BF7: % исполнения | BG7: утвержденные бюджетные назначения* | BH7: исполнено | BI7: % исполнения | BJ7: утвержденные бюджетные назначения* | BK7: исполнено | BL7: % исполнения | BM7: утвержденные бюджетные назначения* | BN7: исполнено | BO7: % исполнения | BP7: утвержденные бюджетные назначения* | BQ7: исполнено | BR7: % исполнения | BS7: утвержденные бюджетные назначения* | BT7: исполнено | BU7: % исполнения | BV7: утвержденные бюджетные назначения* | BW7: исполнено | BX7: % исполнения | BY7: утвержденные бюджетные назначения* | BZ7: исполнено | CA7: % исполнения | CB7: утвержденные бюджетные назначения* | CC7: исполнено | CD7: % исполнения | CE7: утвержденные бюджетные назначения* | CF7: исполнено | CG7: % исполнения | CH7: утвержденные бюджетные назначения* | CI7: исполнено | CJ7: % исполнения | CK7: утвержденные бюджетные назначения* | CL7: исполнено | CM7: % исполнения | CN7: утвержденные бюджетные назначения** | CO7: исполнено | CP7: % исполнения | CQ7: утвержденные бюджетные назначения* | CR7: исполнено | CS7: % исполнения | CT7: утвержденные бюджетные назначения** | CU7: исполнено | CV7: % исполнения | CW7: утвержденные бюджетные назначения*** | CX7: исполнено | CY7: % исполнения
A8: Муниципальные районы области: | B8: =E8+H8+K8+N8+Q8+T8+W8+Z8+AC8+AF8+AI8+AL8+AO8+AR8+AU8+AX8+BA8+BD8+BG8+BJ8+BM8+BP8+BS8+BV8+BY8+CB8+CE8+CH8+CK8+CN8+CQ8+CT8+CW8 -> 3345152.9 | C8: =F8+I8+L8+O8+R8+U8+X8+AA8+AD8+AG8+AJ8+AM8+AP8+AS8+AV8+AY8+BB8+BE8+BH8+BK8+BN8+BQ8+BT8+BW8+BZ8+CC8+CF8+CI8+CL8+CO8+CR8+CU8+CX8 -> 506161.2 | D8: =C8/B8*100 -> 15.131183 | E8: 0 | F8: 0 | H8: =SUM(H9:H46) -> 1853.9 | I8: =SUM(I9:I46) -> 451.1 | J8: =I8/H8*100 -> 24.332488 | K8: =SUM(K9:K46) -> 19123.3 | L8: =SUM(L9:L46) -> 0 | M8: =L8/K8*100 -> 0 | N8: =SUM(N9:N46) -> 372897.4 | O8: =SUM(O9:O46) -> 0 | P8: =O8/N8*100 -> 0 | Q8: =SUM(Q9:Q46) -> 560151.3 | R8: =SUM(R9:R46) -> 0 | S8: =R8/Q8*100 -> 0 | T8: =SUM(T9:T46) -> 123258.9 | U8: =SUM(U9:U46) -> 0 | V8: =U8/T8*100 -> 0 | W8: =SUM(W9:W46) -> 59144.9 | X8: =SUM(X9:X46) -> 0 | Y8: =X8/W8*100 -> 0 | Z8: =SUM(Z9:Z46) -> 5658.4 | AA8: =SUM(AA9:AA46) -> 5482.6 | AB8: =AA8/Z8*100 -> 96.893115 | AC8: =SUM(AC9:AC46) -> 846.9 | AD8: =SUM(AD9:AD46) -> 516.9 | AE8: =AD8/AC8*100 -> 61.034361 | AF8: =SUM(AF9:AF46) -> 4482.98 | AG8: =SUM(AG9:AG46) -> 2995.8 | AH8: =AG8/AF8*100 -> 66.826084 | AI8: =SUM(AI9:AI46) -> 42214.8 | AJ8: =SUM(AJ9:AJ46) -> 6439.8 | AK8: =AJ8/AI8*100 -> 15.25484 | AL8: =SUM(AL9:AL46) -> 352 | AM8: =SUM(AM9:AM46) -> 50 | AN8: =AM8/AL8*100 -> 14.204545 | AO8: =SUM(AO9:AO46) -> 2300 | AP8: =SUM(AP9:AP46) -> 1645.6 | AQ8: =AP8/AO8*100 -> 71.547826 | AR8: =SUM(AR9:AR46) -> 950 | AS8: =SUM(AS9:AS46) -> 700 | AT8: =AS8/AR8*100 -> 73.684211 | AU8: =SUM(AU9:AU46) -> 0 | AV8: =SUM(AV9:AV46) -> 0 | AX8: =SUM(AX9:AX46) -> 10810.8 | AY8: =SUM(AY9:AY46) -> 0 | AZ8: =AY8/AX8*100 -> 0 | BA8: =SUM(BA9:BA46) -> 4860 | BB8: =SUM(BB9:BB46) -> 2430 | BC8: =BB8/BA8*100 -> 50 | BD8: =SUM(BD9:BD46) -> 0 | BE8: =SUM(BE9:BE46) -> 0 | BG8: =SUM(BG9:BG46) -> 0 | BH8: =SUM(BH9:BH46) -> 0 | BJ8: =SUM(BJ9:BJ46) -> 0 | BK8: =SUM(BK9:BK46) -> 0 | BM8: =SUM(BM9:BM46) -> 3756.2 | BN8: =SUM(BN9:BN46) -> 0 | BO8: =BN8/BM8*100 -> 0 | BP8: =SUM(BP9:BP46) -> 149630 | BQ8: =SUM(BQ9:BQ46) -> 38584.6 | BR8: =BQ8/BP8*100 -> 25.786674 | BS8: =SUM(BS9:BS46) -> 258000 | BT8: =SUM(BT9:BT46) -> 0 | BV8: =SUM(BV9:BV46) -> 541518 | BW8: =SUM(BW9:BW46) -> 217989.7 | BX8: =BW8/BV8*100 -> 40.255301 | BY8: =SUM(BY9:BY46) -> 495673.9 | BZ8: =SUM(BZ9:BZ46) -> 109275.9 | CA8: =BZ8/BY8*100 -> 22.045926 | CB8: =SUM(CB9:CB46) -> 0 | CC8: =SUM(CC9:CC46) -> 0 | CD8: =SUM(CD9:CD46) -> 0 | CE8: =SUM(CE9:CE46) -> 0 | CF8: =SUM(CF9:CF46) -> 0 | CH8: =SUM(CH9:CH46) -> 16274.5 | CI8: =SUM(CI9:CI46) -> 0 | CK8: =SUM(CK9:CK46) -> 627825.1 | CL8: =SUM(CL9:CL46) -> 77625.3 | CM8: =CL8/CK8*100 -> 12.36416 | CN8: =SUM(CN9:CN46) -> 4617.2 | CO8: =SUM(CO9:CO46) -> 4617.2 | CP8: =CO8/CN8*100 -> 100 | CQ8: =SUM(CQ9:CQ46) -> 0 | CR8: =SUM(CR9:CR46) -> 0 | CT8: =SUM(CT9:CT46) -> 37356.7 | CU8: =SUM(CU9:CU46) -> 37356.7 | CV8: =CU8/CT8*100 -> 100 | CW8: =SUM(CW9:CW46) -> 1595.7 | CX8: =SUM(CX9:CX46) -> 0
A9: Александрово-Гайский | B9: =E9+H9+K9+N9+Q9+T9+W9+Z9+AC9+AF9+AI9+AL9+AO9+AR9+AU9+AX9+BA9+BD9+BG9+BJ9+BM9+BP9+BS9+BV9+BY9+CB9+CE9+CH9+CK9+CN9+CQ9+CT9+CW9 -> 49156.88 | C9: =F9+I9+L9+O9+R9+U9+X9+AA9+AD9+AG9+AJ9+AM9+AP9+AS9+AV9+AY9+BB9+BE9+BH9+BK9+BN9+BQ9+BT9+BW9+BZ9+CC9+CF9+CI9+CL9+CO9+CR9+CU9+CX9 -> 6659.2 | D9: =C9/B9*100 -> 13.546832 | H9: 0 | I9: 0 | K9: 0 | L9: 0 | O9: 0 | T9: 0 | U9: 0 | W9: 0 | X9: 0 | Z9: 0 | AA9: 0 | AC9: 8.2 | AD9: 8.2 | AE9: =AD9/AC9*100 -> 100 | AF9: 95.38 | AG9: 95.4 | AH9: =AG9/AF9*100 -> 100.02097 | AI9: 0 | AJ9: 0 | AL9: 0 | AM9: 0 | AO9: 0 | AP9: 0 | AR9: 50 | AS9: 50 | AT9: =AS9/AR9*100 -> 100 | AX9: 0 | AY9: 0 | BM9: 3756.2 | BN9: 0 | BP9: 0 | BQ9: 0 | BS9: 8152.8 | BT9: 0 | BV9: 13517 | BW9: 3907.7 | BX9: 28.9 | BY9: 11305.7 | BZ9: 2597.9 | CA9: 23 | CE9: 0 | CH9: 0 | CI9: 0 | CK9: 12271.6 | CL9: 0 | CM9: 0 | CN9: 0 | CO9: 0
A10: Аркадакский | B10: =E10+H10+K10+N10+Q10+T10+W10+Z10+AC10+AF10+AI10+AL10+AO10+AR10+AU10+AX10+BA10+BD10+BG10+BJ10+BM10+BP10+BS10+BV10+BY10+CB10+CE10+CH10+CK10+CN10+CQ10+CT10+CW10 -> 28441.98 | C10: =F10+I10+L10+O10+R10+U10+X10+AA10+AD10+AG10+AJ10+AM10+AP10+AS10+AV10+AY10+BB10+BE10+BH10+BK10+BN10+BQ10+BT10+BW10+BZ10+CC10+CF10+CI10+CL10+CO10+CR10+CU10+CX10 -> 6480.5 | D10: =C10/B10*100 -> 22.784982 | H10: 0 | I10: 0 | K10: 0 | L10: 0 | O10: 0 | T10: 0 | U10: 0 | W10: 0 | X10: 0 | Z10: 0 | AA10: 0 | AC10: 11.7 | AD10: 0 | AE10: =AD10/AC10*100 -> 0 | AF10: 95.38 | AG10: 0 | AH10: =AG10/AF10*100 -> 0 | AI10: 2900 | AJ10: 0 | AK10: =AJ10/AI10*100 -> 0 | AL10: 0 | AM10: 0 | AO10: 100 | AP10: 0 | AQ10: =AP10/AO10*100 -> 0 | AR10: 0 | AS10: 0 | AX10: 0 | AY10: 0 | BM10: 0 | BN10: 0 | BP10: 0 | BQ10: 0 | BS10: 6475.8 | BT10: 0 | BV10: 10756 | BW10: 4642.4 | BX10: 43.2 | BY10: 7610 | BZ10: 1638.1 | CA10: 21.5 | CE10: 0 | CH10: 0 | CI10: 0 | CK10: 493.1 | CL10: 200 | CM10: 40.6 | CN10: 0 | CO10: 0
A11: Аткарский | B11: =E11+H11+K11+N11+Q11+T11+W11+Z11+AC11+AF11+AI11+AL11+AO11+AR11+AU11+AX11+BA11+BD11+BG11+BJ11+BM11+BP11+BS11+BV11+BY11+CB11+CE11+CH11+CK11+CN11+CQ11+CT11+CW11 -> 52532.86 | C11: =F11+I11+L11+O11+R11+U11+X11+AA11+AD11+AG11+AJ11+AM11+AP11+AS11+AV11+AY11+BB11+BE11+BH11+BK11+BN11+BQ11+BT11+BW11+BZ11+CC11+CF11+CI11+CL11+CO11+CR11+CU11+CX11 -> 14280.5 | D11: =C11/B11*100 -> 27.183938 | H11: 0 | I11: 0 | K11: 0 | L11: 0 | O11: 0 | T11: 0 | U11: 0 | W11: 264.1 | X11: 0 | Z11: 0 | AA11: 0 | AC11: 21 | AD11: 21 | AE11: =AD11/AC11*100 -> 100 | AF11: 190.76 | AG11: 190.8 | AH11: =AG11/AF11*100 -> 100.02097 | AI11: 2823.8 | AJ11: 637.7 | AK11: =AJ11/AI11*100 -> 22.583044 | AL11: 0 | AM11: 0 | AO11: 100 | AP11: 100 | AQ11: =AP11/AO11*100 -> 100 | AR11: 0 | AS11: 0 | AX11: 0 | AY11: 0 | BM11: 0 | BN11: 0 | BP11: 0 | BQ11: 0 | BS11: 9081.6 | BT11: 0 | BV11: 14509 | BW11: 7219.7 | BX11: 49.8 | BY11: 21670.3 | BZ11: 4811.3 | CA11: 22.2 | CE11: 0 | CH11: 0 | CI11: 0 | CK11: 3872.3 | CL11: 1300 | CM11: 33.6 | CO11: 0
A12: Базарно-Карабулакский | B12: =E12+H12+K12+N12+Q12+T12+W12+Z12+AC12+AF12+AI12+AL12+AO12+AR12+AU12+AX12+BA12+BD12+BG12+BJ12+BM12+BP12+BS12+BV12+BY12+CB12+CE12+CH12+CK12+CN12+CQ12+CT12+CW12 -> 36623.18 | C12: =F12+I12+L12+O12+R12+U12+X12+AA12+AD12+AG12+AJ12+AM12+AP12+AS12+AV12+AY12+BB12+BE12+BH12+BK12+BN12+BQ12+BT12+BW12+BZ12+CC12+CF12+CI12+CL12+CO12+CR12+CU12+CX12 -> 7918.9 | D12: =C12/B12*100 -> 21.622644 | H12: 0 | I12: 0 | K12: 1400 | L12: 0 | O12: 0 | T12: 0 | U12: 0 | W12: 364.2 | X12: 0 | Z12: 0 | AA12: 0 | AC12: 15 | AD12: 15 | AE12: =AD12/AC12*100 -> 100 | AF12: 95.38 | AG12: 95.4 | AH12: =AG12/AF12*100 -> 100.02097 | AI12: 0 | AJ12: 0 | AL12: 0 | AM12: 0 | AO12: 100 | AP12: 100 | AQ12: =AP12/AO12*100 -> 100 | AR12: 0 | AS12: 0 | AX12: 0 | AY12: 0 | BM12: 0 | BN12: 0 | BP12: 0 | BQ12: 0 | BS12: 5959.8 | BT12: 0 | BV12: 14878 | BW12: 6724.6 | BX12: 45.2 | BY12: 6273.2 | BZ12: 983.9 | CA12: 15.7 | CE12: 0 | CH12: 0 | CI12: 0 | CK12: 7537.6 | CL12: 0 | CM12: 0 | CO12: 0
A13: Балаковский | B13: =E13+H13+K13+N13+Q13+T13+W13+Z13+AC13+AF13+AI13+AL13+AO13+AR13+AU13+AX13+BA13+BD13+BG13+BJ13+BM13+BP13+BS13+BV13+BY13+CB13+CE13+CH13+CK13+CN13+CQ13+CT13+CW13 -> 84632.56 | C13: =F13+I13+L13+O13+R13+U13+X13+AA13+AD13+AG13+AJ13+AM13+AP13+AS13+AV13+AY13+BB13+BE13+BH13+BK13+BN13+BQ13+BT13+BW13+BZ13+CC13+CF13+CI13+CL13+CO13+CR13+CU13+CX13 -> 17612.2 | D13: =C13/B13*100 -> 20.810194 | H13: 0 | I13: 0 | K13: 0 | L13: 0 | O13: 0 | T13: 0 | U13: 0 | W13: 7732 | X13: 0 | Z13: 0 | AA13: 0 | AC13: 110 | AD13: 0 | AE13: =AD13/AC13*100 -> 0 | AF13: 190.76 | AG13: 0 | AH13: =AG13/AF13*100 -> 0 | AI13: 0 | AJ13: 0 | AL13: 52 | AM13: 0 | AO13: 0 | AP13: 0 | AR13: 0 | AS13: 0 | AX13: 0 | AY13: 0 | BA13: 4860 | BB13: 2430 | BC13: =BB13/BA13*100 -> 50 | BM13: 0 | BN13: 0 | BP13: 0 | BQ13: 0 | BS13: 11971.2 | BT13: 0 | BV13: 11083 | BW13: 5510.4 | BX13: 49.7 | BY13: 48633.6 | BZ13: 9671.8 | CA13: 19.9 | CE13: 0 | CH13: 0 | CI13: 0 | CK13: 0 | CL13: 0
A14: Балашовский | B14: =E14+H14+K14+N14+Q14+T14+W14+Z14+AC14+AF14+AI14+AL14+AO14+AR14+AU14+AX14+BA14+BD14+BG14+BJ14+BM14+BP14+BS14+BV14+BY14+CB14+CE14+CH14+CK14+CN14+CQ14+CT14+CW14 -> 199000.16 | C14: =F14+I14+L14+O14+R14+U14+X14+AA14+AD14+AG14+AJ14+AM14+AP14+AS14+AV14+AY14+BB14+BE14+BH14+BK14+BN14+BQ14+BT14+BW14+BZ14+CC14+CF14+CI14+CL14+CO14+CR14+CU14+CX14 -> 64794.1 | D14: =C14/B14*100 -> 32.559823 | H14: 0 | I14: 0 | K14: 0 | L14: 0 | O14: 0 | T14: 0 | U14: 0 | W14: 4730.1 | X14: 0 | Z14: 5658.4 | AA14: 5482.6 | AB14: =AA14/Z14*100 -> 96.893115 | AC14: 55.7 | AD14: 0 | AE14: =AD14/AC14*100 -> 0 | AF14: 190.76 | AG14: 0 | AH14: =AG14/AF14*100 -> 0 | AI14: 2800 | AJ14: 400 | AK14: =AJ14/AI14*100 -> 14.285714 | AL14: 0 | AM14: 0 | AO14: 200 | AP14: 100 | AQ14: =AP14/AO14*100 -> 50 | AR14: 0 | AS14: 0 | AX14: 0 | AY14: 0 | BM14: 0 | BN14: 0 | BP14: 0 | BQ14: 0 | BS14: 11171.4 | BT14: 0 | BV14: 47799 | BW14: 19935.6 | BX14: 41.7 | BY14: 26394.8 | BZ14: 5575.9 | CA14: 21.1 | CE14: 0 | CH14: 0 | CI14: 0 | CK14: 100000 | CL14: 33300 | CM14: 33.3 | CO14: 0
A15: Балтайский | B15: =E15+H15+K15+N15+Q15+T15+W15+Z15+AC15+AF15+AI15+AL15+AO15+AR15+AU15+AX15+BA15+BD15+BG15+BJ15+BM15+BP15+BS15+BV15+BY15+CB15+CE15+CH15+CK15+CN15+CQ15+CT15+CW15 -> 41551.28 | C15: =F15+I15+L15+O15+R15+U15+X15+AA15+AD15+AG15+AJ15+AM15+AP15+AS15+AV15+AY15+BB15+BE15+BH15+BK15+BN15+BQ15+BT15+BW15+BZ15+CC15+CF15+CI15+CL15+CO15+CR15+CU15+CX15 -> 3916.9 | D15: =C15/B15*100 -> 9.4266651 | H15: 0 | I15: 0 | K15: 1500 | L15: 0 | O15: 0 | T15: 0 | U15: 0 | W15: 0 | X15: 0 | Z15: 0 | AA15: 0 | AC15: 5.9 | AD15: 0 | AE15: =AD15/AC15*100 -> 0 | AF15: 95.38 | AG15: 0 | AH15: =AG15/AF15*100 -> 0 | AI15: 2837.1 | AJ15: 0 | AK15: =AJ15/AI15*100 -> 0 | AL15: 0 | AM15: 0 | AO15: 0 | AP15: 0 | AR15: 50 | AS15: 50 | AT15: =AS15/AR15*100 -> 100 | AX15: 0 | AY15: 0 | BM15: 0 | BN15: 0 | BP15: 0 | BQ15: 0 | BS15: 2915.4 | BT15: 0 | BV15: 7723 | BW15: 2240.2 | BX15: 29 | BY15: 4463.4 | BZ15: 1626.7 | CA15: 36.4 | CE15: 0 | CH15: 0 | CI15: 0 | CK15: 21961.1 | CL15: 0 | CM15: 0 | CN15: 0 | CO15: 0
A16: Вольский | B16: =E16+H16+K16+N16+Q16+T16+W16+Z16+AC16+AF16+AI16+AL16+AO16+AR16+AU16+AX16+BA16+BD16+BG16+BJ16+BM16+BP16+BS16+BV16+BY16+CB16+CE16+CH16+CK16+CN16+CQ16+CT16+CW16 -> 104168.76 | C16: =F16+I16+L16+O16+R16+U16+X16+AA16+AD16+AG16+AJ16+AM16+AP16+AS16+AV16+AY16+BB16+BE16+BH16+BK16+BN16+BQ16+BT16+BW16+BZ16+CC16+CF16+CI16+CL16+CO16+CR16+CU16+CX16 -> 23943.5 | D16: =C16/B16*100 -> 22.985298 | H16: 0 | I16: 0 | K16: 0 | L16: 0 | O16: 0 | T16: 0 | U16: 0 | W16: 4024.2 | X16: 0 | Z16: 0 | AA16: 0 | AC16: 46.7 | AD16: 46.6 | AE16: =AD16/AC16*100 -> 99.785867 | AF16: 190.76 | AG16: 190.8 | AH16: =AG16/AF16*100 -> 100.02097 | AI16: 2852.4 | AJ16: 855.7 | AK16: =AJ16/AI16*100 -> 29.999299 | AL16: 0 | AM16: 0 | AO16: 100 | AP16: 100 | AQ16: =AP16/AO16*100 -> 100 | AR16: 50 | AS16: 50 | AT16: =AS16/AR16*100 -> 100 | AX16: 0 | AY16: 0 | BM16: 0 | BN16: 0 | BP16: 0 | BQ16: 0 | BS16: 10216.8 | BT16: 0 | BV16: 27191 | BW16: 14995.5 | BX16: 55.1 | BY16: 41411 | BZ16: 7704.9 | CA16: 18.6 | CE16: 0 | CH16: 0 | CI16: 0 | CK16: 18085.9 | CL16: 0 | CM16: 0 | CN16: 0 | CO16: 0
A17: Воскресенский | B17: =E17+H17+K17+N17+Q17+T17+W17+Z17+AC17+AF17+AI17+AL17+AO17+AR17+AU17+AX17+BA17+BD17+BG17+BJ17+BM17+BP17+BS17+BV17+BY17+CB17+CE17+CH17+CK17+CN17+CQ17+CT17+CW17 -> 29849.88 | C17: =F17+I17+L17+O17+R17+U17+X17+AA17+AD17+AG17+AJ17+AM17+AP17+AS17+AV17+AY17+BB17+BE17+BH17+BK17+BN17+BQ17+BT17+BW17+BZ17+CC17+CF17+CI17+CL17+CO17+CR17+CU17+CX17 -> 3603.4 | D17: =C17/B17*100 -> 12.07174 | H17: 0 | I17: 0 | K17: 0 | L17: 0 | O17: 0 | T17: 0 | U17: 0 | W17: 0 | X17: 0 | Z17: 0 | AA17: 0 | AC17: 6.2 | AD17: 0 | AE17: =AD17/AC17*100 -> 0 | AF17: 95.38 | AG17: 0 | AH17: =AG17/AF17*100 -> 0 | AI17: 2800 | AJ17: 149.8 | AK17: =AJ17/AI17*100 -> 5.35 | AL17: 0 | AM17: 0 | AO17: 0 | AP17: 0 | AR17: 0 | AS17: 0 | AX17: 0 | AY17: 0 | BM17: 0 | BN17: 0 | BP17: 0 | BQ17: 0 | BS17: 2528.4 | BT17: 0 | BV17: 6634 | BW17: 2490.5 | BX17: 37.5 | BY17: 4942.7 | BZ17: 963.1 | CA17: 19.5 | CE17: 0 | CH17: 0 | CI17: 0 | CK17: 12843.2 | CL17: 0 | CM17: 0 | CN17: 0 | CO17: 0
A18: Дергачевский | B18: =E18+H18+K18+N18+Q18+T18+W18+Z18+AC18+AF18+AI18+AL18+AO18+AR18+AU18+AX18+BA18+BD18+BG18+BJ18+BM18+BP18+BS18+BV18+BY18+CB18+CE18+CH18+CK18+CN18+CQ18+CT18+CW18 -> 36288.98 | C18: =F18+I18+L18+O18+R18+U18+X18+AA18+AD18+AG18+AJ18+AM18+AP18+AS18+AV18+AY18+BB18+BE18+BH18+BK18+BN18+BQ18+BT18+BW18+BZ18+CC18+CF18+CI18+CL18+CO18+CR18+CU18+CX18 -> 6243.9 | D18: =C18/B18*100 -> 17.20605 | H18: 0 | I18: 0 | K18: 1000 | L18: 0 | O18: 0 | T18: 0 | U18: 0 | W18: 889.7 | X18: 0 | Z18: 0 | AA18: 0 | AC18: 9.7 | AD18: 0 | AE18: =AD18/AC18*100 -> 0 | AF18: 95.38 | AG18: 0 | AH18: =AG18/AF18*100 -> 0 | AI18: 0 | AJ18: 0 | AL18: 0 | AM18: 0 | AO18: 100 | AP18: 0 | AQ18: =AP18/AO18*100 -> 0 | AR18: 0 | AS18: 0 | AX18: 0 | AY18: 0 | BM18: 0 | BN18: 0 | BP18: 0 | BQ18: 0 | BS18: 5418 | BT18: 0 | BV18: 8699 | BW18: 4207 | BX18: 48.4 | BY18: 7835.2 | BZ18: 2036.9 | CA18: 26 | CE18: 0 | CH18: 0 | CI18: 0 | CK18: 12242 | CL18: 0 | CM18: 0 | CN18: 0 | CO18: 0
A19: Духовницкий | B19: =E19+H19+K19+N19+Q19+T19+W19+Z19+AC19+AF19+AI19+AL19+AO19+AR19+AU19+AX19+BA19+BD19+BG19+BJ19+BM19+BP19+BS19+BV19+BY19+CB19+CE19+CH19+CK19+CN19+CQ19+CT19+CW19 -> 32913.18 | C19: =F19+I19+L19+O19+R19+U19+X19+AA19+AD19+AG19+AJ19+AM19+AP19+AS19+AV19+AY19+BB19+BE19+BH19+BK19+BN19+BQ19+BT19+BW19+BZ19+CC19+CF19+CI19+CL19+CO19+CR19+CU19+CX19 -> 4655.1 | D19: =C19/B19*100 -> 14.143574 | H19: 0 | I19: 0 | K19: 0 | L19: 0 | O19: 0 | T19: 0 | U19: 0 | W19: 208.7 | X19: 0 | Z19: 0 | AA19: 0 | AC19: 6.1 | AD19: 6.1 | AE19: =AD19/AC19*100 -> 100 | AF19: 95.38 | AG19: 95.4 | AH19: =AG19/AF19*100 -> 100.02097 | AI19: 2800 | AJ19: 840 | AK19: =AJ19/AI19*100 -> 30 | AL19: 0 | AM19: 0 | AO19: 100 | AP19: 100 | AQ19: =AP19/AO19*100 -> 100 | AR19: 0 | AS19: 0 | AX19: 0 | AY19: 0 | BM19: 0 | BN19: 0 | BP19: 0 | BQ19: 0 | BS19: 3018.6 | BT19: 0 | BV19: 7894 | BW19: 2531.1 | BX19: 32.1 | BY19: 5411.9 | BZ19: 1010.2 | CA19: 18.7 | CE19: 0 | CH19: 0 | CI19: 0 | CK19: 13378.5 | CL19: 72.3 | CM19: 0.5 | CN19: 0 | CO19: 0
A20: Екатериновский | B20: =E20+H20+K20+N20+Q20+T20+W20+Z20+AC20+AF20+AI20+AL20+AO20+AR20+AU20+AX20+BA20+BD20+BG20+BJ20+BM20+BP20+BS20+BV20+BY20+CB20+CE20+CH20+CK20+CN20+CQ20+CT20+CW20 -> 47850.38 | C20: =F20+I20+L20+O20+R20+U20+X20+AA20+AD20+AG20+AJ20+AM20+AP20+AS20+AV20+AY20+BB20+BE20+BH20+BK20+BN20+BQ20+BT20+BW20+BZ20+CC20+CF20+CI20+CL20+CO20+CR20+CU20+CX20 -> 12551.4 | D20: =C20/B20*100 -> 26.230513 | H20: 0 | I20: 0 | K20: 1000 | L20: 0 | O20: 0 | T20: 0 | U20: 0 | W20: 242.4 | X20: 0 | Z20: 0 | AA20: 0 | AC20: 9.7 | AD20: 9.7 | AE20: =AD20/AC20*100 -> 100 | AF20: 95.38 | AG20: 95.4 | AH20: =AG20/AF20*100 -> 100.02097 | AI20: 2850 | AJ20: 850.1 | AK20: =AJ20/AI20*100 -> 29.82807 | AL20: 50 | AM20: 50 | AN20: =AM20/AL20*100 -> 100 | AO20: 100 | AP20: 45.6 | AQ20: =AP20/AO20*100 -> 45.6 | AR20: 0 | AS20: 0 | AX20: 0 | AY20: 0 | BM20: 0 | BN20: 0 | BP20: 0 | BQ20: 0 | BS20: 4437.6 | BT20: 0 | BV20: 14946 | BW20: 5538.6 | BX20: 37.1 | BY20: 7392.6 | BZ20: 1293.1 | CA20: 17.5 | CE20: 0 | CH20: 0 | CI20: 0 | CK20: 16726.7 | CL20: 4668.9 | CM20: 27.9 | CN20: 0 | CO20: 0
A21: Ершовский | B21: =E21+H21+K21+N21+Q21+T21+W21+Z21+AC21+AF21+AI21+AL21+AO21+AR21+AU21+AX21+BA21+BD21+BG21+BJ21+BM21+BP21+BS21+BV21+BY21+CB21+CE21+CH21+CK21+CN21+CQ21+CT21+CW21 -> 51188.46 | C21: =F21+I21+L21+O21+R21+U21+X21+AA21+AD21+AG21+AJ21+AM21+AP21+AS21+AV21+AY21+BB21+BE21+BH21+BK21+BN21+BQ21+BT21+BW21+BZ21+CC21+CF21+CI21+CL21+CO21+CR21+CU21+CX21 -> 8276 | D21: =C21/B21*100 -> 16.167707 | H21: 0 | I21: 0 | K21: 1100 | L21: 0 | O21: 0 | T21: 0 | U21: 0 | W21: 320.4 | X21: 0 | Z21: 0 | AA21: 0 | AC21: 19.4 | AD21: 19.4 | AE21: =AD21/AC21*100 -> 100 | AF21: 190.76 | AG21: 166.8 | AH21: =AG21/AF21*100 -> 87.439715 | AI21: 2600 | AJ21: 200 | AK21: =AJ21/AI21*100 -> 7.6923077 | AL21: 0 | AM21: 0 | AO21: 100 | AP21: 100 | AQ21: =AP21/AO21*100 -> 100 | AR21: 100 | AS21: 100 | AT21: =AS21/AR21*100 -> 100 | AX21: 0 | AY21: 0 | BM21: 0 | BN21: 0 | BP21: 0 | BQ21: 0 | BS21: 7817.4 | BT21: 0 | BV21: 20209 | BW21: 4716.7 | BX21: 23.3 | BY21: 16871.4 | BZ21: 2973.1 | CA21: 17.6 | CE21: 0 | CH21: 0 | CI21: 0 | CK21: 1860.1 | CL21: 0 | CM21: 0 | CN21: 0 | CO21: 0
A22: Ивантеевский | B22: =E22+H22+K22+N22+Q22+T22+W22+Z22+AC22+AF22+AI22+AL22+AO22+AR22+AU22+AX22+BA22+BD22+BG22+BJ22+BM22+BP22+BS22+BV22+BY22+CB22+CE22+CH22+CK22+CN22+CQ22+CT22+CW22 -> 37260.08 | C22: =F22+I22+L22+O22+R22+U22+X22+AA22+AD22+AG22+AJ22+AM22+AP22+AS22+AV22+AY22+BB22+BE22+BH22+BK22+BN22+BQ22+BT22+BW22+BZ22+CC22+CF22+CI22+CL22+CO22+CR22+CU22+CX22 -> 8697.2 | D22: =C22/B22*100 -> 23.341872 | H22: 0 | I22: 0 | K22: 0 | L22: 0 | O22: 0 | T22: 0 | U22: 0 | W22: 0 | X22: 0 | Z22: 0 | AA22: 0 | AC22: 7.2 | AD22: 7.2 | AE22: =AD22/AC22*100 -> 100 | AF22: 95.38 | AG22: 95.4 | AH22: =AG22/AF22*100 -> 100.02097 | AI22: 2954.3 | AJ22: 886.3 | AK22: =AJ22/AI22*100 -> 30.000338 | AL22: 0 | AM22: 0 | AO22: 0 | AP22: 0 | AR22: 50 | AS22: 50 | AT22: =AS22/AR22*100 -> 100 | AX22: 0 | AY22: 0 | BM22: 0 | BN22: 0 | BP22: 0 | BQ22: 0 | BS22: 4540.8 | BT22: 0 | BV22: 11097 | BW22: 4654 | BX22: 41.9 | BY22: 6244.2 | BZ22: 1676.1 | CA22: 26.8 | CE22: 0 | CH22: 0 | CI22: 0 | CK22: 12271.2 | CL22: 1328.2 | CM22: 10.8 | CN22: 0 | CO22: 0
A23: Калининский | B23: =E23+H23+K23+N23+Q23+T23+W23+Z23+AC23+AF23+AI23+AL23+AO23+AR23+AU23+AX23+BA23+BD23+BG23+BJ23+BM23+BP23+BS23+BV23+BY23+CB23+CE23+CH23+CK23+CN23+CQ23+CT23+CW23 -> 40210.98 | C23: =F23+I23+L23+O23+R23+U23+X23+AA23+AD23+AG23+AJ23+AM23+AP23+AS23+AV23+AY23+BB23+BE23+BH23+BK23+BN23+BQ23+BT23+BW23+BZ23+CC23+CF23+CI23+CL23+CO23+CR23+CU23+CX23 -> 4861.5 | D23: =C23/B23*100 -> 12.089981 | H23: 0 | I23: 0 | K23: 1000 | L23: 0 | O23: 0 | T23: 0 | U23: 0 | W23: 569.6 | X23: 0 | Z23: 0 | AA23: 0 | AC23: 16.1 | AD23: 13.8 | AE23: =AD23/AC23*100 -> 85.714286 | AF23: 95.38 | AG23: 95.4 | AH23: =AG23/AF23*100 -> 100.02097 | AI23: 0 | AJ23: 0 | AL23: 0 | AM23: 0 | AO23: 100 | AP23: 0 | AQ23: =AP23/AO23*100 -> 0 | AR23: 50 | AS23: 50 | AT23: =AS23/AR23*100 -> 100 | AX23: 0 | AY23: 0 | BM23: 0 | BN23: 0 | BP23: 0 | BQ23: 0 | BS23: 7017.6 | BT23: 0 | BV23: 10121 | BW23: 3126.3 | BX23: 30.9 | BY23: 6453.2 | BZ23: 1576 | CA23: 24.4 | CE23: 0 | CH23: 0 | CI23: 0 | CK23: 14788.1 | CL23: 0 | CM23: 0 | CN23: 0 | CO23: 0
A24: Красноармейский | B24: =E24+H24+K24+N24+Q24+T24+W24+Z24+AC24+AF24+AI24+AL24+AO24+AR24+AU24+AX24+BA24+BD24+BG24+BJ24+BM24+BP24+BS24+BV24+BY24+CB24+CE24+CH24+CK24+CN24+CQ24+CT24+CW24 -> 60860.96 | C24: =F24+I24+L24+O24+R24+U24+X24+AA24+AD24+AG24+AJ24+AM24+AP24+AS24+AV24+AY24+BB24+BE24+BH24+BK24+BN24+BQ24+BT24+BW24+BZ24+CC24+CF24+CI24+CL24+CO24+CR24+CU24+CX24 -> 11641.8 | D24: =C24/B24*100 -> 19.128519 | H24: 0 | I24: 0 | K24: 1000 | L24: 0 | O24: 0 | T24: 0 | U24: 0 | W24: 231.3 | X24: 0 | Z24: 0 | AA24: 0 | AC24: 24.1 | AD24: 0 | AE24: =AD24/AC24*100 -> 0 | AF24: 190.76 | AG24: 190.8 | AH24: =AG24/AF24*100 -> 100.02097 | AI24: 0 | AJ24: 0 | AL24: 0 | AM24: 0 | AO24: 0 | AP24: 0 | AR24: 50 | AS24: 50 | AT24: =AS24/AR24*100 -> 100 | AX24: 0 | AY24: 0 | BM24: 0 | BN24: 0 | BP24: 0 | BQ24: 0 | BS24: 10294.2 | BT24: 0 | BV24: 16940 | BW24: 7010.4 | BX24: 41.4 | BY24: 12159 | BZ24: 4390.6 | CA24: 36.1 | CE24: 0 | CH24: 0 | CI24: 0 | CK24: 19971.6 | CL24: 0 | CM24: 0 | CN24: 0 | CO24: 0
A25: Краснокутский | B25: =E25+H25+K25+N25+Q25+T25+W25+Z25+AC25+AF25+AI25+AL25+AO25+AR25+AU25+AX25+BA25+BD25+BG25+BJ25+BM25+BP25+BS25+BV25+BY25+CB25+CE25+CH25+CK25+CN25+CQ25+CT25+CW25 -> 40416.18 | C25: =F25+I25+L25+O25+R25+U25+X25+AA25+AD25+AG25+AJ25+AM25+AP25+AS25+AV25+AY25+BB25+BE25+BH25+BK25+BN25+BQ25+BT25+BW25+BZ25+CC25+CF25+CI25+CL25+CO25+CR25+CU25+CX25 -> 12328.9 | D25: =C25/B25*100 -> 30.504862 | H25: 0 | I25: 0 | K25: 0 | L25: 0 | O25: 0 | T25: 0 | U25: 0 | W25: 676.2 | X25: 0 | Z25: 0 | AA25: 0 | AC25: 17.7 | AD25: 17.7 | AE25: =AD25/AC25*100 -> 100 | AF25: 95.38 | AG25: 95.4 | AH25: =AG25/AF25*100 -> 100.02097 | AI25: 2800 | AJ25: 840 | AK25: =AJ25/AI25*100 -> 30 | AL25: 0 | AM25: 0 | AO25: 0 | AP25: 0 | AR25: 100 | AS25: 100 | AT25: =AS25/AR25*100 -> 100 | AX25: 0 | AY25: 0 | BM25: 0 | BN25: 0 | BP25: 0 | BQ25: 0 | BS25: 5805 | BT25: 0 | BV25: 20506 | BW25: 8192.1 | BX25: 39.9 | BY25: 10415.9 | BZ25: 3083.7 | CA25: 29.6 | CE25: 0 | CH25: 0 | CI25: 0 | CK25: 0 | CL25: 0 | CN25: 0 | CO25: 0
A26: Краснопартизанский | B26: =E26+H26+K26+N26+Q26+T26+W26+Z26+AC26+AF26+AI26+AL26+AO26+AR26+AU26+AX26+BA26+BD26+BG26+BJ26+BM26+BP26+BS26+BV26+BY26+CB26+CE26+CH26+CK26+CN26+CQ26+CT26+CW26 -> 29828.68 | C26: =F26+I26+L26+O26+R26+U26+X26+AA26+AD26+AG26+AJ26+AM26+AP26+AS26+AV26+AY26+BB26+BE26+BH26+BK26+BN26+BQ26+BT26+BW26+BZ26+CC26+CF26+CI26+CL26+CO26+CR26+CU26+CX26 -> 3415.3 | D26: =C26/B26*100 -> 11.449719 | H26: 0 | I26: 0 | K26: 0 | L26: 0 | O26: 0 | T26: 0 | U26: 0 | W26: 0 | X26: 0 | Z26: 0 | AA26: 0 | AC26: 7.1 | AD26: 7.1 | AE26: =AD26/AC26*100 -> 100 | AF26: 95.38 | AG26: 0 | AH26: =AG26/AF26*100 -> 0 | AI26: 0 | AJ26: 0 | AL26: 0 | AM26: 0 | AO26: 100 | AP26: 0 | AQ26: =AP26/AO26*100 -> 0 | AR26: 0 | AS26: 0 | AX26: 0 | AY26: 0 | BM26: 0 | BN26: 0 | BP26: 0 | BQ26: 0 | BS26: 5392.2 | BT26: 0 | BV26: 5500 | BW26: 1611.7 | BX26: 29.3 | BY26: 6217.3 | BZ26: 1796.5 | CA26: 28.9 | CE26: 0 | CH26: 0 | CI26: 0 | CK26: 12516.7 | CL26: 0 | CM26: 0 | CN26: 0 | CO26: 0
