Workbook

Sheet Итого по видам (распредел.) 
A1: Сведения о предоставлении из бюджета Саратовской области межбюджетных трансфертов местным бюджетам
A2: за I полугодие 2019 года
F3: тыс. рублей
A4: № п/п | B4: Наименование | C4: Код бюджетной классификации | D4: Утвержденные бюджетные назначения* | E4: Исполнение | F4: % исполнения
A5: 1 | B5: 2 | C5: 3 | D5: 4 | E5: 5 | F5: 6
A6: 1. | B6: Дотации - всего | D6: =SUM(D7:D11) -> 3668652.3 | E6: =SUM(E7:E11) -> 1818631.5 | F6: =E6/D6*100 -> 49.572196
A7: 1.1. | B7: Дотации бюджетам городских округов области, связанные с особым режимом безопасного функционирования закрытых административно-территориальных образований | C7: 000 1401 6640150100 511 | D7: =Дотации!E52 -> 41021 | E7: =Дотации!F52 -> 20510 | F7: =E7/D7*100 -> 49.998781
A8: 1.2. | B8: Дотации в целях обеспечения сбалансированности бюджетов городских округов Шиханы и Михайловский | C8: 000 1402 6640150030 511 000 1402 6640151430 511 | D8: =Дотации!H52 -> 57696 | E8: =Дотации!I52 -> 28848
A9: 1.3. | B9: Дотации на выравнивание бюджетной обеспеченности поселений области | C9: 000 1401 6640170100 511 | D9: =Дотации!K52 -> 40443.5 | E9: =Дотации!L52 -> 19212 | F9: =E9/D9*100 -> 47.503307
A10: 1.4. | B10: Дотации на выравнивание бюджетной обеспеченности муниципальных районов (городских округов) области | C10: 000 1401 6640170200 511 | D10: =Дотации!N52 -> 3284869.7 | E10: =Дотации!O52 -> 1633871.5 | F10: =E10/D10*100 -> 49.739309
A11: 1.5. | B11: Дотации на поддержку мер по обеспечению сбалансированности бюджетов | C11: 000 1401 6640170300 511 | D11: =Дотации!Q52 -> 244622.1 | E11: =Дотации!R52 -> 116190 | F11: =E11/D11*100 -> 47.497753
A12: 2. | B12: Субсидии - всего | D12: =SUM(D13:D49) -> 8453141.4 | E12: =SUM(E13:E49) -> 1471882.1 | F12: =E12/D12*100 -> 17.412249
A13: 2.1. | B13: Субсидии на создание в дошкольных образовательных организациях дополнительного образования детей (в том числе в организациях, осуществляющих образовательную деятельность по адаптированным основным общеобразовательным программам) условий для получения детьми-инвалидами качественного образования | C13: 000 0701 5A106R0270 520 | D13: =Субсидии!E299 -> 1573 | E13: =Субсидии!F299 -> 0 | F13: =E13/D13*100 -> 0
A14: 2.2. | B14: Субсидии на создание в организациях дополнительного образования детей, организациях дополнительного образования детей (в том числе в организациях, осуществляющих образовательную деятельность по адаптированным основным общеобразовательным программам) условий для получения детьми-инвалидами качественного образования | C14: 000 0703 5A214R0270 520 | D14: =Субсидии!H299 -> 1573.1 | E14: =Субсидии!I299 -> 0 | F14: =E14/D14*100 -> 0
A15: 2.3. | B15: Субсидии на создание в общеобразовательных организациях, расположенных в сельской местности, условий для занятий физической культурой и спортом | C15: 000 0702 5A2E250970 521 | D15: =Субсидии!K299 -> 18906.9 | E15: =Субсидии!L299 -> 445.98612 | F15: =E15/D15*100 -> 2.3588538
A16: 2.4. | B16: Субсидии на реализацию мероприятий по содействию созданию (исходя из прогнозируемой потребности) новых мест в общеобразовательных организациях | C16: 000 0702 5A2E155200 520 | D16: =Субсидии!N299 -> 309650 | E16: =Субсидии!O299 -> 229617 | F16: =E16/D16*100 -> 74.153722
A17: 2.5. | B17: Субсидии на обеспечение жильем молодых семей | C17: 000 1004 5E301R4970 520 | D17: =Субсидии!Q299 -> 78768.8 | E17: =Субсидии!R299 -> 56595.343 | F17: =E17/D17*100 -> 71.84995
A18: 2.6. | B18: Субсидии на поддержку творческой деятельности и укрепление материально-технической базы муниципальных театров в населенных пунктах с численностью населения до 300 тысяч человек 7* | C18: 000 0801 55206R4660 520 | D18: =Субсидии!T299 -> 11316.7 | E18: =Субсидии!U299 -> 6618.3 | F18: =E18/D18*100 -> 58.482597
A19: 2.7. | B19: Субсидии на поддержку отрасли культуры на комплектование книжных фондов муниципальных общедоступных библиотек 7* | C19: 000 0801 55402R5191 520 | D19: =Субсидии!W299 -> 1268.9888 | E19: =Субсидии!X299 -> 1248.4192 | F19: =E19/D19*100 -> 98.379057
A20: 2.8. | B20: Субсидии на поддержку отрасли культуры на подключение муниципальных общедоступных библиотек к информационно-телекоммуникационной сети «Интернет» и развитие библиотечного дела с учетом задачи расширения информационных технологий и оцифровки 7* | C20: 000 0801 55405R5193 520 | D20: =Субсидии!Z299 -> 4766.4045 | E20: =Субсидии!AA299 -> 4623.0805 | F20: =E20/D20*100 -> 96.993037
A21: 2.9. | B21: Субсидии на обеспечение развития и укрепления материально-технической базы домов культуры в населенных пунктах с числом жителей до 50 тысяч человек 7* | C21: 000 0801 55A12R4670 521 | D21: =Субсидии!AC299 -> 47678.764 | E21: =Субсидии!AD299 -> 12283.592 | F21: =E21/D21*100 -> 25.763234
A22: 2.10. | B22: Субсидии на поддержку отрасли культуры на государственную поддержку лучших сельских учреждений культуры 7* | C22: 000 0801 55Б04R5192 520 | D22: =Субсидии!AF299 -> 2500 | E22: =Субсидии!AG299 -> 2500 | F22: =E22/D22*100 -> 100
A23: 2.11. | B23: Субсидии на поддержку отрасли культуры на государственную поддержку лучших работников сельских учреждений культуры 7* | C23: 000 0801 55Б04R5194 520 | D23: =Субсидии!AI299 -> 1100 | E23: =Субсидии!AJ299 -> 1100 | F23: =E23/D23*100 -> 100
A24: 2.12. | B24: Субсидии на строительство и реконструкцию малобюджетных физкультурно-спортивных объектов шаговой доступности, плоскостных сооружений | C24: 000 1102 564P554951 520 | D24: =Субсидии!AL299 -> 43953.5 | E24: =Субсидии!AM299 -> 0 | F24: =E24/D24*100 -> 0
A25: 2.13. | B25: Субсидии на обеспечение деятельности муниципальных бизнес-инкубаторов | C25: 000 0412 5830171100 520 | D25: =Субсидии!AO299 -> 5100 | E25: =Субсидии!AP299 -> 2550 | F25: =E25/D25*100 -> 50
A26: 2.14. | B26: Субсидия бюджетам городских округов области на обеспечение капитального ремонта, ремонта и содержания автомобильных дорог общего пользования местного значения за счет средств областного дорожного фонда | C26: 000 0409 5Ж208D7400 520 | D26: =Субсидии!AR299 -> 395000 | E26: =Субсидии!AS299 -> 200000 | F26: =E26/D26*100 -> 50.632911
A27: 2.15. | B27: Субсидия бюджетам городских округов области на осуществление дорожной деятельности в отношении автомобильных дорог общего пользования местного значения Саратовской агломерации в границах городских округов области в рамках приоритетного проекта «Безопасные и качественные дороги» за счет средств областного дорожного фонда | C27: 000 0409 5Ж2R153930 520 | D27: =Субсидии!AU299 -> 999900 | E27: =Субсидии!AV299 -> 199900 | F27: =E27/D27*100 -> 19.991999
A28: 2.16. | B28: Субсидии на комплексное обустройство населенных пунктов, расположенных в сельской местности, объектами социальной, инженерной инфраструктуры и автомобильными дорогами 5* | C28: 000 0502 5Г303R5670 522 | D28: =Субсидии!AX299 -> 24205.5 | E28: =Субсидии!AY299 -> 0 | F28: =E28/D28*100 -> 0
A29: 2.17. | B29: Субсидии бюджетам поселений области на обеспечение капитального ремонта, ремонта и содержания автомобильных дорог общего пользования местного значения городских поселений области за счет средств областного дорожного фонда | C29: 000 0409 5Ж210D7Ж00 520 | D29: =Субсидии!BA299 -> 15000 | E29: =Субсидии!BB299 -> 0 | F29: =E29/D29*100 -> 0
A30: 2.18. | B30: Субсидии бюджетам муниципальных районов области на капитальный ремонт, ремонт и содержание автомобильных дорог общего пользования местного значения за счет средств областного дорожного фонда | C30: 000 0409 5Ж205D7300 520 | D30: =Субсидии!BD299 -> 300000 | E30: =Субсидии!BE299 -> 0 | F30: =E30/D30*100 -> 0
A31: 2.19. | B31: Субсидии на обеспечение повышения оплаты труда некоторых категорий работников муниципальных учреждений | C31: 000 1403 6640172300 520 | D31: =Субсидии!BG299 -> 521933.8 | E31: =Субсидии!BH299 -> 203047.34 | F31: =E31/D31*100 -> 38.902891
A32: 2.20. | B32: Субсидии на реализацию проектов развития муниципальных образований области, основанных на местных инициативах 8* | C32: 000 0113 6640500000 521 | D32: =Субсидии!BJ299 -> 80000.019 | E32: =Субсидии!BK299 -> 297.2865 | F32: =E32/D32*100 -> 0.37160804
A33: 2.21. | B33: Субсидии на поддержку муниципальных программ формирования современной городской среды 4* | C33: 000 0503 691F255550 523 | D33: =Субсидии!BM299 -> 813071.4 | E33: =Субсидии!BN299 -> 6162.328 | F33: =E33/D33*100 -> 0.75790736
A34: 2.22. | B34: Субсидии бюджетам поселений на развитие сети плоскостных спортивных сооружений в сельской местности 6* | C34: 000 1101 564P555670 522 | D34: =Субсидии!BP299 -> 3909.8 | E34: =Субсидии!BQ299 -> 0 | F34: =E34/D34*100 -> 0
A35: 2.23. | B35: Субсидии на обеспечение сохранения достигнутых показателей повышения оплаты труда отдельных категорий работников бюджетной сферы | C35: 000 1403 6640172500 520 | D35: =Субсидии!BS299 -> 580272 | E35: =Субсидии!BT299 -> 261489.75 | F35: =E35/D35*100 -> 45.063306
A36: 2.24. | B36: Субсидии на выполнение расходных обязательств, связанных с погашением просроченной кредиторской задолженности, образовавшейся по состоянию на 1 января 2018 года, по уплате начислений на выплаты по оплате труда, налогов, по оказанию мер социальной поддержки населения, по оплате коммунальных услуг и исполнительных листов | C36: 000 1403 6640172400 520 | D36: =Субсидии!BV299 -> 453219.3 | E36: =Субсидии!BW299 -> 236161.61 | F36: =E36/D36*100 -> 52.107581
A37: 2.25. | B37: Субсидии на оснащение объектов спортивной инфраструктуры спортивно-технологическим оборудованием | C37: 000 1102 564P552282 520 | D37: =Субсидии!BY299 -> 25510.2 | E37: =Субсидии!BZ299 -> 0 | F37: =E37/D37*100 -> 0
A38: 2.26. | B38: Субсидии на обновление материально-технической базы для формирования у обучающихся современных технологических и гуманитарных навыков | C38: 000 0702 5A2E151690 520 | D38: =Субсидии!CB299 -> 103486.2 | E38: =Субсидии!CC299 -> 0 | F38: =E38/D38*100 -> 0
A39: 2.27. | B39: Субсидии на реализацию регионального проекта (программы) в целях выполнения задач федерального проекта «Жилье» (стимулирование программ развития жилищного | C39: 000 1403 5E1F150210 520 | D39: =Субсидии!CE299 -> 195205 | E39: =Субсидии!CF299 -> 0 | F39: =E39/D39*100 -> 0
A40: 2.28. | B40: Субсидии бюджетам муниципальных районов области на обеспечение прироста протяженности сети автомобильных дорог общего пользования местного значения, соответствующих нормативным требованиям, за счет средств областного дорожного фонда строительства) | C40: 000 0409 5Ж206D99Э0 520 | D40: =Субсидии!CH299 -> 35000 | E40: =Субсидии!CI299 -> 0 | F40: =E40/D40*100 -> 0
...

Sheet Всего (с учетом нераспред)
A1: Сведения о предоставленных из бюджета Саратовской области межбюджетных трансфертах бюджетам муниципальных образований за I полугодие 2019 года
O2: тыс.рублей
A3: Наименование муниципальных образований | B3: Всего
E4: Дотации | H4: Субсидии | K4: Субвенции | N4: Иные межбюджетные трансферты
B6: бюджетная роспись + уточненный бюджет** | C6: исполнено | D6: % исполнения | E6: утвержденные бюджетные назначения* | F6: исполнено | G6: % исполнения | H6: бюджетная роспись + уточненный бюджет** | I6: исполнено | J6: % исполнения | K6: утвержденные бюджетные назначения* | L6: исполнено | M6: % исполнения | N6: утвержденные бюджетные назначения** | O6: исполнено | P6: % исполнения
A7: Муниципальные районы области: | B7: =E7+H7+K7+N7 -> 20028472 | C7: =F7+I7+L7+O7 -> 9622050.9 | D7: =C7/B7*100 -> 48.041862 | E7: =Дотации!B7 -> 3380545.8 | F7: =Дотации!C7 -> 1679313.5 | G7: =F7/E7*100 -> 49.67581 | H7: =Субсидии!B8 -> 3498961.6 | I7: =Субсидии!C8 -> 928404.09 | J7: =I7/H7*100 -> 26.533703 | K7: ='Субвенции '!B10 -> 12570808 | L7: ='Субвенции '!C10 -> 6862190.7 | M7: =L7/K7*100 -> 54.588301 | N7: =Иные!B8 -> 578156.49 | O7: =Иные!C8 -> 152142.54 | P7: =O7/N7*100 -> 26.315115
A8: Александрово-Гайский | B8: =E8+H8+K8+N8 -> 312738.9 | C8: =F8+I8+L8+O8 -> 167213.58 | D8: =C8/B8*100 -> 53.467471 | E8: =Дотации!B8 -> 74007.1 | F8: =Дотации!C8 -> 45072.4 | G8: =F8/E8*100 -> 60.902805 | H8: =Субсидии!B9 -> 49676.659 | I8: =Субсидии!C9 -> 7364.5728 | J8: =I8/H8*100 -> 14.825016 | K8: ='Субвенции '!B11 -> 181945.7 | L8: ='Субвенции '!C11 -> 107762.12 | M8: =L8/K8*100 -> 59.227629 | N8: =Иные!B9 -> 7109.44 | O8: =Иные!C9 -> 7014.482 | P8: =O8/N8*100 -> 98.664339
A9: Аркадакский | B9: =E9+H9+K9+N9 -> 312902.42 | C9: =F9+I9+L9+O9 -> 158375.01 | D9: =C9/B9*100 -> 50.614824 | E9: =Дотации!B9 -> 83945.8 | F9: =Дотации!C9 -> 39876 | G9: =F9/E9*100 -> 47.502079 | H9: =Субсидии!B10 -> 27454.122 | I9: =Субсидии!C10 -> 7179.677 | J9: =I9/H9*100 -> 26.151545 | K9: ='Субвенции '!B12 -> 198469.8 | L9: ='Субвенции '!C12 -> 109778.86 | M9: =L9/K9*100 -> 55.312625 | N9: =Иные!B10 -> 3032.7 | O9: =Иные!C10 -> 1540.4765 | P9: =O9/N9*100 -> 50.795545
A10: Аткарский | B10: =E10+H10+K10+N10 -> 497945.93 | C10: =F10+I10+L10+O10 -> 247535.34 | D10: =C10/B10*100 -> 49.71129 | E10: =Дотации!B10 -> 120799.1 | F10: =Дотации!C10 -> 57378 | G10: =F10/E10*100 -> 47.498698 | H10: =Субсидии!B11 -> 50822.726 | I10: =Субсидии!C11 -> 10774.486 | J10: =I10/H10*100 -> 21.200134 | K10: ='Субвенции '!B13 -> 321457.3 | L10: ='Субвенции '!C13 -> 178636.06 | M10: =L10/K10*100 -> 55.570695 | N10: =Иные!B11 -> 4866.8 | O10: =Иные!C11 -> 746.8 | P10: =O10/N10*100 -> 15.344785
A11: Базарно-Карабулакский | B11: =E11+H11+K11+N11 -> 415364.84 | C11: =F11+I11+L11+O11 -> 206546.43 | D11: =C11/B11*100 -> 49.726508 | E11: =Дотации!B11 -> 113822 | F11: =Дотации!C11 -> 58734 | G11: =F11/E11*100 -> 51.601624 | H11: =Субсидии!B12 -> 42560.538 | I11: =Субсидии!C12 -> 8139.7975 | J11: =I11/H11*100 -> 19.125223 | K11: ='Субвенции '!B14 -> 258762.3 | L11: ='Субвенции '!C14 -> 139672.63 | M11: =L11/K11*100 -> 53.977195 | N11: =Иные!B12 -> 220 | O11: =Иные!C12 -> 0 | P11: =O11/N11*100 -> 0
A12: Балаковский | B12: =E12+H12+K12+N12 -> 1802501 | C12: =F12+I12+L12+O12 -> 821790.25 | D12: =C12/B12*100 -> 45.591668 | E12: =Дотации!B12 -> 0 | F12: =Дотации!C12 -> 0 | H12: =Субсидии!B13 -> 316094.95 | I12: =Субсидии!C13 -> 27043.702 | J12: =I12/H12*100 -> 8.5555627 | K12: ='Субвенции '!B15 -> 1484908 | L12: ='Субвенции '!C15 -> 794669.65 | M12: =L12/K12*100 -> 53.516423 | N12: =Иные!B13 -> 1498 | O12: =Иные!C13 -> 76.9012 | P12: =O12/N12*100 -> 5.1335915
A13: Балашовский | B13: =E13+H13+K13+N13 -> 1090802.1 | C13: =F13+I13+L13+O13 -> 581446.9 | D13: =C13/B13*100 -> 53.304525 | E13: =Дотации!B13 -> 170300.6 | F13: =Дотации!C13 -> 89892 | G13: =F13/E13*100 -> 52.784312 | H13: =Субсидии!B14 -> 159953.13 | I13: =Субсидии!C14 -> 78096.999 | J13: =I13/H13*100 -> 48.824928 | K13: ='Субвенции '!B16 -> 738108.4 | L13: ='Субвенции '!C16 -> 406231.73 | M13: =L13/K13*100 -> 55.036866 | N13: =Иные!B14 -> 22440 | O13: =Иные!C14 -> 7226.165 | P13: =O13/N13*100 -> 32.202161
A14: Балтайский | B14: =E14+H14+K14+N14 -> 202141.25 | C14: =F14+I14+L14+O14 -> 107734.79 | D14: =C14/B14*100 -> 53.296784 | E14: =Дотации!B14 -> 49008.3 | F14: =Дотации!C14 -> 25479 | G14: =F14/E14*100 -> 51.989153 | H14: =Субсидии!B15 -> 26512.48 | I14: =Субсидии!C15 -> 9385.2356 | J14: =I14/H14*100 -> 35.399313 | K14: ='Субвенции '!B17 -> 118553.9 | L14: ='Субвенции '!C17 -> 67303.979 | M14: =L14/K14*100 -> 56.770784 | N14: =Иные!B15 -> 8066.5714 | O14: =Иные!C15 -> 5566.5714 | P14: =O14/N14*100 -> 69.007899
A15: Вольский | B15: =E15+H15+K15+N15 -> 945396.17 | C15: =F15+I15+L15+O15 -> 437706.04 | D15: =C15/B15*100 -> 46.29869 | E15: =Дотации!B15 -> 91813.9 | F15: =Дотации!C15 -> 50278 | G15: =F15/E15*100 -> 54.760772 | H15: =Субсидии!B16 -> 187931.17 | I15: =Субсидии!C16 -> 28353.302 | J15: =I15/H15*100 -> 15.087067 | K15: ='Субвенции '!B18 -> 664321.1 | L15: ='Субвенции '!C18 -> 358274.73 | M15: =L15/K15*100 -> 53.930958 | N15: =Иные!B16 -> 1330 | O15: =Иные!C16 -> 800 | P15: =O15/N15*100 -> 60.150376
A16: Воскресенский | B16: =E16+H16+K16+N16 -> 177826.65 | C16: =F16+I16+L16+O16 -> 94739.781 | D16: =C16/B16*100 -> 53.27648 | E16: =Дотации!B16 -> 39777.6 | F16: =Дотации!C16 -> 18837 | G16: =F16/E16*100 -> 47.355798 | H16: =Субсидии!B17 -> 18752.154 | I16: =Субсидии!C17 -> 6969.1679 | J16: =I16/H16*100 -> 37.164627 | K16: ='Субвенции '!B19 -> 114496.9 | L16: ='Субвенции '!C19 -> 67041.966 | M16: =L16/K16*100 -> 58.553521 | N16: =Иные!B17 -> 4800 | O16: =Иные!C17 -> 1891.647 | P16: =O16/N16*100 -> 39.409313
A17: Дергачевский | B17: =E17+H17+K17+N17 -> 365184.36 | C17: =F17+I17+L17+O17 -> 156018.86 | D17: =C17/B17*100 -> 42.723314 | E17: =Дотации!B17 -> 92678.3 | F17: =Дотации!C17 -> 43998 | G17: =F17/E17*100 -> 47.473896 | H17: =Субсидии!B18 -> 29065.461 | I17: =Субсидии!C18 -> 7719.6295 | J17: =I17/H17*100 -> 26.55946 | K17: ='Субвенции '!B20 -> 191365.2 | L17: ='Субвенции '!C20 -> 103423.43 | M17: =L17/K17*100 -> 54.045058 | N17: =Иные!B18 -> 52075.4 | O17: =Иные!C18 -> 877.8 | P17: =O17/N17*100 -> 1.6856328
A18: Духовницкий | B18: =E18+H18+K18+N18 -> 162442.61 | C18: =F18+I18+L18+O18 -> 87734.125 | D18: =C18/B18*100 -> 54.009306 | E18: =Дотации!B18 -> 31397.5 | F18: =Дотации!C18 -> 17915 | G18: =F18/E18*100 -> 57.058683 | H18: =Субсидии!B19 -> 18935.206 | I18: =Субсидии!C19 -> 4592.9297 | J18: =I18/H18*100 -> 24.256032 | K18: ='Субвенции '!B21 -> 108599.8 | L18: ='Субвенции '!C21 -> 64681.095 | M18: =L18/K18*100 -> 59.559129 | N18: =Иные!B19 -> 3510.1 | O18: =Иные!C19 -> 545.1 | P18: =O18/N18*100 -> 15.529472
A19: Екатериновский | B19: =E19+H19+K19+N19 -> 262273.48 | C19: =F19+I19+L19+O19 -> 143360.51 | D19: =C19/B19*100 -> 54.660697 | E19: =Дотации!B19 -> 43582.2 | F19: =Дотации!C19 -> 23365 | G19: =F19/E19*100 -> 53.611337 | H19: =Субсидии!B20 -> 32543.378 | I19: =Субсидии!C20 -> 13823.505 | J19: =I19/H19*100 -> 42.477166 | K19: ='Субвенции '!B22 -> 184496.6 | L19: ='Субвенции '!C22 -> 105721.71 | M19: =L19/K19*100 -> 57.302794 | N19: =Иные!B20 -> 1651.3 | O19: =Иные!C20 -> 450.3 | P19: =O19/N19*100 -> 27.269424
A20: Ершовский | B20: =E20+H20+K20+N20 -> 603618.65 | C20: =F20+I20+L20+O20 -> 308316.37 | D20: =C20/B20*100 -> 51.078005 | E20: =Дотации!B20 -> 124147.2 | F20: =Дотации!C20 -> 61301 | G20: =F20/E20*100 -> 49.377674 | H20: =Субсидии!B21 -> 50943.85 | I20: =Субсидии!C21 -> 20966.619 | J20: =I20/H20*100 -> 41.15633 | K20: ='Субвенции '!B23 -> 379180.5 | L20: ='Субвенции '!C23 -> 209739.63 | M20: =L20/K20*100 -> 55.313927 | N20: =Иные!B21 -> 49347.1 | O20: =Иные!C21 -> 16309.121 | P20: =O20/N20*100 -> 33.049806
A21: Ивантеевский | B21: =E21+H21+K21+N21 -> 306422.68 | C21: =F21+I21+L21+O21 -> 147493.99 | D21: =C21/B21*100 -> 48.134164 | E21: =Дотации!B21 -> 65481.4 | F21: =Дотации!C21 -> 31104 | G21: =F21/E21*100 -> 47.500512 | H21: =Субсидии!B22 -> 37069.776 | I21: =Субсидии!C22 -> 6611.6783 | J21: =I21/H21*100 -> 17.835765 | K21: ='Субвенции '!B24 -> 187723.8 | L21: ='Субвенции '!C24 -> 104427.84 | M21: =L21/K21*100 -> 55.628448 | N21: =Иные!B22 -> 16147.7 | O21: =Иные!C22 -> 5350.479 | P21: =O21/N21*100 -> 33.13462
A22: Калининский | B22: =E22+H22+K22+N22 -> 424651.17 | C22: =F22+I22+L22+O22 -> 192581.55 | D22: =C22/B22*100 -> 45.350529 | E22: =Дотации!B22 -> 77843 | F22: =Дотации!C22 -> 38973 | G22: =F22/E22*100 -> 50.066159 | H22: =Субсидии!B23 -> 59383.572 | I22: =Субсидии!C23 -> 7374.3274 | J22: =I22/H22*100 -> 12.418127 | K22: ='Субвенции '!B25 -> 276996.2 | L22: ='Субвенции '!C25 -> 145595.52 | M22: =L22/K22*100 -> 52.562282 | N22: =Иные!B23 -> 10428.4 | O22: =Иные!C23 -> 638.7 | P22: =O22/N22*100 -> 6.1246212
A23: Красноармейский | B23: =E23+H23+K23+N23 -> 547362.8 | C23: =F23+I23+L23+O23 -> 261934.74 | D23: =C23/B23*100 -> 47.853954 | E23: =Дотации!B23 -> 153452.6 | F23: =Дотации!C23 -> 72889 | G23: =F23/E23*100 -> 47.499358 | H23: =Субсидии!B24 -> 57678.001 | I23: =Субсидии!C24 -> 9539.7531 | J23: =I23/H23*100 -> 16.539673 | K23: ='Субвенции '!B26 -> 329702.2 | L23: ='Субвенции '!C26 -> 178575.99 | M23: =L23/K23*100 -> 54.162814 | N23: =Иные!B24 -> 6530 | O23: =Иные!C24 -> 930 | P23: =O23/N23*100 -> 14.24196
A24: Краснокутский | B24: =E24+H24+K24+N24 -> 487980 | C24: =F24+I24+L24+O24 -> 268515.55 | D24: =C24/B24*100 -> 55.025934 | E24: =Дотации!B24 -> 96993.2 | F24: =Дотации!C24 -> 46073 | G24: =F24/E24*100 -> 47.501268 | H24: =Субсидии!B25 -> 78724.8 | I24: =Субсидии!C25 -> 56383.779 | J24: =I24/H24*100 -> 71.621368 | K24: ='Субвенции '!B27 -> 290922 | L24: ='Субвенции '!C27 -> 144718.78 | M24: =L24/K24*100 -> 49.744872 | N24: =Иные!B25 -> 21340 | O24: =Иные!C25 -> 21340 | P24: =O24/N24*100 -> 100
... A38: Самойловский | B38: =E38+H38+K38+N38 -> 465005.4 | C38: =F38+I38+L38+O38 -> 150841.52 | D38: =C38/B38*100 -> 32.43866 | E38: =Дотации!B38 -> 55338.9 | F38: =Дотации!C38 -> 26100 | G38: =F38/E38*100 -> 47.16393 | H38: =Субсидии!B39 -> 247018.3 | I38: =Субсидии!C39 -> 6965.4282 | J38: =I38/H38*100 -> 2.8198024 | K38: ='Субвенции '!B41 -> 162598.2 | L38: ='Субвенции '!C41 -> 117776.09 | M38: =L38/K38*100 -> 72.433823 | N38: =Иные!B39 -> 50 | O38: =Иные!C39 -> 0 | P38: =O38/N38*100 -> 0
A39: Саратовский | B39: =E39+H39+K39+N39 -> 514046.2 | C39: =F39+I39+L39+O39 -> 239613.64 | D39: =C39/B39*100 -> 46.61325 | E39: =Дотации!B39 -> 0 | F39: =Дотации!C39 -> 0 | H39: =Субсидии!B40 -> 130103.45 | I39: =Субсидии!C40 -> 24406.437 | J39: =I39/H39*100 -> 18.759254 | K39: ='Субвенции '!B42 -> 381722.5 | L39: ='Субвенции '!C42 -> 212986.95 | M39: =L39/K39*100 -> 55.79628 | N39: =Иные!B40 -> 2220.25 | O39: =Иные!C40 -> 2220.25 | P39: =O39/N39*100 -> 100
A40: Советский | B40: =E40+H40+K40+N40 -> 268383.85 | C40: =F40+I40+L40+O40 -> 125058.91 | D40: =C40/B40*100 -> 46.597031 | E40: =Дотации!B40 -> 52361 | F40: =Дотации!C40 -> 24870 | G40: =F40/E40*100 -> 47.497183 | H40: =Субсидии!B41 -> 34423.552 | I40: =Субсидии!C41 -> 5938.638 | J40: =I40/H40*100 -> 17.251671 | K40: ='Субвенции '!B43 -> 178449.3 | L40: ='Субвенции '!C43 -> 93900.269 | M40: =L40/K40*100 -> 52.620139 | N40: =Иные!B41 -> 3150 | O40: =Иные!C41 -> 350 | P40: =O40/N40*100 -> 11.111111
A41: Татищевский | B41: =E41+H41+K41+N41 -> 378977.15 | C41: =F41+I41+L41+O41 -> 185445.64 | D41: =C41/B41*100 -> 48.933198 | E41: =Дотации!B41 -> 10141.2 | F41: =Дотации!C41 -> 4818 | H41: =Субсидии!B42 -> 42129.654 | I41: =Субсидии!C42 -> 9237.9814 | J41: =I41/H41*100 -> 21.927504 | K41: ='Субвенции '!B44 -> 236177.4 | L41: ='Субвенции '!C44 -> 141184.86 | M41: =L41/K41*100 -> 59.779157 | N41: =Иные!B42 -> 90528.9 | O41: =Иные!C42 -> 30204.8 | P41: =O41/N41*100 -> 33.364815
A42: Турковский | B42: =E42+H42+K42+N42 -> 194734.07 | C42: =F42+I42+L42+O42 -> 88738.4 | D42: =C42/B42*100 -> 45.569017 | E42: =Дотации!B42 -> 60651.6 | F42: =Дотации!C42 -> 28863 | G42: =F42/E42*100 -> 47.588192 | H42: =Субсидии!B43 -> 26597.667 | I42: =Субсидии!C43 -> 4982.1243 | J42: =I42/H42*100 -> 18.731433 | K42: ='Субвенции '!B45 -> 105609.3 | L42: ='Субвенции '!C45 -> 54144.543 | M42: =L42/K42*100 -> 51.268726 | N42: =Иные!B43 -> 1875.5 | O42: =Иные!C43 -> 748.733 | P42: =O42/N42*100 -> 39.921781
A43: Федоровский | B43: =E43+H43+K43+N43 -> 286803.8 | C43: =F43+I43+L43+O43 -> 151114.79 | D43: =C43/B43*100 -> 52.689256 | E43: =Дотации!B43 -> 76156.5 | F43: =Дотации!C43 -> 36174 | G43: =F43/E43*100 -> 47.499557 | H43: =Субсидии!B44 -> 25407.802 | I43: =Субсидии!C44 -> 5784.5927 | J43: =I43/H43*100 -> 22.766993 | K43: ='Субвенции '!B46 -> 172255.6 | L43: ='Субвенции '!C46 -> 96172.297 | M43: =L43/K43*100 -> 55.831158 | N43: =Иные!B44 -> 12983.9 | O43: =Иные!C44 -> 12983.9 | P43: =O43/N43*100 -> 100
A44: Хвалынский | B44: =E44+H44+K44+N44 -> 299639.66 | C44: =F44+I44+L44+O44 -> 140391.18 | D44: =C44/B44*100 -> 46.853337 | E44: =Дотации!B44 -> 81768.4 | F44: =Дотации!C44 -> 38723 | G44: =F44/E44*100 -> 47.356925 | H44: =Субсидии!B45 -> 22193.057 | I44: =Субсидии!C45 -> 7086.0846 | J44: =I44/H44*100 -> 31.929286 | K44: ='Субвенции '!B47 -> 172425.3 | L44: ='Субвенции '!C47 -> 89342.565 | M44: =L44/K44*100 -> 51.81523 | N44: =Иные!B45 -> 23252.9 | O44: =Иные!C45 -> 5239.527 | P44: =O44/N44*100 -> 22.532789
A45: Энгельсский | B45: =E45+H45+K45+N45 -> 3423906.8 | C45: =F45+I45+L45+O45 -> 1473092.5 | D45: =C45/B45*100 -> 43.023733 | E45: =Дотации!B45 -> 203551.3 | F45: =Дотации!C45 -> 96687 | H45: =Субсидии!B46 -> 1093942.3 | I45: =Субсидии!C46 -> 344449.3 | J45: =I45/H45*100 -> 31.486971 | K45: ='Субвенции '!B48 -> 1957403.4 | L45: ='Субвенции '!C48 -> 1031003.2 | M45: =L45/K45*100 -> 52.671985 | N45: =Иные!B46 -> 169009.8 | O45: =Иные!C46 -> 953.005 | P45: =O45/N45*100 -> 0.56387559
A46: Городские округа области: | B46: =E46+H46+K46+N46 -> 10391722 | C46: =F46+I46+L46+O46 -> 3594887.5 | D46: =C46/B46*100 -> 34.593763 | E46: =Дотации!B46 -> 288106.5 | F46: =Дотации!C46 -> 110470 | G46: =F46/E46*100 -> 38.34346 | H46: =Субсидии!B47 -> 4051330.4 | I46: =Субсидии!C47 -> 523497.92 | J46: =I46/H46*100 -> 12.92163 | K46: ='Субвенции '!B49 -> 5379781.9 | L46: ='Субвенции '!C49 -> 2881182.3 | M46: =L46/K46*100 -> 53.555746 | N46: =Иные!B47 -> 672502.9 | O46: =Иные!C47 -> 79737.28 | P46: =O46/N46*100 -> 11.856793
A47: г. Саратов | B47: =E47+H47+K47+N47 -> 9933171.5 | C47: =F47+I47+L47+O47 -> 3397687.5 | D47: =C47/B47*100 -> 34.205465 | E47: =Дотации!B47 -> 39454.9 | F47: =Дотации!C47 -> 18744 | G47: =F47/E47*100 -> 47.507407 | H47: =Субсидии!B48 -> 4029918.2 | I47: =Субсидии!C48 -> 515811.94 | J47: =I47/H47*100 -> 12.799564 | K47: ='Субвенции '!B50 -> 5194855.5 | L47: ='Субвенции '!C50 -> 2783584 | M47: =L47/K47*100 -> 53.583474 | N47: =Иные!B48 -> 668942.9 | O47: =Иные!C48 -> 79547.5 | P47: =O47/N47*100 -> 11.891523
A48: п. Михайловский | B48: =E48+H48+K48+N48 -> 82797.407 | C48: =F48+I48+L48+O48 -> 25414.262 | D48: =C48/B48*100 -> 30.694514 | E48: =Дотации!B48 -> 48941.2 | F48: =Дотации!C48 -> 11616 | G48: =F48/E48*100 -> 23.734604 | H48: =Субсидии!B49 -> 3839.9068 | I48: =Субсидии!C49 -> 634.67116 | J48: =I48/H48*100 -> 16.528296 | K48: ='Субвенции '!B51 -> 26696.3 | L48: ='Субвенции '!C51 -> 13083.591 | M48: =L48/K48*100 -> 49.009003 | N48: =Иные!B49 -> 3320 | O48: =Иные!C49 -> 80 | P48: =O48/N48*100 -> 2.4096386
A49: ЗАТО Светлый | B49: =E49+H49+K49+N49 -> 232079.93 | C49: =F49+I49+L49+O49 -> 115352.1 | D49: =C49/B49*100 -> 49.703608 | E49: =Дотации!B49 -> 123309.1 | F49: =Дотации!C49 -> 59594 | G49: =F49/E49*100 -> 48.328955 | H49: =Субсидии!B50 -> 9169.2299 | I49: =Субсидии!C50 -> 1998.3187 | J49: =I49/H49*100 -> 21.793746 | K49: ='Субвенции '!B52 -> 99521.6 | L49: ='Субвенции '!C52 -> 53650.001 | M49: =L49/K49*100 -> 53.907896 | N49: =Иные!B50 -> 80 | O49: =Иные!C50 -> 109.78 | P49: =O49/N49*100 -> 137.225
A50: г. Шиханы | B50: =E50+H50+K50+N50 -> 143672.9 | C50: =F50+I50+L50+O50 -> 56433.709 | D50: =C50/B50*100 -> 39.2793 | E50: =Дотации!B50 -> 76401.3 | F50: =Дотации!C50 -> 20516 | G50: =F50/E50*100 -> 26.852946 | H50: =Субсидии!B51 -> 8403.1 | I50: =Субсидии!C51 -> 5052.9807 | J50: =I50/H50*100 -> 60.132341 | K50: ='Субвенции '!B53 -> 58708.5 | L50: ='Субвенции '!C53 -> 30864.728 | M50: =L50/K50*100 -> 52.572845 | N50: =Иные!B51 -> 160 | O50: =Иные!C51 -> 0 | P50: =O50/N50*100 -> 0
A51: Поселения: | B51: =E51+H51+K51+N51 -> 1359235.3 | C51: =F51+I51+L51+O51 -> 106140.09 | D51: =C51/B51*100 -> 7.808809 | E51: 0 | F51: 0 | G51: 0 | H51: =Субсидии!B52 -> 775300.68 | I51: =Субсидии!C52 -> 19980.042 | J51: =I51/H51*100 -> 2.5770701 | K51: ='Субвенции '!B54 -> 44111 | L51: ='Субвенции '!C54 -> 17783.147 | M51: =L51/K51*100 -> 40.31454 | N51: =Иные!B52 -> 539823.6 | O51: =Иные!C52 -> 68376.898 | P51: =O51/N51*100 -> 12.666526
A52: Александрово-Гайское муниципальное образование Александрово-Гайского муниципального района | B52: =E52+H52+K52+N52 -> 6730.4 | C52: =F52+I52+L52+O52 -> 290.79244 | D52: =C52/B52*100 -> 4.3205818 | H52: =Субсидии!B53 -> 6029.3 | I52: =Субсидии!C53 -> 0 | J52: =I52/H52*100 -> 0 | K52: ='Субвенции '!B55 -> 701.1 | L52: ='Субвенции '!C55 -> 290.79244 | M52: =L52/K52*100 -> 41.4766
A53: Новоалександровское муниципальное образование Александрово-Гайского муниципального района | B53: =E53+H53+K53+N53 -> 593.5 | C53: =F53+I53+L53+O53 -> 33.7791 | D53: =C53/B53*100 -> 5.691508 | H53: =Субсидии!B54 -> 500 | I53: =Субсидии!C54 -> 0 | J53: =I53/H53*100 -> 0 | K53: ='Субвенции '!B56 -> 93.5 | L53: ='Субвенции '!C56 -> 33.7791 | M53: =L53/K53*100 -> 36.12738
A54: г. Аркадак муниципальное образование Аркадакского муниципального района | B54: =E54+H54+K54+N54 -> 7024.1 | C54: =F54+I54+L54+O54 -> 238.76589 | D54: =C54/B54*100 -> 3.3992382 | H54: =Субсидии!B55 -> 6402.2 | I54: =Субсидии!C55 -> 0 | J54: =I54/H54*100 -> 0 | K54: ='Субвенции '!B57 -> 621.9 | L54: ='Субвенции '!C57 -> 238.76589 | M54: =L54/K54*100 -> 38.392972 | N54: =Иные!B53 -> 0 | O54: =Иные!C53 -> 0
...

Sheet Дотации
A1: Сведения о предоставлении из бюджета Саратовской области межбюджетных трансфертов местным бюджетам за I полугодие2019 года
R3: тыс.рублей
A4: Наименование муниципальных образований | B4: Дотации, всего
E5: дотации, связанные с особым режимом безопасного функционирования закрытых административно-территориальных образований | H5: в целях обеспечения сбалансированности бюджетов городских округов Шиханы и Михайловский | K5: на выравнивание бюджетной обеспеченности поселений области | N5: на выравнивание бюджетной обеспеченности муниципальных районов (городских округов) области | Q5: на поддержку мер по обеспечению сбалансированности бюджетов
B6: утвержденные бюджетные назначения* | C6: исполнено | D6: % исполнения | E6: утвержденные бюджетные назначения* | F6: исполнено | G6: % исполнения | H6: утвержденные бюджетные назначения* | I6: исполнено | J6: % исполнения | K6: утвержденные бюджетные назначения* | L6: исполнено | M6: % исполнения | N6: утвержденные бюджетные назначения* | O6: исполнено | P6: % исполнения | Q6: утвержденные бюджетные назначения* | R6: исполнено | S6: % исполнения
A7: Муниципальные районы области: | B7: =SUM(B8:B45) -> 3380545.8 | C7: =SUM(C8:C45) -> 1679313.5 | D7: =C7/B7*100 -> 49.67581 | N7: =SUM(N8:N45) -> 3153960.4 | O7: =SUM(O8:O45) -> 1571691.5 | P7: =O7/N7*100 -> 49.832316 | Q7: =SUM(Q8:Q45) -> 226585.4 | R7: =SUM(R8:R45) -> 107622 | S7: =R7/Q7*100 -> 47.497323
A8: Александрово-Гайский | B8: =E8++H8+K8+N8+Q8 -> 74007.1 | C8: =F8+L8+O8+R8 -> 45072.4 | D8: =C8/B8*100 -> 60.902805 | N8: 58579.3 | O8: 37746.4 | P8: =O8/N8*100 -> 64.436414 | Q8: 15427.8 | R8: 7326 | S8: =R8/Q8*100 -> 47.485708
A9: Аркадакский | B9: =E9++H9+K9+N9+Q9 -> 83945.8 | C9: =F9+L9+O9+R9 -> 39876 | D9: =C9/B9*100 -> 47.502079 | N9: 83945.8 | O9: 39876 | P9: =O9/N9*100 -> 47.502079
A10: Аткарский | B10: =E10++H10+K10+N10+Q10 -> 120799.1 | C10: =F10+L10+O10+R10 -> 57378 | D10: =C10/B10*100 -> 47.498698 | N10: 120799.1 | O10: 57378 | P10: =O10/N10*100 -> 47.498698
A11: Базарно-Карабулакский | B11: =E11++H11+K11+N11+Q11 -> 113822 | C11: =F11+L11+O11+R11 -> 58734 | D11: =C11/B11*100 -> 51.601624 | N11: 96405.2 | O11: 50460 | P11: =O11/N11*100 -> 52.341575 | Q11: 17416.8 | R11: 8274 | S11: =R11/Q11*100 -> 47.505856
A12: Балаковский | B12: =E12++H12+K12+N12+Q12 -> 0 | C12: =F12+L12+O12+R12 -> 0
A13: Балашовский | B13: =E13++H13+K13+N13+Q13 -> 170300.6 | C13: =F13+L13+O13+R13 -> 89892 | D13: =C13/B13*100 -> 52.784312 | N13: 170300.6 | O13: 89892 | P13: =O13/N13*100 -> 52.784312
A14: Балтайский | B14: =E14++H14+K14+N14+Q14 -> 49008.3 | C14: =F14+L14+O14+R14 -> 25479 | D14: =C14/B14*100 -> 51.989153 | N14: 42061.7 | O14: 22179 | P14: =O14/N14*100 -> 52.72968 | Q14: 6946.6 | R14: 3300 | S14: =R14/Q14*100 -> 47.505254
A15: Вольский | B15: =E15++H15+K15+N15+Q15 -> 91813.9 | C15: =F15+L15+O15+R15 -> 50278 | D15: =C15/B15*100 -> 54.760772 | N15: 91813.9 | O15: 50278 | P15: =O15/N15*100 -> 54.760772
A16: Воскресенский | B16: =E16++H16+K16+N16+Q16 -> 39777.6 | C16: =F16+L16+O16+R16 -> 18837 | D16: =C16/B16*100 -> 47.355798 | N16: 39777.6 | O16: 18837 | P16: =O16/N16*100 -> 47.355798
A17: Дергачевский | B17: =E17++H17+K17+N17+Q17 -> 92678.3 | C17: =F17+L17+O17+R17 -> 43998 | D17: =C17/B17*100 -> 47.473896 | N17: 92678.3 | O17: 43998 | P17: =O17/N17*100 -> 47.473896
A18: Духовницкий | B18: =E18++H18+K18+N18+Q18 -> 31397.5 | C18: =F18+L18+O18+R18 -> 17915 | D18: =C18/B18*100 -> 57.058683 | N18: 31397.5 | O18: 17915 | P18: =O18/N18*100 -> 57.058683
A19: Екатериновский | B19: =E19++H19+K19+N19+Q19 -> 43582.2 | C19: =F19+L19+O19+R19 -> 23365 | D19: =C19/B19*100 -> 53.611337 | N19: 33685.8 | O19: 18667 | P19: =O19/N19*100 -> 55.415041 | Q19: 9896.4 | R19: 4698 | S19: =R19/Q19*100 -> 47.471808
A20: Ершовский | B20: =E20++H20+K20+N20+Q20 -> 124147.2 | C20: =F20+L20+O20+R20 -> 61301 | D20: =C20/B20*100 -> 49.377674 | N20: 110817.1 | O20: 54971 | P20: =O20/N20*100 -> 49.60516 | Q20: 13330.1 | R20: 6330 | S20: =R20/Q20*100 -> 47.486515
A21: Ивантеевский | B21: =E21++H21+K21+N21+Q21 -> 65481.4 | C21: =F21+L21+O21+R21 -> 31104 | D21: =C21/B21*100 -> 47.500512 | N21: 11496.1 | O21: 5460 | P21: =O21/N21*100 -> 47.494368 | Q21: 53985.3 | R21: 25644 | S21: =R21/Q21*100 -> 47.50182
A22: Калининский | B22: =E22++H22+K22+N22+Q22 -> 77843 | C22: =F22+L22+O22+R22 -> 38973 | D22: =C22/B22*100 -> 50.066159 | N22: 73155.5 | O22: 36747 | P22: =O22/N22*100 -> 50.231356 | Q22: 4687.5 | R22: 2226 | S22: =R22/Q22*100 -> 47.488
A23: Красноармейский | B23: =E23++H23+K23+N23+Q23 -> 153452.6 | C23: =F23+L23+O23+R23 -> 72889 | D23: =C23/B23*100 -> 47.499358 | N23: 153452.6 | O23: 72889 | P23: =O23/N23*100 -> 47.499358
A24: Краснокутский | B24: =E24++H24+K24+N24+Q24 -> 96993.2 | C24: =F24+L24+O24+R24 -> 46073 | D24: =C24/B24*100 -> 47.501268 | N24: 96993.2 | O24: 46073 | P24: =O24/N24*100 -> 47.501268
A25: Краснопартизанский | B25: =E25++H25+K25+N25+Q25 -> 54276 | C25: =F25+L25+O25+R25 -> 31270.8 | D25: =C25/B25*100 -> 57.614415 | N25: 54276 | O25: 31270.8 | P25: =O25/N25*100 -> 57.614415
A26: Лысогорский | B26: =E26++H26+K26+N26+Q26 -> 73469.6 | C26: =F26+L26+O26+R26 -> 38661 | D26: =C26/B26*100 -> 52.621765 | N26: 71865.4 | O26: 37899 | P26: =O26/N26*100 -> 52.736087 | Q26: 1604.2 | R26: 762 | S26: =R26/Q26*100 -> 47.500312
A27: Марксовский | B27: =E27++H27+K27+N27+Q27 -> 204437.4 | C27: =F27+L27+O27+R27 -> 107109 | D27: =C27/B27*100 -> 52.392077 | N27: 204437.4 | O27: 107109 | P27: =O27/N27*100 -> 52.392077
A28: Новобурасский | B28: =E28++H28+K28+N28+Q28 -> 97899 | C28: =F28+L28+O28+R28 -> 54520 | D28: =C28/B28*100 -> 55.690048 | N28: 71990.6 | O28: 42214 | P28: =O28/N28*100 -> 58.638211 | Q28: 25908.4 | R28: 12306 | S28: =R28/Q28*100 -> 47.498109
A29: Новоузенский | B29: =E29++H29+K29+N29+Q29 -> 159277.1 | C29: =F29+L29+O29+R29 -> 75707 | D29: =C29/B29*100 -> 47.531629 | N29: 159277.1 | O29: 75707 | P29: =O29/N29*100 -> 47.531629
A30: Озинский | B30: =E30++H30+K30+N30+Q30 -> 96161.9 | C30: =F30+L30+O30+R30 -> 47357 | D30: =C30/B30*100 -> 49.247155 | N30: 96161.9 | O30: 47357 | P30: =O30/N30*100 -> 49.247155
A31: Перелюбский | B31: =E31++H31+K31+N31+Q31 -> 41846.6 | C31: =F31+L31+O31+R31 -> 22532.3 | D31: =C31/B31*100 -> 53.844996 | N31: 39625.6 | O31: 21476.3 | P31: =O31/N31*100 -> 54.198044 | Q31: 2221 | R31: 1056 | S31: =R31/Q31*100 -> 47.54615
A32: Петровский | B32: =E32++H32+K32+N32+Q32 -> 167118.3 | C32: =F32+L32+O32+R32 -> 79384 | D32: =C32/B32*100 -> 47.50168 | N32: 150436.9 | O32: 71458 | P32: =O32/N32*100 -> 47.500314 | Q32: 16681.4 | R32: 7926 | S32: =R32/Q32*100 -> 47.513998
A33: Питерский | B33: =E33++H33+K33+N33+Q33 -> 71067.6 | C33: =F33+L33+O33+R33 -> 33519 | D33: =C33/B33*100 -> 47.164953 | N33: 65849.4 | O33: 31041 | P33: =O33/N33*100 -> 47.139382 | Q33: 5218.2 | R33: 2478 | S33: =R33/Q33*100 -> 47.487639
A34: Пугачевский | B34: =E34++H34+K34+N34+Q34 -> 164638 | C34: =F34+L34+O34+R34 -> 78204 | D34: =C34/B34*100 -> 47.500577 | N34: 164638 | O34: 78204 | P34: =O34/N34*100 -> 47.500577
A35: Ровенский | B35: =E35++H35+K35+N35+Q35 -> 87115.5 | C35: =F35+L35+O35+R35 -> 41381 | D35: =C35/B35*100 -> 47.501306 | N35: 87115.5 | O35: 41381 | P35: =O35/N35*100 -> 47.501306
A36: Романовский | B36: =E36++H36+K36+N36+Q36 -> 55354.8 | C36: =F36+L36+O36+R36 -> 26310 | D36: =C36/B36*100 -> 47.529754 | N36: 53407.5 | O36: 25386 | P36: =O36/N36*100 -> 47.53265 | Q36: 1947.3 | R36: 924 | S36: =R36/Q36*100 -> 47.450316
A37: Ртищевский | B37: =E37++H37+K37+N37+Q37 -> 138865.3 | C37: =F37+L37+O37+R37 -> 65959 | D37: =C37/B37*100 -> 47.498547 | N37: 105262.6 | O37: 49999 | P37: =O37/N37*100 -> 47.499302 | Q37: 33602.7 | R37: 15960 | S37: =R37/Q37*100 -> 47.496183
A38: Самойловский | B38: =E38++H38+K38+N38+Q38 -> 55338.9 | C38: =F38+L38+O38+R38 -> 26100 | D38: =C38/B38*100 -> 47.16393 | N38: 43838.8 | O38: 20640 | P38: =O38/N38*100 -> 47.081581 | Q38: 11500.1 | R38: 5460 | S38: =R38/Q38*100 -> 47.477848
A39: Саратовский | B39: =E39++H39+K39+N39+Q39 -> 0 | C39: =F39+L39+O39+R39 -> 0
A40: Советский | B40: =E40++H40+K40+N40+Q40 -> 52361 | C40: =F40+L40+O40+R40 -> 24870 | D40: =C40/B40*100 -> 47.497183 | N40: 52361 | O40: 24870 | P40: =O40/N40*100 -> 47.497183
A41: Татищевский | B41: =E41++H41+K41+N41+Q41 -> 10141.2 | C41: =F41+L41+O41+R41 -> 4818 | D41: =C41/B41*100 -> 47.509171 | N41: 10141.2 | O41: 4818
...

Sheet Субсидии
AV1: Продолжение таблицы | BT1: Продолжение таблицы | CR1: Продолжение таблицы | DJ1: Продолжение таблицы
B2: Сведения о предоставлении из бюджета Саратовской области межбюджетных трансфертов местным бюджетам за I полугодие 2019 года | Z2: Сведения о предоставлении из бюджета Саратовской области межбюджетных трансфертов местным бюджетам за I полугодие 2019 года | AX2: Сведения о предоставлении из бюджета Саратовской области межбюджетных трансфертов местным бюджетам за I полугодие 2019 года | BV2: Сведения о предоставлении из бюджета Саратовской области межбюджетных трансфертов местным бюджетам за I полугодие 2019 года | CT2: Сведения о предоставлении из бюджета Саратовской области межбюджетных трансфертов местным бюджетам за I полугодие 2019 года
X4: тыс.рублей | AV4: тыс.рублей | BT4: тыс.рублей | CR4: тыс.рублей | DJ4: тыс.рублей
A5: Наименование муниципальных образований | B5: Субсидии, всего | E5: в том числе | Z5: в том числе | AX5: в том числе | BV5: в том числе | CT5: в том числе
E6: на создание в дошкольных образовательных организациях дополнительного образования детей (в том числе в организациях, осуществляющих образовательную деятельность по адаптированным основным общеобразовательным программам) условий для получения детьми-инвалидами качественного образования | H6: на создание в организациях дополнительного образования детей, организациях дополнительного образования детей (в том числе в организациях, осуществляющих образовательную деятельность по адаптированным основным общеобразовательным программам) условий для получения детьми-инвалидами качественного образования | K6: на создание в общеобразовательных организациях, расположенных в сельской местности, условий для занятий физической культурой и спортом | N6: на реализацию мероприятий по содействию созданию (исходя из прогнозируемой потребности) новых мест в общеобразовательных организациях | Q6: на обеспечение жильем молодых семей | T6: на поддержку творческой деятельности и укрепление материально-технической базы муниципальных театров в населенных пунктах с численностью населения до 300 тысяч человек | W6: на поддержку отрасли культуры на комплектование книжных фондов муниципальных общедоступных библиотек | Z6: на поддержку отрасли культуры на подключение муниципальных общедоступных библиотек к информационно-телекоммуникационной сети «Интернет» и развитие библиотечного дела с учетом задачи расширения информационных технологий и оцифровки | AC6: на обеспечение развития и укрепления материально-технической базы домов культуры в населенных пунктах с числом жителей до 50 тысяч человек | AF6: на поддержку отрасли культуры на государственную поддержку лучших сельских учреждений культуры | AI6: на поддержку отрасли культуры на государственную поддержку лучших работников сельских учреждений культуры | AL6: на строительство и реконструкцию малобюджетных физкультурно-спортивных объектов шаговой доступности, плоскостных сооружений | AO6: на обеспечение деятельности муниципальных бизнес-инкубаторов | AR6: бюджетам городских округов области на обеспечение капитального ремонта, ремонта и содержания автомобильных дорог общего пользования местного значения за счет средств областного дорожного фонда | AU6: бюджетам городских округов области на осуществление дорожной деятельности в отношении автомобильных дорог общего пользования местного значения Саратовской агломерации в границах городских округов области в рамках приоритетного проекта «Безопасные и качественные дороги» за счет средств областного дорожного фонда | AX6: на комплексное обустройство населенных пунктов, расположенных в сельской местности, объектами социальной, инженерной инфраструктуры и автомобильными дорогами | BA6: бюджетам поселений области на обеспечение капитального ремонта, ремонта и содержания автомобильных дорог общего пользования местного значения городских поселений области за счет средств областного дорожного фонда | BD6: бюджетам муниципальных районов области на капитальный ремонт, ремонт и содержание автомобильных дорог общего пользования местного значения за счет средств областного дорожного фонда | BG6: на обеспечение повышения оплаты труда некоторых категорий работников муниципальных учреждений | BJ6: на реализацию проектов развития муниципальных образований области, основанных на местных инициативах | BM6: на поддержку муниципальных программ формирования современной городской среды | BP6: на развитие сети плоскостных спортивных сооружений в сельской местности | BS6: на обеспечение сохранения достигнутых показателей повышения оплаты труда отдельных категорий работников бюджетной сферы | BV6: на выполнение расходных обязательств, связанных с погашением просроченной кредиторской задолженности, образовавшейся по состоянию на 1 января 2018 года, по уплате начислений на выплаты по оплате труда, налогов, по оказанию мер социальной поддержки населения, по оплате коммунальных услуг и исполнительных листов | BY6: на оснащение объектов спортивной инфраструктуры спортивно-технологическим оборудованием | CB6: на обновление материально-технической базы для формирования у обучающихся современных технологических и гуманитарных навыков | CE6: на реализацию регионального проекта (программы) в целях выполнения задач федерального проекта «Жилье» (стимулирование программ развития жилищного строительства) | CH6: бюджетам муниципальных районов области на обеспечение прироста протяженности сети автомобильных дорог общего пользования местного значения, соответствующих нормативным требованиям, за счет средств областного дорожного фонда строительства) | CK6: бюджетам городских округов области на достижение целевых показателей, предусматривающих развитие и увеличение пропускной способности сети автомобильных дорог общего пользования местного значения за счет средств областного дорожного фонда | CN6: бюджетам городских округов области на приобретение дорожно-эксплуатационной техники, необходимой для выполнения комплекса работ по поддержанию надлежащего технического состояния автомобильных дорог общего пользования местного значения, за счет средств областного дорожного фонда | CQ6: бюджетам поселений области на развитие материально-технической базы для организации осуществления полномочий органами местного самоуправления | CT6: бюджетам муниципальных районов и городских округов области на модернизацию инфраструктуры общего образования в отдельных субъектах Российской Федерации | CW6: бюджетам муниципальных районов и городских округов области на создание дополнительных мест для детей в возрасте от 1,5 до 3 лет в образовательных организациях, осуществляющих образовательную деятельность по образовательным программам дошкольного образования | CZ6: бюджетам муниципальных районов области на реализацию мероприятий по ремонту домов системы социального обслуживания граждан муниципального специализированного жилищного фонда, предоставляемых для проживания отдельных категорий граждан ,а также благоустройство прилегающих территорий | DC6: на поддержку отрасли культуры на создание и модернизацию учреждений культурно-досугового типа в сельской местности | DF6: на поддержку отрасли культуры на создание многофункциональных мобильных культурных центров | DI6: на обеспечение мероприятий по переселению граждан из аварийного жилищного фонда, в том числе переселению граждан из аварийного жилищного фонда с учетом необходимости развития малоэтажного жилищного строительства
B7: утвержденные бюджетные назначения | C7: исполнено | D7: % исполнения | E7: утвержденные бюджетные назначения* | F7: исполнено | G7: % исполнения | H7: утвержденные бюджетные назначения* | I7: исполнено | J7: % исполнения | K7: утвержденные бюджетные назначения* | L7: исполнено | M7: % исполнения | N7: утвержденные бюджетные назначения* | O7: исполнено | P7: % исполнения | Q7: утвержденные бюджетные назначения* | R7: исполнено | S7: % исполнения | T7: утвержденные бюджетные назначения 7* | U7: исполнено | V7: % исполнения | W7: утвержденные бюджетные назначения 7* | X7: исполнено | Y7: % исполнения | Z7: утвержденные бюджетные назначения 7* | AA7: исполнено | AB7: % исполнения | AC7: утвержденные бюджетные назначения 7* | AD7: исполнено | AE7: % исполнения | AF7: утвержденные бюджетные назначения 7* | AG7: исполнено | AH7: % исполнения | AI7: утвержденные бюджетные назначения 7* | AJ7: исполнено | AK7: % исполнения | AL7: утвержденные бюджетные назначения* | AM7: исполнено | AN7: % исполнения | AO7: утвержденные бюджетные назначения* | AP7: исполнено | AQ7: % исполнения | AR7: утвержденные бюджетные назначения* | AS7: исполнено | AT7: % исполнения | AU7: утвержденные бюджетные назначения* | AV7: исполнено | AW7: % исполнения | AX7: утвержденные бюджетные назначения 5* | AY7: исполнено | AZ7: % исполнения | BA7: утвержденные бюджетные назначения* | BB7: исполнено | BC7: % исполнения | BD7: утвержденные бюджетные назначения* | BE7: исполнено | BF7: % исполнения | BG7: утвержденные бюджетные назначения* | BH7: исполнено | BI7: % исполнения | BJ7: утвержденные бюджетные назначения 8* | BK7: исполнено | BL7: % исполнения | BM7: утвержденные бюджетные назначения 4* | BN7: исполнено | BO7: % исполнения | BP7: утвержденные бюджетные назначения 6* | BQ7: исполнено | BR7: % исполнения | BS7: утвержденные бюджетные назначения* | BT7: исполнено | BU7: % исполнения | BV7: утвержденные бюджетные назначения* | BW7: исполнено | BX7: % исполнения | BY7: утвержденные бюджетные назначения* | BZ7: исполнено | CA7: % исполнения | CB7: утвержденные бюджетные назначения* | CC7: исполнено | CD7: % исполнения | CE7: утвержденные бюджетные назначения* | CF7: исполнено | CG7: % исполнения | CH7: утвержденные бюджетные назначения* | CI7: исполнено | CJ7: % исполнения | CK7: утвержденные бюджетные назначения* | CL7: исполнено | CM7: % исполнения | CN7: утвержденные бюджетные назначения* | CO7: исполнено | CP7: % исполнения | CQ7: утвержденные бюджетные назначения* | CR7: исполнено | CS7: % исполнения | CT7: утвержденные бюджетные назначения 2* | CU7: исполнено | CV7: % исполнения | CW7: утвержденные бюджетные назначения 2* | CX7: исполнено | CY7: % исполнения | CZ7: утвержденные бюджетные назначения 3* | DA7: исполнено | DB7: % исполнения | DC7: утвержденные бюджетные назначения 7* | DD7: исполнено | DE7: % исполнения | DF7: утвержденные бюджетные назначения 7* | DG7: исполнено | DH7: % исполнения | DI7: утвержденные бюджетные назначения | DJ7: исполнено | DK7: % исполнения
A8: Муниципальные районы области: | B8: =SUM(B9:B46) -> 3498961.6 | C8: =SUM(C9:C46) -> 928404.09 | D8: =C8/B8*100 -> 26.533703 | E8: =SUM(E9:E46) -> 1573 | F8: =SUM(F9:F46) -> 0 | H8: =SUM(H9:H46) -> 1573.1 | I8: =SUM(I9:I46) -> 0 | J8: =I8/H8*100 -> 0 | K8: =SUM(K9:K46) -> 18906.9 | L8: =SUM(L9:L46) -> 445.98612 | M8: =L8/K8*100 -> 2.3588538 | N8: =SUM(N9:N46) -> 309650 | O8: =SUM(O9:O46) -> 229617 | P8: =O8/N8*100 -> 74.153722 | Q8: =SUM(Q9:Q46) -> 66271.8 | R8: =SUM(R9:R46) -> 44811.143 | S8: =R8/Q8*100 -> 67.617212 | T8: =SUM(T9:T46) -> 5658.4 | U8: =SUM(U9:U46) -> 960 | V8: =U8/T8*100 -> 16.965927 | W8: =SUM(W9:W46) -> 830.82686 | X8: =SUM(X9:X46) -> 810.25727 | Y8: =X8/W8*100 -> 97.524203 | Z8: =SUM(Z9:Z46) -> 4766.4045 | AA8: =SUM(AA9:AA46) -> 4623.0805 | AB8: =AA8/Z8*100 -> 96.993037 | AC8: =SUM(AC9:AC46) -> 37845.664 | AD8: =SUM(AD9:AD46) -> 10565.935 | AE8: =AD8/AC8*100 -> 27.918481 | AF8: =SUM(AF9:AF46) -> 2300 | AG8: =SUM(AG9:AG46) -> 2300 | AH8: =AG8/AF8*100 -> 100 | AI8: =SUM(AI9:AI46) -> 1000 | AJ8: =SUM(AJ9:AJ46) -> 1000 | AK8: =AJ8/AI8*100 -> 100 | AL8: =SUM(AL9:AL46) -> 0 | AM8: =SUM(AM9:AM46) -> 0 | AO8: =SUM(AO9:AO46) -> 5100 | AP8: =SUM(AP9:AP46) -> 2550 | AQ8: =AP8/AO8*100 -> 50 | AR8: =SUM(AR9:AR46) -> 0 | AS8: =SUM(AS9:AS46) -> 0 | AU8: =SUM(AU9:AU46) -> 0 | AV8: =SUM(AV9:AV46) -> 0 | AX8: =SUM(AX9:AX46) -> 6705.6 | AY8: =SUM(AY9:AY46) -> 0 | AZ8: =AY8/AX8*100 -> 0 | BA8: =SUM(BA9:BA46) -> 0 | BB8: =SUM(BB9:BB46) -> 0 | BD8: 300000 | BE8: =SUM(BE9:BE46) -> 0 | BF8: =BE8/BD8*100 -> 0 | BG8: =SUM(BG9:BG46) -> 358828.7 | BH8: =SUM(BH9:BH46) -> 133097.77 | BI8: =BH8/BG8*100 -> 37.092287 | BJ8: =SUM(BJ9:BJ46) -> 0 | BK8: =SUM(BK9:BK46) -> 0 | BM8: =SUM(BM9:BM46) -> 0 | BN8: =SUM(BN9:BN46) -> 0 | BP8: =SUM(BP9:BP46) -> 0 | BQ8: =SUM(BQ9:BQ46) -> 0 | BS8: =SUM(BS9:BS46) -> 483980 | BT8: =SUM(BT9:BT46) -> 214719.29 | BU8: =BT8/BS8*100 -> 44.365323 | BV8: =SUM(BV9:BV46) -> 424106.8 | BW8: =SUM(BW9:BW46) -> 236161.61 | BX8: =BW8/BV8*100 -> 55.684468 | BY8: =SUM(BY9:BY46) -> 25510.2 | BZ8: =SUM(BZ9:BZ46) -> 0 | CA8: =BZ8/BY8*100 -> 0 | CB8: =SUM(CB9:CB46) -> 103486.2 | CC8: =SUM(CC9:CC46) -> 0 | CD8: =CC8/CB8*100 -> 0 | CE8: =SUM(CE9:CE46) -> 0 | CF8: =SUM(CF9:CF46) -> 0 | CH8: =SUM(CH9:CH46) -> 35000 | CI8: =SUM(CI9:CI46) -> 0 | CK8: =SUM(CK9:CK46) -> 0 | CL8: =SUM(CL9:CL46) -> 0 | CN8: =SUM(CN9:CN46) -> 0 | CO8: =SUM(CO9:CO46) -> 0 | CQ8: =SUM(CQ9:CQ46) -> 0 | CR8: =SUM(CR9:CR46) -> 0 | CT8: =SUM(CT9:CT46) -> 215200 | CU8: =SUM(CU9:CU46) -> 0 | CW8: =SUM(CW9:CW46) -> 972064.3 | CX8: =SUM(CX9:CX46) -> 0 | CZ8: =SUM(CZ9:CZ46) -> 43762.7 | DA8: =SUM(DA9:DA46) -> 0 | DB8: =DA8/CZ8*100 -> 0 | DC8: =SUM(DC9:DC46) -> 55805.281 | DD8: =SUM(DD9:DD46) -> 46742.018 | DE8: =DD8/DC8*100 -> 83.75913 | DF8: =SUM(DF9:DF46) -> 19035.816 | DG8: =SUM(DG9:DG46) -> 0 | DI8: =SUM(DI9:DI46) -> 0 | DJ8: =SUM(DJ9:DJ46) -> 0
A9: Александрово-Гайский | B9: =E9+H9+K9+N9+Q9+T9+W9+Z9+AC9+AF9+AI9+AL9+AO9+AR9+AU9+AX9+BA9+BD9+BG9+BJ9+BM9+BP9+BS9+BV9+BY9+CB9+CE9+CH9+CK9+CN9+CQ9+CT9+CW9+CZ9+DC9+DF9+DI9 -> 49676.659 | C9: =F9+I9+L9+O9+R9+U9+X9+AA9+AD9+AG9+AJ9+AM9+AP9+AS9+AV9+AY9+BB9+BE9+BH9+BK9+BN9+BQ9+BT9+BW9+BZ9+CC9+CF9+CI9+CL9+CO9+CR9+CU9+CX9+DA9+DD9+DG9+DJ9 -> 7364.5728 | D9: =C9/B9*100 -> 14.825016 | H9: 0 | I9: 0 | K9: 1400 | L9: 0 | Q9: 0 | R9: 0 | T9: 0 | U9: 0 | W9: 7.97733 | X9: 7.97733 | Y9: =X9/W9*100 -> 100 | Z9: 95.328 | AA9: 95.328 | AB9: =AA9/Z9*100 -> 100 | AF9: 100 | AG9: 100 | AH9: =AG9/AF9*100 -> 100 | BA9: 0 | BB9: 0 | BD9: 9289.9 | BF9: =BE9/BD9*100 -> 0 | BG9: 11952.7 | BH9: 2590.7766 | BI9: =BH9/BG9*100 -> 21.675242 | BM9: 0 | BP9: 0 | BQ9: 0 | BS9: 8106 | BT9: 3199.4803 | BU9: =BT9/BS9*100 -> 39.470519 | BV9: 5781.9 | BW9: 1371.0106 | BX9: =BW9/BV9*100 -> 23.712112 | CB9: 3184.2 | CH9: 4999.7 | DF9: 4758.9541
A10: Аркадакский | B10: =E10+H10+K10+N10+Q10+T10+W10+Z10+AC10+AF10+AI10+AL10+AO10+AR10+AU10+AX10+BA10+BD10+BG10+BJ10+BM10+BP10+BS10+BV10+BY10+CB10+CE10+CH10+CK10+CN10+CQ10+CT10+CW10+CZ10+DC10+DF10+DI10 -> 27454.122 | C10: =F10+I10+L10+O10+R10+U10+X10+AA10+AD10+AG10+AJ10+AM10+AP10+AS10+AV10+AY10+BB10+BE10+BH10+BK10+BN10+BQ10+BT10+BW10+BZ10+CC10+CF10+CI10+CL10+CO10+CR10+CU10+CX10+DA10+DD10+DG10+DJ10 -> 7179.677 | D10: =C10/B10*100 -> 26.151545 | H10: 0 | I10: 0 | K10: 0 | L10: 0 | Q10: 271.7 | R10: 271.7 | S10: =R10/Q10*100 -> 100 | T10: 0 | U10: 0 | W10: 11.40155 | X10: 11.40155 | Y10: =X10/W10*100 -> 100 | Z10: 190.656 | AA10: 190.656 | AB10: =AA10/Z10*100 -> 100 | AC10: 2670.364 | AD10: 793.1785 | AE10: =AD10/AC10*100 -> 29.703011 | AF10: 100 | AG10: 100 | AH10: =AG10/AF10*100 -> 100 | AI10: 50 | AJ10: 50 | AK10: =AJ10/AI10*100 -> 100 | AX10: 0 | AY10: 0 | BA10: 0 | BB10: 0 | BD10: 7386.8 | BF10: =BE10/BD10*100 -> 0 | BG10: 6964.7 | BH10: 2182.9655 | BI10: =BH10/BG10*100 -> 31.343281 | BM10: 0 | BP10: 0 | BQ10: 0 | BS10: 8191 | BT10: 3579.7755 | BU10: =BT10/BS10*100 -> 43.703766 | BV10: 25.4 | BW10: 0 | BX10: =BW10/BV10*100 -> 0 | CB10: 1592.1
A11: Аткарский | B11: =E11+H11+K11+N11+Q11+T11+W11+Z11+AC11+AF11+AI11+AL11+AO11+AR11+AU11+AX11+BA11+BD11+BG11+BJ11+BM11+BP11+BS11+BV11+BY11+CB11+CE11+CH11+CK11+CN11+CQ11+CT11+CW11+CZ11+DC11+DF11+DI11 -> 50822.726 | C11: =F11+I11+L11+O11+R11+U11+X11+AA11+AD11+AG11+AJ11+AM11+AP11+AS11+AV11+AY11+BB11+BE11+BH11+BK11+BN11+BQ11+BT11+BW11+BZ11+CC11+CF11+CI11+CL11+CO11+CR11+CU11+CX11+DA11+DD11+DG11+DJ11 -> 10774.486 | D11: =C11/B11*100 -> 21.200134 | H11: 0 | I11: 0 | K11: 0 | L11: 0 | Q11: 330.2 | S11: =R11/Q11*100 -> 0 | T11: 0 | U11: 0 | W11: 20.56958 | X11: 0 | Y11: =X11/W11*100 -> 0 | Z11: 190.656 | AA11: 142.66 | AB11: =AA11/Z11*100 -> 74.825864 | AX11: 0 | AY11: 0 | BA11: 0 | BB11: 0 | BD11: 10975.8 | BF11: =BE11/BD11*100 -> 0 | BG11: 21075.8 | BH11: 5195 | BI11: =BH11/BG11*100 -> 24.649124 | BM11: 0 | BP11: 0 | BQ11: 0 | BS11: 12550 | BT11: 5436.8258 | BU11: =BT11/BS11*100 -> 43.321321 | BV11: 903.5 | BW11: 0 | BX11: =BW11/BV11*100 -> 0 | CB11: 4776.2
A12: Базарно-Карабулакский | B12: =E12+H12+K12+N12+Q12+T12+W12+Z12+AC12+AF12+AI12+AL12+AO12+AR12+AU12+AX12+BA12+BD12+BG12+BJ12+BM12+BP12+BS12+BV12+BY12+CB12+CE12+CH12+CK12+CN12+CQ12+CT12+CW12+CZ12+DC12+DF12+DI12 -> 42560.538 | C12: =F12+I12+L12+O12+R12+U12+X12+AA12+AD12+AG12+AJ12+AM12+AP12+AS12+AV12+AY12+BB12+BE12+BH12+BK12+BN12+BQ12+BT12+BW12+BZ12+CC12+CF12+CI12+CL12+CO12+CR12+CU12+CX12+DA12+DD12+DG12+DJ12 -> 8139.7975 | D12: =C12/B12*100 -> 19.125223 | H12: 0 | I12: 0 | K12: 1200 | M12: =L12/K12*100 -> 0 | Q12: 386.4 | S12: =R12/Q12*100 -> 0 | T12: 0 | U12: 0 | W12: 14.58156 | X12: 14.58156 | Y12: =X12/W12*100 -> 100 | Z12: 190.656 | AA12: 190.656 | AB12: =AA12/Z12*100 -> 100 | AX12: 0 | AY12: 0 | BA12: 0 | BB12: 0 | BD12: 6798.7 | BF12: =BE12/BD12*100 -> 0 | BG12: 1376.9 | BH12: 501 | BI12: =BH12/BG12*100 -> 36.386085 | BM12: 0 | BP12: 0 | BQ12: 0 | BS12: 9246 | BT12: 3355 | BU12: =BT12/BS12*100 -> 36.285961 | BV12: 20163.1 | BW12: 4078.56 | BX12: =BW12/BV12*100 -> 20.227842 | CB12: 3184.2
A13: Балаковский | B13: =E13+H13+K13+N13+Q13+T13+W13+Z13+AC13+AF13+AI13+AL13+AO13+AR13+AU13+AX13+BA13+BD13+BG13+BJ13+BM13+BP13+BS13+BV13+BY13+CB13+CE13+CH13+CK13+CN13+CQ13+CT13+CW13+CZ13+DC13+DF13+DI13 -> 316094.95 | C13: =F13+I13+L13+O13+R13+U13+X13+AA13+AD13+AG13+AJ13+AM13+AP13+AS13+AV13+AY13+BB13+BE13+BH13+BK13+BN13+BQ13+BT13+BW13+BZ13+CC13+CF13+CI13+CL13+CO13+CR13+CU13+CX13+DA13+DD13+DG13+DJ13 -> 27043.702 | D13: =C13/B13*100 -> 8.5555627 | H13: 0 | I13: 0 | Q13: 7669 | R13: 1779.3998 | S13: =R13/Q13*100 -> 23.202501 | T13: 0 | U13: 0 | W13: 107.99607 | X13: 107.99607 | Y13: =X13/W13*100 -> 100 | Z13: 190.656 | AA13: 190.656 | AB13: =AA13/Z13*100 -> 100 | AO13: 5100 | AP13: 2550 | AQ13: =AP13/AO13*100 -> 50 | AX13: 0 | AY13: 0 | BA13: 0 | BB13: 0 | BD13: 13632.5 | BF13: =BE13/BD13*100 -> 0 | BG13: 18376 | BH13: 4326.4 | BI13: =BH13/BG13*100 -> 23.543753 | BM13: 0 | BP13: 0 | BQ13: 0 | BS13: 39689 | BT13: 18089.25 | BU13: =BT13/BS13*100 -> 45.57749 | BV13: 1529.7 | BW13: 0 | BX13: =BW13/BV13*100 -> 0 | CB13: 4776.2 | CW13: 225023.9
A14: Балашовский | B14: =E14+H14+K14+N14+Q14+T14+W14+Z14+AC14+AF14+AI14+AL14+AO14+AR14+AU14+AX14+BA14+BD14+BG14+BJ14+BM14+BP14+BS14+BV14+BY14+CB14+CE14+CH14+CK14+CN14+CQ14+CT14+CW14+CZ14+DC14+DF14+DI14 -> 159953.13 | C14: =F14+I14+L14+O14+R14+U14+X14+AA14+AD14+AG14+AJ14+AM14+AP14+AS14+AV14+AY14+BB14+BE14+BH14+BK14+BN14+BQ14+BT14+BW14+BZ14+CC14+CF14+CI14+CL14+CO14+CR14+CU14+CX14+DA14+DD14+DG14+DJ14 -> 78096.999 | D14: =C14/B14*100 -> 48.824928 | H14: 0 | I14: 0 | Q14: 5484.3 | R14: 444.66973 | S14: =R14/Q14*100 -> 8.108049 | T14: 5658.4 | U14: 960 | V14: =U14/T14*100 -> 16.965927 | W14: 54.66964 | X14: 54.66964 | Y14: =X14/W14*100 -> 100 | Z14: 190.656 | AA14: 190.656 | AB14: =AA14/Z14*100 -> 100 | AF14: 100 | AG14: 100 | AH14: =AG14/AF14*100 -> 100 | AI14: 50 | AJ14: 50 | AK14: =AJ14/AI14*100 -> 100 | AX14: 0 | AY14: 0 | BA14: 0 | BB14: 0 | BD14: 12705.2 | BF14: =BE14/BD14*100 -> 0 | BG14: 21821 | BH14: 8340.5 | BI14: =BH14/BG14*100 -> 38.222355 | BM14: 0 | BP14: 0 | BQ14: 0 | BS14: 32421 | BT14: 13474.541 | BU14: =BT14/BS14*100 -> 41.561151 | BV14: 74184.6 | BW14: 54481.963 | BX14: =BW14/BV14*100 -> 73.441069 | CB14: 3184.2 | DC14: 4099.1011
A15: Балтайский | B15: =E15+H15+K15+N15+Q15+T15+W15+Z15+AC15+AF15+AI15+AL15+AO15+AR15+AU15+AX15+BA15+BD15+BG15+BJ15+BM15+BP15+BS15+BV15+BY15+CB15+CE15+CH15+CK15+CN15+CQ15+CT15+CW15+CZ15+DC15+DF15+DI15 -> 26512.48 | C15: =F15+I15+L15+O15+R15+U15+X15+AA15+AD15+AG15+AJ15+AM15+AP15+AS15+AV15+AY15+BB15+BE15+BH15+BK15+BN15+BQ15+BT15+BW15+BZ15+CC15+CF15+CI15+CL15+CO15+CR15+CU15+CX15+DA15+DD15+DG15+DJ15 -> 9385.2356 | D15: =C15/B15*100 -> 35.399313 | H15: 0 | I15: 0 | T15: 0 | U15: 0 | W15: 5.75153 | X15: 5.75153 | Y15: =X15/W15*100 -> 100 | Z15: 95.328 | AA15: 95.328 | AB15: =AA15/Z15*100 -> 100 | AC15: 3100 | AD15: 0 | AF15: 100 | AG15: 100 | AH15: =AG15/AF15*100 -> 100 | AI15: 50 | AJ15: 50 | AK15: =AJ15/AI15*100 -> 100 | AX15: 0 | AY15: 0 | BA15: 0 | BB15: 0 | BD15: 2798.7 | BF15: =BE15/BD15*100 -> 0 | BG15: 4099.4 | BH15: 1931.6 | BI15: =BH15/BG15*100 -> 47.119091 | BM15: 0 | BP15: 0 | BQ15: 0 | BS15: 5800 | BT15: 2461.4627 | BU15: =BT15/BS15*100 -> 42.439013 | BV15: 8871.2 | BW15: 4741.0933 | BX15: =BW15/BV15*100 -> 53.443653 | CB15: 1592.1
A16: Вольский | B16: =E16+H16+K16+N16+Q16+T16+W16+Z16+AC16+AF16+AI16+AL16+AO16+AR16+AU16+AX16+BA16+BD16+BG16+BJ16+BM16+BP16+BS16+BV16+BY16+CB16+CE16+CH16+CK16+CN16+CQ16+CT16+CW16+CZ16+DC16+DF16+DI16 -> 187931.17 | C16: =F16+I16+L16+O16+R16+U16+X16+AA16+AD16+AG16+AJ16+AM16+AP16+AS16+AV16+AY16+BB16+BE16+BH16+BK16+BN16+BQ16+BT16+BW16+BZ16+CC16+CF16+CI16+CL16+CO16+CR16+CU16+CX16+DA16+DD16+DG16+DJ16 -> 28353.302 | D16: =C16/B16*100 -> 15.087067 | H16: 0 | I16: 0 | Q16: 4599.7 | R16: 4504.7209 | S16: =R16/Q16*100 -> 97.935101 | T16: 0 | U16: 0 | W16: 45.56138 | X16: 45.56138 | Y16: =X16/W16*100 -> 100 | Z16: 190.656 | AA16: 190.656 | AB16: =AA16/Z16*100 -> 100 | AC16: 2561.65 | AD16: 753.78217 | AE16: =AD16/AC16*100 -> 29.42565 | AF16: 100 | AG16: 100 | AH16: =AG16/AF16*100 -> 100 | AX16: 0 | AY16: 0 | BA16: 0 | BB16: 0 | BD16: 11679.3 | BF16: =BE16/BD16*100 -> 0 | BG16: 30198.2 | BH16: 12347.9 | BI16: =BH16/BG16*100 -> 40.889523 | BM16: 0 | BP16: 0 | BQ16: 0 | BS16: 20588 | BT16: 10067.381 | BU16: =BT16/BS16*100 -> 48.899268 | BV16: 17702.5 | BW16: 343.3 | BX16: =BW16/BV16*100 -> 1.9392741 | CB16: 3184.2 | CW16: 97081.4
A17: Воскресенский | B17: =E17+H17+K17+N17+Q17+T17+W17+Z17+AC17+AF17+AI17+AL17+AO17+AR17+AU17+AX17+BA17+BD17+BG17+BJ17+BM17+BP17+BS17+BV17+BY17+CB17+CE17+CH17+CK17+CN17+CQ17+CT17+CW17+CZ17+DC17+DF17+DI17 -> 18752.154 | C17: =F17+I17+L17+O17+R17+U17+X17+AA17+AD17+AG17+AJ17+AM17+AP17+AS17+AV17+AY17+BB17+BE17+BH17+BK17+BN17+BQ17+BT17+BW17+BZ17+CC17+CF17+CI17+CL17+CO17+CR17+CU17+CX17+DA17+DD17+DG17+DJ17 -> 6969.1679 | D17: =C17/B17*100 -> 37.164627 | H17: 0 | I17: 0 | R17: 1355.644 | T17: 0 | U17: 0 | W17: 6.12558 | X17: 6.12558 | Y17: =X17/W17*100 -> 100 | Z17: 95.328 | AA17: 95.328 | AB17: =AA17/Z17*100 -> 100 | AX17: 0 | AY17: 0 | BA17: 0 | BB17: 0 | BD17: 2940.7 | BF17: =BE17/BD17*100 -> 0 | BG17: 5609.8 | BH17: 2328.5423 | BI17: =BH17/BG17*100 -> 41.508473 | BM17: 0 | BP17: 0 | BQ17: 0 | BS17: 4805 | BT17: 2402.5 | BU17: =BT17/BS17*100 -> 50 | BV17: 3703.1 | BW17: 781.02797 | BX17: =BW17/BV17*100 -> 21.091193 | CB17: 1592.1
