Workbook
Name А1: #REF!
Name А1: #REF!
Name А1: #REF!
Name А1: #REF!
Name А1: #REF!
Name Выбор_1.1: 'Показатель 4.2'!$C$5:$C$6
Name Выбор_1.1: 'Показатель 3.1'!$C$5:$C$7
Name Выбор_1.2: 'Показатель 3.3'!$C$5:$C$6
Name Выбор_1.2: 'Показатель 4.1'!$C$5:$C$6
Name Выбор_1.2: 'Показатель 3.2'!$C$5:$C$7
Name Выбор_1.3: #REF!
Name Выбор_1.3: #REF!
Name Выбор_1.3: #REF!
Name Выбор_1.3: #REF!
Name Выбор_1.3: #REF!
Name Выбор_4.1: #REF!
Name Выбор_4.1: #REF!
Name Выбор_4.1: #REF!
Name Выбор_4.1: #REF!
Name Выбор_4.1: #REF!
Name Выбор_4.2: '[1]Показатель 4.2'!$C$5:$C$8
Name Выбор_4.3: '[1]Показатель 4.3'!$C$5:$C$7
Name Выбор_4.4: '[1]Показатель 4.4'!$C$6:$C$8
Name Выбор1.1: #REF!
Name Выбор1.1: #REF!
Name Выбор1.1: #REF!
Name Выбор1.1: #REF!
Name Выбор1.1: #REF!
Name Да_нет: #REF!
Name Да_нет: #REF!
Name Да_нет: #REF!
Name Да_нет: #REF!
Name Да_нет: #REF!
Name Коэфициент: [1]Параметры!$C$3:$C$4
Name Формат: Параметры!$C$3:$C$4

Sheet Оценка (Этап I-II) 
A1: Оценка муниципальных образований по I - II этапам
A2: Календарный период | B2: 2016 год
A3: Наименование муниципального образования Саратовской обалсти | B3: Итого по I- II этапам | C3: Итого по II этапу | D3: Итого по I этапу
A4: Единица измерения | B4: баллов | C4: баллов | D4: баллов
A5: Максимальный балл | B5: =C5+D5 -> 20 | C5: 10 | D5: 10
A6: Городские округа
A7: г. Саратов | B7: =C7+D7 -> 7.75 | C7: ='Оценка (Этап II)'!B7 -> 3.75 | D7: 4
A8: ЗАТО Михайловское | B8: =C8+D8 -> 3 | C8: ='Оценка (Этап II)'!B8 -> 1 | D8: 2
A9: ЗАТО Светлый | B9: =C9+D9 -> 4.75 | C9: ='Оценка (Этап II)'!B9 -> 2.75 | D9: 2
A10: ЗАТО Шиханы | B10: =C10+D10 -> 4.5 | C10: ='Оценка (Этап II)'!B10 -> 4.5 | D10: 0
A11: Муниципальные районы
A12: Александрово-Гайский | B12: =C12+D12 -> 4.75 | C12: ='Оценка (Этап II)'!B12 -> 0.75 | D12: 4
A13: Аркадакский | B13: =C13+D13 -> 5 | C13: ='Оценка (Этап II)'!B13 -> 0 | D13: 5
A14: Аткарский | B14: =C14+D14 -> 4.75 | C14: ='Оценка (Этап II)'!B14 -> 0.75 | D14: 4
A15: Базарно-Карабулакский | B15: =C15+D15 -> 6.75 | C15: ='Оценка (Этап II)'!B15 -> 2.75 | D15: 4
A16: Балаковский | B16: =C16+D16 -> 13 | C16: ='Оценка (Этап II)'!B16 -> 6 | D16: 7
A17: Балашовский | B17: =C17+D17 -> 4.25 | C17: ='Оценка (Этап II)'!B17 -> 0.25 | D17: 4
A18: Балтайский | B18: =C18+D18 -> 4 | C18: ='Оценка (Этап II)'!B18 -> 0 | D18: 4
A19: Вольский | B19: =C19+D19 -> 4 | C19: ='Оценка (Этап II)'!B19 -> 2 | D19: 2
A20: Воскресенский | B20: =C20+D20 -> 3.5 | C20: ='Оценка (Этап II)'!B20 -> 0.5 | D20: 3
A21: Дергачевский | B21: =C21+D21 -> 8.5 | C21: ='Оценка (Этап II)'!B21 -> 5.5 | D21: 3
A22: Духовницкий | B22: =C22+D22 -> 5.5 | C22: ='Оценка (Этап II)'!B22 -> 0.5 | D22: 5
A23: Екатериновский | B23: =C23+D23 -> 2.25 | C23: ='Оценка (Этап II)'!B23 -> 0.25 | D23: 2
... A49: Энгельсский | B49: =C49+D49 -> 9.25 | C49: ='Оценка (Этап II)'!B49 -> 3.25 | D49: 6

Sheet Оценка (Этап II)
A1: Оценка муниципальных образований по II этапу «Годовой отчет об исполнении бюджета муниципального образования»
A2: Календарный период | B2: 2016 год
A3: Наименование муниципального образования Саратовской обалсти | B3: Итого по II этапу | C3: ='Показатель 3.1'!A1 -> 3.1. Проект решения об исполнении бюджета муниципального образования | D3: ='Показатель 3.2'!A1 -> 3.2. Опубликование бюджета для граждан, разработанного на основе решения об исполнении бюджета муниципального образования за отчетный финансовый год , на портале (сайте) | E3: ='Показатель 3.3'!A1 -> 3.3. Опубликование заключение контрольно-счетного органа муниципального образования на годовой отчет об исполнении бюджета муниципального образования за отчетный финансовый год на портале (сайте) | F3: ='Показатель 4.1'!A1 -> 4.1. Информационное сообщение для граждан о проведении публичных слушаний по годовому отчету об исполнении бюджета муниципального образования за отчетный финансовый год на портале (сайте) | G3: ='Показатель 4.2'!A1 -> 4.2. Проведение публичных слушаний по годовому отчету об исполнении бюджета муниципального образования за отчетный финансовый год
A4: Единица измерения | B4: баллов | C4: баллов | D4: баллов | E4: баллов | F4: баллов | G4: баллов
A5: Максимальный балл | B5: =SUM(C5:G5) -> 10 | C5: ='Методика II этап'!C8 -> 4 | D5: ='Методика II этап'!C13 -> 3 | E5: 1 | F5: 1 | G5: 1
A6: Городские округа
A7: г. Саратов | B7: =SUM(C7:G7) -> 3.75 | C7: ='Показатель 3.1'!J9 -> 1 | D7: ='Показатель 3.2'!H10 -> 1 | E7: ='Показатель 3.3'!J8 -> 0.25 | F7: ='Показатель 4.1'!H8 -> 0.5 | G7: ='Показатель 4.2'!J8 -> 1
A8: ЗАТО Михайловское | B8: =SUM(C8:G8) -> 1 | C8: ='Показатель 3.1'!J10 -> 0 | D8: ='Показатель 3.2'!H11 -> 0 | E8: ='Показатель 3.3'!J9 -> 1 | F8: ='Показатель 4.1'!H9 -> 0 | G8: ='Показатель 4.2'!J9 -> 0
A9: ЗАТО Светлый | B9: =SUM(C9:G9) -> 2.75 | C9: ='Показатель 3.1'!J11 -> 2 | D9: ='Показатель 3.2'!H12 -> 0 | E9: ='Показатель 3.3'!J10 -> 0.5 | F9: ='Показатель 4.1'!H10 -> 0 | G9: ='Показатель 4.2'!J10 -> 0.25
A10: ЗАТО Шиханы | B10: =SUM(C10:G10) -> 4.5 | C10: ='Показатель 3.1'!J12 -> 4 | D10: ='Показатель 3.2'!H13 -> 0 | E10: ='Показатель 3.3'!J11 -> 0.5 | F10: ='Показатель 4.1'!H11 -> 0 | G10: ='Показатель 4.2'!J11 -> 0
A11: Муниципальные районы
A12: Александрово-Гайский | B12: =SUM(C12:G12) -> 0.75 | C12: ='Показатель 3.1'!J14 -> 0 | D12: ='Показатель 3.2'!H15 -> 0 | E12: ='Показатель 3.3'!J13 -> 0.5 | F12: ='Показатель 4.1'!H13 -> 0 | G12: ='Показатель 4.2'!J13 -> 0.25
A13: Аркадакский | B13: =SUM(C13:G13) -> 0 | C13: ='Показатель 3.1'!J15 -> 0 | D13: ='Показатель 3.2'!H16 -> 0 | E13: ='Показатель 3.3'!J14 -> 0 | F13: ='Показатель 4.1'!H14 -> 0 | G13: ='Показатель 4.2'!J14 -> 0
A14: Аткарский | B14: =SUM(C14:G14) -> 0.75 | C14: ='Показатель 3.1'!J16 -> 0 | D14: ='Показатель 3.2'!H17 -> 0 | E14: ='Показатель 3.3'!J15 -> 0.5 | F14: ='Показатель 4.1'!H15 -> 0 | G14: ='Показатель 4.2'!J15 -> 0.25
A15: Базарно-Карабулакский | B15: =SUM(C15:G15) -> 2.75 | C15: ='Показатель 3.1'!J17 -> 2 | D15: ='Показатель 3.2'!H18 -> 0 | E15: ='Показатель 3.3'!J16 -> 0.5 | F15: ='Показатель 4.1'!H16 -> 0 | G15: ='Показатель 4.2'!J16 -> 0.25
A16: Балаковский | B16: =SUM(C16:G16) -> 6 | C16: ='Показатель 3.1'!J18 -> 2 | D16: ='Показатель 3.2'!H19 -> 3 | E16: ='Показатель 3.3'!J17 -> 1 | F16: ='Показатель 4.1'!H17 -> 0 | G16: ='Показатель 4.2'!J17 -> 0
A17: Балашовский | B17: =SUM(C17:G17) -> 0.25 | C17: ='Показатель 3.1'!J19 -> 0 | D17: ='Показатель 3.2'!H20 -> 0 | E17: ='Показатель 3.3'!J18 -> 0 | F17: ='Показатель 4.1'!H18 -> 0 | G17: ='Показатель 4.2'!J18 -> 0.25
A18: Балтайский | B18: =SUM(C18:G18) -> 0 | C18: ='Показатель 3.1'!J20 -> 0 | D18: ='Показатель 3.2'!H21 -> 0 | E18: ='Показатель 3.3'!J19 -> 0 | F18: ='Показатель 4.1'!H19 -> 0 | G18: ='Показатель 4.2'!J19 -> 0
A19: Вольский | B19: =SUM(C19:G19) -> 2 | C19: ='Показатель 3.1'!J21 -> 2 | D19: ='Показатель 3.2'!H22 -> 0 | E19: ='Показатель 3.3'!J20 -> 0 | F19: ='Показатель 4.1'!H20 -> 0 | G19: ='Показатель 4.2'!J20 -> 0
A20: Воскресенский | B20: =SUM(C20:G20) -> 0.5 | C20: ='Показатель 3.1'!J22 -> 0 | D20: ='Показатель 3.2'!H23 -> 0 | E20: ='Показатель 3.3'!J21 -> 0.5 | F20: ='Показатель 4.1'!H21 -> 0 | G20: ='Показатель 4.2'!J21 -> 0
A21: Дергачевский | B21: =SUM(C21:G21) -> 5.5 | C21: ='Показатель 3.1'!J23 -> 4 | D21: ='Показатель 3.2'!H24 -> 0 | E21: ='Показатель 3.3'!J22 -> 1 | F21: ='Показатель 4.1'!H22 -> 0 | G21: ='Показатель 4.2'!J22 -> 0.5
A22: Духовницкий | B22: =SUM(C22:G22) -> 0.5 | C22: ='Показатель 3.1'!J24 -> 0 | D22: ='Показатель 3.2'!H25 -> 0 | E22: ='Показатель 3.3'!J23 -> 0.5 | F22: ='Показатель 4.1'!H23 -> 0 | G22: ='Показатель 4.2'!J23 -> 0
A23: Екатериновский | B23: =SUM(C23:G23) -> 0.25 | C23: ='Показатель 3.1'!J25 -> 0 | D23: ='Показатель 3.2'!H26 -> 0 | E23: ='Показатель 3.3'!J24 -> 0 | F23: ='Показатель 4.1'!H24 -> 0 | G23: ='Показатель 4.2'!J24 -> 0.25
... A49: Энгельсский | B49: =SUM(C49:G49) -> 3.25 | C49: ='Показатель 3.1'!J51 -> 2 | D49: ='Показатель 3.2'!H52 -> 1 | E49: ='Показатель 3.3'!J50 -> 0 | F49: ='Показатель 4.1'!H50 -> 0 | G49: ='Показатель 4.2'!J50 -> 0.25

Sheet Методика II этап
A1: II этап. Годовой отчет об исполнении бюджета муниципального образования
A3: № п/п | B3: Вопросы и варианты ответов | C3: Баллы
A5: 3. | B5: Годовой отчет об исполнении бюджета муниципального образования | C5: =C8+C13+C19 -> 8
A6: 3.1 | B6: Опубликование проекта решения об исполнении бюджета муниципального образования за отчетный финансовый год на портале (сайте)
B7: В целях оценки показателя учитывается публикация проекта решения об исполнении бюджета в полном объеме, включая текстовую часть и все приложения к нему. Публикация отдельных составляющих в целях оценки показателя не учитывается. Проект решения об исполнении бюджета и материалы к нему должны быть опубликованы в течение 10 рабочих дней после внесения проекта решения в представительный орган муниципального образования и сохраняться не менее трех лет. При нарушении указанного срока применяется понижающий коэффициент за несоблюдение сроков обеспечения доступа к бюджетным данным. В случае, если в установленный срок документ не размещен, оценка показателя принимает значение 0 баллов.
B8: Опубликован в структурированном виде с указанием полных или кратких наименований всех составляющих | C8: 4
B9: Опубликован, но не в структурированном виде и (или) без указания полных или кратких наименований всех составляющих | C9: 2
B10: Не опубликован | C10: 0
A11: 3.2 | B11: Опубликование бюджета для граждан, разработанного на основе решения об исполнении бюджета муниципального образования за отчетный финансовый год, на портале (сайте)
B12: В целях оценки показателя учитывается публикация информации в виде брошюр (презентаций), либо в виде отдельных сведений, опубликованных на портале (сайте). В том числе, должна быть представлена следующая информация: 1) сведения о прогнозируемых и фактических значениях основных показателей социально- экономического развития муниципального образования за отчетный финансовый год (в том числе,сведения о показателях, характеризующих объемы производства, численность и состав населения и т.д.); 2) исполнение плана по доходам в разрезе видов доходов с объяснениями причин отклонения (в случае их наличия); 3)исполнение плана по расходам по разделам и подразделам классификации расходов бюджета с объяснениями причин отклонения (в случае их наличия); 4) сведения о реализуемых в отчетном финансовом году муниципальных программах и достигнутых показателях в увязке с объемами бюджетных расходов, направленных на их достижение; 5) сведения о выполнении обязательств по финансированию социально-значимых проектов за счет бюджета муниципального образования за отчетный финансовый год; 6) сведения об объеме муниципального долга по состоянию на начало и на конец отчетного года; 7) контактная информациядля обратной связи с гражданами. Бюджет для граждан, разработанный на основе решения об исполнении бюджета, должен быть опубликован в течение 10 рабочих дней после принятия решения об исполнении бюджета муниципального образования и сохраняться не менее трех лет При нарушении указанного срока применяется понижающий коэффициент за несоблюдение сроков обеспечения доступа к бюджетным данным. В случае, если в установленный срок документ не размещен, оценка показателя принимает значение 0 баллов.
B13: Опубликован и содержит информацию по всем ключевым элементам | C13: 3
B14: Опубликован и содержит информацию по пяти и более ключевым элементам | C14: 2
B15: Опубликован и содержит информацию по трем и более ключевым элементам | C15: 1
B16: Не опубликован или содержит информацию менее чем по трем ключевым элементам | C16: 0
A17: 3.3 | B17: Опубликование заключения контрольно-счетного органа муниципального образования на годовой отчет об исполнении бюджета муниципального образования за отчетный финансовый год на портале (сайте)
B18: В целях оценки показателя учитывается официальный документ, подписанный уполномоченным должностным лицом. В указанном документе должны быть указаны: а) должность, фамилия и инициалы лица, подписавшего документ, б) дата подписания документа.
B19: Опубликовано | C19: 1
B20: Не опубликовано или не отвечает требованиям | C20: 0
A21: 4. | B21: Общественное участие | C21: =C24+C28 -> 2
A22: 4.1 | B22: Опубликование информационного сообщения для граждан о проведении публичных слушаний по годовому отчету об исполнении бюджета за отчетный финансовый год на портале (сайте)
B23: В составе информационных сообщений о проведении публичных слушаний в обязательном порядке должны быть указаны дата, время, место и порядок их проведения. Если указанные сведения представлены частично, оценка показателя принимает значение 0 баллов. В случае, если в установленный срок в информационном сообщении ссылка (адрес) на раздел (страницу) портала (сайта), где опубликованы указанные материалы, отсутствует, а также если по указанной ссылке (адресу) проект решения об исполнении бюджета за отчетный год не опубликован, оценка показателя принимает значение 0 баллов. Информационное сообщение о проведении публичных слушаний по годовому отчету должно быть опубликовано не позднее, чем за пять рабочих дней до дня проведения публичных слушаний. При нарушении указанного срока применяется понижающий коэффициент за несоблюдение сроков обеспечения доступа к бюджетным данным. В случае, если в установленный срок документ не размещен, оценка показателя принимает значение 0 баллов.
B24: Опубликовано и содержит информацию о том, где можно ознакомиться с проектом решения об исполнении бюджета за отчетный год | C24: 1
B25: Не опубликовано, или публичные слушания не проводились, или не отвечает требованиям | C25: 0
A26: 4.2 | B26: Проведение публичных слушаний по годовому отчету об исполнении бюджета муниципального образования за отчетный финансовый год и опубликование в составе материалов к проекту решения об исполнении бюджета муниципального образования за отчетный финансовый год итогового документа (решения/протокола), принятого по результатам публичных слушаний, на портале (сайте)
B27: В целях оценки показателя учитывается официальный документ (решение/протокол), принятый по итогам публичных слушаний или общественного обсуждения и подписанный уполномоченным должностным лицом. Указанный документ должен быть опубликован не позднее 10 рабочих дней после проведения публичных слушаний и сохраняться не менее трех лет. При нарушении указанного срока применяется понижающий коэффициент за несоблюдение сроков обеспечения доступа к бюджетным данным. В случае, если в установленный срок документ не размещен, оценка показателя принимает значение 0 баллов.
B28: Публичные слушания проводились, и в составе материалов к проекту решения об исполнении бюджета муниципального образования за отчетный финансовый год опубликован итоговый документ (решение/протокол), принятый по результатам публичных слушаний | C28: 1
B29: Публичные слушания не проводились, или не опубликован итоговый документ (решение/протокол), принятый по результатам публичных слушаний | C29: 0
B30: Итого баллов на II этапе | C30: =C5+C21 -> 10

Sheet Показатель 3.1
A1: 3.1. Проект решения об исполнении бюджета муниципального образования
A2: Комментарий:
A3: ='Методика II этап'!B7 -> В целях оценки показателя учитывается публикация проекта решения об исполнении бюджета в полном объеме, включая текстовую часть и все приложения к нему. Публикация отдельных составляющих в целях оценки показателя не учитывается. Проект решения об исполнении бюджета и материалы к нему должны быть опубликованы в течение 10 рабочих дней после внесения проекта решения в представительный орган муниципального образования и сохраняться не менее трех лет. При нарушении указанного срока применяется понижающий коэффициент за несоблюдение сроков обеспечения доступа к бюджетным данным. В случае, если в установленный срок документ не размещен, оценка показателя принимает значение 0 баллов.
A4: № п/п | B4: Вопрос | C4: ='Методика II этап'!B6 -> Опубликование проекта решения об исполнении бюджета муниципального образования за отчетный финансовый год на портале (сайте) | D4: Формат | E4: Доступность (указать, если возникли трудности с поиском документа, если переход осуществляется более, чем за 5 «кликов» с основной страницы портала (сайта), если название раздела не соответствует содержанию) | F4: Оценка показателя 3.1 | K4: Ссылка на источник данных | L4: Комментарии
B5: Варианты ответов | C5: ='Методика II этап'!B8 -> Опубликован в структурированном виде с указанием полных или кратких наименований всех составляющих | D5: Word, Excel, PDF | F5: баллы | G5: понижающие коэффициенты | J5: Итого
C6: ='Методика II этап'!B9 -> Опубликован, но не в структурированном виде и (или) без указания полных или кратких наименований всех составляющих | G6: графический формат | H6: затруднен-ный поиск | I6: несоблюде-ние сроков
C7: ='Методика II этап'!B10 -> Не опубликован
B8: Городские округа
A9: 1 | B9: г. Саратов | C9: Опубликован, но не в структурированном виде и (или) без указания полных или кратких наименований всех составляющих | D9: Word | E9: 6 кликов до документа, лишняя папка в архиве | F9: =IF(C9=$C$5,4,IF(C9=$C$6,2,0)) -> 2 | H9: 0.5 | J9: =F9*(1-G9)*(1-H9)*(1-I9) -> 1 | K9: http://saratovmer.ru/budget/rubrics/5/1265.html | L9: Не указаны названия приложений в архиве.
A10: 2 | B10: ЗАТО Михайловское | C10: Не опубликован | F10: =IF(C10=$C$5,4,IF(C10=$C$6,2,0)) -> 0 | J10: =F10*(1-G10)*(1-H10)*(1-I10) -> 0 | K10: http://mihailovski.ru/?mod=article&id=3168 | L10: В целях оценки показателя учитывается публикация проекта решения об исполнении бюджета в полном объеме, включая текстовую часть и все приложения к нему. На сайте опубликовано решение № 284 «Об утверждении отчета об исполнении бюджета ЗАТО Михайловский за 2015 год».
A11: 3 | B11: ЗАТО Светлый | C11: Опубликован, но не в структурированном виде и (или) без указания полных или кратких наименований всех составляющих | D11: Word | F11: =IF(C11=$C$5,4,IF(C11=$C$6,2,0)) -> 2 | J11: =F11*(1-G11)*(1-H11)*(1-I11) -> 2 | K11: http://zatosvetly.ru/city/economics_amp_finance/byudzhet-gorodskogo-okruga/informatsiya-ob-ispolnenii-byudzheta-gorodskogo-okruga-zato-svetlyy/2015/index.php?ELEMENT_ID=8475 | L11: Скачать можно только приложения.
A12: 4 | B12: ЗАТО Шиханы | C12: Опубликован в структурированном виде с указанием полных или кратких наименований всех составляющих | D12: Word | F12: =IF(C12=$C$5,4,IF(C12=$C$6,2,0)) -> 4 | J12: =F12*(1-G12)*(1-H12)*(1-I12) -> 4 | K12: http://zatoshihany.ru/regulatory/bills/ | L12: Раздел не структурирован по годам.
B13: Муниципальные районы
A14: 5 | B14: Александрово-Гайский | C14: Не опубликован | F14: =IF(C14=$C$5,4,IF(C14=$C$6,2,0)) -> 0 | J14: =F14*(1-G14)*(1-H14)*(1-I14) -> 0 | K14: http://algay.sarmo.ru/byudzhet-ekonomika-finansy/byudzhet-dokumenty.php | L14: В целях оценки показателя учитывается публикация проекта решения об исполнении бюджета в полном объеме, включая текстовую часть и все приложения к нему. На сайте информация не опубликована.
A15: 6 | B15: Аркадакский | C15: Не опубликован | F15: =IF(C15=$C$5,4,IF(C15=$C$6,2,0)) -> 0 | J15: =F15*(1-G15)*(1-H15)*(1-I15) -> 0 | K15: http://arkadak.sarmo.ru/index.php?option=com_content&view=article&id=828 | L15: В целях оценки показателя учитывается публикация проекта решения об исполнении бюджета в полном объеме, включая текстовую часть и все приложения к нему. На сайте опубликовано решение № 63-375 «О проекте отчета об исполнении бюджета Аркадакского муниципального района за 2015 год».
A16: 7 | B16: Аткарский | C16: Не опубликован | F16: =IF(C16=$C$5,4,IF(C16=$C$6,2,0)) -> 0 | J16: =F16*(1-G16)*(1-H16)*(1-I16) -> 0 | K16: http://proatkarsk.ru/CityArticles.aspx?articleid=3304 | L16: В целях оценки показателя учитывается публикация проекта решения об исполнении бюджета в полном объеме, включая текстовую часть и все приложения к нему.
A17: 8 | B17: Базарно-Карабулакский | C17: Опубликован в структурированном виде с указанием полных или кратких наименований всех составляющих | D17: Word | E17: 7 кликов до документа, лишняя папка в архиве | F17: =IF(C17=$C$5,4,IF(C17=$C$6,2,0)) -> 4 | H17: 0.5 | J17: =F17*(1-G17)*(1-H17)*(1-I17) -> 2 | K17: http://bkarabulak.sarmo.ru/index.php?option=com_content&view=article&id=5687&Itemid=328
A18: 9 | B18: Балаковский | C18: Опубликован, но не в структурированном виде и (или) без указания полных или кратких наименований всех составляющих | D18: Word | F18: =IF(C18=$C$5,4,IF(C18=$C$6,2,0)) -> 2 | J18: =F18*(1-G18)*(1-H18)*(1-I18) -> 2 | K18: http://www.admbal.ru/page/ispolnenie-byudzheta-bmr | L18: Приложения 1-4 указаны без наименований, дополнительная информация к проекту не отделена от проекта.
A19: 10 | B19: Балашовский | C19: Не опубликован | F19: =IF(C19=$C$5,4,IF(C19=$C$6,2,0)) -> 0 | J19: =F19*(1-G19)*(1-H19)*(1-I19) -> 0 | K19: http://www.baladmin.ru/meeting/docs/ | L19: Проекта решения об исполнении бюджета муниципального образования за отчетный финансовый год не обнаружено, только само решение не в структурированном ввиде. В разделе много неструктурированной информации, не удобно искать необходимую.
A20: 11 | B20: Балтайский | C20: Не опубликован | F20: =IF(C20=$C$5,4,IF(C20=$C$6,2,0)) -> 0 | J20: =F20*(1-G20)*(1-H20)*(1-I20) -> 0 | K20: http://adm-baltay.ru/sobranie-deputatov/normativno-pravovyie-aktyi-sobraniya-deputatov/2016-2/ | L20: По указанной ссылке (http://adm-baltay.ru/sobranie-deputatov/nor mativno-pravovyie-aktyi-sobraniya-deputatov/2016-2/) документы не найдены. Решение № 77 не является проектом.
A21: 12 | B21: Вольский | C21: Опубликован, но не в структурированном виде и (или) без указания полных или кратких наименований всех составляющих | D21: Word | F21: =IF(C21=$C$5,4,IF(C21=$C$6,2,0)) -> 2 | J21: =F21*(1-G21)*(1-H21)*(1-I21) -> 2 | K21: http://volskms.ru/%d0%bf%d1%80%d0%be%d0%b5%d0%ba%d1%82%d1%8b-%d0%bc%d1%83%d0%bd%d0%b8%d1%86%d0%b8%d0%bf%d0%b0%d0%bb%d1%8c%d0%bd%d1%8b%d1%85-%d0%bd%d0%be%d1%80%d0%bc%d0%b0%d1%82%d0%b8%d0%b2%d0%bd%d0%be-%d0%bf%d1%80/ | L21: Обратите внимание: в следующий раз присылать конкретную ссылку на страницу, где находится документ. Пришлось его поискать!
A22: 13 | B22: Воскресенский | C22: Не опубликован | F22: =IF(C22=$C$5,4,IF(C22=$C$6,2,0)) -> 0 | J22: =F22*(1-G22)*(1-H22)*(1-I22) -> 0 | K22: http://voskresensk64.ru/meeting/mun-sobranie/documents/index.php | L22: Опубликовано решение, а не проект. Раздел не структурирован по годам.
A23: 14 | B23: Дергачевский | C23: Опубликован в структурированном виде с указанием полных или кратких наименований всех составляющих | D23: Word, Excel | E23: Лишняя папка в архиве. | F23: =IF(C23=$C$5,4,IF(C23=$C$6,2,0)) -> 4 | J23: =F23*(1-G23)*(1-H23)*(1-I23) -> 4 | K23: http://dergachi.sarmo.ru/sobranie-dergachevskogo-munitsipalnogo-rayona/proekty-sobraniya-dergachevskogo-munitsipalnogo-rayona/
A24: 15 | B24: Духовницкий | C24: Не опубликован | F24: =IF(C24=$C$5,4,IF(C24=$C$6,2,0)) -> 0 | J24: =F24*(1-G24)*(1-H24)*(1-I24) -> 0
A25: 16 | B25: Екатериновский | C25: Не опубликован | F25: =IF(C25=$C$5,4,IF(C25=$C$6,2,0)) -> 0 | J25: =F25*(1-G25)*(1-H25)*(1-I25) -> 0 | K25: ekaterinovka.sarmo.ru/upload/medialibrary/1cf/1cf3a977ffe55471ec526ff1e454c89a.doc | L25: Обратите внимание: в следующий раз присылать конкретную ссылку на страницу, где находится документ. В целях оценки показателя учитывается публикация проекта решения об исполнении бюджета в полном объеме, включая текстовую часть и все приложения к нему. На сайте опубликовано решение № 66-395 «О проекте решения «Об утверждении отчета об исполнении бюджета Екатериновского муниципального района за 2015год» .
A26: 17 | B26: Ершовский | C26: Не опубликован | F26: =IF(C26=$C$5,4,IF(C26=$C$6,2,0)) -> 0 | J26: =F26*(1-G26)*(1-H26)*(1-I26) -> 0 | K26: http://ershov.sarmo.ru/raion-sobr/resheniya/ | L26: В целях оценки показателя учитывается публикация проекта решения об исполнении бюджета в полном объеме, включая текстовую часть и все приложения к нему. На сайте опубликовано решение № 40-236 «Об утверждении отчета об исполнении бюджета Ершовского муниципального района за 2015 год».
A27: 18 | B27: Ивантеевский | C27: Опубликован, но не в структурированном виде и (или) без указания полных или кратких наименований всех составляющих | D27: Word | F27: =IF(C27=$C$5,4,IF(C27=$C$6,2,0)) -> 2 | J27: =F27*(1-G27)*(1-H27)*(1-I27) -> 2 | K27: http://ivanteevka.sarmo.ru/byudzhet-dlya-grazhdan/proekt-byudzheta-dlya-grazhdan/proekt-resheniya-ob-ispolnenii-byudzheta-za-2015-god/ | L27: Приложения указаны без наименований, нет возможности скачать текстовую часть проекта.
A28: 19 | B28: Калининский | C28: Опубликован в структурированном виде с указанием полных или кратких наименований всех составляющих | D28: Word | F28: =IF(C28=$C$5,4,IF(C28=$C$6,2,0)) -> 4 | J28: =F28*(1-G28)*(1-H28)*(1-I28) -> 4 | K28: http://kalininsk.sarmo.ru/predstavitelnyy-organ-munitsipalnogo-rayona/dokumenty-normativnye-akty/ | L28: Раздел не структурирован по годам.
A29: 20 | B29: Красноармейский | C29: Не опубликован | F29: =IF(C29=$C$5,4,IF(C29=$C$6,2,0)) -> 0 | J29: =F29*(1-G29)*(1-H29)*(1-I29) -> 0 | K29: http://krasnoarmeysk.sarmo.ru/krasnoarmeyskiy-rayon/byudzhet/reshenie-ob-ispolnenii-byudzheta-krasnoarmeyskogo-munitsipalnogo-rayona/ | L29: В целях оценки показателя учитывается публикация проекта решения об исполнении бюджета в полном объеме, включая текстовую часть и все приложения к нему. На сайте опубликовано решение № 33 «Об исполнении бюджета Красноармейского муниципального района за 2015 год».
A30: 21 | B30: Краснокутский | C30: Опубликован, но не в структурированном виде и (или) без указания полных или кратких наименований всех составляющих | D30: Word | E30: 6 кликов до документа | F30: =IF(C30=$C$5,4,IF(C30=$C$6,2,0)) -> 2 | H30: 0.5 | J30: =F30*(1-G30)*(1-H30)*(1-I30) -> 1 | K30: http://krasny-kut.ru/municipal_noe_sobranie/oficial_nye_dokumenty/proekty_reshenij_sobraniya_deputatov/ | L30: Затруднен поиск, все проекты решений сгруппированы в архивах по месяцам (папка апрель).
A31: 22 | B31: Краснопартизанский | C31: Опубликован, но не в структурированном виде и (или) без указания полных или кратких наименований всех составляющих | D31: Word | F31: =IF(C31=$C$5,4,IF(C31=$C$6,2,0)) -> 2 | J31: =F31*(1-G31)*(1-H31)*(1-I31) -> 2 | K31: http://gornyi.sarmo.ru/index.php?option=com_content&view=article&id=1013:2014-04-02-05-58-02&catid=34:%D0%9E%D1%81%D0%BD%D0%BE%D0%B2%D0%BD%D0%B0%D1%8F%20%D0%BA%D0%B0%D1%82%D0%B5%D0%B3%D0%BE%D1%80%D0%B8%D1%8F
A32: 23 | B32: Лысогорский | C32: Опубликован, но не в структурированном виде и (или) без указания полных или кратких наименований всех составляющих | D32: Word | F32: =IF(C32=$C$5,4,IF(C32=$C$6,2,0)) -> 2 | J32: =F32*(1-G32)*(1-H32)*(1-I32) -> 2 | K32: http://adm.lysyegory.ru/base/2476-proekt-reshenija-ob-ispolnenii-byudzheta-municipalnogo-raiona-za-2015-god.html
A33: 24 | B33: Марксовский | C33: Опубликован в структурированном виде с указанием полных или кратких наименований всех составляющих | D33: Word, Excel | F33: =IF(C33=$C$5,4,IF(C33=$C$6,2,0)) -> 4 | J33: =F33*(1-G33)*(1-H33)*(1-I33) -> 4 | K33: http://marksadm.ru/icp-b.html
A34: 25 | B34: Новобурасский | C34: Не опубликован | F34: =IF(C34=$C$5,4,IF(C34=$C$6,2,0)) -> 0 | J34: =F34*(1-G34)*(1-H34)*(1-I34) -> 0 | K34: http://admnburasy.ru/budget.html | L34: В целях оценки показателя учитывается публикация проекта решения об исполнении бюджета в полном объеме, включая текстовую часть и все приложения к нему. На сайте опубликовано решение № 352 «Об исполнении бюджета Новобурасского муниципального района за 2015 год». Обратите внимание: в следующий раз присылать конкретную ссылку на страницу, где находится документ. Раздел не структурирован.
A35: 26 | B35: Новоузенский | C35: Не опубликован | F35: =IF(C35=$C$5,4,IF(C35=$C$6,2,0)) -> 0 | J35: =F35*(1-G35)*(1-H35)*(1-I35) -> 0 | K35: http://www.novouzensk.ru/sobranie/sobr/akty/ | L35: В целях оценки показателя учитывается публикация проекта решения об исполнении бюджета в полном объеме, включая текстовую часть и все приложения к нему. По данной ссылке опубликованы решения Собрания Новоузенского МР, причем без названия, что затрудняет поиск нужного пользователю.
A36: 27 | B36: Озинский | C36: Опубликован в структурированном виде с указанием полных или кратких наименований всех составляющих | D36: Word | E36: 6 кликов до документа, лишние папки в архиве | F36: =IF(C36=$C$5,4,IF(C36=$C$6,2,0)) -> 4 | H36: 0.5 | J36: =F36*(1-G36)*(1-H36)*(1-I36) -> 2 | K36: http://ozinki.sarmo.ru/byudzhet/byudzhet-munitsipalnogo-rayona.php | L36: Раздел не структурирован по годам.
A37: 28 | B37: Перелюбский | C37: Не опубликован | F37: =IF(C37=$C$5,4,IF(C37=$C$6,2,0)) -> 0 | J37: =F37*(1-G37)*(1-H37)*(1-I37) -> 0 | K37: http://perelyub.sarmo.ru/index.php?option=com_content&view=category&layout=blog&id=72&Itemid=244 | L37: В целях оценки показателя учитывается публикация проекта решения об исполнении бюджета в полном объеме, включая текстовую часть и все приложения к нему. На сайте опубликовано решение №7 п.1 «Об утверждении годового отчета за 2015 год».
A38: 29 | B38: Петровский | C38: Опубликован в структурированном виде с указанием полных или кратких наименований всех составляющих | D38: Web, Pdf | F38: =IF(C38=$C$5,4,IF(C38=$C$6,2,0)) -> 4 | J38: =F38*(1-G38)*(1-H38)*(1-I38) -> 4 | K38: http://petrovsk64.ru/sub-org/fin-upr/otkrytyy-byudzhet/otchetnost/proekt-resheniya-ob-ispolnenii-byudzheta-munitsipalnogo-rayona/
A39: 30 | B39: Питерский | C39: Опубликован, но не в структурированном виде и (или) без указания полных или кратких наименований всех составляющих | D39: Word | F39: =IF(C39=$C$5,4,IF(C39=$C$6,2,0)) -> 2 | J39: =F39*(1-G39)*(1-H39)*(1-I39) -> 2 | K39: http://piterka.sarmo.ru/byudzhet-piterskogo-mr/ispolnenie-mestnogo-byudzheta/
A40: 31 | B40: Пугачевский | C40: Опубликован, но не в структурированном виде и (или) без указания полных или кратких наименований всех составляющих | D40: Word | E40: В разделе «Новостная лента» | F40: =IF(C40=$C$5,4,IF(C40=$C$6,2,0)) -> 2 | H40: 0.5 | J40: =F40*(1-G40)*(1-H40)*(1-I40) -> 1 | K40: http://pugachev-adm.ru/19-aprelya-v-administratsii-pugachevskogo-munitsipalnogo-rayona-sostoyatsya-publichnyie-slushaniya.html#more-15685 | L40: На предоставленной ссылке http://pugachev-adm.ru/ekonomika-rayona/byudzhet-rayona документ не найден. Документ обнаружен прикрепленным к сообщению о проведении публичных слушаний.
...

Sheet Показатель 3.2
A1: 3.2. Опубликование бюджета для граждан, разработанного на основе решения об исполнении бюджета муниципального образования за отчетный финансовый год , на портале (сайте)
A2: Комментарий:
A3: ='Методика II этап'!B12 -> В целях оценки показателя учитывается публикация информации в виде брошюр (презентаций), либо в виде отдельных сведений, опубликованных на портале (сайте). В том числе, должна быть представлена следующая информация: 1) сведения о прогнозируемых и фактических значениях основных показателей социально- экономического развития муниципального образования за отчетный финансовый год (в том числе,сведения о показателях, характеризующих объемы производства, численность и состав населения и т.д.); 2) исполнение плана по доходам в разрезе видов доходов с объяснениями причин отклонения (в случае их наличия); 3)исполнение плана по расходам по разделам и подразделам классификации расходов бюджета с объяснениями причин отклонения (в случае их наличия); 4) сведения о реализуемых в отчетном финансовом году муниципальных программах и достигнутых показателях в увязке с объемами бюджетных расходов, направленных на их достижение; 5) сведения о выполнении обязательств по финансированию социально-значимых проектов за счет бюджета муниципального образования за отчетный финансовый год; 6) сведения об объеме муниципального долга по состоянию на начало и на конец отчетного года; 7) контактная информациядля обратной связи с гражданами. Бюджет для граждан, разработанный на основе решения об исполнении бюджета, должен быть опубликован в течение 10 рабочих дней после принятия решения об исполнении бюджета муниципального образования и сохраняться не менее трех лет При нарушении указанного срока применяется понижающий коэффициент за несоблюдение сроков обеспечения доступа к бюджетным данным. В случае, если в установленный срок документ не размещен, оценка показателя принимает значение 0 баллов.
A4: № п/п | B4: Наименование муниципального образования Саратовской обалсти | C4: ='Методика II этап'!B11 -> Опубликование бюджета для граждан, разработанного на основе решения об исполнении бюджета муниципального образования за отчетный финансовый год, на портале (сайте) | D4: Доступность (указать, если возникли трудности с поиском документа, если переход осуществляется более, чем за 5 «кликов» с основной страницы портала (сайта), если название раздела не соответствует содержанию) | E4: Оценка показателя 3.2 | I4: Ссылка на источник данных | J4: Комментарии
B5: Варианты ответов | C5: ='Методика II этап'!B13 -> Опубликован и содержит информацию по всем ключевым элементам | E5: баллы | F5: понижающие коэффициенты | H5: Итого
C6: ='Методика II этап'!B14 -> Опубликован и содержит информацию по пяти и более ключевым элементам | F6: затруднен-ный поиск | G6: несоблюде-ние сроков
C7: ='Методика II этап'!B15 -> Опубликован и содержит информацию по трем и более ключевым элементам
C8: ='Методика II этап'!B16 -> Не опубликован или содержит информацию менее чем по трем ключевым элементам
B9: Городские округа
A10: 1 | B10: г. Саратов | C10: Опубликован и содержит информацию по трем и более ключевым элементам | E10: =IF(C10=$C$5,3,IF(C10=$C$6,2,IF(C10=$C$7,1,0))) -> 1 | H10: =E10*(1-F10)*(1-G10) -> 1 | I10: http://saratovmer.ru/budget/rubrics/6/1267.html | J10: Отсутствует пункты: 1,6,7, пункт 4 не соответствует (отсутствуют плановые значения, нет показателей).
A11: 2 | B11: ЗАТО Михайловское | C11: Не опубликован или содержит информацию менее чем по трем ключевым элементам | D11: Раздел «Информация»,а не в разделе «Бюджет». | E11: =IF(C11=$C$5,3,IF(C11=$C$6,2,IF(C11=$C$7,1,0))) -> 0 | F11: 0.5 | H11: =E11*(1-F11)*(1-G11) -> 0 | I11: http://mihailovski.ru/?mod=article&id=3096 | J11: Отсутствуют пункты 4-6; пункт 1 не соответствует (отсутствуют показатели, характеризующие объемы производства, численность и состав населения), пункт 2 и 3 не соответствуют (отсутствуют причины отклонения исполнения от плановых значений).
A12: 3 | B12: ЗАТО Светлый | C12: Не опубликован или содержит информацию менее чем по трем ключевым элементам | E12: =IF(C12=$C$5,3,IF(C12=$C$6,2,IF(C12=$C$7,1,0))) -> 0 | H12: =E12*(1-F12)*(1-G12) -> 0 | I12: http://zatosvetly.ru/city/economics_amp_finance/byudzhet-gorodskogo-okruga/byudzhet-dlya-grazhdan/ | J12: Отсутствуют пункты 1, 4, 5; пункт 2 и 3 не соответствуют (отсутствуют плановые значения, процент исполнения и причины отклонения исполнения от плановых значений).
A13: 4 | B13: ЗАТО Шиханы | C13: Не опубликован или содержит информацию менее чем по трем ключевым элементам | D13: Название файла «Отчет за 2015 год городского округа ЗАТО Шиханы » не соответствует содержанию, что вводит пользователя в заблуждение. | E13: =IF(C13=$C$5,3,IF(C13=$C$6,2,IF(C13=$C$7,1,0))) -> 0 | F13: 0.5 | H13: =E13*(1-F13)*(1-G13) -> 0 | I13: http://zatoshihany.ru/city/Budget_for_citizens/ | J13: Отсутствуют пункты 5,7; пункт 1 не соответствует (отсутствуют показатели, характеризующие объемы производства, численность и состав населения), пункт 3 не соответствуют (отсутствуют процент исполнения и причины отклонения исполнения от плановых значений), пункт 4 не соответствует (нет показателей), пункт 6 не соответствует (нет данных об объеме мун.долга на начало отчетного периода, т.е. на 01.01.2015).
B14: Муниципальные районы
A15: 5 | B15: Александрово-Гайский | C15: Не опубликован или содержит информацию менее чем по трем ключевым элементам | E15: =IF(C15=$C$5,3,IF(C15=$C$6,2,IF(C15=$C$7,1,0))) -> 0 | H15: =E15*(1-F15)*(1-G15) -> 0 | I15: http://algay.sarmo.ru/byudzhet-ekonomika-finansy/byudzhet-dokumenty.php | J15: Отсутствуют пункты 1, 4, 5,7, пункт 2 и 3 не соответствуют (отсутствуют плановые значения и причины отклонения исполнения от плановых значений), пункт 6 не соответствует (нет данных об объеме мун.долга на начало отчетного периода, т.е. на 01.01.2015). Раздел не структурирован по годам.
A16: 6 | B16: Аркадакский | C16: Не опубликован или содержит информацию менее чем по трем ключевым элементам | E16: =IF(C16=$C$5,3,IF(C16=$C$6,2,IF(C16=$C$7,1,0))) -> 0 | H16: =E16*(1-F16)*(1-G16) -> 0 | I16: http://arkadak.sarmo.ru/index.php?option=com_content&view=article&id=828 | J16: На предоставленной ссылке отсутствует бюджет для граждан, разработанный на основе решения об исполнении бюджета муниципального образования за отчетный финансовый год
A17: 7 | B17: Аткарский | C17: Не опубликован или содержит информацию менее чем по трем ключевым элементам | D17: Название раздела «Бюджет для граждан Аткарского МР на 2015 год» не соответствует содержанию, что вводит пользователя в заблуждение. | E17: =IF(C17=$C$5,3,IF(C17=$C$6,2,IF(C17=$C$7,1,0))) -> 0 | F17: 0.5 | H17: =E17*(1-F17)*(1-G17) -> 0 | I17: http://proatkarsk.ru/CityArticles.aspx?articleid=3041 | J17: Отсутствуют пункты 5-7, пункт 1 не соответствует (отсутствуют показатели, характеризующие численность и состав населения), пункт 2 не соответствует (сведения не в разрезе видов доходов и отсутствуют причины отклонения исполнения от плановых значений ), пункт 3 не соответствует ( не в разрезе видов расходов и отсутствуют причины отклонения исполнения от плановых значений ), в пункте 4 предпочтительны числовые показатели.
A18: 8 | B18: Базарно-Карабулакский | C18: Не опубликован или содержит информацию менее чем по трем ключевым элементам | D18: Название файла «Отчет об исполнении бюджета за 2015 год » не соответствует содержанию, что вводит пользователя в заблуждение. | E18: =IF(C18=$C$5,3,IF(C18=$C$6,2,IF(C18=$C$7,1,0))) -> 0 | F18: 0.5 | H18: =E18*(1-F18)*(1-G18) -> 0 | I18: http://bkarabulak.sarmo.ru/index.php?option=com_content&view=article&id=3965&Itemid=312 | J18: Отсутствуют пункты 5-7, пункт 1 не соответствует (отсутствуют показатели, характеризующие объемы производства, численность и состав населения только фактические, без плановых значений), пункты 2 и 3 не соответствуют (отсутствуют причины отклонения исполнения от плановых значений)
A19: 9 | B19: Балаковский | C19: Опубликован и содержит информацию по всем ключевым элементам | D19: Лишняя архивация для одного файла. | E19: =IF(C19=$C$5,3,IF(C19=$C$6,2,IF(C19=$C$7,1,0))) -> 3 | H19: =E19*(1-F19)*(1-G19) -> 3 | I19: http://www.admbal.ru/page/byudzhet-bmr | J19: В информации по муниципальным программам хорошо бы добавить плановые значения по целевым показателям.
A20: 10 | B20: Балашовский | C20: Не опубликован или содержит информацию менее чем по трем ключевым элементам | E20: =IF(C20=$C$5,3,IF(C20=$C$6,2,IF(C20=$C$7,1,0))) -> 0 | H20: =E20*(1-F20)*(1-G20) -> 0 | I20: http://www.baladmin.ru/administration/divisions-structure/finance/byudzhet-dlya-grazhdan.php | J20: Отсутствуют пункт 5, пункт 1 не соответствует (отсутствуют показатели, характеризующие объемы производства и состав населения), пункты 2 и 3 не соответствуют (отсутствуют причину отклонения исполнения от плановых значений), пункт 4 не соответствует (не по всем программам стоят показатели), пункт 6 не соответствует ( отсутствуют сведения об объеме муниципального долга по состоянию на начало и отчетного года, т.е. на 01.01.2015).
A21: 11 | B21: Балтайский | C21: Не опубликован или содержит информацию менее чем по трем ключевым элементам | E21: =IF(C21=$C$5,3,IF(C21=$C$6,2,IF(C21=$C$7,1,0))) -> 0 | H21: =E21*(1-F21)*(1-G21) -> 0
A22: 12 | B22: Вольский | C22: Не опубликован или содержит информацию менее чем по трем ключевым элементам | E22: =IF(C22=$C$5,3,IF(C22=$C$6,2,IF(C22=$C$7,1,0))) -> 0 | H22: =E22*(1-F22)*(1-G22) -> 0 | I22: http://вольск.рф/?page_id=14102 | J22: Отсутствуют пункт 4-7, пункт 1 не соответствует (отсутствуют показатели, характеризующие состав населения ), пункт 2 не соответствуют (отсутствуют процент исполнения и причины отклонения исполнения от плановых значений), пункт 3 не соответствуют (отсутствуют исполнение плана по расходам по разделам и подразделам классификации расходов бюджета, процент исполнения и причины отклонения исполнения от плановых значений).Отсутствует возможность скачать информацию.
A23: 13 | B23: Воскресенский | C23: Не опубликован или содержит информацию менее чем по трем ключевым элементам | E23: =IF(C23=$C$5,3,IF(C23=$C$6,2,IF(C23=$C$7,1,0))) -> 0 | H23: =E23*(1-F23)*(1-G23) -> 0 | I23: http://voskresensk64.ru/administration/statistics/Budget%20for%20citizens/ | J23: Бюджет для граждан, разработанного на основе решения об исполнении бюджета муниципального образования за 2015 год по указанной ссылке отсутствует.
A24: 14 | B24: Дергачевский | C24: Не опубликован или содержит информацию менее чем по трем ключевым элементам | E24: =IF(C24=$C$5,3,IF(C24=$C$6,2,IF(C24=$C$7,1,0))) -> 0 | H24: =E24*(1-F24)*(1-G24) -> 0 | I24: http://dergachi.sarmo.ru/byudzhet-dlya-grazhdan/ | J24: Отсутствуют пункт 4, 5, пункт 1 не соответствует (отсутствуют плановые значения, отсутствуют показатели, характеризующие состав населения), пункт 2 и 3 не соответствуют (отсутствуют плановые значения, процент исполнения и причины отклонения исполнения от плановых значений).
A25: 15 | B25: Духовницкий | C25: Не опубликован или содержит информацию менее чем по трем ключевым элементам | E25: =IF(C25=$C$5,3,IF(C25=$C$6,2,IF(C25=$C$7,1,0))) -> 0 | H25: =E25*(1-F25)*(1-G25) -> 0 | I25: http://duhovnitskoe.sarmo.ru/byudzhet-dlya-grazhdan/ | J25: Отсутствуют пункты 1,5-6, пункт 2 не соответствуют (отсутствуют причины отклонения исполнения от плановых значений), пункт 3 не соответствуют (отсутствуют плановые значения, процент исполнения и причины отклонения исполнения от плановых значений), пункт 4 не соответствует (нет процента исполнения и показателей).
A26: 16 | B26: Екатериновский | C26: Не опубликован или содержит информацию менее чем по трем ключевым элементам | E26: =IF(C26=$C$5,3,IF(C26=$C$6,2,IF(C26=$C$7,1,0))) -> 0 | H26: =E26*(1-F26)*(1-G26) -> 0 | I26: http://www.ekaterinovka.sarmo.ru/byudzhet-dlya-grazhdan/
A27: 17 | B27: Ершовский | C27: Не опубликован или содержит информацию менее чем по трем ключевым элементам | D27: Название документа «Отчет об исполнении бюджета для граждан за 2015 год», не соответствует содержанию, что вводит пользователя в заблуждение. | E27: =IF(C27=$C$5,3,IF(C27=$C$6,2,IF(C27=$C$7,1,0))) -> 0 | F27: 0.5 | H27: =E27*(1-F27)*(1-G27) -> 0 | I27: http://ershov.sarmo.ru/byudzhet-ekonomika-finansy/byudzhet-dlya-grazhdan/ | J27: Брошюра подготовлена на основе проекта решения об исполнении бюджета! Отсутствуют пункт 4-5, пункт 1 не соответствует (отсутствуют показатели, характеризующие численность и состав населения), пункт 2 и 3 не соответствуют (отсутствуют плановые значения, процент исполнения и причины отклонения исполнения от плановых значений).
A28: 18 | B28: Ивантеевский | C28: Опубликован и содержит информацию по трем и более ключевым элементам | E28: =IF(C28=$C$5,3,IF(C28=$C$6,2,IF(C28=$C$7,1,0))) -> 1 | H28: =E28*(1-F28)*(1-G28) -> 1 | I28: http://ivanteevka.sarmo.ru/byudzhet-dlya-grazhdan/byudzhet-dlya-grazhdan/2015/ispolnenie-byudzheta-za-2015-god/ | J28: Отсутствует пункт 7, информацию по пункту 1 внести в брошюру , а не отдельным дополнительным файлом, пункт 3 не соответствуют (отсутствуют причины отклонения исполнения от плановых значений). По всем показателям не хватает графы «процент исполнения» для наглядности.
A29: 19 | B29: Калининский | C29: Не опубликован или содержит информацию менее чем по трем ключевым элементам | D29: Название раздела «Исполнение бюджета Калининского МР за 2015 год» не соответствует содержанию, что вводит пользователя в заблуждение. | E29: =IF(C29=$C$5,3,IF(C29=$C$6,2,IF(C29=$C$7,1,0))) -> 0 | F29: 0.5 | H29: =E29*(1-F29)*(1-G29) -> 0 | I29: http://kalininsk.sarmo.ru/informatsiya-o-munitsipalnom-rayone/byudzhet-munitsipalnogo-rayona/?ELEMENT_ID=1406 | J29: Отсутствует пункт 1,4-6, пункт 2 и 3 не соответствуют (отсутствуют причины отклонения исполнения от плановых значений).
A30: 20 | B30: Красноармейский | C30: Не опубликован или содержит информацию менее чем по трем ключевым элементам | E30: =IF(C30=$C$5,3,IF(C30=$C$6,2,IF(C30=$C$7,1,0))) -> 0 | H30: =E30*(1-F30)*(1-G30) -> 0 | I30: http://krasnoarmeysk.sarmo.ru/krasnoarmeyskiy-rayon/byudzhet/byudzhet-dlya-grazhdan/ispolnenie-byudzheta-krasnoarmeyskogo-mr.php?clear_cache=Y | J30: Отсутствует пункт 1,4-6, пункт 2 не соответствуют (не по всем видам доходов указаны план, факт, и процент исполнения, не везде указаны причины отклонения исполнения от плановых значений), пункт 3 не соответствуют (отсутствуют причины отклонения исполнения от плановых значений)
A31: 21 | B31: Краснокутский | C31: Не опубликован или содержит информацию менее чем по трем ключевым элементам | D31: Есть баннер на БдГ, но при переходе по нему - страница не найдена. | E31: =IF(C31=$C$5,3,IF(C31=$C$6,2,IF(C31=$C$7,1,0))) -> 0 | H31: =E31*(1-F31)*(1-G31) -> 0 | I31: http://krasny-kut.ru/krasnokutskij_rajon/konomika_i_finansy/finansy/ | J31: Ошибка на сайте, страница не найдена
A32: 22 | B32: Краснопартизанский | C32: Не опубликован или содержит информацию менее чем по трем ключевым элементам | D32: Лишняя архивация для одного файла. | E32: =IF(C32=$C$5,3,IF(C32=$C$6,2,IF(C32=$C$7,1,0))) -> 0 | H32: =E32*(1-F32)*(1-G32) -> 0 | I32: http://gornyi.sarmo.ru/index.php?option=com_content&view=article&id=1105:2014-05-20-10-48-44&catid=34:%D0%9E%D1%81%D0%BD%D0%BE%D0%B2%D0%BD%D0%B0%D1%8F%20%D0%BA%D0%B0%D1%82%D0%B5%D0%B3%D0%BE%D1%80%D0%B8%D1%8F | J32: Отсутсвует пункт 5, пункт 1 не соответствует (отсутствуют показатели, характеризующие состав населения ), пункт 2 не соответствуют (отсутствуют причины отклонения исполнения от плановых значений), пункт 3 не соответствуют (не проставлены проценты исполнения, отсутствуют причины отклонения исполнения от плановых значений), пункт 4 не соответствует (нет показателей), пункт 6 не соответствует (на 15 слайде разные цифры в таблице и в описании под таблицей, нет данных на начало отчетного периода).
A33: 23 | B33: Лысогорский | C33: Не опубликован или содержит информацию менее чем по трем ключевым элементам | E33: =IF(C33=$C$5,3,IF(C33=$C$6,2,IF(C33=$C$7,1,0))) -> 0 | H33: =E33*(1-F33)*(1-G33) -> 0 | I33: http://adm.lysyegory.ru/base/2467-byudzhet-dlja-grazhdan-po-lysogorskomu-municipalnomu-raionu-ispolnenie-za-2015-god.html | J33: Отсутсвуют пункты 4-7, пункт 1 не соответствует (отсутствуют показатели, состав населения), пункты 2 и 3 не соответствуют (отсутствуют плановые значения, процент исполнения, причины отклонения исполнения от плановых значений). Большая часть информации в единой таблице (не ненаглядно)!!
A34: 24 | B34: Марксовский | C34: Не опубликован или содержит информацию менее чем по трем ключевым элементам | E34: =IF(C34=$C$5,3,IF(C34=$C$6,2,IF(C34=$C$7,1,0))) -> 0 | H34: =E34*(1-F34)*(1-G34) -> 0 | I34: http://marksadm.ru/bdg-kf.html | J34: Отсутствует пункт 5, пункты 2 и 3 не соответствуют (не везде по видам или разделам указаны плановые значения, процент исполнения, причины отклонения исполнения от плановых значений), пункт 4 не соответствует (не указан процент исполнения и нет показателей), пункт 6 не соответствует (нет данных об объеме мун.долга на начало отчетного периода, т.е. на 01.01.2015).
A35: 25 | B35: Новобурасский | C35: Не опубликован или содержит информацию менее чем по трем ключевым элементам | D35: Раздел «Отчет об исполнении бюджета Новобурасского муниципального района за 2015 год», название самого файла - «Испол.бюджета для гр 2014 г(район).pptx» | E35: =IF(C35=$C$5,3,IF(C35=$C$6,2,IF(C35=$C$7,1,0))) -> 0 | F35: 0.5 | H35: =E35*(1-F35)*(1-G35) -> 0 | I35: http://admnburasy.ru/budget.html | J35: Отсутствуют пункты 1,5,пункты 2 и 3 не соответствуют (отсутствуют причины отклонения исполнения от плановых значений), пункт 4 не соответствует (не указаны наименование програм, нет плановых значений и процента исполнения, нет показателей), пункт 6 не соответсвует (нет данных об объеме мун.долга на начало отчетного периода, т.е. на 01.01.2015). Обратите внимание: в следующий раз присылать конкретную ссылку на страницу, где находится документ. Раздел не структурирован.
A36: 26 | B36: Новоузенский | C36: Не опубликован или содержит информацию менее чем по трем ключевым элементам | E36: =IF(C36=$C$5,3,IF(C36=$C$6,2,IF(C36=$C$7,1,0))) -> 0 | H36: =E36*(1-F36)*(1-G36) -> 0 | I36: http://www.novouzensk.ru/budget%20for%20people/ | J36: На предоставленной ссылке отсутствует бюджет для граждан, разработанный на основе решения об исполнении бюджета муниципального образования за отчетный финансовый год
A37: 27 | B37: Озинский | C37: Опубликован и содержит информацию по трем и более ключевым элементам | D37: Лишняя папка в архиве. | E37: =IF(C37=$C$5,3,IF(C37=$C$6,2,IF(C37=$C$7,1,0))) -> 1 | H37: =E37*(1-F37)*(1-G37) -> 1 | I37: http://ozinki.sarmo.ru/byudzhet/byudzhet-dlya-grazhdan.php | J37: Отсутствует пункт 5, пункты 2 и 3 не соответствуют (отсутствуют причины отклонения исполнения от плановых значений), пункт 4 не соответствует (нет показателей)
A38: 28 | B38: Перелюбский | C38: Не опубликован или содержит информацию менее чем по трем ключевым элементам | D38: Раздел «Информация для населения». | E38: =IF(C38=$C$5,3,IF(C38=$C$6,2,IF(C38=$C$7,1,0))) -> 0 | F38: 0.5 | H38: =E38*(1-F38)*(1-G38) -> 0 | I38: http://perelyub.sarmo.ru/index.php?option=com_content&view=article&id=471:2015-02-16-11-15-11&catid=63:--&Itemid=172 | J38: Отсутствуют пункты 1,4-7, пункты 2 не соответствуют (отсутствуют разбивка по видам, процент исполнения, причины отклонения исполнения от плановых значений), пункты 3 не соответствуют (отсутствуют процент исполнения, причины отклонения исполнения от плановых значений), Два отдельных файла.
A39: 29 | B39: Петровский | C39: Опубликован и содержит информацию по пяти и более ключевым элементам | E39: =IF(C39=$C$5,3,IF(C39=$C$6,2,IF(C39=$C$7,1,0))) -> 2 | H39: =E39*(1-F39)*(1-G39) -> 2 | I39: http://petrovsk64.ru/sub-org/fin-upr/otkrytyy-byudzhet/byudzhet-dlya-grazhdan/ | J39: Отсутсвует пункт 5. Достаточно наглядно!
A40: 30 | B40: Питерский | C40: Не опубликован или содержит информацию менее чем по трем ключевым элементам | E40: =IF(C40=$C$5,3,IF(C40=$C$6,2,IF(C40=$C$7,1,0))) -> 0 | H40: =E40*(1-F40)*(1-G40) -> 0 | I40: http://piterka.sarmo.ru/byudzhet-piterskogo-mr/byudzhet-dlya-grazhdan/ | J40: Отсутствуют пункты: 1,5,6;7 пункт 2 не соответствуют (отсутствуют причины отклонения исполнения от плановых значений), пункт 3 не соответствуют (не везде указаны плановые значения и отсутствуют причины отклонения исполнения от плановых значений пункт 4 не соответствует(нет показателей). Раздел, где находится документ, не структурирован.
...

Sheet Параметры
A1: Календарный период | B1: 2015
A3: Форматы | B3: машиночитаемый
B4: графический | C4: 0.5

Sheet Показатель 3.3
A1: 3.3. Опубликование заключение контрольно-счетного органа муниципального образования на годовой отчет об исполнении бюджета муниципального образования за отчетный финансовый год на портале (сайте)
A2: Комментарий:
A3: ='Методика II этап'!B18 -> В целях оценки показателя учитывается официальный документ, подписанный уполномоченным должностным лицом. В указанном документе должны быть указаны: а) должность, фамилия и инициалы лица, подписавшего документ, б) дата подписания документа.
A4: № п/п | B4: Наименование муниципального образования Саратовской обалсти | C4: ='Методика II этап'!B17 -> Опубликование заключения контрольно-счетного органа муниципального образования на годовой отчет об исполнении бюджета муниципального образования за отчетный финансовый год на портале (сайте) | D4: Формат | E4: Доступность (указать, если возникли трудности с поиском документа, если переход осуществляется более, чем за 5 «кликов» с основной страницы портала (сайта), если название раздела не соответствует содержанию) | F4: Оценка показателя 3.3 | K4: Ссылка на источник данных | L4: Комментарии
B5: Варианты ответов | C5: ='Методика II этап'!B19 -> Опубликовано | D5: Word, Excel, PDF | F5: баллы | G5: понижающие коэффициенты | J5: Итого
C6: ='Методика II этап'!B20 -> Не опубликовано или не отвечает требованиям | G6: графический формат | H6: затруднен-ный поиск | I6: несоблюде-ние сроков
B7: Городские округа
A8: 1 | B8: г. Саратов | C8: Опубликовано | D8: Web | E8: Отсутствует баннер (ссылка) на главной странице на сайт, где размещен документ. | F8: =IF(C8=$C$5,1,0) -> 1 | G8: 0.5 | H8: 0.5 | J8: =F8*(1-G8)*(1-H8)*(1-I8) -> 0.25 | K8: http://www.kspsaratov.ru/?p=2094 | L8: В документе отсутствует подпись должностного лица. Не соблюден формат размещения официального документа.
A9: 2 | B9: ЗАТО Михайловское | C9: Опубликовано | D9: Jpg | F9: =IF(C9=$C$5,1,0) -> 1 | J9: =F9*(1-H9)*(1-I9) -> 1 | K9: http://mihailovski.ru/?mod=article&id=3282
A10: 3 | B10: ЗАТО Светлый | C10: Опубликовано | D10: Word | F10: =IF(C10=$C$5,1,0) -> 1 | G10: 0.5 | J10: =F10*(1-H10)*(1-I10)*(1-G10) -> 0.5 | K10: http://www.zatosvetly.ru/about/info/news/folder/folder1/folder/folder1/folder/folder/index.php?ELEMENT_ID=8960 | L10: В документе отсутствует подпись должностного лица. Не соблюден формат размещения официального документа.
A11: 4 | B11: ЗАТО Шиханы | C11: Опубликовано | D11: Word | F11: =IF(C11=$C$5,1,0) -> 1 | G11: 0.5 | J11: =F11*(1-H11)*(1-I11)*(1-G11) -> 0.5 | K11: http://zatoshihany.ru/sobranie/kontrolnaya/ | L11: В документе отсутствует дата, подпись должностного лица. Не соблюден формат размещения официального документа.Раздел не структурирован по годам.
B12: Муниципальные районы
A13: 5 | B13: Александрово-Гайский | C13: Опубликовано | D13: Word | F13: =IF(C13=$C$5,1,0) -> 1 | G13: 0.5 | J13: =F13*(1-H13)*(1-I13)*(1-G13) -> 0.5 | K13: http://algay.sarmo.ru/byudzhet-ekonomika-finansy/byudzhet-dokumenty.php | L13: В документе отсутствует подпись должностного лица. Не соблюден формат размещения официального документа. Раздел не структурирован по годам.
A14: 6 | B14: Аркадакский | C14: Не опубликовано или не отвечает требованиям | F14: =IF(C14=$C$5,1,0) -> 0 | J14: =F14*(1-H14)*(1-I14)*(1-G14) -> 0 | L14: Ссылка не предоставлена, на сайте информация не найдена.
A15: 7 | B15: Аткарский | C15: Опубликовано | D15: Word | F15: =IF(C15=$C$5,1,0) -> 1 | G15: 0.5 | J15: =F15*(1-H15)*(1-I15)*(1-G15) -> 0.5 | K15: http://proatkarsk.ru/CityArticles.aspx?articleid=3654 | L15: В документе отсутствует подпись должностного лица. Не соблюден формат размещения официального документа. Раздел не структурирован.
A16: 8 | B16: Базарно-Карабулакский | C16: Опубликовано | D16: Word | F16: =IF(C16=$C$5,1,0) -> 1 | G16: 0.5 | J16: =F16*(1-H16)*(1-I16)*(1-G16) -> 0.5 | K16: http://bkarabulak.sarmo.ru/index.php?option=com_content&view=article&id=5687&Itemid=328 | L16: В документе отсутствует подпись должностного лица. Не соблюден формат размещения официального документа.
A17: 9 | B17: Балаковский | C17: Опубликовано | D17: PDF | E17: Лишняя архивация для одного файла. | F17: =IF(C17=$C$5,1,0) -> 1 | J17: =F17*(1-H17)*(1-I17)*(1-G17) -> 1 | K17: http://www.admbal.ru/page/ispolnenie-byudzheta-bmr
A18: 10 | B18: Балашовский | C18: Не опубликовано или не отвечает требованиям | F18: =IF(C18=$C$5,1,0) -> 0 | J18: =F18*(1-H18)*(1-I18)*(1-G18) -> 0 | L18: Заключение контрольно-счетного органа муниципального образования на годовой отчет об исполнении бюджета Балашовского муниципального района за отчетный финансовый год не публиковалось.
A19: 11 | B19: Балтайский | C19: Не опубликовано или не отвечает требованиям | F19: =IF(C19=$C$5,1,0) -> 0 | J19: =F19*(1-H19)*(1-I19)*(1-G19) -> 0 | L19: На сайте информация не опубликована.
A20: 12 | B20: Вольский | C20: Не опубликовано или не отвечает требованиям | F20: =IF(C20=$C$5,1,0) -> 0 | J20: =F20*(1-H20)*(1-I20)*(1-G20) -> 0 | L20: На сайте информация не опубликована.
A21: 13 | B21: Воскресенский | C21: Опубликовано | D21: Word | F21: =IF(C21=$C$5,1,0) -> 1 | G21: 0.5 | J21: =F21*(1-H21)*(1-I21)*(1-G21) -> 0.5 | K21: http://voskresensk64.ru/meeting/mun-polnom/Контрольно-счетная%20комиссия/index.php | L21: В документе отсутствует подпись должностного лица. Не соблюден формат размещения официального документа.
A22: 14 | B22: Дергачевский | C22: Опубликовано | D22: PDF | F22: =IF(C22=$C$5,1,0) -> 1 | J22: =F22*(1-H22)*(1-I22)*(1-G22) -> 1 | K22: http://dergachi.sarmo.ru/kontrolno-schetnyy-organ-dergachevskogo-munitsipalnogo-rayona/
A23: 15 | B23: Духовницкий | C23: Опубликовано | D23: Web | F23: =IF(C23=$C$5,1,0) -> 1 | G23: 0.5 | J23: =F23*(1-H23)*(1-I23)*(1-G23) -> 0.5 | K23: http://duhovnitskoe.sarmo.ru/ispolnenie-byudzheta/ | L23: В документе отсутствует подпись должностного лица. Не соблюден формат размещения официального документа.Отсутствует возможность скачать документ.
A24: 16 | B24: Екатериновский | C24: Не опубликовано или не отвечает требованиям | D24: Word | F24: =IF(C24=$C$5,1,0) -> 0 | G24: 0.5 | J24: =F24*(1-H24)*(1-I24)*(1-G24) -> 0 | K24: http://ekaterinovka.sarmo.ru/kontrolno-schetnaya-komissiya/ | L24: В документе отсутствует подпись должностного лица. Не соблюден формат размещения официального документа. Обратите внимание: в следующий раз присылать конкретную ссылку на страницу, где находится документ.
A25: 17 | B25: Ершовский | C25: Опубликовано | D25: Word | F25: =IF(C25=$C$5,1,0) -> 1 | G25: 0.5 | J25: =F25*(1-H25)*(1-I25)*(1-G25) -> 0.5 | K25: http://ershov.sarmo.ru/ershovskiy-munitsipalnyy-rayon/kontrolno-schetnaya-komissiya/ | L25: В документе отсутствует подпись должностного лица. Не соблюден формат размещения официального документа.
A26: 18 | B26: Ивантеевский | C26: Опубликовано | D26: Word | F26: =IF(C26=$C$5,1,0) -> 1 | G26: 0.5 | J26: =F26*(1-H26)*(1-I26)*(1-G26) -> 0.5 | K26: http://ivanteevka.sarmo.ru/byudzhet-dlya-grazhdan/finansovyy-kontrol/ekspertno-analiticheskie-meropriyatiya/ | L26: В документе отсутствует подпись должностного лица. Не соблюден формат размещения официального документа.
A27: 19 | B27: Калининский | C27: Опубликовано | D27: Word | F27: =IF(C27=$C$5,1,0) -> 1 | G27: 0.5 | J27: =F27*(1-H27)*(1-I27)*(1-G27) -> 0.5 | K27: http://kalininsk.sarmo.ru/kontrolno-schetnaya-komissiya/zaklyuchenie-ksk-na-otchet-ob-ispolnenii-byudzheta/ | L27: В документе отсутствует подпись должностного лица. Не соблюден формат размещения официального документа.
A28: 20 | B28: Красноармейский | C28: Опубликовано | D28: Word | F28: =IF(C28=$C$5,1,0) -> 1 | G28: 0.5 | J28: =F28*(1-H28)*(1-I28)*(1-G28) -> 0.5 | K28: http://krasnoarmeysk.sarmo.ru/krasnoarmeyskiy-rayon/byudzhet/byudzhet-dlya-grazhdan/ | L28: В документе отсутствует подпись должностного лица. Не соблюден формат размещения официального документа.
A29: 21 | B29: Краснокутский | C29: Не опубликовано или не отвечает требованиям | F29: =IF(C29=$C$5,1,0) -> 0 | J29: =F29*(1-H29)*(1-I29)*(1-G29) -> 0 | L29: На сайте информация отсутствует, в разделе «Газета в электронном виде» только выпуски 2015 года. На сайте газеты «Краснокутские Вести»(http://moyaokruga.ru/kraskut/?topcategoryid=12&categoryid=136) информация не найдена.
A30: 22 | B30: Краснопартизанский | C30: Опубликовано | D30: Jpg | E30: Лишняя папка в архиве. | F30: =IF(C30=$C$5,1,0) -> 1 | G30: 0.5 | J30: =F30*(1-H30)*(1-I30)*(1-G30) -> 0.5 | K30: http://gornyi.sarmo.ru/index.php?option=com_content&view=article&id=1013:2014-04-02-05-58-02&catid=34:%D0%9E%D1%81%D0%BD%D0%BE%D0%B2%D0%BD%D0%B0%D1%8F%20%D0%BA%D0%B0%D1%82%D0%B5%D0%B3%D0%BE%D1%80%D0%B8%D1%8F | L30: В документе отсутствует дата подписания.
A31: 23 | B31: Лысогорский | C31: Опубликовано | D31: Word | F31: =IF(C31=$C$5,1,0) -> 1 | G31: 0.5 | J31: =F31*(1-H31)*(1-I31)*(1-G31) -> 0.5 | K31: http://adm.lysyegory.ru/base/2477-zaklyuchenie-kontrolno-schetnogo-organa-municipalnogo-raiona-na-godovoi-otchet-ob-ispolnenii-byudzheta-za-2015-god.html | L31: В документе отсутствует подпись должностного лица, дата подписания. Не соблюден формат размещения официального документа.
A32: 24 | B32: Марксовский | C32: Опубликовано | D32: PDF | F32: =IF(C32=$C$5,1,0) -> 1 | J32: =F32*(1-H32)*(1-I32)*(1-G32) -> 1 | K32: http://marksadm.ru/icp-b.html
