Workbook
Name А1: #REF!
Name А1: #REF!
Name А1: #REF!
Name А1: #REF!
Name А1: #REF!
Name А1: #REF!
Name А1: #REF!
Name Выбор_1.1: 'Показатель 6.2'!$C$5:$C$6
Name Выбор_1.1: 'Показатель 6.3'!$C$5:$C$6
Name Выбор_1.1: 'Показатель 7.1'!$C$5:$C$6
Name Выбор_1.1: 'Показатель 6.1'!$C$5:$C$6
Name Выбор_1.2: #REF!
Name Выбор_1.2: 'Показатель 5.1'!$C$5:$C$6
Name Выбор_1.2: 'Показатель 5.2'!$C$5:$C$6
Name Выбор_1.2: #REF!
Name Выбор_1.3: #REF!
Name Выбор_1.3: #REF!
Name Выбор_1.3: #REF!
Name Выбор_1.3: #REF!
Name Выбор_1.3: #REF!
Name Выбор_1.3: #REF!
Name Выбор_1.3: #REF!
Name Выбор_4.1: #REF!
Name Выбор_4.1: #REF!
Name Выбор_4.1: #REF!
Name Выбор_4.1: #REF!
Name Выбор_4.1: #REF!
Name Выбор_4.1: #REF!
Name Выбор_4.1: #REF!
Name Выбор_4.2: '[1]Показатель 4.2'!$C$5:$C$8
Name Выбор_4.3: '[1]Показатель 4.3'!$C$5:$C$7
Name Выбор_4.4: '[1]Показатель 4.4'!$C$6:$C$8
Name Выбор1.1: #REF!
Name Выбор1.1: #REF!
Name Выбор1.1: #REF!
Name Выбор1.1: #REF!
Name Выбор1.1: #REF!
Name Выбор1.1: #REF!
Name Выбор1.1: #REF!
Name Да_нет: #REF!
Name Да_нет: #REF!
Name Да_нет: #REF!
Name Да_нет: #REF!
Name Да_нет: #REF!
Name Да_нет: #REF!
Name Да_нет: #REF!
Name Коэфициент: [1]Параметры!$C$3:$C$4
Name Формат: Параметры!$C$3:$C$4

Sheet Оценка (Этап I - III)
A1: Оценка муниципальных образований по I - III этапам
A2: Календарный период | B2: 2018 год
A3: Наименование муниципального образования Саратовской обалсти | B3: Итого по I - III этапам | C3: Итого по III этапу | D3: Итого по II этапу | E3: Итого по I этапу
A4: Единица измерения | B4: баллов | C4: баллов | D4: баллов | E4: баллов
A5: Максимальный балл | B5: =SUM(C5:E5) -> 30 | C5: 10 | D5: 10 | E5: 10
A6: Городские округа
A7: ='Оценка (Этап III)'!A7 -> г. Саратов | B7: =SUM(C7:E7) -> 27 | C7: ='Оценка (Этап III)'!B7 -> 9 | D7: 9 | E7: 9
A8: ='Оценка (Этап III)'!A8 -> ЗАТО Михайловское | B8: =SUM(C8:E8) -> 6 | C8: ='Оценка (Этап III)'!B8 -> 3 | D8: 1 | E8: 2
A9: ='Оценка (Этап III)'!A9 -> ЗАТО Светлый | B9: =SUM(C9:E9) -> 16.5 | C9: ='Оценка (Этап III)'!B9 -> 5 | D9: 8.5 | E9: 3
A10: ='Оценка (Этап III)'!A10 -> ЗАТО Шиханы | B10: =SUM(C10:E10) -> 16 | C10: ='Оценка (Этап III)'!B10 -> 4 | D10: 7 | E10: 5
A11: Муниципальные районы
A12: ='Оценка (Этап III)'!A12 -> Александрово-Гайский | B12: =SUM(C12:E12) -> 6 | C12: ='Оценка (Этап III)'!B12 -> 3 | D12: 0 | E12: 3
A13: ='Оценка (Этап III)'!A13 -> Аркадакский | B13: =SUM(C13:E13) -> 13 | C13: ='Оценка (Этап III)'!B13 -> 5 | D13: 2 | E13: 6
A14: ='Оценка (Этап III)'!A14 -> Аткарский | B14: =SUM(C14:E14) -> 22 | C14: ='Оценка (Этап III)'!B14 -> 9 | D14: 9 | E14: 4
A15: ='Оценка (Этап III)'!A15 -> Базарно-Карабулакский | B15: =SUM(C15:E15) -> 21 | C15: ='Оценка (Этап III)'!B15 -> 5.5 | D15: 7.5 | E15: 8
A16: ='Оценка (Этап III)'!A16 -> Балаковский | B16: =SUM(C16:E16) -> 29 | C16: ='Оценка (Этап III)'!B16 -> 9 | D16: 10 | E16: 10
A17: ='Оценка (Этап III)'!A17 -> Балашовский | B17: =SUM(C17:E17) -> 24 | C17: ='Оценка (Этап III)'!B17 -> 10 | D17: 10 | E17: 4
A18: ='Оценка (Этап III)'!A18 -> Балтайский | B18: =SUM(C18:E18) -> 13 | C18: ='Оценка (Этап III)'!B18 -> 2.5 | D18: 4.5 | E18: 6
A19: ='Оценка (Этап III)'!A19 -> Вольский | B19: =SUM(C19:E19) -> 7 | C19: ='Оценка (Этап III)'!B19 -> 2 | D19: 2 | E19: 3
A20: ='Оценка (Этап III)'!A20 -> Воскресенский | B20: =SUM(C20:E20) -> 8.5 | C20: ='Оценка (Этап III)'!B20 -> 4 | D20: 1 | E20: 3.5
A21: ='Оценка (Этап III)'!A21 -> Дергачевский | B21: =SUM(C21:E21) -> 17.5 | C21: ='Оценка (Этап III)'!B21 -> 6 | D21: 6 | E21: 5.5
A22: ='Оценка (Этап III)'!A22 -> Духовницкий | B22: =SUM(C22:E22) -> 15 | C22: ='Оценка (Этап III)'!B22 -> 5 | D22: 5 | E22: 5
A23: ='Оценка (Этап III)'!A23 -> Екатериновский | B23: =SUM(C23:E23) -> 9 | C23: ='Оценка (Этап III)'!B23 -> 4 | D23: 2 | E23: 3
... A49: ='Оценка (Этап III)'!A49 -> Энгельсский | B49: =SUM(C49:E49) -> 16 | C49: ='Оценка (Этап III)'!B49 -> 2 | D49: 9 | E49: 5

Sheet Оценка (Этап III)
A1: Оценка муниципальных образований по III этапу «Исполнение бюджета муниципального образования и финансовый контроль»
A2: Календарный период | B2: 2018 год
A3: Наименование муниципального образования Саратовской обалсти | B3: Итого по III этапу | C3: ='Показатель 5.1'!A1 -> 5.1. Внесение изменений в решение о бюджете муниципального образования на текущий финансовый год (текущий финансовый год и плановый период) на портале (сайте) | D3: ='Показатель 5.2'!A1 -> 5.2. Актуализированная версия решения о бюджете муниципального образования на текущий финансовый год (текущий финансовый год и плановый период) с учетом внесенных изменений на портале (сайте) | E3: ='Показатель 6.1'!A1 -> 6.1. Отчеты об исполнении бюджета муниципального образования за первый квартал, полугодие, девять месяцев текущего финансового года на портале (сайте) | F3: ='Показатель 6.2'!A1 -> 6.2. Ежеквартальные сведения об исполнении бюджета муниципального образования | G3: ='Показатель 6.3'!A1 -> 6.3. Ежеквартальные сведения об объеме муниципального долга муниципального образования | H3: ='Показатель 7.1'!A1 -> 7.1. Информация о проведенных в текущем финансовом году контрольных мероприятиях контрольно-счетным органом муниципального образования на портале (сайте)
A4: Единица измерения | B4: баллов | C4: баллов | D4: баллов | E4: баллов | F4: баллов | G4: баллов | H4: баллов
A5: Максимальный балл | B5: =SUM(C5:H5) -> 10 | C5: ='Методика III этап'!C9 -> 2 | D5: ='Методика III этап'!C13 -> 2 | E5: ='Методика III этап'!C19 -> 1 | F5: ='Методика III этап'!C23 -> 2 | G5: ='Методика III этап'!C28 -> 1 | H5: ='Методика III этап'!C33 -> 2
A6: Городские округа
A7: г. Саратов | B7: =SUM(C7:H7) -> 9 | C7: ='Показатель 5.1'!J8 -> 2 | D7: ='Показатель 5.2'!J9 -> 2 | E7: ='Показатель 6.1'!J8 -> 1 | F7: ='Показатель 6.2'!J9 -> 2 | G7: ='Показатель 6.3'!J8 -> 1 | H7: ='Показатель 7.1'!J9 -> 1
A8: ЗАТО Михайловское | B8: =SUM(C8:H8) -> 3 | C8: ='Показатель 5.1'!J9 -> 2 | D8: ='Показатель 5.2'!J10 -> 1 | E8: ='Показатель 6.1'!J9 -> 0 | F8: ='Показатель 6.2'!J10 -> 0 | G8: ='Показатель 6.3'!J9 -> 0 | H8: ='Показатель 7.1'!J10 -> 0
A9: ЗАТО Светлый | B9: =SUM(C9:H9) -> 5 | C9: ='Показатель 5.1'!J10 -> 1 | D9: ='Показатель 5.2'!J11 -> 1 | E9: ='Показатель 6.1'!J10 -> 0 | F9: ='Показатель 6.2'!J11 -> 0 | G9: ='Показатель 6.3'!J10 -> 1 | H9: ='Показатель 7.1'!J11 -> 2
A10: ЗАТО Шиханы | B10: =SUM(C10:H10) -> 4 | C10: ='Показатель 5.1'!J11 -> 2 | D10: ='Показатель 5.2'!J12 -> 0 | E10: ='Показатель 6.1'!J11 -> 0 | F10: ='Показатель 6.2'!J12 -> 0 | G10: ='Показатель 6.3'!J11 -> 0 | H10: ='Показатель 7.1'!J12 -> 2
A11: Муниципальные районы
A12: Александрово-Гайский | B12: =SUM(C12:H12) -> 3 | C12: ='Показатель 5.1'!J13 -> 2 | D12: ='Показатель 5.2'!J14 -> 0 | E12: ='Показатель 6.1'!J13 -> 0 | F12: ='Показатель 6.2'!J14 -> 0 | G12: ='Показатель 6.3'!J13 -> 1 | H12: ='Показатель 7.1'!J14 -> 0
A13: Аркадакский | B13: =SUM(C13:H13) -> 5 | C13: ='Показатель 5.1'!J14 -> 1 | D13: ='Показатель 5.2'!J15 -> 2 | E13: ='Показатель 6.1'!J14 -> 1 | F13: ='Показатель 6.2'!J15 -> 0 | G13: ='Показатель 6.3'!J14 -> 1 | H13: ='Показатель 7.1'!J15 -> 0
A14: Аткарский | B14: =SUM(C14:H14) -> 9 | C14: ='Показатель 5.1'!J15 -> 2 | D14: ='Показатель 5.2'!J16 -> 2 | E14: ='Показатель 6.1'!J15 -> 1 | F14: ='Показатель 6.2'!J16 -> 2 | G14: ='Показатель 6.3'!J15 -> 1 | H14: ='Показатель 7.1'!J16 -> 1
A15: Базарно-Карабулакский | B15: =SUM(C15:H15) -> 5.5 | C15: ='Показатель 5.1'!J16 -> 2 | D15: ='Показатель 5.2'!J17 -> 2 | E15: ='Показатель 6.1'!J16 -> 1 | F15: ='Показатель 6.2'!J17 -> 0.5 | G15: ='Показатель 6.3'!J16 -> 0 | H15: ='Показатель 7.1'!J17 -> 0
A16: Балаковский | B16: =SUM(C16:H16) -> 9 | C16: ='Показатель 5.1'!J17 -> 2 | D16: ='Показатель 5.2'!J18 -> 2 | E16: ='Показатель 6.1'!J17 -> 1 | F16: ='Показатель 6.2'!J18 -> 2 | G16: ='Показатель 6.3'!J17 -> 1 | H16: ='Показатель 7.1'!J18 -> 1
A17: Балашовский | B17: =SUM(C17:H17) -> 10 | C17: ='Показатель 5.1'!J18 -> 2 | D17: ='Показатель 5.2'!J19 -> 2 | E17: ='Показатель 6.1'!J18 -> 1 | F17: ='Показатель 6.2'!J19 -> 2 | G17: ='Показатель 6.3'!J18 -> 1 | H17: ='Показатель 7.1'!J19 -> 2
A18: Балтайский | B18: =SUM(C18:H18) -> 2.5 | C18: ='Показатель 5.1'!J19 -> 2 | D18: ='Показатель 5.2'!J20 -> 0 | E18: ='Показатель 6.1'!J19 -> 0 | F18: ='Показатель 6.2'!J20 -> 0 | G18: ='Показатель 6.3'!J19 -> 0.5 | H18: ='Показатель 7.1'!J20 -> 0
A19: Вольский | B19: =SUM(C19:H19) -> 2 | C19: ='Показатель 5.1'!J20 -> 2 | D19: ='Показатель 5.2'!J21 -> 0 | E19: ='Показатель 6.1'!J20 -> 0 | F19: ='Показатель 6.2'!J21 -> 0 | G19: ='Показатель 6.3'!J20 -> 0 | H19: ='Показатель 7.1'!J21 -> 0
A20: Воскресенский | B20: =SUM(C20:H20) -> 4 | C20: ='Показатель 5.1'!J21 -> 2 | D20: ='Показатель 5.2'!J22 -> 0 | E20: ='Показатель 6.1'!J21 -> 1 | F20: ='Показатель 6.2'!J22 -> 0 | G20: ='Показатель 6.3'!J21 -> 1 | H20: ='Показатель 7.1'!J22 -> 0
A21: Дергачевский | B21: =SUM(C21:H21) -> 6 | C21: ='Показатель 5.1'!J22 -> 2 | D21: ='Показатель 5.2'!J23 -> 2 | E21: ='Показатель 6.1'!J22 -> 0 | F21: ='Показатель 6.2'!J23 -> 0 | G21: ='Показатель 6.3'!J22 -> 1 | H21: ='Показатель 7.1'!J23 -> 1
A22: Духовницкий | B22: =SUM(C22:H22) -> 5 | C22: ='Показатель 5.1'!J23 -> 2 | D22: ='Показатель 5.2'!J24 -> 1 | E22: ='Показатель 6.1'!J23 -> 0 | F22: ='Показатель 6.2'!J24 -> 0 | G22: ='Показатель 6.3'!J23 -> 1 | H22: ='Показатель 7.1'!J24 -> 1
A23: Екатериновский | B23: =SUM(C23:H23) -> 4 | C23: ='Показатель 5.1'!J24 -> 2 | D23: ='Показатель 5.2'!J25 -> 1 | E23: ='Показатель 6.1'!J24 -> 0 | F23: ='Показатель 6.2'!J25 -> 0 | G23: ='Показатель 6.3'!J24 -> 1 | H23: ='Показатель 7.1'!J25 -> 0
... A49: Энгельсский | B49: =SUM(C49:H49) -> 2 | C49: ='Показатель 5.1'!J50 -> 1 | D49: ='Показатель 5.2'!J51 -> 0 | E49: ='Показатель 6.1'!J50 -> 1 | F49: ='Показатель 6.2'!J51 -> 0 | G49: ='Показатель 6.3'!J50 -> 0 | H49: ='Показатель 7.1'!J51 -> 0

Sheet Методика III этап
A1: III этап. Исполнение бюджета муниципального образования и финансовый контроль
A4: № п/п | B4: Вопросы и варианты ответов | C4: Баллы
A6: 5. | B6: Внесение изменений в решение о бюджете муниципального образования | C6: =C9+C13 -> 4
A7: 5.1 | B7: Опубликование решений о внесении изменений в решение о бюджете муниципального образования на текущий финансовый год (текущий финансовый год и плановый период) на портале (сайте)
B8: В целях оценки показателя учитывается публикация всех решений о внесении изменений в решение о бюджете, принятых на момент проведения мониторинга. В случае, если не опубликовано хотя бы одно решение о внесении изменений в решение о бюджете из числа принятых, оценка показателя принимает значение 0 баллов. Решения о внесении изменений в решение о бюджете должны быть опубликованы не позднее 15 рабочих дней после подписания решения и сохраняться не менее трех лет. При нарушении указанного срока применяется понижающий коэффициент за несоблюдение сроков обеспечения доступа к бюджетным данным.
B9: Опубликованы, или внесение изменений в решение не осуществлялось | C9: 2
B10: Не опубликованы или опубликованы в отдельных случаях | C10: 0
A11: 5.2 | B11: Опубликование актуализированной версии решения о бюджете муниципального образования на текущий финансовый год (на текущий финансовый год и плановый период) с учетом внесенных изменений на портале (сайте)
B12: В целях оценки показателя учитывается публикация актуализированной версии решения о бюджете, с учетом всех принятых на дату проведения мониторинга решений о внесении изменений в бюджет. Учитывается публикация актуализированной версии решения о бюджете со всеми приложениями, публикация отдельных составляющих в целях оценки показателя не учитывается. В случае если внесение изменений в решение о бюджете на текущий год (на текущий год и плановый период) на момент проведения мониторинга не осуществлялось, в целях оценки показателя учитывается публикация принятого решения о бюджете муниципального образования на текущий финансовый год (текущий финансовый год и плановый период). Актуализированная версия решения о бюджете должна быть опубликована в течение одного месяца после подписания решения о внесении изменения в решение о бюджете муниципального образования и сохраняться не менее трех лет. При нарушении указанного срока применяется понижающий коэффициент за несоблюдение сроков обеспечения доступа к бюджетным данным. В случае, если в установленный срок документ не размещен, оценка показателя принимает значение 0 баллов.
B13: Опубликована в структурированном виде, с указанием полных или кратких наименований всех составляющих | C13: 2
B14: Опубликована, но не в структурированном виде и (или) без указания полных или кратких наименований всех составляющих | C14: 1
B15: Не опубликована | C15: 0
A16: 6. | B16: Промежуточная отчетность об исполнении бюджета муниципального образования и аналитические данные | C16: =C19+C23+C28 -> 4
A17: 6.1 | B17: Опубликование отчетов об исполнении бюджета муниципального образования за первый квартал, полугодие, девять месяцев текущего финансового года на портале (сайте)
B18: В целях оценки показателя учитываются официальные документы, принятые администрацией муниципального образования. Иные документы и материалы в целях оценки данного показателя не учитываются. Опубликованные сведения в обязательном порядке должны содержать: а) наименование, номер и дату муниципального правового акта об утверждении отчета; б) должность, фамилию и инициалы лица, подписавшего муниципальный правовой акт об утверждении отчета. Учитывается публикация отчетов со всеми приложениями, публикация отдельных составляющих в целях оценки показателя не учитывается. Графический формат допускается для публикация постановляющей части муниципального правового акта об утверждении отчета и не допускается для публикации приложений к отчету (содержательной части). Отчет об исполнении бюджета муниципального образования за первый квартал, полугодие, девять месяцев текущего года должен быть опубликован в течение трех месяцев после окончания отчетного периода и сохраняться не менее трех лет. При нарушении указанного срока применяется понижающий коэффициент за несоблюдение сроков обеспечения доступа к бюджетным данным.
B19: Опубликованы за все отчетные периоды | C19: 1
B20: Не опубликованы или публикуются нерегулярно, или не отвечают требованиям | C20: 0
A21: 6.2 | B21: Ежеквартальное опубликование сведений об исполнении бюджета муниципального образования в сравнении с запланированными значениями на соответствующий период (финансовый год) и с соответствующим периодом прошлого года на портале (сайте)
B22: В том числе, должна быть представлена следующая информация: 1) исполнение по видам доходов до уровня подгруппы или статьи классификации доходов бюджетов; 2) исполнение по расходам в разрезе разделов и подразделов классификации расходов; 3) исполнение по расходам в разрезе муниципальных программ. Указанные сведения должны быть опубликованы в течение одного месяца после окончания отчетного периода и сохраняться не менее трех лет. При нарушении указанного срока применяется понижающий коэффициент за несоблюдение сроков обеспечения доступа к бюджетным данным.
B23: Опубликованы за все отчетные периоды по всем указанным элементам | C23: 2
B24: Опубликованы за все отчетные периоды по двум ключевым элементам | C24: 1
B25: Не опубликованы или публикуются нерегулярно, или не отвечают требованиям | C25: 0
A26: 6.3 | B26: Ежеквартальное опубликование сведений об объеме муниципального долга муниципального образования на начало и на конец отчетного периода на портале (сайте)
B27: В целях оценки показателя учитывается публикация сведений об объеме муниципального долга муниципального образования на начало и на конец отчетного периода по видам долговых обязательств или по видам заимствований. Указанные сведения должны быть опубликованы в течение одного месяца после окончания отчетного периода и сохраняться не менее трех лет. При нарушении указанного срока применяется понижающий коэффициент за несоблюдение сроков обеспечения доступа к бюджетным данным.
B28: Опубликованы за все отчетные периоды и отвечают всем требованиям | C28: 1
B29: Не опубликованы или публикуются нерегулярно, или не отвечают требованиям | C29: 0
A30: 7. | B30: Финансовый контроль | C30: =C33 -> 2
A31: 7.1 | B31: Опубликование информации о проведенных в текущем финансовом году контрольных мероприятиях контрольно-счетным органом муниципального образования на портале (сайте)
B32: В целях оценки показателя учитываются контрольные мероприятия, предусмотренные планом контрольно-счетного органа муниципального образования в текущем году, срок реализации которых на дату проведения мониторинга завершен. В случае, если план контрольных мероприятий на текущий финансовый год не опубликован до 1 января соответствующего года, оценка показателя принимает значение 0 баллов. Информация о проведенном контрольном мероприятии должна быть опубликована в течение трех месяцев с даты завершения контрольного мероприятия. При нарушении указанного срока применяется понижающий коэффициент за несоблюдение сроков обеспечения доступа к бюджетным данным.
B33: Опубликована по результатам всех контрольных мероприятий, предусмотренных планом на текущий финансовый год, в том числе сведения о принятых объектом контроля решениях и мерах по направленным ему представлениям и предписаниям | C33: 2
B34: Опубликована по результатам всех контрольных мероприятий, предусмотренных планом на текущий финансовый год, за исключением сведений о принятых объектом контроля решениях и мерах по направленным ему представлениям и предписаниям | C34: 1
B35: Не опубликована, или ее публикация носит несистемный характер (публикуются сведения по отдельным контрольным мероприятиям, предусмотренным планом на текущий финансовый год) | C35: 0
B36: Итого баллов на III этапе | C36: =C6+C16+C30 -> 10

Sheet Показатель 5.1
A1: 5.1. Внесение изменений в решение о бюджете муниципального образования на текущий финансовый год (текущий финансовый год и плановый период) на портале (сайте) | L1: Дата контрольной проверки:
A2: Комментарий:
A3: ='Методика III этап'!B8 -> В целях оценки показателя учитывается публикация всех решений о внесении изменений в решение о бюджете, принятых на момент проведения мониторинга. В случае, если не опубликовано хотя бы одно решение о внесении изменений в решение о бюджете из числа принятых, оценка показателя принимает значение 0 баллов. Решения о внесении изменений в решение о бюджете должны быть опубликованы не позднее 15 рабочих дней после подписания решения и сохраняться не менее трех лет. При нарушении указанного срока применяется понижающий коэффициент за несоблюдение сроков обеспечения доступа к бюджетным данным.
A4: № п/п | B4: Наименование муниципального образования Саратовской обалсти | C4: ='Методика III этап'!B7 -> Опубликование решений о внесении изменений в решение о бюджете муниципального образования на текущий финансовый год (текущий финансовый год и плановый период) на портале (сайте) | D4: Формат | E4: Доступность (указать, если возникли трудности с поиском документа, если переход осуществляется более, чем за 5 «кликов» с основной страницы портала (сайта), если название раздела не соответствует содержанию) | F4: Оценка показателя 5.1 | K4: Ссылка на источник данных | L4: Комментарии
B5: Варианты ответов | C5: ='Методика III этап'!B9 -> Опубликованы, или внесение изменений в решение не осуществлялось | D5: Word, Excel, PDF | F5: баллы | G5: понижающие коэффициенты | J5: Итого
C6: ='Методика III этап'!B10 -> Не опубликованы или опубликованы в отдельных случаях | G6: графический формат | H6: затруднен-ный поиск | I6: несоблюде-ние сроков
B7: Городские округа
A8: 1 | B8: г. Саратов | C8: Опубликованы, или внесение изменений в решение не осуществлялось | D8: Word | F8: =IF(C8=$C$5,2,0) -> 2 | J8: =F8*(1-G8)*(1-H8)*(1-I8) -> 2 | K8: http://www.saratovmer.ru/budget/rubrics/1/1281.html
A9: 2 | B9: ЗАТО Михайловское | C9: Опубликованы, или внесение изменений в решение не осуществлялось | D9: Web, Excel | F9: =IF(C9=$C$5,2,0) -> 2 | J9: =F9*(1-H9)*(1-I9) -> 2 | K9: http://mihailovski.ru/administratsiya/finansy/byudzhet/2018-2020-god/
A10: 3 | B10: ЗАТО Светлый | C10: Опубликованы, или внесение изменений в решение не осуществлялось | D10: Web, Word | E10: 6 кликов до каждого документа | F10: =IF(C10=$C$5,2,0) -> 2 | H10: 0.5 | J10: =F10*(1-H10)*(1-I10) -> 1 | K10: http://www.zatosvetly.ru/city/economics_amp_finance/byudzhet-gorodskogo-okruga/byudzhet-gorodskogo-okruga-zato-svetlyy/2018-g/
A11: 4 | B11: ЗАТО Шиханы | C11: Опубликованы, или внесение изменений в решение не осуществлялось | D11: Word | F11: =IF(C11=$C$5,2,0) -> 2 | J11: =F11*(1-H11)*(1-I11) -> 2 | K11: http://zatoshihany.ru/budget/reshenie-o-byudzhete/2018/
B12: Муниципальные районы
A13: 5 | B13: Александрово-Гайский | C13: Опубликованы, или внесение изменений в решение не осуществлялось | D13: Word | F13: =IF(C13=$C$5,2,0) -> 2 | J13: =F13*(1-H13)*(1-I13)*(1-G13) -> 2 | K13: http://algay.sarmo.ru/byudzhet-ekonomika-finansy/resheniya-po-byudzhetu-2018.php | L13: Изменения в решение о бюджете по указанной ссылке публикуются, однако возможность проверки регулярности их размещения в полном объеме отсутствует (актуализированной версии решения о бюджете на сайте нет).
A14: 6 | B14: Аркадакский | C14: Опубликованы, или внесение изменений в решение не осуществлялось | D14: PDF | F14: =IF(C14=$C$5,2,0) -> 2 | G14: 0.5 | J14: =F14*(1-H14)*(1-I14)*(1-G14) -> 1 | K14: http://arkadak.sarmo.ru/byudzhet-munitsipalnogo-rayona/reshenie-o-byudzhete/byudzhet2018-actual.php | L14: Решения о внесении изменений в бюджет МР публикуются без приложений.
A15: 7 | B15: Аткарский | C15: Опубликованы, или внесение изменений в решение не осуществлялось | D15: Word | F15: =IF(C15=$C$5,2,0) -> 2 | J15: =F15*(1-H15)*(1-I15)*(1-G15) -> 2 | K15: http://proatkarsk.ru/CityListArticles.aspx?categoryid=398
A16: 8 | B16: Базарно-Карабулакский | C16: Опубликованы, или внесение изменений в решение не осуществлялось | D16: Word | F16: =IF(C16=$C$5,2,0) -> 2 | J16: =F16*(1-H16)*(1-I16)*(1-G16) -> 2 | K16: http://bkarabulak.sarmo.ru/index.php?option=com_content&view=article&id=3148&Itemid=342
A17: 9 | B17: Балаковский | C17: Опубликованы, или внесение изменений в решение не осуществлялось | D17: Word | F17: =IF(C17=$C$5,2,0) -> 2 | J17: =F17*(1-H17)*(1-I17)*(1-G17) -> 2 | K17: http://balkomfin.ru/
A18: 10 | B18: Балашовский | C18: Опубликованы, или внесение изменений в решение не осуществлялось | D18: Word | F18: =IF(C18=$C$5,2,0) -> 2 | J18: =F18*(1-H18)*(1-I18)*(1-G18) -> 2 | K18: http://www.baladmin.ru/byudzhet-na-2018-god-i-planovyy-period-2019-i-2020-godov.php
A19: 11 | B19: Балтайский | C19: Опубликованы, или внесение изменений в решение не осуществлялось | D19: Word | E19: Решения без названий, сильно затрудняет поиск пользователю. | F19: =IF(C19=$C$5,2,0) -> 2 | J19: =F19*(1-H19)*(1-I19)*(1-G19) -> 2 | K19: http://adm-baltay.ru/finansovoe-upravlenie/resheniya-o-mestnom-byudzhete/ | L19: Изменения в решения о бюджете по указанной ссылке публикуются, однако возможность проверки регулярности их размещения в полном объеме отсутствует (актуализированной версии решения о бюджете на сайте нет).
A20: 12 | B20: Вольский | C20: Опубликованы, или внесение изменений в решение не осуществлялось | D20: Word | F20: =IF(C20=$C$5,2,0) -> 2 | J20: =F20*(1-H20)*(1-I20)*(1-G20) -> 2 | K20: http://volsk-ms.ru/resheniya-vms/resheniya/ | L20: Изменения в решение о бюджете по указанной ссылке публикуются, однако возможность проверки регулярности их размещения в полном объеме отсутствует (актуализированной версии решения о бюджете на сайте нет).
A21: 13 | B21: Воскресенский | C21: Опубликованы, или внесение изменений в решение не осуществлялось | D21: Word | F21: =IF(C21=$C$5,2,0) -> 2 | J21: =F21*(1-H21)*(1-I21)*(1-G21) -> 2 | K21: http://voskresensk64.ru/meeting/mun-sobranie/documents/index.php | L21: Изменения в решение о бюджете по указанной ссылке публикуются, однако возможность проверки регулярности их размещения в полном объеме отсутствует (актуализированной версии решения о бюджете на сайте нет).
A22: 14 | B22: Дергачевский | C22: Опубликованы, или внесение изменений в решение не осуществлялось | D22: Word, Excel | F22: =IF(C22=$C$5,2,0) -> 2 | J22: =F22*(1-H22)*(1-I22)*(1-G22) -> 2 | K22: http://dergachi.sarmo.ru/sobranie-dergachevskogo-munitsipalnogo-rayona/resheniya-sobraniya-dergachevskogo-munitsipalnogo-rayona/
A23: 15 | B23: Духовницкий | C23: Опубликованы, или внесение изменений в решение не осуществлялось | D23: Word | F23: =IF(C23=$C$5,2,0) -> 2 | J23: =F23*(1-H23)*(1-I23)*(1-G23) -> 2 | K23: http://duhovnitskoe.sarmo.ru/predstavitelnyy-organ/npa/mpa-2018/
A24: 16 | B24: Екатериновский | C24: Опубликованы, или внесение изменений в решение не осуществлялось | D24: Word | F24: =IF(C24=$C$5,2,0) -> 2 | J24: =F24*(1-H24)*(1-I24)*(1-G24) -> 2 | K24: http://ekaterinovka.sarmo.ru/rayonnoe-sobranie/2018.php
A25: 17 | B25: Ершовский | C25: Опубликованы, или внесение изменений в решение не осуществлялось | D25: Word | F25: =IF(C25=$C$5,2,0) -> 2 | J25: =F25*(1-H25)*(1-I25)*(1-G25) -> 2 | K25: http://ershov.sarmo.ru/raion-sobr/resheniya/
A26: 18 | B26: Ивантеевский | C26: Опубликованы, или внесение изменений в решение не осуществлялось | D26: Word | F26: =IF(C26=$C$5,2,0) -> 2 | J26: =F26*(1-H26)*(1-I26)*(1-G26) -> 2 | K26: http://ivanteevka.sarmo.ru/byudzhet-dlya-grazhdan/npa/2018/
A27: 19 | B27: Калининский | C27: Опубликованы, или внесение изменений в решение не осуществлялось | D27: Word | F27: =IF(C27=$C$5,2,0) -> 2 | J27: =F27*(1-H27)*(1-I27)*(1-G27) -> 2 | K27: http://kalininsk.sarmo.ru/predstavitelnyy-organ-munitsipalnogo-rayona/dokumenty-normativnye-akty/
A28: 20 | B28: Красноармейский | C28: Опубликованы, или внесение изменений в решение не осуществлялось | D28: Word | F28: =IF(C28=$C$5,2,0) -> 2 | J28: =F28*(1-H28)*(1-I28)*(1-G28) -> 2 | K28: http://krasnoarmeysk.sarmo.ru/krasnoarmeyskiy-rayon/byudzhet/resheniya-o-byudzhete-krasnoarmeyskogo-munitsipalnogo-rayona-s-dopolneniyami-i-izmeneniyami/
A29: 21 | B29: Краснокутский | C29: Опубликованы, или внесение изменений в решение не осуществлялось | D29: Word | F29: =IF(C29=$C$5,2,0) -> 2 | J29: =F29*(1-H29)*(1-I29)*(1-G29) -> 2 | K29: http://krasny-kut.ru/municipal_noe_sobranie/oficial_nye_dokumenty/reshenij_sobraniya_deputatov/
A30: 22 | B30: Краснопартизанский | C30: Опубликованы, или внесение изменений в решение не осуществлялось | D30: Word, Excel | F30: =IF(C30=$C$5,2,0) -> 2 | J30: =F30*(1-H30)*(1-I30)*(1-G30) -> 2 | K30: http://gornyi.sarmo.ru/index.php?option=com_content&view=article&id=3423:2017-11-17-08-30-11&catid=34:%D0%9E%D1%81%D0%BD%D0%BE%D0%B2%D0%BD%D0%B0%D1%8F%20%D0%BA%D0%B0%D1%82%D0%B5%D0%B3%D0%BE%D1%80%D0%B8%D1%8F
A31: 23 | B31: Лысогорский | C31: Опубликованы, или внесение изменений в решение не осуществлялось | D31: Word | F31: =IF(C31=$C$5,2,0) -> 2 | J31: =F31*(1-H31)*(1-I31)*(1-G31) -> 2 | K31: http://adm.lysyegory.ru/base/raion/byudzhet-municipalnogo-raiona/ispolnenie-byudzheta-mr-i-finansovyi-kontrol
A32: 24 | B32: Марксовский | C32: Опубликованы, или внесение изменений в решение не осуществлялось | D32: Word, Excel | F32: =IF(C32=$C$5,2,0) -> 2 | J32: =F32*(1-H32)*(1-I32)*(1-G32) -> 2 | K32: http://marksadm.ru/r-o-b.html
A33: 25 | B33: Новобурасский | C33: Опубликованы, или внесение изменений в решение не осуществлялось | D33: Word | F33: =IF(C33=$C$5,2,0) -> 2 | J33: =F33*(1-H33)*(1-I33)*(1-G33) -> 2 | K33: http://www.nbfin.ru/resheniya_o_byudzhetah/novoburasskogo_municipal_nogo_rajona/ispolnenie_byudzheta/2018_god/
A34: 26 | B34: Новоузенский | C34: Не опубликованы или опубликованы в отдельных случаях | D34: Word | E34: Решения без названий, сильно затрудняет поиск пользователю. | F34: =IF(C34=$C$5,2,0) -> 0 | J34: =F34*(1-H34)*(1-I34)*(1-G34) -> 0 | K34: http://novouzensk.ru/sobranie/sobr/akty/ | L34: Найти по указанной ссылке документы чрезвычайно затруднительно: нет тематической структуры, нет наименований файлов. Чтобы найти нужный документ нужно открывать каждый опубликованный файл.
A35: 27 | B35: Озинский | C35: Опубликованы, или внесение изменений в решение не осуществлялось | D35: Word, Excel | F35: =IF(C35=$C$5,2,0) -> 2 | H35: 0.5 | J35: =F35*(1-H35)*(1-I35)*(1-G35) -> 1 | K35: http://ozinki.sarmo.ru/byudzhet/byudzhet-munitsipalnogo-rayona.php?ELEMENT_ID=1925 | L35: Обратите внимание, допущена ошибка: все ссылки об изменнениях в бюджет за 2018 год называются "О внесении изменений в решение....... от 26.12.2016 г.№31". Наименование ссылки на документ не соответствует наименованию документа (пункт 7 приложения к приказу министерства финансов Саратовской области от 30.06.2016 №202).
A36: 28 | B36: Перелюбский | C36: Опубликованы, или внесение изменений в решение не осуществлялось | D36: Word, Excel | F36: =IF(C36=$C$5,2,0) -> 2 | J36: =F36*(1-H36)*(1-I36)*(1-G36) -> 2 | K36: http://adm-perelyb.ru/byudzhet-rayona/
A37: 29 | B37: Петровский | C37: Опубликованы, или внесение изменений в решение не осуществлялось | D37: Word | F37: =IF(C37=$C$5,2,0) -> 2 | J37: =F37*(1-H37)*(1-I37)*(1-G37) -> 2 | K37: https://petrovsk64.ru/sub-org/fin-upr/otkrytyy-byudzhet/byudzhet/izmeneniya-v-byudzhet/
A38: 30 | B38: Питерский | C38: Опубликованы, или внесение изменений в решение не осуществлялось | D38: Word | F38: =IF(C38=$C$5,2,0) -> 2 | J38: =F38*(1-H38)*(1-I38)*(1-G38) -> 2 | K38: http://piterka.sarmo.ru/byudzhet-piterskogo-mr/mestnyy-byudzhet./2018g.php?clear_cache=Y
A39: 31 | B39: Пугачевский | C39: Опубликованы, или внесение изменений в решение не осуществлялось | D39: Word | F39: =IF(C39=$C$5,2,0) -> 2 | J39: =F39*(1-H39)*(1-I39)*(1-G39) -> 2 | K39: http://pugachev-adm.ru/2018-god-2
A40: 32 | B40: Ровенский | C40: Опубликованы, или внесение изменений в решение не осуществлялось | D40: Word, Excel | F40: =IF(C40=$C$5,2,0) -> 2 | J40: =F40*(1-H40)*(1-I40)*(1-G40) -> 2 | K40: http://rovnoe.sarmo.ru/byudzhet/resheniya-o-byudzhete/2018.php?clear_cache=Y
...

Sheet Показатель 5.2
A1: 5.2. Актуализированная версия решения о бюджете муниципального образования на текущий финансовый год (текущий финансовый год и плановый период) с учетом внесенных изменений на портале (сайте) | L1: Дата контрольной проверки:
A2: Комментарий:
A3: ='Методика III этап'!B12 -> В целях оценки показателя учитывается публикация актуализированной версии решения о бюджете, с учетом всех принятых на дату проведения мониторинга решений о внесении изменений в бюджет. Учитывается публикация актуализированной версии решения о бюджете со всеми приложениями, публикация отдельных составляющих в целях оценки показателя не учитывается. В случае если внесение изменений в решение о бюджете на текущий год (на текущий год и плановый период) на момент проведения мониторинга не осуществлялось, в целях оценки показателя учитывается публикация принятого решения о бюджете муниципального образования на текущий финансовый год (текущий финансовый год и плановый период). Актуализированная версия решения о бюджете должна быть опубликована в течение одного месяца после подписания решения о внесении изменения в решение о бюджете муниципального образования и сохраняться не менее трех лет. При нарушении указанного срока применяется понижающий коэффициент за несоблюдение сроков обеспечения доступа к бюджетным данным. В случае, если в установленный срок документ не размещен, оценка показателя принимает значение 0 баллов.
A4: № п/п | B4: Наименование муниципального образования Саратовской обалсти | C4: ='Методика III этап'!B11 -> Опубликование актуализированной версии решения о бюджете муниципального образования на текущий финансовый год (на текущий финансовый год и плановый период) с учетом внесенных изменений на портале (сайте) | D4: Формат | E4: Доступность (указать, если возникли трудности с поиском документа, если переход осуществляется более, чем за 5 «кликов» с основной страницы портала (сайта), если название раздела не соответствует содержанию) | F4: Оценка показателя 5.2 | K4: Ссылка на источник данных | L4: Комментарии
B5: Варианты ответов | C5: ='Методика III этап'!B13 -> Опубликована в структурированном виде, с указанием полных или кратких наименований всех составляющих | D5: Word, Excel, PDF | F5: баллы | G5: понижающие коэффициенты | J5: Итого
C6: ='Методика III этап'!B14 -> Опубликована, но не в структурированном виде и (или) без указания полных или кратких наименований всех составляющих | G6: графический формат | H6: затруднен-ный поиск | I6: несоблюде-ние сроков
C7: ='Методика III этап'!B15 -> Не опубликована
B8: Городские округа
A9: 1 | B9: г. Саратов | C9: Опубликована в структурированном виде, с указанием полных или кратких наименований всех составляющих | D9: Word | F9: =IF(C9=$C$5,2,IF(C9=$C$6,1,0)) -> 2 | J9: =F9*(1-G9)*(1-H9)*(1-I9) -> 2 | K9: http://www.saratovmer.ru/budget/rubrics/1/1281.html
A10: 2 | B10: ЗАТО Михайловское | C10: Опубликована, но не в структурированном виде и (или) без указания полных или кратких наименований всех составляющих | D10: Web, Excel | F10: =IF(C10=$C$5,2,IF(C10=$C$6,1,0)) -> 1 | J10: =F10*(1-H10)*(1-I10) -> 1 | K10: http://mihailovski.ru/administratsiya/finansy/byudzhet/2018-2020-god/aktualizirovannaya-versiya-resheniya-o-byudzhete-z3378/
A11: 3 | B11: ЗАТО Светлый | C11: Опубликована в структурированном виде, с указанием полных или кратких наименований всех составляющих | D11: Web, Word | E11: 6 кликов до документа | F11: =IF(C11=$C$5,2,IF(C11=$C$6,1,0)) -> 2 | H11: 0.5 | J11: =F11*(1-H11)*(1-I11) -> 1 | K11: http://www.zatosvetly.ru/city/economics_amp_finance/byudzhet-gorodskogo-okruga/byudzhet-gorodskogo-okruga-zato-svetlyy/2018-g/index.php?ELEMENT_ID=10705
A12: 4 | B12: ЗАТО Шиханы | C12: Не опубликована | F12: =IF(C12=$C$5,2,IF(C12=$C$6,1,0)) -> 0 | J12: =F12*(1-H12)*(1-I12) -> 0 | K12: http://zatoshihany.ru/budget/reshenie-o-byudzhete/2018/ | L12: По сылке размещены решения о внесении изменений в первоначальное решение. Пункт 5.2 предусматривает опубликование актуализированной версии, т.е. первоначальное решение с учетом всех изменений.
B13: Муниципальные районы
A14: 5 | B14: Александрово-Гайский | C14: Не опубликована | F14: =IF(C14=$C$5,2,IF(C14=$C$6,1,0)) -> 0 | J14: =F14*(1-H14)*(1-I14)*(1-G14) -> 0 | K14: http://algay.sarmo.ru/byudzhet-ekonomika-finansy/resheniya-po-byudzhetu-2018.php | L14: Актуализированная версия решения о бюджете муниципального образования на текущий финансовый год по предоставленной ссылке и на сайте не найдена.
A15: 6 | B15: Аркадакский | C15: Опубликована в структурированном виде, с указанием полных или кратких наименований всех составляющих | D15: Word | F15: =IF(C15=$C$5,2,IF(C15=$C$6,1,0)) -> 2 | J15: =F15*(1-H15)*(1-I15)*(1-G15) -> 2 | K15: http://arkadak.sarmo.ru/index.php?option=com_content&view=article&id=971&Itemid=329
A16: 7 | B16: Аткарский | C16: Опубликована в структурированном виде, с указанием полных или кратких наименований всех составляющих | D16: Word, Excel | F16: =IF(C16=$C$5,2,IF(C16=$C$6,1,0)) -> 2 | J16: =F16*(1-H16)*(1-I16)*(1-G16) -> 2 | K16: http://proatkarsk.ru/CityListArticles.aspx?categoryid=389
A17: 8 | B17: Базарно-Карабулакский | C17: Опубликована в структурированном виде, с указанием полных или кратких наименований всех составляющих | D17: Web, Word | F17: =IF(C17=$C$5,2,IF(C17=$C$6,1,0)) -> 2 | J17: =F17*(1-H17)*(1-I17)*(1-G17) -> 2 | K17: http://bkarabulak.sarmo.ru/index.php?option=com_content&view=article&id=3148&Itemid=342
A18: 9 | B18: Балаковский | C18: Опубликована в структурированном виде, с указанием полных или кратких наименований всех составляющих | D18: Word | F18: =IF(C18=$C$5,2,IF(C18=$C$6,1,0)) -> 2 | J18: =F18*(1-H18)*(1-I18)*(1-G18) -> 2 | K18: http://balkomfin.ru/
A19: 10 | B19: Балашовский | C19: Опубликована в структурированном виде, с указанием полных или кратких наименований всех составляющих | D19: Word | F19: =IF(C19=$C$5,2,IF(C19=$C$6,1,0)) -> 2 | J19: =F19*(1-H19)*(1-I19)*(1-G19) -> 2 | K19: http://www.baladmin.ru/byudzhet-na-2018-god-i-planovyy-period-2019-i-2020-godov.php
A20: 11 | B20: Балтайский | C20: Не опубликована | F20: =IF(C20=$C$5,2,IF(C20=$C$6,1,0)) -> 0 | J20: =F20*(1-H20)*(1-I20)*(1-G20) -> 0 | K20: http://adm-baltay.ru/finansovoe-upravlenie/resheniya-o-mestnom-byudzhete/ | L20: По ссылке опубликованы решения о внесении изменений в решение о бюджете. Необходимо опубликовать первоначальное решение с учетом каждого изменения и с указанием реквизитов изменяющих документов.
A21: 12 | B21: Вольский | C21: Не опубликована | F21: =IF(C21=$C$5,2,IF(C21=$C$6,1,0)) -> 0 | J21: =F21*(1-H21)*(1-I21)*(1-G21) -> 0 | K21: http://volsk-ms.ru/resheniya-vms/resheniya/ | L21: Актуализированная версия решения о бюджете муниципального образования на текущий финансовый год по предоставленной ссылке и на сайте не найдена.
A22: 13 | B22: Воскресенский | C22: Не опубликована | F22: =IF(C22=$C$5,2,IF(C22=$C$6,1,0)) -> 0 | J22: =F22*(1-H22)*(1-I22)*(1-G22) -> 0 | L22: На сайте информация не опубликована.
A23: 14 | B23: Дергачевский | C23: Опубликована в структурированном виде, с указанием полных или кратких наименований всех составляющих | D23: Word, Excel | F23: =IF(C23=$C$5,2,IF(C23=$C$6,1,0)) -> 2 | J23: =F23*(1-H23)*(1-I23)*(1-G23) -> 2 | K23: http://dergachi.sarmo.ru/sobranie-dergachevskogo-munitsipalnogo-rayona/resheniya-o-byudzhete-s-izmeneniyami/
A24: 15 | B24: Духовницкий | C24: Опубликована, но не в структурированном виде и (или) без указания полных или кратких наименований всех составляющих | F24: =IF(C24=$C$5,2,IF(C24=$C$6,1,0)) -> 1 | J24: =F24*(1-H24)*(1-I24)*(1-G24) -> 1 | K24: http://duhovnitskoe.sarmo.ru/ispolnenie-byudzheta/byudzhet-2018/
A25: 16 | B25: Екатериновский | C25: Опубликована, но не в структурированном виде и (или) без указания полных или кратких наименований всех составляющих | D25: Word | F25: =IF(C25=$C$5,2,IF(C25=$C$6,1,0)) -> 1 | J25: =F25*(1-H25)*(1-I25)*(1-G25) -> 1 | K25: http://ekaterinovka.sarmo.ru/finansovoe-upravlenie-administratsii/ | L25: Приложения - без названий.
A26: 17 | B26: Ершовский | C26: Опубликована в структурированном виде, с указанием полных или кратких наименований всех составляющих | D26: Word | F26: =IF(C26=$C$5,2,IF(C26=$C$6,1,0)) -> 2 | J26: =F26*(1-H26)*(1-I26)*(1-G26) -> 2 | K26: http://ershov.sarmo.ru/byudzhet-i-finansy/byudzhet/aktualizirovannaya-versiya-byudzheta-emr-2018-g/
A27: 18 | B27: Ивантеевский | C27: Опубликована, но не в структурированном виде и (или) без указания полных или кратких наименований всех составляющих | D27: Word | F27: =IF(C27=$C$5,2,IF(C27=$C$6,1,0)) -> 1 | J27: =F27*(1-H27)*(1-I27)*(1-G27) -> 1 | K27: http://ivanteevka.sarmo.ru/byudzhet-dlya-grazhdan/npa/2018/ | L27: Приложения- без названий
A28: 19 | B28: Калининский | C28: Опубликована, но не в структурированном виде и (или) без указания полных или кратких наименований всех составляющих | D28: Word | F28: =IF(C28=$C$5,2,IF(C28=$C$6,1,0)) -> 1 | J28: =F28*(1-H28)*(1-I28)*(1-G28) -> 1 | K28: http://kalininsk.sarmo.ru/byudzhet/byudzhet-munitsipalnogo-rayona/
A29: 20 | B29: Красноармейский | C29: Опубликована, но не в структурированном виде и (или) без указания полных или кратких наименований всех составляющих | D29: Word | F29: =IF(C29=$C$5,2,IF(C29=$C$6,1,0)) -> 1 | J29: =F29*(1-H29)*(1-I29)*(1-G29) -> 1 | K29: https://krasnoarmeysk64.ru/krasnoarmeyskiy-rayon/byudzhet/resheniya-o-byudzhete-krasnoarmeyskogo-munitsipalnogo-rayona-s-dopolneniyami-i-izmeneniyami/resheniya-2018-goda.php | L29: Приложения - без названий.
A30: 21 | B30: Краснокутский | C30: Не опубликована | F30: =IF(C30=$C$5,2,IF(C30=$C$6,1,0)) -> 0 | J30: =F30*(1-H30)*(1-I30)*(1-G30) -> 0 | K30: http://krasny-kut.ru/municipal_noe_sobranie/oficial_nye_dokumenty/resheniya_sobraniya_deputatov/ | L30: По указанной ссылке указаны решения о внесении зименений. Последняя актуализированная версия с учетом всех изменений и указанием реквизитов изменяющих документов не представлена.
A31: 22 | B31: Краснопартизанский | C31: Опубликована в структурированном виде, с указанием полных или кратких наименований всех составляющих | D31: Word, Excel | F31: =IF(C31=$C$5,2,IF(C31=$C$6,1,0)) -> 2 | J31: =F31*(1-H31)*(1-I31)*(1-G31) -> 2 | K31: http://gornyi.sarmo.ru/index.php?option=com_content&view=article&id=3423:2017-11-17-08-30-11&catid=34:%D0%9E%D1%81%D0%BD%D0%BE%D0%B2%D0%BD%D0%B0%D1%8F%20%D0%BA%D0%B0%D1%82%D0%B5%D0%B3%D0%BE%D1%80%D0%B8%D1%8F
A32: 23 | B32: Лысогорский | C32: Опубликована, но не в структурированном виде и (или) без указания полных или кратких наименований всех составляющих | D32: Word | F32: =IF(C32=$C$5,2,IF(C32=$C$6,1,0)) -> 1 | J32: =F32*(1-H32)*(1-I32)*(1-G32) -> 1 | K32: http://adm.lysyegory.ru/base/4654-aktualizirovannaja-versija-reshenija-o-byudzhete-lysogorskogo-municipalnogo-raiona-na-2018-god-.html
A33: 24 | B33: Марксовский | C33: Опубликована в структурированном виде, с указанием полных или кратких наименований всех составляющих | D33: Web, Word, Excel | F33: =IF(C33=$C$5,2,IF(C33=$C$6,1,0)) -> 2 | J33: =F33*(1-H33)*(1-I33)*(1-G33) -> 2 | K33: http://marksadm.ru/r-o-b.html
A34: 25 | B34: Новобурасский | C34: Опубликована в структурированном виде, с указанием полных или кратких наименований всех составляющих | D34: Web, Word, Excel | F34: =IF(C34=$C$5,2,IF(C34=$C$6,1,0)) -> 2 | J34: =F34*(1-H34)*(1-I34)*(1-G34) -> 2 | K34: http://www.nbfin.ru/resheniya_o_byudzhetah/novoburasskogo_municipal_nogo_rajona/aktualizirovannoe_reshenie_o_byudzhete/2018_god/
A35: 26 | B35: Новоузенский | C35: Не опубликована | F35: =IF(C35=$C$5,2,IF(C35=$C$6,1,0)) -> 0 | J35: =F35*(1-H35)*(1-I35)*(1-G35) -> 0 | K35: http://novouzensk.ru/sobranie/sobr/akty/?ELEMENT_ID=7541 | L35: Актуализированная версия решения о бюджете муниципального образования на текущий финансовый год по предоставленной ссылке и на сайте не найдена.
A36: 27 | B36: Озинский | C36: Опубликована в структурированном виде, с указанием полных или кратких наименований всех составляющих | D36: Word | F36: =IF(C36=$C$5,2,IF(C36=$C$6,1,0)) -> 2 | J36: =F36*(1-H36)*(1-I36)*(1-G36) -> 2 | K36: http://ozinki.sarmo.ru/byudzhet/byudzhet-munitsipalnogo-rayona.php?ELEMENT_ID=1925
A37: 28 | B37: Перелюбский | C37: Не опубликована | D37: Word, Excel | F37: =IF(C37=$C$5,2,IF(C37=$C$6,1,0)) -> 0 | J37: =F37*(1-H37)*(1-I37)*(1-G37) -> 0 | K37: http://adm-perelyb.ru/byudzhet-rayona/ | L37: По данной ссылке опубликованы решения о внесении изменений в бюджет МР.
A38: 29 | B38: Петровский | C38: Опубликована в структурированном виде, с указанием полных или кратких наименований всех составляющих | D38: Web, Word | F38: =IF(C38=$C$5,2,IF(C38=$C$6,1,0)) -> 2 | J38: =F38*(1-H38)*(1-I38)*(1-G38) -> 2 | K38: https://petrovsk64.ru/sub-org/fin-upr/otkrytyy-byudzhet/byudzhet/aktualnaya-versiya-byudzheta/2018/
A39: 30 | B39: Питерский | C39: Опубликована в структурированном виде, с указанием полных или кратких наименований всех составляющих | D39: Word | F39: =IF(C39=$C$5,2,IF(C39=$C$6,1,0)) -> 2 | J39: =F39*(1-H39)*(1-I39)*(1-G39) -> 2 | K39: http://piterka.sarmo.ru/byudzhet-piterskogo-mr/mestnyy-byudzhet./2018g.php?clear_cache=Y
A40: 31 | B40: Пугачевский | C40: Опубликована, но не в структурированном виде и (или) без указания полных или кратких наименований всех составляющих | F40: =IF(C40=$C$5,2,IF(C40=$C$6,1,0)) -> 1 | J40: =F40*(1-H40)*(1-I40)*(1-G40) -> 1 | K40: http://pugachev-adm.ru/wp-content/uploads/2015/03/Reshenie-o-byudzhete-na-2018-god-i-na-planovyiy-period-2019-i-2020-godov-aktualizirovannaya-versiya-na-01.10.2018g..doc http://pugachev-adm.ru/byudzhet-rayona
...

Sheet Показатель 6.1
A1: 6.1. Отчеты об исполнении бюджета муниципального образования за первый квартал, полугодие, девять месяцев текущего финансового года на портале (сайте) | L1: Дата контрольной проверки:
A2: Комментарий:
A3: В целях оценки показателя учитываются официальные документы, принятые администрацией муниципального образования. Иные документы и материалы в целях оценки данного показателя не учитываются. Опубликованные сведения в обязательном порядке должны содержать: а) наименование, номер и дату муниципального правового акта об утверждении отчета; б) должность, фамилию и инициалы лица, подписавшего муниципальный правовой акт об утверждении отчета. Учитывается публикация отчетов со всеми приложениями, публикация отдельных составляющих в целях оценки показателя не учитывается. Графический формат допускается для публикация постановляющей части муниципального правового акта об утверждении отчета и не допускается для публикации приложений к отчету (содержательной части). Отчет об исполнении бюджета муниципального образования за первый квартал, полугодие, девять месяцев текущего года должен быть опубликован в течение трех месяцев после окончания отчетного периода и сохраняться не менее трех лет. При нарушении указанного срока применяется понижающий коэффициент за несоблюдение сроков обеспечения доступа к бюджетным данным.
A4: № п/п | B4: Вопрос | C4: ='Методика III этап'!B17 -> Опубликование отчетов об исполнении бюджета муниципального образования за первый квартал, полугодие, девять месяцев текущего финансового года на портале (сайте) | D4: Формат | E4: Доступность (указать, если возникли трудности с поиском документа, если переход осуществляется более, чем за 5 «кликов» с основной страницы портала (сайта), если название раздела не соответствует содержанию) | F4: Оценка показателя 6.1 | K4: Ссылка на источник данных | L4: Комментарии
B5: Варианты ответов | C5: ='Методика III этап'!B19 -> Опубликованы за все отчетные периоды | D5: Word, Excel, PDF | F5: баллы | G5: понижающие коэффициенты | J5: Итого
C6: ='Методика III этап'!B20 -> Не опубликованы или публикуются нерегулярно, или не отвечают требованиям | G6: графический формат | H6: затруднен-ный поиск | I6: несоблюде-ние сроков
B7: Городские округа
A8: 1 | B8: г. Саратов | C8: Опубликованы за все отчетные периоды | D8: PDF, Excel | F8: =IF(C8=$C$5,1,0) -> 1 | J8: =F8*(1-G8)*(1-H8)*(1-I8) -> 1 | K8: http://www.saratovmer.ru/budget/rubrics/2/1285.html
A9: 2 | B9: ЗАТО Михайловское | C9: Не опубликованы или публикуются нерегулярно, или не отвечают требованиям | F9: =IF(C9=$C$5,1,0) -> 0 | J9: =F9*(1-G9)*(1-H9)*(1-I9) -> 0 | K9: http://mihailovski.ru/administratsiya/finansy/svedeniya-ob-ispolzovanii-byudzhetnykh-sredstv/utverzhdenie-otcheta-ob-ispolnenii-byudzheta-zato-/ | L9: Не соблюден формат размещения постановляющей части документа (либо PDF, либо JPG, с подписью должностного лица и печатью). Раздел не структурирован.
A10: 3 | B10: ЗАТО Светлый | C10: Не опубликованы или публикуются нерегулярно, или не отвечают требованиям | D10: Web ,Word | F10: =IF(C10=$C$5,1,0) -> 0 | J10: =F10*(1-G10)*(1-H10)*(1-I10) -> 0 | K10: http://www.zatosvetly.ru/city/economics_amp_finance/byudzhet-gorodskogo-okruga/informatsiya-ob-ispolnenii-byudzheta-gorodskogo-okruga-zato-svetlyy/2018/ | L10: Размещено решение об опубликовании очета. Необходимо публиковать решения об утверждении отчетов на все отчетные даты, соблюдая требования к форматам: постановляющая часть - PDF, JPG приложения - Word, Exel
A11: 4 | B11: ЗАТО Шиханы | C11: Не опубликованы или публикуются нерегулярно, или не отвечают требованиям | D11: Word, Excel | F11: =IF(C11=$C$5,1,0) -> 0 | J11: =F11*(1-G11)*(1-H11)*(1-I11) -> 0 | K11: http://zatoshihany.ru/budget/ispolnenie-byudzheta/2018/Otchet-ob-ispolnenii-bjudzheta/ | L11: Не соблюден формат размещения постановляющей части документа (либо PDF, либо JPG, с подписью должностного лица и печатью). Раздел не структурирован.
B12: Муниципальные районы
A13: 5 | B13: Александрово-Гайский | C13: Не опубликованы или публикуются нерегулярно, или не отвечают требованиям | D13: Word | F13: =IF(C13=$C$5,1,0) -> 0 | J13: =F13*(1-G13)*(1-H13)*(1-I13) -> 0 | K13: http://algay.sarmo.ru/byudzhet-ekonomika-finansy/ispolnenie-byudzheta.php | L13: Не соблюден формат размещения постановляющей части документа (либо PDF, либо JPG, с подписью должностного лица и печатью).
A14: 6 | B14: Аркадакский | C14: Опубликованы за все отчетные периоды | D14: PDF,Word | F14: =IF(C14=$C$5,1,0) -> 1 | J14: =F14*(1-G14)*(1-H14)*(1-I14) -> 1 | K14: http://arkadak.sarmo.ru/byudzhet-munitsipalnogo-rayona/ispolnenie-dokhodnoy-chasti-byudzheta.php
A15: 7 | B15: Аткарский | C15: Опубликованы за все отчетные периоды | D15: Word,Jpg | F15: =IF(C15=$C$5,1,0) -> 1 | J15: =F15*(1-G15)*(1-H15)*(1-I15) -> 1 | K15: http://proatkarsk.ru/CityListArticles.aspx?categoryid=403
A16: 8 | B16: Базарно-Карабулакский | C16: Опубликованы за все отчетные периоды | D16: PDF,Exel | F16: =IF(C16=$C$5,1,0) -> 1 | J16: =F16*(1-G16)*(1-H16)*(1-I16) -> 1 | K16: http://bkarabulak.sarmo.ru/index.php?option=com_content&view=article&id=8367&Itemid=312
A17: 9 | B17: Балаковский | C17: Опубликованы за все отчетные периоды | D17: PDF, Word, Excel | F17: =IF(C17=$C$5,1,0) -> 1 | J17: =F17*(1-G17)*(1-H17)*(1-I17) -> 1 | K17: http://balkomfin.ru/ | L17: Раздел не структурирован по годам.
A18: 10 | B18: Балашовский | C18: Опубликованы за все отчетные периоды | D18: Jpg, Word, Excel | F18: =IF(C18=$C$5,1,0) -> 1 | J18: =F18*(1-G18)*(1-H18)*(1-I18) -> 1 | K18: http://baladmin.ru/administration/divisions-structure/finance/ezhekvartalnye-svedeniya-ob-ispolnenii-byudzheta2018.php | L18: Ссылка дана на сведения об исполнении бюджета на отчетные даты 2018 г. В соответствии с требованиями пункта необходимо опубликовать решения об утверждении отчета на все отчетные даты с приложениями, соблюдая требования к формату: постановляющая часть -PDF,JPG приложения- Word, Exel
A19: 11 | B19: Балтайский | C19: Не опубликованы или публикуются нерегулярно, или не отвечают требованиям | D19: Web | F19: =IF(C19=$C$5,1,0) -> 0 | J19: =F19*(1-G19)*(1-H19)*(1-I19) -> 0 | K19: http://adm-baltay.ru/finansovoe-upravlenie/ispolnenie-mestnogo-byudzheta/ | L19: Требованиями данного пункта предусмотрено размещение на сайте решения об утверждении отчета об исполнении бюджета со всеми приложениями.
A20: 12 | B20: Вольский | C20: Не опубликованы или публикуются нерегулярно, или не отвечают требованиям | F20: =IF(C20=$C$5,1,0) -> 0 | J20: =F20*(1-G20)*(1-H20)*(1-I20) -> 0 | K20: http://вольск.рф/?page_id=27231 | L20: По представленной ссылке размещены отчеты об исполнении бюджета за 2016-2017 гг
A21: 13 | B21: Воскресенский | C21: Опубликованы за все отчетные периоды | D21: PDF, Excel | F21: =IF(C21=$C$5,1,0) -> 1 | J21: =F21*(1-G21)*(1-H21)*(1-I21) -> 1 | K21: http://voskresensk64.ru/administration/statistics/butget/ | L21: Раздел не структурирован
A22: 14 | B22: Дергачевский | C22: Не опубликованы или публикуются нерегулярно, или не отвечают требованиям | D22: PDF,Word | F22: =IF(C22=$C$5,1,0) -> 0 | J22: =F22*(1-G22)*(1-H22)*(1-I22) -> 0 | K22: http://dergachi.sarmo.ru/administratsiya/otchety/svedeniya-ob-ispolnenii-byudzheta-dmr/ | L22: На момент проведения мониторинга не опубликовано решение об утверждении отчета об исполнении бюджета за I полугодие 2018 г
A23: 15 | B23: Духовницкий | C23: Не опубликованы или публикуются нерегулярно, или не отвечают требованиям | D23: Word | F23: =IF(C23=$C$5,1,0) -> 0 | J23: =F23*(1-G23)*(1-H23)*(1-I23) -> 0 | K23: http://duhovnitskoe.sarmo.ru/ispolnenie-byudzheta/byudzhet-2018/ | L23: Не соблюден формат размещения постановляющей части документа (либо PDF, либо JPG, с подписью должностного лица и печатью).
A24: 16 | B24: Екатериновский | C24: Не опубликованы или публикуются нерегулярно, или не отвечают требованиям | D24: Word | F24: =IF(C24=$C$5,1,0) -> 0 | J24: =F24*(1-G24)*(1-H24)*(1-I24) -> 0 | K24: http://ekaterinovka.sarmo.ru/finansovoe-upravlenie-administratsii/ | L24: По представленной ссылке размещен отчет об исполнении бюджета МО за 9 месяцев 2018 г . За 1 квартал и полугодие 2018 г иформация не опубликована.
A25: 17 | B25: Ершовский | C25: Не опубликованы или публикуются нерегулярно, или не отвечают требованиям | D25: Word, Excel | F25: =IF(C25=$C$5,1,0) -> 0 | J25: =F25*(1-G25)*(1-H25)*(1-I25) -> 0 | K25: http://ershov.sarmo.ru/byudzhet-i-finansy/svedeniya-ob-ispolnenii-byudzheta/ | L25: Не соблюден формат размещения постановляющей части документа (либо PDF, либо JPG, с подписью должностного лица и печатью). Раздел не структурирован.
A26: 18 | B26: Ивантеевский | C26: Опубликованы за все отчетные периоды | D26: PDF, Excel, | F26: =IF(C26=$C$5,1,0) -> 1 | J26: =F26*(1-G26)*(1-H26)*(1-I26) -> 1 | K26: http://ivanteevka.sarmo.ru/byudzhet-dlya-grazhdan/promezhutochnaya-otchetnost-ob-ispolnenii-byudzheta-i-analiticheskie-dannye/otchet-ob-ispolnenii-byudzheta/2018-god/
A27: 19 | B27: Калининский | C27: Не опубликованы или публикуются нерегулярно, или не отвечают требованиям | D27: Word, Excel | F27: =IF(C27=$C$5,1,0) -> 0 | J27: =F27*(1-G27)*(1-H27)*(1-I27) -> 0 | K27: http://kalininsk.sarmo.ru/byudzhet/ispolnenie-byudzheta/ | L27: Не соблюден формат размещения постановляющей части документа (либо PDF, либо JPG, с подписью должностного лица и печатью).
A28: 20 | B28: Красноармейский | C28: Не опубликованы или публикуются нерегулярно, или не отвечают требованиям | D28: Word | F28: =IF(C28=$C$5,1,0) -> 0 | J28: =F28*(1-G28)*(1-H28)*(1-I28) -> 0 | K28: http://krasnoarmeysk.sarmo.ru/krasnoarmeyskiy-rayon/byudzhet/otchet-ob-ispolnenii-byudzheta-krasnoarmeyskogo-munitsipalnogo-rayona/ | L28: Сведения опубликованы, однако не соблюден формат размещения постановляющей части документа (либо PDF, либо JPG, с подписью должностного лица и печатью).
A29: 21 | B29: Краснокутский | C29: Не опубликованы или публикуются нерегулярно, или не отвечают требованиям | D29: Jpg, Word, Exel | F29: =IF(C29=$C$5,1,0) -> 0 | J29: =F29*(1-G29)*(1-H29)*(1-I29) -> 0 | K29: http://krasny-kut.ru/krasnokutskij_rajon/finansy/ | L29: За полугодие и 9 месяцев 2018 г не опубликованы решения об утверждении отчета. Решения публикуйте в формате PDF,JPG, приложения к нему в Word или Exel
A30: 22 | B30: Краснопартизанский | C30: Опубликованы за все отчетные периоды | D30: PDF, Excel | F30: =IF(C30=$C$5,1,0) -> 1 | J30: =F30*(1-G30)*(1-H30)*(1-I30) -> 1 | K30: http://gornyi.sarmo.ru/index.php?option=com_content&view=article&id=3424:-2018-2020&catid=34:%D0%9E%D1%81%D0%BD%D0%BE%D0%B2%D0%BD%D0%B0%D1%8F%20%D0%BA%D0%B0%D1%82%D0%B5%D0%B3%D0%BE%D1%80%D0%B8%D1%8F
A31: 23 | B31: Лысогорский | C31: Не опубликованы или публикуются нерегулярно, или не отвечают требованиям | D31: PDF, Excel | F31: =IF(C31=$C$5,1,0) -> 0 | J31: =F31*(1-G31)*(1-H31)*(1-I31) -> 0 | K31: http://adm.lysyegory.ru/base/4806-otchet-ob-ispolnenii-byudzheta-lysogorskogo-municipalnogo-raiona-za-1-polugodie-2018-goda.html | L31: Отчеты публикуются, но не опубликован правовой акт об утверждении отчета за 1 полугодие 2018 (только приложение)
A32: 24 | B32: Марксовский | C32: Опубликованы за все отчетные периоды | D32: JPG, Excel | F32: =IF(C32=$C$5,1,0) -> 1 | J32: =F32*(1-G32)*(1-H32)*(1-I32) -> 1 | K32: http://marksadm.ru/icp-b.html
A33: 25 | B33: Новобурасский | C33: Опубликованы за все отчетные периоды | D33: Word | F33: =IF(C33=$C$5,1,0) -> 1 | J33: =F33*(1-G33)*(1-H33)*(1-I33) -> 1 | K33: http://www.nbfin.ru/byudzhet_dlya_grazhdan/na_tekuwij_god/ezhekvartal_nyj_otchet_ob_ispolnenii_byudzheta/2018_god/
A34: 26 | B34: Новоузенский | C34: Не опубликованы или публикуются нерегулярно, или не отвечают требованиям | D34: JPG, Excel | F34: =IF(C34=$C$5,1,0) -> 0 | J34: =F34*(1-G34)*(1-H34)*(1-I34) -> 0 | K34: http://novouzensk.ru/budget%20for%20people/ | L34: На сайте размещено решение об утверждении отчета за 1 полугодие 2018 г. За 1 квартал и 9 мес. 2018 г - не опубликованы.
A35: 27 | B35: Озинский | C35: Не опубликованы или публикуются нерегулярно, или не отвечают требованиям | D35: JPG, Word, Exel | F35: =IF(C35=$C$5,1,0) -> 0 | J35: =F35*(1-G35)*(1-H35)*(1-I35) -> 0 | K35: http://ozinki.sarmo.ru/byudzhet/ispolnenie-byudzheta.php?ELEMENT_ID=2313 | L35: Не опубликовано решение об утверждении отчета за 1 квартал 2018 г
A36: 28 | B36: Перелюбский | C36: Опубликованы за все отчетные периоды | D36: PDF,Word, Exel | F36: =IF(C36=$C$5,1,0) -> 1 | J36: =F36*(1-G36)*(1-H36)*(1-I36) -> 1 | K36: http://adm-perelyb.ru/byudzhet-dlya-grazhdan/
A37: 29 | B37: Петровский | C37: Опубликованы за все отчетные периоды | D37: JPG, Excel | F37: =IF(C37=$C$5,1,0) -> 1 | J37: =F37*(1-G37)*(1-H37)*(1-I37) -> 1 | K37: https://petrovsk64.ru/sub-org/fin-upr/otkrytyy-byudzhet/otchetnost/
A38: 30 | B38: Питерский | C38: Не опубликованы или публикуются нерегулярно, или не отвечают требованиям | D38: Word | F38: =IF(C38=$C$5,1,0) -> 0 | J38: =F38*(1-G38)*(1-H38)*(1-I38) -> 0 | K38: http://piterka.sarmo.ru/byudzhet-piterskogo-mr/ispolnenie-mestnogo-byudzheta/ispolnenie-byudzheta-za-2018-god/ | L38: Информация опубликована, однако не соблюден формат размещения постановляющей части документа (либо PDF, либо JPG, с подписью должностного лица и печатью).
A39: 31 | B39: Пугачевский | C39: Не опубликованы или публикуются нерегулярно, или не отвечают требованиям | D39: Word | F39: =IF(C39=$C$5,1,0) -> 0 | J39: =F39*(1-G39)*(1-H39)*(1-I39) -> 0 | K39: http://pugachev-adm.ru/wp-content/uploads/2018/01/post-613.doc http://pugachev-adm.ru/wp-content/uploads/2018/01/prilozhenie-k-post-612.xlsx | L39: Отчет опубликован только на 01.07.2018 г. При этом ссылка дана на файлы, а не на раздел портала. В разделе /Бюджет района/Исполнение бюджета/ информации нет ни на одну отчетную дату. Обратите внимание: в дальнейшем постановляющую часть решения об утверждении отчета публикуйте в формате PDF,JPG; приложения- Word, Exel
A40: 32 | B40: Ровенский | C40: Опубликованы за все отчетные периоды | D40: PDF, Excel | F40: =IF(C40=$C$5,1,0) -> 1 | J40: =F40*(1-G40)*(1-H40)*(1-I40) -> 1 | K40: http://rovnoe.sarmo.ru/byudzhet/ispolnenie-byudzheta-munitsipalnogo-rayona/
...

Sheet Показатель 6.2
A1: 6.2. Ежеквартальные сведения об исполнении бюджета муниципального образования | L1: Дата контрольной проверки: 02.11.2018 г
A2: Комментарий:
A3: ='Методика III этап'!B22 -> В том числе, должна быть представлена следующая информация: 1) исполнение по видам доходов до уровня подгруппы или статьи классификации доходов бюджетов; 2) исполнение по расходам в разрезе разделов и подразделов классификации расходов; 3) исполнение по расходам в разрезе муниципальных программ. Указанные сведения должны быть опубликованы в течение одного месяца после окончания отчетного периода и сохраняться не менее трех лет. При нарушении указанного срока применяется понижающий коэффициент за несоблюдение сроков обеспечения доступа к бюджетным данным.
A4: № п/п | B4: Вопрос | C4: ='Методика III этап'!B21 -> Ежеквартальное опубликование сведений об исполнении бюджета муниципального образования в сравнении с запланированными значениями на соответствующий период (финансовый год) и с соответствующим периодом прошлого года на портале (сайте) | D4: Формат | E4: Доступность (указать, если возникли трудности с поиском документа, если переход осуществляется более, чем за 5 «кликов» с основной страницы портала (сайта), если название раздела не соответствует содержанию) | F4: Оценка показателя 6.2 | K4: Ссылка на источник данных | L4: Комментарии
B5: Варианты ответов | C5: ='Методика III этап'!B23 -> Опубликованы за все отчетные периоды по всем указанным элементам | D5: Word, Excel, PDF | F5: баллы | G5: понижающие коэффициенты | J5: Итого
C6: ='Методика III этап'!B24 -> Опубликованы за все отчетные периоды по двум ключевым элементам | G6: графический формат | H6: затруднен-ный поиск | I6: несоблюде-ние сроков
C7: ='Методика III этап'!B25 -> Не опубликованы или публикуются нерегулярно, или не отвечают требованиям
B8: Городские округа
A9: 1 | B9: г. Саратов | C9: Опубликованы за все отчетные периоды по всем указанным элементам | D9: Excel, Word | F9: =IF(C9=$C$5,2,IF(C9=$C$6,1,0)) -> 2 | J9: =F9*(1-G9)*(1-H9)*(1-I9) -> 2 | K9: http://www.saratovmer.ru/budget/rubrics/2/1285.html http://mihailovski.ru/administratsiya/finansy/svedeniya-ob-ispolzovanii-byudzhetnykh-sredstv/-utverzhdenie-otcheta-ob-ispolnenii-byudzheta-zato/
